Workbook
Name _1vg: #REF!
Name _1vg: #REF!
Name _1vg: #REF!
Name _1vg: #REF!
Name _1vg: #REF!
Name _1vg: #REF!
Name _1vg: #REF!
Name _1vg: #REF!
Name _1vg: #REF!
Name _1vg: #REF!
Name _1vg: #REF!
Name _1vg: #REF!
Name _1vg: #REF!
Name _1vg: #REF!
Name _1vg: #REF!
Name _1vg: #REF!
Name _Flu40: 50
Name _sss2: [1]DATA!#REF!
Name _sss2: [1]DATA!#REF!
Name _sss2: [1]DATA!#REF!
Name _sss2: [1]DATA!#REF!
Name _sss2: [1]DATA!#REF!
Name _sss2: [1]DATA!#REF!
Name _sss2: [1]DATA!#REF!
Name _sss2: [1]DATA!#REF!
Name _sss2: [1]DATA!#REF!
Name _sss2: [1]DATA!#REF!
Name _sss2: [1]DATA!#REF!
Name _sss2: [1]DATA!#REF!
Name _sss2: [1]DATA!#REF!
Name _sss2: [1]DATA!#REF!
Name _sss2: [1]DATA!#REF!
Name _sss2: [1]DATA!#REF!
Name _sss4: [1]RE_DATA!#REF!
Name _sss4: [1]RE_DATA!#REF!
Name _sss4: [1]RE_DATA!#REF!
Name _sss4: [1]RE_DATA!#REF!
Name _sss4: [1]RE_DATA!#REF!
Name _sss4: [1]RE_DATA!#REF!
Name _sss4: [1]RE_DATA!#REF!
Name _sss4: [1]RE_DATA!#REF!
Name _sss4: [1]RE_DATA!#REF!
Name _sss4: [1]RE_DATA!#REF!
Name _sss4: [1]RE_DATA!#REF!
Name _sss4: [1]RE_DATA!#REF!
Name _sss4: [1]RE_DATA!#REF!
Name _sss4: [1]RE_DATA!#REF!
Name _sss4: [1]RE_DATA!#REF!
Name _sss4: [1]RE_DATA!#REF!
Name af_flu: #REF!
Name af_flu: #REF!
Name af_flu: #REF!
Name af_flu: #REF!
Name af_flu: #REF!
Name af_flu: #REF!
Name af_flu: #REF!
Name af_flu: #REF!
Name af_flu: #REF!
Name af_flu: #REF!
Name af_flu: #REF!

Sheet 2569-บิลค่าไฟฟ้า
A1: การใช้พลังงานไฟฟ้า ตามหนังสือแจ้งค่าไฟฟ้า(บิลค่าไฟฟ้า)
A2: ลำดับ | B2: ชื่ออาคาร | C2: หมายเลข | D2: มกราคม 69 | H2: กุมภาพันธ์ 69 | L2: มีนาคม 69 | P2: เมษายน 69 | T2: พฤษภาคม 69 | X2: มิถุนายน 69 | AB2: กรกฏาคม 69 | AF2: สิงหาคม 69 | AJ2: กันยายน 69 | AN2: ตุลาคม 69 | AR2: พฤศจิกายน 69 | AV2: ธันวาคม 69 | AZ2: ผลรวมบิลค่าไฟฟ้า/ปี | BB2: ม.ค.-ก.ย. 69 | BD2: ต.ค.-ธ.ค. 69 | BF2: เช็ด
C3: ผู้ใช้ไฟฟ้า | D3: kWh | E3: บาท | F3: เช็ด | G3: หน่วยค่าไฟ/บาท | H3: kWh | I3: บาท | J3: เช็ด | K3: หน่วยค่าไฟ/บาท | L3: kWh | M3: บาท | N3: เช็ด | O3: หน่วยค่าไฟ/บาท | P3: kWh | Q3: บาท | R3: เช็ด | S3: หน่วยค่าไฟ/บาท | T3: kWh | U3: บาท | V3: เช็ด | W3: หน่วยค่าไฟ/บาท | X3: kWh | Y3: บาท | Z3: เช็ด | AA3: หน่วยค่าไฟ/บาท | AB3: kWh | AC3: บาท | AD3: เช็ด | AE3: หน่วยค่าไฟ/บาท | AF3: kWh | AG3: บาท | AH3: เช็ด | AI3: หน่วยค่าไฟ/บาท | AJ3: kWh | AK3: บาท | AL3: เช็ด | AM3: หน่วยค่าไฟ/บาท | AN3: kWh | AO3: บาท | AP3: เช็ด | AQ3: หน่วยค่าไฟ/บาท | AR3: kWh | AS3: บาท | AT3: เช็ด | AU3: หน่วยค่าไฟ/บาท | AV3: kWh | AW3: บาท | AX3: เช็ด | AY3: หน่วยค่าไฟ/บาท | AZ3: kWh | BA3: บาท | BB3: kWh | BC3: บาท | BD3: kWh | BE3: บาท | BF3: kWh | BG3: บาท
A4: มหาวิทยาลัยแม่โจ้
A5: 1 | B5: มหาวิทยาลัยแม่โจ้ | C5: 9806 020017405371 | D5: 662720.31 | E5: 2594110.3 | F5: =E5-(G5*D5) -> 2873.8579 | G5: =ROUND(E5/D5,2) -> 3.91 | H5: 784824.81 | I5: 3218927 | J5: =I5-(K5*H5) -> 1145.289 | K5: =ROUND(I5/H5,2) -> 4.1 | L5: 760511.41 | M5: 3039870.8 | N5: =M5-(O5*L5) -> -2174.87 | O5: =ROUND(M5/L5,2) -> 4 | P5: 670856.01 | Q5: 2723683.6 | R5: =Q5-(S5*P5) -> 8.2194 | S5: =ROUND(Q5/P5,2) -> 4.06 | T5: 709237.1 | U5: 2846769.8 | V5: =U5-(W5*T5) -> 2729.029 | W5: =ROUND(U5/T5,2) -> 4.01 | X5: 811905.7 | Y5: 3410218.4 | Z5: =Y5-(AA5*X5) -> 214.45 | AA5: =ROUND(Y5/X5,2) -> 4.2 | AB5: 1004451 | AC5: 4164476.8 | AD5: =AC5-(AE5*AB5) -> -3994.84 | AE5: =ROUND(AC5/AB5,2) -> 4.15 | AF5: 1079791.9 | AG5: 4433389.8 | AH5: =AG5-(AI5*AF5) -> -4554.909 | AI5: =ROUND(AG5/AF5,2) -> 4.11 | AL5: =AK5-(AM5*AJ5) -> #DIV/0! | AM5: =ROUND(AK5/AJ5,2) -> #DIV/0! | AP5: =AO5-(AQ5*AN5) -> #DIV/0! | AQ5: =ROUND(AO5/AN5,2) -> #DIV/0! | AT5: =AS5-(AU5*AR5) -> #DIV/0! | AU5: =ROUND(AS5/AR5,2) -> #DIV/0! | AX5: =AW5-(AY5*AV5) -> #DIV/0! | AY5: =ROUND(AW5/AV5,2) -> #DIV/0! | AZ5: =AV5+AR5+AN5+AJ5+AF5+AB5+X5+AB5+P5+L5+H5+D5 -> 6779512.1 | BA5: =AW5+AS5+AO5+AK5+AG5+AC5+Y5+U5+Q5+M5+I5+E5 -> 26431446 | BB5: =AJ5+AF5+AB5+X5+AB5+P5+L5+H5+D5 -> 6779512.1 | BC5: =AK5+AG5+AC5+Y5+U5+Q5+M5+I5+E5 -> 26431446 | BD5: =AV5+AR5+AN5 -> 0 | BE5: =AW5+AS5+AO5 -> 0 | BF5: =(BD5+BB5)-AZ5 -> 0 | BG5: =(BE5+BC5)-BA5 -> 0
A6: คณะสัตวศาสตร์และเทคโนโลยี
A7: 1 | B7: คณะสัตวศาสตร์และเทคโนโลยี | C7: 9805 020004553162 | D7: 44632 | E7: 188362.59 | F7: =E7-(G7*D7) -> 0.00021120001 | G7: =ROUND(E7/D7,8) -> 4.2203484 | H7: 54860.01 | I7: 231305.27 | J7: =I7-(K7*H7) -> 6.0180493e-05 | K7: =ROUND(I7/H7,8) -> 4.2162819 | L7: 56488 | M7: 239054.99 | N7: =M7-(O7*L7) -> 0.00019207998 | O7: =ROUND(M7/L7,8) -> 4.2319606 | P7: 61940.01 | Q7: 252408.12 | R7: =Q7-(S7*P7) -> 6.7983579e-05 | S7: =ROUND(Q7/P7,8) -> 4.0750416 | T7: 69448 | U7: 294991.46 | V7: =U7-(W7*T7) -> 0.00026608002 | W7: =ROUND(U7/T7,8) -> 4.2476595 | X7: 55484 | Y7: 15284.81 | Z7: =Y7-(AA7*X7) -> 2.4000001e-06 | AA7: =ROUND(Y7/X7,8) -> 0.2754814 | AB7: 60036 | AC7: 249478.08 | AD7: =AC7-(AE7*AB7) -> -0.00028992002 | AE7: =ROUND(AC7/AB7,8) -> 4.1554747 | AF7: 48792 | AG7: 203507.85 | AH7: =AG7-(AI7*AF7) -> -0.00017927997 | AI7: =ROUND(AG7/AF7,8) -> 4.1709266 | AL7: =AK7-(AM7*AJ7) -> #DIV/0! | AM7: =ROUND(AK7/AJ7,8) -> #DIV/0! | AP7: =AO7-(AQ7*AN7) -> #DIV/0! | AQ7: =ROUND(AO7/AN7,8) -> #DIV/0! | AT7: =AS7-(AU7*AR7) -> #DIV/0! | AU7: =ROUND(AS7/AR7,8) -> #DIV/0! | AX7: =AW7-(AY7*AV7) -> #DIV/0! | AY7: =ROUND(AW7/AV7,8) -> #DIV/0! | AZ7: =AV7+AR7+AN7+AJ7+AF7+AB7+X7+AB7+P7+L7+H7+D7 -> 442268.02 | BA7: =AW7+AS7+AO7+AK7+AG7+AC7+Y7+U7+Q7+M7+I7+E7 -> 1674393.2 | BB7: =AJ7+AF7+AB7+X7+AB7+P7+L7+H7+D7 -> 442268.02 | BC7: =AK7+AG7+AC7+Y7+U7+Q7+M7+I7+E7 -> 1674393.2 | BD7: =AV7+AR7+AN7 -> 0 | BE7: =AW7+AS7+AO7 -> 0 | BF7: =(BD7+BB7)-AZ7 -> 0 | BG7: =(BE7+BC7)-BA7 -> 0
A8: วิทยาลัยพลังงานทดแทน
A9: 1 | B9: วิทยาลัยพลังงานทดแทน | C9: 9205 020016355485 | D9: 21680 | E9: 81019.04 | F9: =E9-(G9*D9) -> 8.7999942e-06 | G9: =ROUND(E9/D9,8) -> 3.7370406 | H9: 11480 | I9: 50232.65 | J9: =I9-(K9*H9) -> -4.2400003e-05 | K9: =ROUND(I9/H9,8) -> 4.3756664 | L9: 10140 | M9: 43746.18 | N9: =M9-(O9*L9) -> 4.9800001e-05 | O9: =ROUND(M9/L9,8) -> 4.3142189 | P9: 9400 | Q9: 40965.09 | R9: =Q9-(S9*P9) -> -1.9999999e-05 | S9: =ROUND(Q9/P9,8) -> 4.3579883 | T9: 13420 | U9: 63117.77 | V9: =U9-(W9*T9) -> -1.0000003e-06 | W9: =ROUND(U9/T9,8) -> 4.7032615 | X9: 14560 | Y9: 69320.43 | Z9: =Y9-(AA9*X9) -> 5.7599987e-05 | AA9: =ROUND(Y9/X9,8) -> 4.7610185 | AB9: 16200 | AC9: 83684.84 | AD9: =AC9-(AE9*AB9) -> 6.7999994e-05 | AE9: =ROUND(AC9/AB9,8) -> 5.1657309 | AF9: 18260 | AG9: 90436.05 | AH9: =AG9-(AI9*AF9) -> -1.199999e-05 | AI9: =ROUND(AG9/AF9,8) -> 4.9526862 | AL9: =AK9-(AM9*AJ9) -> #DIV/0! | AM9: =ROUND(AK9/AJ9,8) -> #DIV/0! | AP9: =AO9-(AQ9*AN9) -> #DIV/0! | AQ9: =ROUND(AO9/AN9,8) -> #DIV/0! | AT9: =AS9-(AU9*AR9) -> #DIV/0! | AU9: =ROUND(AS9/AR9,8) -> #DIV/0! | AX9: =AW9-(AY9*AV9) -> #DIV/0! | AY9: =ROUND(AW9/AV9,8) -> #DIV/0! | AZ9: =AV9+AR9+AN9+AJ9+AF9+AB9+X9+AB9+P9+L9+H9+D9 -> 117920 | BA9: =AW9+AS9+AO9+AK9+AG9+AC9+Y9+U9+Q9+M9+I9+E9 -> 522522.05 | BB9: =AJ9+AF9+AB9+X9+AB9+P9+L9+H9+D9 -> 117920 | BC9: =AK9+AG9+AC9+Y9+U9+Q9+M9+I9+E9 -> 522522.05 | BD9: =AV9+AR9+AN9 -> 0 | BE9: =AW9+AS9+AO9 -> 0 | BF9: =(BD9+BB9)-AZ9 -> 0 | BG9: =(BE9+BC9)-BA9 -> 0
A10: โครงการแปรรูปผลิตผลทางการเกษตร
A11: 1 | B11: โครงการแปรรูปผลิตผลทางการเกษตร | C11: 9805 020006009966 | D11: 593.5 | E11: 2877.96 | F11: =E11-(G11*D11) -> -2.2449999e-06 | G11: =ROUND(E11/D11,8) -> 4.8491323 | H11: 405.99 | I11: 2074.25 | J11: =I11-(K11*H11) -> -7.8009998e-07 | K11: =ROUND(I11/H11,8) -> 5.109116 | L11: 454.99 | M11: 2284.29 | N11: =M11-(O11*L11) -> 1.6792001e-06 | O11: =ROUND(M11/L11,8) -> 5.0205279 | P11: 490.5 | Q11: 2136.49 | R11: =Q11-(S11*P11) -> 8.7999979e-07 | S11: =ROUND(Q11/P11,8) -> 4.355739 | T11: 411.5 | U11: 2126.53 | V11: =U11-(W11*T11) -> -1.4950001e-06 | W11: =ROUND(U11/T11,8) -> 5.1677521 | X11: 510.01 | Y11: 2555.62 | Z11: =Y11-(AA11*X11) -> 2.2864997e-06 | AA11: =ROUND(Y11/X11,8) -> 5.0109214 | AB11: 673 | AC11: 3265.6 | AD11: =AC11-(AE11*AB11) -> 2.3999974e-07 | AE11: =ROUND(AC11/AB11,8) -> 4.8523031 | AF11: 681 | AG11: 3300.44 | AH11: =AG11-(AI11*AF11) -> -2.2899999e-06 | AI11: =ROUND(AG11/AF11,8) -> 4.8464611 | AL11: =AK11-(AM11*AJ11) -> #DIV/0! | AM11: =ROUND(AK11/AJ11,8) -> #DIV/0! | AP11: =AO11-(AQ11*AN11) -> #DIV/0! | AQ11: =ROUND(AO11/AN11,8) -> #DIV/0! | AT11: =AS11-(AU11*AR11) -> #DIV/0! | AU11: =ROUND(AS11/AR11,8) -> #DIV/0! | AX11: =AW11-(AY11*AV11) -> #DIV/0! | AY11: =ROUND(AW11/AV11,8) -> #DIV/0! | AZ11: =AV11+AR11+AN11+AJ11+AF11+AB11+X11+AB11+P11+L11+H11+D11 -> 4481.99 | BA11: =AW11+AS11+AO11+AK11+AG11+AC11+Y11+U11+Q11+M11+I11+E11 -> 20621.18 | BB11: =AJ11+AF11+AB11+X11+AB11+P11+L11+H11+D11 -> 4481.99 | BC11: =AK11+AG11+AC11+Y11+U11+Q11+M11+I11+E11 -> 20621.18 | BD11: =AV11+AR11+AN11 -> 0 | BE11: =AW11+AS11+AO11 -> 0 | BF11: =(BD11+BB11)-AZ11 -> 0 | BG11: =(BE11+BC11)-BA11 -> 0
A12: สำนักฟาร์มมหาวิทยาลัยแม่โจ้ (ฟาร์มบ้านโปง)
A13: 1 | B13: โครงการพัฒนาบ้านโปงพระราชดำริ (907 ไร่) | C13: 9801 020025008422 | D13: 22315.4 | E13: 91458.71 | F13: =E13-(G13*D13) -> -1.5647995e-05 | G13: =ROUND(E13/D13,8) -> 4.0984571 | H13: 25817 | I13: 108777.58 | J13: =I13-(K13*H13) -> 0.00010517001 | K13: =ROUND(I13/H13,8) -> 4.213409 | L13: 30360 | M13: 127100.01 | N13: =M13-(O13*L13) -> 5.7600002e-05 | O13: =ROUND(M13/L13,8) -> 4.1864298 | P13: 39631 | Q13: 166225.06 | R13: =Q13-(S13*P13) -> 0.00014421 | S13: =ROUND(Q13/P13,8) -> 4.1943191 | T13: 40536 | U13: 168334.86 | V13: =U13-(W13*T13) -> -0.00019464002 | W13: =ROUND(U13/T13,8) -> 4.152725 | X13: 36009 | Y13: 152044.54 | Z13: =Y13-(AA13*X13) -> 0.00012544001 | AA13: =ROUND(Y13/X13,8) -> 4.2224038 | AB13: 28003 | AC13: 114335.07 | AD13: =AC13-(AE13*AB13) -> -7.3699994e-05 | AE13: =ROUND(AC13/AB13,8) -> 4.0829579 | AF13: 32208 | AG13: 131953.66 | AH13: =AG13-(AI13*AF13) -> 8.8959991e-05 | AI13: =ROUND(AG13/AF13,8) -> 4.0969219 | AL13: =AK13-(AM13*AJ13) -> #DIV/0! | AM13: =ROUND(AK13/AJ13,8) -> #DIV/0! | AP13: =AO13-(AQ13*AN13) -> #DIV/0! | AQ13: =ROUND(AO13/AN13,8) -> #DIV/0! | AT13: =AS13-(AU13*AR13) -> #DIV/0! | AU13: =ROUND(AS13/AR13,8) -> #DIV/0! | AX13: =AW13-(AY13*AV13) -> #DIV/0! | AY13: =ROUND(AW13/AV13,8) -> #DIV/0!
A14: 2 | B14: โครงการพัฒนาบ้านโปง | C14: 0228 020005942984 | D14: 493 | E14: 2177.6 | F14: =E14-(G14*D14) -> -2.1999995e-07 | G14: =ROUND(E14/D14,8) -> 4.4170385 | H14: 422 | I14: 1834.3 | J14: =I14-(K14*H14) -> 1.8799999e-06 | K14: =ROUND(I14/H14,8) -> 4.3466825 | L14: 434 | M14: 1892.32 | N14: =M14-(O14*L14) -> 7.7999994e-07 | O14: =ROUND(M14/L14,8) -> 4.3601843 | P14: 482 | Q14: 2124.41 | R14: =Q14-(S14*P14) -> -1.6600002e-06 | S14: =ROUND(Q14/P14,8) -> 4.4074896 | T14: 442 | U14: 1961.79 | V14: =U14-(W14*T14) -> 1.7799998e-06 | W14: =ROUND(U14/T14,8) -> 4.4384389 | X14: 422 | Y14: 1863.69 | Z14: =Y14-(AA14*X14) -> 1.78e-06 | AA14: =ROUND(Y14/X14,8) -> 4.416327 | AB14: 516 | AC14: 2324.76 | AD14: =AC14-(AE14*AB14) -> -1.4399998e-06 | AE14: =ROUND(AC14/AB14,8) -> 4.5053488 | AF14: 608 | AG14: 2776 | AH14: =AG14-(AI14*AF14) -> 2.24e-06 | AI14: =ROUND(AG14/AF14,8) -> 4.5657895 | AL14: =AK14-(AM14*AJ14) -> #DIV/0! | AM14: =ROUND(AK14/AJ14,8) -> #DIV/0! | AP14: =AO14-(AQ14*AN14) -> #DIV/0! | AQ14: =ROUND(AO14/AN14,8) -> #DIV/0! | AT14: =AS14-(AU14*AR14) -> #DIV/0! | AU14: =ROUND(AS14/AR14,8) -> #DIV/0! | AX14: =AW14-(AY14*AV14) -> #DIV/0! | AY14: =ROUND(AW14/AV14,8) -> #DIV/0!
A15: 3 | B15: โครงการพัฒนาบ้านโปง | C15: 0535 020004636485 | D15: 0 | E15: 35.62 | F15: - | G15: - | H15: 0 | I15: 35.62 | J15: - | K15: - | L15: 0 | M15: 35.62 | N15: - | O15: - | P15: 0 | Q15: 35.62 | R15: - | S15: - | T15: 0 | U15: 35.62 | V15: - | W15: - | X15: 0 | Y15: 35.62 | Z15: - | AA15: - | AB15: 0 | AC15: 35.62 | AD15: - | AE15: - | AF15: 0 | AG15: 35.62 | AH15: - | AI15: - | AL15: - | AM15: - | AP15: - | AQ15: - | AT15: - | AU15: - | AX15: - | AY15: -
A16: 4 | B16: โครงการวิจัยและพัฒนาการผลิตกล้วยไม้เชิงอุตสาหกรรม ในพระดำริ สมเด็จพระเจ้าลูกเธอเจ้าฟ้าจุฬาภรณฯ | C16: 9205 020005984784 | F16: =E16-(G16*D16) -> #DIV/0! | G16: =ROUND(E16/D16,8) -> #DIV/0! | J16: =I16-(K16*H16) -> #DIV/0! | K16: =ROUND(I16/H16,8) -> #DIV/0! | N16: =M16-(O16*L16) -> #DIV/0! | O16: =ROUND(M16/L16,8) -> #DIV/0! | R16: =Q16-(S16*P16) -> #DIV/0! | S16: =ROUND(Q16/P16,8) -> #DIV/0! | V16: =U16-(W16*T16) -> #DIV/0! | W16: =ROUND(U16/T16,8) -> #DIV/0! | Z16: =Y16-(AA16*X16) -> #DIV/0! | AA16: =ROUND(Y16/X16,8) -> #DIV/0! | AD16: =AC16-(AE16*AB16) -> #DIV/0! | AE16: =ROUND(AC16/AB16,8) -> #DIV/0! | AH16: =AG16-(AI16*AF16) -> #DIV/0! | AI16: =ROUND(AG16/AF16,8) -> #DIV/0! | AL16: =AK16-(AM16*AJ16) -> #DIV/0! | AM16: =ROUND(AK16/AJ16,8) -> #DIV/0! | AP16: =AO16-(AQ16*AN16) -> #DIV/0! | AQ16: =ROUND(AO16/AN16,8) -> #DIV/0!
A17: รวม | D17: =SUM(D13:D16) -> 22808.4 | E17: =SUM(E13:E16) -> 93671.93 | G17: - | H17: =SUM(H13:H16) -> 26239 | I17: =SUM(I13:I16) -> 110647.5 | K17: - | L17: =SUM(L13:L16) -> 30794 | M17: =SUM(M13:M16) -> 129027.95 | O17: - | P17: =SUM(P13:P16) -> 40113 | Q17: =SUM(Q13:Q16) -> 168385.09 | S17: - | T17: =SUM(T13:T16) -> 40978 | U17: =SUM(U13:U16) -> 170332.27 | W17: - | X17: =SUM(X13:X16) -> 36431 | Y17: =SUM(Y13:Y16) -> 153943.85 | AA17: - | AB17: =SUM(AB13:AB16) -> 28519 | AC17: =SUM(AC13:AC16) -> 116695.45 | AE17: - | AF17: =SUM(AF13:AF16) -> 32816 | AG17: =SUM(AG13:AG16) -> 134765.28 | AI17: - | AJ17: =SUM(AJ13:AJ16) -> 0 | AK17: =SUM(AK13:AK16) -> 0 | AM17: - | AN17: =SUM(AN13:AN16) -> 0 | AO17: =SUM(AO13:AO16) -> 0 | AQ17: - | AR17: =SUM(AR13:AR16) -> 0 | AS17: =SUM(AS13:AS16) -> 0 | AU17: - | AV17: =SUM(AV13:AV16) -> 0 | AW17: =SUM(AW13:AW16) -> 0 | AY17: - | AZ17: =AV17+AR17+AN17+AJ17+AF17+AB17+X17+AB17+P17+L17+H17+D17 -> 246239.4 | BA17: =AW17+AS17+AO17+AK17+AG17+AC17+Y17+U17+Q17+M17+I17+E17 -> 1077469.3 | BB17: =AJ17+AF17+AB17+X17+AB17+P17+L17+H17+D17 -> 246239.4 | BC17: =AK17+AG17+AC17+Y17+U17+Q17+M17+I17+E17 -> 1077469.3 | BD17: =AV17+AR17+AN17 -> 0 | BE17: =AW17+AS17+AO17 -> 0 | BF17: =(BD17+BB17)-AZ17 -> 0 | BG17: =(BE17+BC17)-BA17 -> 0
A18: โรงเรือนเพาะพันธุ์กัญชา (ฟาร์มบ้านโปง)
A19: 1 | B19: มหาวิทยาลัยแม่โจ้(โรงเรือนเพาะพันธุ์กัญชา)_ (ผศ. ดร.ปรีดา นาเทเวศน์) | C19: 9205 020024629068 | D19: 3276 | E19: 14375.72 | F19: =E19-(G19*D19) -> -5.9199992e-06 | G19: =ROUND(E19/D19,8) -> 4.3881929 | H19: 3584 | I19: 15695.86 | J19: =I19-(K19*H19) -> 1.1520002e-05 | K19: =ROUND(I19/H19,8) -> 4.3794252 | L19: 4292 | M19: 18730.49 | N19: =M19-(O19*L19) -> 1.8480001e-05 | O19: =ROUND(M19/L19,8) -> 4.3640471 | P19: 3756 | Q19: 16433.08 | R19: =Q19-(S19*P19) -> -1.5199985e-06 | S19: =ROUND(Q19/P19,8) -> 4.3751544 | T19: 2420 | U19: 10875.29 | V19: =U19-(W19*T19) -> -5.7999987e-06 | W19: =ROUND(U19/T19,8) -> 4.4939215 | X19: 3000 | Y19: 13401.69 | Z19: =Y19-(AA19*X19) -> 0 | AA19: =ROUND(Y19/X19,8) -> 4.46723 | AB19: 2964 | AC19: 13244.88 | AD19: =AC19-(AE19*AB19) -> -1.2e-05 | AE19: =ROUND(AC19/AB19,8) -> 4.468583 | AF19: 4292 | AG19: 19029.46 | AH19: =AG19-(AI19*AF19) -> -1.444e-05 | AI19: =ROUND(AG19/AF19,8) -> 4.4337046 | AL19: =AK19-(AM19*AJ19) -> #DIV/0! | AM19: =ROUND(AK19/AJ19,8) -> #DIV/0! | AP19: =AO19-(AQ19*AN19) -> #DIV/0! | AQ19: =ROUND(AO19/AN19,8) -> #DIV/0! | AT19: =AS19-(AU19*AR19) -> #DIV/0! | AU19: =ROUND(AS19/AR19,8) -> #DIV/0! | AX19: =AW19-(AY19*AV19) -> #DIV/0! | AY19: =ROUND(AW19/AV19,8) -> #DIV/0!
A20: 2 | B20: มหาวิทยาลัยแม่โจ้(โรงเรือนเพาะพันธุ์กัญชา2)_(ศ. ดร.อานัฐ ตันโช) | C20: 9205 020024633024 | D20: 113.6 | E20: 821 | F20: =E20-(G20*D20) -> -4.4800004e-07 | G20: =ROUND(E20/D20,8) -> 7.2271127 | H20: 40 | I20: 505.55 | J20: =I20-(K20*H20) -> 0 | K20: =ROUND(I20/H20,8) -> 12.63875 | L20: ยกเลิกใช้งาน
A21: รวม | D21: =SUM(D19:D20) -> 3389.6 | E21: =SUM(E19:E20) -> 15196.72 | G21: - | H21: =SUM(H19:H20) -> 3624 | I21: =SUM(I19:I20) -> 16201.41 | K21: - | L21: =SUM(L19:L20) -> 4292 | M21: =SUM(M19:M20) -> 18730.49 | O21: - | P21: =SUM(P19:P20) -> 3756 | Q21: =SUM(Q19:Q20) -> 16433.08 | S21: - | T21: =SUM(T19:T20) -> 2420 | U21: =SUM(U19:U20) -> 10875.29 | W21: - | X21: =SUM(X19:X20) -> 3000 | Y21: =SUM(Y19:Y20) -> 13401.69 | AA21: - | AB21: =SUM(AB19:AB20) -> 2964 | AC21: =SUM(AC19:AC20) -> 13244.88 | AE21: - | AF21: =SUM(AF19:AF20) -> 4292 | AG21: =SUM(AG19:AG20) -> 19029.46 | AI21: - | AJ21: =SUM(AJ19:AJ20) -> 0 | AK21: =SUM(AK19:AK20) -> 0 | AM21: - | AN21: =SUM(AN19:AN20) -> 0 | AO21: =SUM(AO19:AO20) -> 0 | AQ21: - | AR21: =SUM(AR19:AR20) -> 0 | AS21: =SUM(AS19:AS20) -> 0 | AU21: - | AV21: =SUM(AV19:AV20) -> 0 | AW21: =SUM(AW19:AW20) -> 0 | AY21: - | AZ21: =AV21+AR21+AN21+AJ21+AF21+AB21+X21+AB21+P21+L21+H21+D21 -> 28281.6 | BA21: =AW21+AS21+AO21+AK21+AG21+AC21+Y21+U21+Q21+M21+I21+E21 -> 123113.02 | BB21: =AJ21+AF21+AB21+X21+AB21+P21+L21+H21+D21 -> 28281.6 | BC21: =AK21+AG21+AC21+Y21+U21+Q21+M21+I21+E21 -> 123113.02 | BD21: =AV21+AR21+AN21 -> 0 | BE21: =AW21+AS21+AO21 -> 0 | BF21: =(BD21+BB21)-AZ21 -> 0 | BG21: =(BE21+BC21)-BA21 -> 0
A24: มหาวิทยาลัยแม่โจ้ (โรงสูบน้ำศรีบุญเรือน)
A25: 1 | B25: มหาวิทยาลัยแม่โจ้ (โรงสูบน้ำศรีบุญเรือน) | C25: 9807 020005984751 | D25: 12612.1 | E25: 62104.42 | F25: =E25-(G25*D25) -> 4.1496998e-05 | G25: =ROUND(E25/D25,8) -> 4.9241934 | H25: 13455.83 | I25: 65986.07 | J25: =I25-(K25*H25) -> -3.3960401e-05 | K25: =ROUND(I25/H25,8) -> 4.9039019 | L25: 14655.37 | M25: 70611.61 | N25: =M25-(O25*L25) -> -4.9537412e-05 | O25: =ROUND(M25/L25,8) -> 4.818139 | P25: 16106.21 | Q25: 74513.55 | R25: =Q25-(S25*P25) -> 6.6828608e-05 | S25: =ROUND(Q25/P25,8) -> 4.6263863 | T25: 7538.21 | U25: 42256.8 | V25: =U25-(W25*T25) -> 3.2046803e-05 | W25: =ROUND(U25/T25,8) -> 5.6056809 | X25: 3234.62 | Y25: 25378.42 | Z25: =Y25-(AA25*X25) -> 1.2506e-05 | AA25: =ROUND(Y25/X25,8) -> 7.8458737 | AB25: 1317.84 | AC25: 17209.51 | AD25: =AC25-(AE25*AB25) -> -4.4360022e-06 | AE25: =ROUND(AC25/AB25,8) -> 13.058877 | AF25: 1871.09 | AG25: 19991.89 | AH25: =AG25-(AI25*AF25) -> 4.560301e-06 | AI25: =ROUND(AG25/AF25,8) -> 10.684622 | AL25: =AK25-(AM25*AJ25) -> #DIV/0! | AM25: =ROUND(AK25/AJ25,8) -> #DIV/0! | AP25: =AO25-(AQ25*AN25) -> #DIV/0! | AQ25: =ROUND(AO25/AN25,8) -> #DIV/0! | AT25: =AS25-(AU25*AR25) -> #DIV/0! | AU25: =ROUND(AS25/AR25,8) -> #DIV/0! | AX25: =AW25-(AY25*AV25) -> #DIV/0! | AY25: =ROUND(AW25/AV25,8) -> #DIV/0! | AZ25: =AV25+AR25+AN25+AJ25+AF25+AB25+X25+AB25+P25+L25+H25+D25 -> 64570.9 | BA25: =AW25+AS25+AO25+AK25+AG25+AC25+Y25+U25+Q25+M25+I25+E25 -> 378052.27 | BB25: =AJ25+AF25+AB25+X25+AB25+P25+L25+H25+D25 -> 64570.9 | BC25: =AK25+AG25+AC25+Y25+U25+Q25+M25+I25+E25 -> 378052.27 | BD25: =AV25+AR25+AN25 -> 0 | BE25: =AW25+AS25+AO25 -> 0 | BF25: =(BD25+BB25)-AZ25 -> 0 | BG25: =(BE25+BC25)-BA25 -> 0
A26: มหาวิทยาลัยแม่โจ้ (หมู่ 6 ตำบลป่าไผ่)
A27: 1 | B27: มหาวิทยาลัยแม่โจ้ (หมู่ 6 ตำบลป่าไผ่) | C27: 0633 020005539809 | D27: 580 | E27: 2598.27 | F27: =E27-(G27*D27) -> 1.2e-06 | G27: =ROUND(E27/D27,8) -> 4.4797759 | H27: 518 | I27: 2298.48 | J27: =I27-(K27*H27) -> -1.4400002e-06 | K27: =ROUND(I27/H27,8) -> 4.4372201 | L27: 455 | M27: 1993.86 | N27: =M27-(O27*L27) -> 4.9999926e-08 | O27: =ROUND(M27/L27,8) -> 4.3821099 | P27: 415 | Q27: 1800.46 | R27: =Q27-(S27*P27) -> 5.4999987e-07 | S27: =ROUND(Q27/P27,8) -> 4.3384578 | T27: 531 | U27: 2398.32 | V27: =U27-(W27*T27) -> -2.6999987e-07 | W27: =ROUND(U27/T27,8) -> 4.5166102 | X27: 933 | Y27: 4370.09 | Z27: =Y27-(AA27*X27) -> 1.3700001e-06 | AA27: =ROUND(Y27/X27,8) -> 4.6839121 | AB27: 757 | AC27: 3506.83 | AD27: =AC27-(AE27*AB27) -> -1.81e-06 | AE27: =ROUND(AC27/AB27,8) -> 4.6325363 | AF27: 484 | AG27: 2167.79 | AH27: =AG27-(AI27*AF27) -> -6.4000005e-07 | AI27: =ROUND(AG27/AF27,8) -> 4.478905 | AL27: =AK27-(AM27*AJ27) -> #DIV/0! | AM27: =ROUND(AK27/AJ27,8) -> #DIV/0! | AP27: =AO27-(AQ27*AN27) -> #DIV/0! | AQ27: =ROUND(AO27/AN27,8) -> #DIV/0! | AT27: =AS27-(AU27*AR27) -> #DIV/0! | AU27: =ROUND(AS27/AR27,8) -> #DIV/0! | AX27: =AW27-(AY27*AV27) -> #DIV/0! | AY27: =ROUND(AW27/AV27,8) -> #DIV/0! | AZ27: =AV27+AR27+AN27+AJ27+AF27+AB27+X27+AB27+P27+L27+H27+D27 -> 4899 | BA27: =AW27+AS27+AO27+AK27+AG27+AC27+Y27+U27+Q27+M27+I27+E27 -> 21134.1 | BB27: =AJ27+AF27+AB27+X27+AB27+P27+L27+H27+D27 -> 4899 | BC27: =AK27+AG27+AC27+Y27+U27+Q27+M27+I27+E27 -> 21134.1 | BD27: =AV27+AR27+AN27 -> 0 | BE27: =AW27+AS27+AO27 -> 0 | BF27: =(BD27+BB27)-AZ27 -> 0 | BG27: =(BE27+BC27)-BA27 -> 0
A28: สำนักฟาร์มมหาวิทยาลัยแม่โจ้ (ฟาร์มพร้าว )
A29: 1 | B29: มหาวิทยาลัยแม่โจ้ (อุทยานเกษตร) | C29: 9804 020005752138 | D29: 4072 | E29: 17787.52 | F29: =E29-(G29*D29) -> 1.4160003e-05 | G29: =ROUND(E29/D29,8) -> 4.3682515 | H29: 4496 | I29: 19604.88 | J29: =I29-(K29*H29) -> 1.9039999e-05 | K29: =ROUND(I29/H29,8) -> 4.360516 | L29: 7912 | M29: 34246.56 | N29: =M29-(O29*L29) -> 2.8799986e-06 | O29: =ROUND(M29/L29,8) -> 4.3284328 | P29: 8904 | Q29: 38498.47 | R29: =Q29-(S29*P29) -> -1.6160004e-05 | S29: =ROUND(Q29/P29,8) -> 4.3237275 | T29: 6904 | U29: 30406.97 | V29: =U29-(W29*T29) -> -3.024e-05 | W29: =ROUND(U29/T29,8) -> 4.4042541 | X29: 4848 | Y29: 21451.32 | Z29: =Y29-(AA29*X29) -> -1.104e-05 | AA29: =ROUND(Y29/X29,8) -> 4.4247772 | AB29: 5824 | AC29: 25702.64 | AD29: =AC29-(AE29*AB29) -> 1.1519998e-05 | AE29: =ROUND(AC29/AB29,8) -> 4.413228 | AF29: 3620 | AG29: 16102.32 | AH29: =AG29-(AI29*AF29) -> -1.3999999e-05 | AI29: =ROUND(AG29/AF29,8) -> 4.4481547 | AL29: =AK29-(AM29*AJ29) -> #DIV/0! | AM29: =ROUND(AK29/AJ29,8) -> #DIV/0! | AP29: =AO29-(AQ29*AN29) -> #DIV/0! | AQ29: =ROUND(AO29/AN29,8) -> #DIV/0! | AT29: =AS29-(AU29*AR29) -> #DIV/0! | AU29: =ROUND(AS29/AR29,8) -> #DIV/0! | AX29: =AW29-(AY29*AV29) -> #DIV/0! | AY29: =ROUND(AW29/AV29,8) -> #DIV/0!
A30: 2 | B30: มหาวิทยาลัยแม่โจ้ | C30: 9803 020016314816 | D30: 0 | E30: 334.1 | F30: 0 | G30: - | H30: 0 | I30: 334.1 | J30: 0 | K30: - | L30: 0 | M30: 334.1 | N30: 0 | O30: - | P30: 0 | Q30: 334.1 | R30: 0 | S30: - | T30: 0 | U30: 334.1 | V30: 0 | W30: - | X30: 0 | Y30: 334.1 | Z30: 0 | AA30: - | AB30: 0 | AC30: 334.1 | AD30: 0 | AE30: - | AF30: 0 | AG30: 334.1 | AH30: 0 | AI30: - | AL30: 0 | AM30: - | AP30: 0 | AQ30: - | AT30: 0 | AU30: - | AX30: 0 | AY30: - | BJ30: kWh | BK30: %
A31: รวม | D31: =SUM(D29:D30) -> 4072 | E31: =SUM(E29:E30) -> 18121.62 | G31: - | H31: =SUM(H29:H30) -> 4496 | I31: =SUM(I29:I30) -> 19938.98 | K31: - | L31: =SUM(L29:L30) -> 7912 | M31: =SUM(M29:M30) -> 34580.66 | O31: - | P31: =SUM(P29:P30) -> 8904 | Q31: =SUM(Q29:Q30) -> 38832.57 | S31: - | T31: =SUM(T29:T30) -> 6904 | U31: =SUM(U29:U30) -> 30741.07 | W31: - | X31: =SUM(X29:X30) -> 4848 | Y31: =SUM(Y29:Y30) -> 21785.42 | AA31: - | AB31: =SUM(AB29:AB30) -> 5824 | AC31: =SUM(AC29:AC30) -> 26036.74 | AE31: - | AF31: =SUM(AF29:AF30) -> 3620 | AG31: =SUM(AG29:AG30) -> 16436.42 | AI31: - | AJ31: =SUM(AJ29:AJ30) -> 0 | AK31: =SUM(AK29:AK30) -> 0 | AM31: - | AN31: =SUM(AN29:AN30) -> 0 | AO31: =SUM(AO29:AO30) -> 0 | AQ31: - | AR31: =SUM(AR29:AR30) -> 0 | AS31: =SUM(AS29:AS30) -> 0 | AU31: - | AV31: =SUM(AV29:AV30) -> 0 | AW31: =SUM(AW29:AW30) -> 0 | AY31: - | AZ31: =AV31+AR31+AN31+AJ31+AF31+AB31+X31+AB31+P31+L31+H31+D31 -> 45500 | BA31: =AW31+AS31+AO31+AK31+AG31+AC31+Y31+U31+Q31+M31+I31+E31 -> 206473.48 | BB31: =AJ31+AF31+AB31+X31+AB31+P31+L31+H31+D31 -> 45500 | BC31: =AK31+AG31+AC31+Y31+U31+Q31+M31+I31+E31 -> 206473.48 | BD31: =AV31+AR31+AN31 -> 0 | BE31: =AW31+AS31+AO31 -> 0 | BF31: =(BD31+BB31)-AZ31 -> 0 | BG31: =(BE31+BC31)-BA31 -> 0 | BI31: ม.เชียงใหม่ | BJ31: =AB32 -> 1120741.8 | BK31: =BJ31/AB45*100 -> 87.718263
A32: มหาวิทยาลัยแม่โจ้-แพร่ เฉลิมพระเกียรติ | D32: =D31+D27+D25+D21+D17+D11+D9+D7+D5 -> 773087.91 | E32: =E31+E27+E25+E21+E17+E11+E9+E7+E5 -> 3058062.8 | H32: =H31+H27+H25+H21+H17+H11+H9+H7+H5 -> 899903.64 | I32: =I31+I27+I25+I21+I17+I11+I9+I7+I5 -> 3717611.6 | L32: =L31+L27+L25+L21+L17+L11+L9+L7+L5 -> 885702.77 | M32: =M31+M27+M25+M21+M17+M11+M9+M7+M5 -> 3579900.8 | P32: =P31+P27+P25+P21+P17+P11+P9+P7+P5 -> 811980.73 | Q32: =Q31+Q27+Q25+Q21+Q17+Q11+Q9+Q7+Q5 -> 3319158.1 | T32: =T31+T27+T25+T21+T17+T11+T9+T7+T5 -> 850887.81 | U32: =U31+U27+U25+U21+U17+U11+U9+U7+U5 -> 3463609.3 | X32: =X31+X27+X25+X21+X17+X11+X9+X7+X5 -> 930906.33 | Y32: =Y31+Y27+Y25+Y21+Y17+Y11+Y9+Y7+Y5 -> 3716258.7 | AB32: =AB31+AB27+AB25+AB21+AB17+AB11+AB9+AB7+AB5 -> 1120741.8 | AC32: =AC31+AC27+AC25+AC21+AC17+AC11+AC9+AC7+AC5 -> 4677598.7 | AF32: =AF31+AF27+AF25+AF21+AF17+AF11+AF9+AF7+AF5 -> 1190608 | AG32: =AG31+AG27+AG25+AG21+AG17+AG11+AG9+AG7+AG5 -> 4923025 | AJ32: =AJ31+AJ27+AJ25+AJ21+AJ17+AJ11+AJ9+AJ7+AJ5 -> 0 | AK32: =AK31+AK27+AK25+AK21+AK17+AK11+AK9+AK7+AK5 -> 0 | BI32: แพร่ | BJ32: =AB36 -> 123014.51 | BK32: =BJ32/AB45*100 -> 9.6281042
A33: 1 | B33: มหาวิทยาลัยแม่โจ้เฉลิมพระเกียรติ แพร่ | C33: 9801 020010405428 | D33: 69120 | E33: 283721.49 | F33: =E33-(G33*D33) -> -0.00020160002 | G33: =ROUND(E33/D33,8) -> 4.1047669 | H33: 80880 | I33: 346828.18 | J33: =I33-(K33*H33) -> -0.00038000004 | K33: =ROUND(I33/H33,8) -> 4.2881823 | L33: 92640 | M33: 391364.82 | N33: =M33-(O33*L33) -> 0.00023520004 | O33: =ROUND(M33/L33,8) -> 4.2245771 | P33: 66720 | Q33: 286260.85 | R33: =Q33-(S33*P33) -> -0.00028640003 | S33: =ROUND(Q33/P33,8) -> 4.2904804 | T33: 67320 | U33: 293447.7 | V33: =U33-(W33*T33) -> -0.00025560003 | W33: =ROUND(U33/T33,8) -> 4.3589973 | X33: 80400 | Y33: 387493.35 | Z33: =Y33-(AA33*X33) -> -1.2000033e-05 | AA33: =ROUND(Y33/X33,8) -> 4.819569 | AB33: 114000 | AC33: 509242.93 | AD33: =AC33-(AE33*AB33) -> -0.00049999997 | AE33: =ROUND(AC33/AB33,8) -> 4.4670432 | AF33: 110520 | AG33: 473269.89 | AH33: =AG33-(AI33*AF33) -> -9.2399947e-05 | AI33: =ROUND(AG33/AF33,8) -> 4.2822104 | AL33: =AK33-(AM33*AJ33) -> #DIV/0! | AM33: =ROUND(AK33/AJ33,8) -> #DIV/0! | AP33: =AO33-(AQ33*AN33) -> #DIV/0! | AQ33: =ROUND(AO33/AN33,8) -> #DIV/0! | AT33: =AS33-(AU33*AR33) -> #DIV/0! | AU33: =ROUND(AS33/AR33,8) -> #DIV/0! | AX33: =AW33-(AY33*AV33) -> #DIV/0! | AY33: =ROUND(AW33/AV33,8) -> #DIV/0! | BI33: ชุมพร | BJ33: =AB43 -> 33904.42 | BK33: =BJ33/AB45*100 -> 2.6536324
A34: 2 | B34: โรงสูบน้ำมหาวิทยาลัยแม่โจ้ | C34: 9801 020010405537 | D34: 11988.57 | E34: 52949.87 | F34: =E34-(G34*D34) -> -3.9199003e-06 | G34: =ROUND(E34/D34,8) -> 4.4166961 | H34: 9853.2 | I34: 43569.38 | J34: =I34-(K34*H34) -> -6.9640009e-06 | K34: =ROUND(I34/H34,8) -> 4.4218508 | L34: 9592.59 | M34: 42395.44 | N34: =M34-(O34*L34) -> -2.1399501e-05 | O34: =ROUND(M34/L34,8) -> 4.4196031 | P34: 8629.71 | Q34: 37960.58 | R34: =Q34-(S34*P34) -> -3.4786295e-05 | S34: =ROUND(Q34/P34,8) -> 4.3988245 | T34: 6465.78 | U34: 29835.76 | V34: =U34-(W34*T34) -> -1.9115603e-05 | W34: =ROUND(U34/T34,8) -> 4.61441 | X34: 6159.27 | Y34: 28668.71 | Z34: =Y34-(AA34*X34) -> -2.6392008e-06 | AA34: =ROUND(Y34/X34,8) -> 4.654563 | AB34: 7905.51 | AC34: 36017.57 | AD34: =AC34-(AE34*AB34) -> 3.3716002e-05 | AE34: =ROUND(AC34/AB34,8) -> 4.5560084 | AF34: 7882.56 | AG34: 35578.67 | AH34: =AG34-(AI34*AF34) -> -2.8480063e-06 | AI34: =ROUND(AG34/AF34,8) -> 4.5135933 | AL34: =AK34-(AM34*AJ34) -> #DIV/0! | AM34: =ROUND(AK34/AJ34,8) -> #DIV/0! | AP34: =AO34-(AQ34*AN34) -> #DIV/0! | AQ34: =ROUND(AO34/AN34,8) -> #DIV/0! | AT34: =AS34-(AU34*AR34) -> #DIV/0! | AU34: =ROUND(AS34/AR34,8) -> #DIV/0! | AX34: =AW34-(AY34*AV34) -> #DIV/0! | AY34: =ROUND(AW34/AV34,8) -> #DIV/0! | BK34: =SUM(BK31:BK33) -> 100
A35: 3 | B35: ศูนย์ประสานงานมหาวิทยาลัยแม่โจ้ | C35: 0025 020023324092 | D35: 723 | E35: 3289.7 | F35: =E35-(G35*D35) -> -2.6799999e-06 | G35: =ROUND(E35/D35,8) -> 4.5500692 | H35: 820 | I35: 3758.71 | J35: =I35-(K35*H35) -> 2.4000001e-06 | K35: =ROUND(I35/H35,8) -> 4.5837927 | L35: 1261 | M35: 5891.05 | N35: =M35-(O35*L35) -> -4.1900003e-06 | O35: =ROUND(M35/L35,8) -> 4.6717288 | P35: 1424 | Q35: 6679.19 | R35: =Q35-(S35*P35) -> -6.0800003e-06 | S35: =ROUND(Q35/P35,8) -> 4.6904424 | T35: 1413 | U35: 6724.43 | V35: =U35-(W35*T35) -> 6.4700007e-06 | W35: =ROUND(U35/T35,8) -> 4.7589738 | X35: 1273 | Y35: 6037.74 | Z35: =Y35-(AA35*X35) -> 1.2099999e-06 | AA35: =ROUND(Y35/X35,8) -> 4.7429222 | AB35: 1109 | AC35: 5233.35 | AD35: =AC35-(AE35*AB35) -> 4.4600001e-06 | AE35: =ROUND(AC35/AB35,8) -> 4.7189811 | AF35: 998 | AG35: 4688.91 | AH35: =AG35-(AI35*AF35) -> 3.2199996e-06 | AI35: =ROUND(AG35/AF35,8) -> 4.6983066 | AL35: =AK35-(AM35*AJ35) -> #DIV/0! | AM35: =ROUND(AK35/AJ35,8) -> #DIV/0! | AP35: =AO35-(AQ35*AN35) -> #DIV/0! | AQ35: =ROUND(AO35/AN35,8) -> #DIV/0! | AT35: =AS35-(AU35*AR35) -> #DIV/0! | AU35: =ROUND(AS35/AR35,8) -> #DIV/0! | AX35: =AW35-(AY35*AV35) -> #DIV/0! | AY35: =ROUND(AW35/AV35,8) -> #DIV/0!
A36: รวม | D36: =SUM(D33:D35) -> 81831.57 | E36: =SUM(E33:E35) -> 339961.06 | G36: - | H36: =SUM(H33:H35) -> 91553.2 | I36: =SUM(I33:I35) -> 394156.27 | K36: - | L36: =SUM(L33:L35) -> 103493.59 | M36: =SUM(M33:M35) -> 439651.31 | O36: - | P36: =SUM(P33:P35) -> 76773.71 | Q36: =SUM(Q33:Q35) -> 330900.62 | S36: - | T36: =SUM(T33:T35) -> 75198.78 | U36: =SUM(U33:U35) -> 330007.89 | W36: - | X36: =SUM(X33:X35) -> 87832.27 | Y36: =SUM(Y33:Y35) -> 422199.8 | AA36: - | AB36: =SUM(AB33:AB35) -> 123014.51 | AC36: =SUM(AC33:AC35) -> 550493.85 | AE36: - | AF36: =SUM(AF33:AF35) -> 119400.56 | AG36: =SUM(AG33:AG35) -> 513537.47 | AI36: - | AJ36: =SUM(AJ33:AJ35) -> 0 | AK36: =SUM(AK33:AK35) -> 0 | AM36: - | AN36: =SUM(AN33:AN35) -> 0 | AO36: =SUM(AO33:AO35) -> 0 | AQ36: - | AR36: =SUM(AR33:AR35) -> 0 | AS36: =SUM(AS33:AS35) -> 0 | AU36: - | AV36: =SUM(AV33:AV35) -> 0 | AW36: =SUM(AW33:AW35) -> 0 | AY36: - | AZ36: =AV36+AR36+AN36+AJ36+AF36+AB36+X36+AB36+P36+L36+H36+D36 -> 806913.92 | BA36: =AW36+AS36+AO36+AK36+AG36+AC36+Y36+U36+Q36+M36+I36+E36 -> 3320908.3 | BB36: =AJ36+AF36+AB36+X36+AB36+P36+L36+H36+D36 -> 806913.92 | BC36: =AK36+AG36+AC36+Y36+U36+Q36+M36+I36+E36 -> 3320908.3 | BD36: =AV36+AR36+AN36 -> 0 | BE36: =AW36+AS36+AO36 -> 0 | BF36: =(BD36+BB36)-AZ36 -> 0 | BG36: =(BE36+BC36)-BA36 -> 0
A37: มหาวิทยาลัยแม่โจ้ - ชุมพร
A38: 1 | B38: สถาบันเทคโนโลยี่การเกษตรแม่โจ้ | C38: 9801 020004457486 | D38: 9230.59 | E38: 41613.95 | F38: =E38-(G38*D38) -> 1.9884501e-05 | G38: =ROUND(E38/D38,8) -> 4.5082654 | H38: 10685.51 | I38: 50310.77 | J38: =I38-(K38*H38) -> 1.0503492e-05 | K38: =ROUND(I38/H38,8) -> 4.7083172 | L38: 11548.85 | M38: 25900.5 | N38: =M38-(O38*L38) -> 7.9544989e-06 | O38: =ROUND(M38/L38,8) -> 2.2426908 | P38: 10410.63 | Q38: 48299.44 | R38: =Q38-(S38*P38) -> -4.8880698e-05 | S38: =ROUND(Q38/P38,8) -> 4.6394349 | T38: 10737.74 | U38: 50602.3 | V38: =U38-(W38*T38) -> 4.1974599e-05 | W38: =ROUND(U38/T38,8) -> 4.7125652 | X38: 10199.18 | Y38: 48149.75 | Z38: =Y38-(AA38*X38) -> 2.3464992e-05 | AA38: =ROUND(Y38/X38,8) -> 4.7209433 | AB38: 12312.62 | AC38: 58679.12 | AD38: =AC38-(AE38*AB38) -> 5.7551995e-05 | AE38: =ROUND(AC38/AB38,8) -> 4.7657704 | AF38: 12138 | AG38: 56426.12 | AH38: =AG38-(AI38*AF38) -> -2.734e-05 | AI38: =ROUND(AG38/AF38,8) -> 4.6487164 | AL38: =AK38-(AM38*AJ38) -> #DIV/0! | AM38: =ROUND(AK38/AJ38,8) -> #DIV/0! | AP38: =AO38-(AQ38*AN38) -> #DIV/0! | AQ38: =ROUND(AO38/AN38,8) -> #DIV/0! | AT38: =AS38-(AU38*AR38) -> #DIV/0! | AU38: =ROUND(AS38/AR38,8) -> #DIV/0! | AX38: =AW38-(AY38*AV38) -> #DIV/0! | AY38: =ROUND(AW38/AV38,8) -> #DIV/0!
A39: 2 | B39: มหาวิทยาลัยแม่โจ้วิทยาเขตชุมพร | C39: 9026 020016381667 | D39: 9348 | E39: 44307.41 | F39: =E39-(G39*D39) -> 3.0560004e-05 | G39: =ROUND(E39/D39,8) -> 4.7397743 | H39: 9804 | I39: 49263.13 | J39: =I39-(K39*H39) -> 1.5759993e-05 | K39: =ROUND(I39/H39,8) -> 5.0247991 | L39: 9648 | M39: 49171.64 | N39: =M39-(O39*L39) -> -1.6959995e-05 | O39: =ROUND(M39/L39,8) -> 5.096563 | P39: 6516 | Q39: 30142.18 | R39: =Q39-(S39*P39) -> 2.7999995e-06 | S39: =ROUND(Q39/P39,8) -> 4.6258717 | T39: 6480 | U39: 30315.27 | V39: =U39-(W39*T39) -> -1.6799997e-05 | W39: =ROUND(U39/T39,8) -> 4.6782824 | X39: 7512 | Y39: 39231.18 | Z39: =Y39-(AA39*X39) -> 8.3999985e-06 | AA39: =ROUND(Y39/X39,8) -> 5.222468 | AB39: 11328 | AC39: 58546.84 | AD39: =AC39-(AE39*AB39) -> 2.5599991e-05 | AE39: =ROUND(AC39/AB39,8) -> 5.1683298 | AF39: 11172 | AG39: 57493.17 | AH39: =AG39-(AI39*AF39) -> 5.8799924e-06 | AI39: =ROUND(AG39/AF39,8) -> 5.1461842 | AL39: =AK39-(AM39*AJ39) -> #DIV/0! | AM39: =ROUND(AK39/AJ39,8) -> #DIV/0! | AP39: =AO39-(AQ39*AN39) -> #DIV/0! | AQ39: =ROUND(AO39/AN39,8) -> #DIV/0! | AT39: =AS39-(AU39*AR39) -> #DIV/0! | AU39: =ROUND(AS39/AR39,8) -> #DIV/0! | AX39: =AW39-(AY39*AV39) -> #DIV/0! | AY39: =ROUND(AW39/AV39,8) -> #DIV/0!
A40: 3 | B40: มหาวิทยาลัยแม่โจ้วิทยาเขตชุมพร | C40: 9801 020004456066 | D40: 4054.4 | E40: 17712.1 | F40: =E40-(G40*D40) -> -6.2719992e-06 | G40: =ROUND(E40/D40,8) -> 4.3686119 | H40: 4126.4 | I40: 18020.69 | J40: =I40-(K40*H40) -> 8.4799831e-07 | K40: =ROUND(I40/H40,8) -> 4.3671699 | L40: 4422.4 | M40: 19289.41 | N40: =M40-(O40*L40) -> -1.0495998e-05 | O40: =ROUND(M40/L40,8) -> 4.3617515 | P40: 2150.4 | Q40: 9551.16 | R40: =Q40-(S40*P40) -> 1.5359983e-06 | S40: =ROUND(Q40/P40,8) -> 4.4415737 | T40: 1684 | U40: 7669.37 | V40: =U40-(W40*T40) -> -4.7999947e-07 | W40: =ROUND(U40/T40,8) -> 4.5542577 | X40: 1184.8 | Y40: 5494.92 | Z40: =Y40-(AA40*X40) -> -4.0000486e-08 | AA40: =ROUND(Y40/X40,8) -> 4.6378461 | AB40: 4264.8 | AC40: 18910.99 | AD40: =AC40-(AE40*AB40) -> -2.06e-05 | AE40: =ROUND(AC40/AB40,8) -> 4.4342033 | AF40: 4386.4 | AG40: 19440.66 | AH40: =AG40-(AI40*AF40) -> 1.1152002e-05 | AI40: =ROUND(AG40/AF40,8) -> 4.4320308 | AL40: =AK40-(AM40*AJ40) -> #DIV/0! | AM40: =ROUND(AK40/AJ40,8) -> #DIV/0! | AP40: =AO40-(AQ40*AN40) -> #DIV/0! | AQ40: =ROUND(AO40/AN40,8) -> #DIV/0! | AT40: =AS40-(AU40*AR40) -> #DIV/0! | AU40: =ROUND(AS40/AR40,8) -> #DIV/0! | AX40: =AW40-(AY40*AV40) -> #DIV/0! | AY40: =ROUND(AW40/AV40,8) -> #DIV/0!
A41: 4 | B41: มหาวิทยาลัยแม่โจ้(อาคารชุดพักอาศัยข้าราชการ) | C41: 9801 020004456103 | D41: 4607.5 | E41: 20082.79 | F41: =E41-(G41*D41) -> -5.8250007e-06 | G41: =ROUND(E41/D41,8) -> 4.3587173 | H41: 4886 | I41: 21276.5 | J41: =I41-(K41*H41) -> -1.358e-05 | K41: =ROUND(I41/H41,8) -> 4.3545845 | L41: 6117.5 | M41: 26554.96 | N41: =M41-(O41*L41) -> 1.2199998e-05 | O41: =ROUND(M41/L41,8) -> 4.340819 | P41: 5562.5 | Q41: 24176.13 | R41: =Q41-(S41*P41) -> 1.0000003e-05 | S41: =ROUND(Q41/P41,8) -> 4.3462706 | T41: 5536.5 | U41: 24450.32 | V41: =U41-(W41*T41) -> 2.0929998e-05 | W41: =ROUND(U41/T41,8) -> 4.4162052 | X41: 5330 | Y41: 23550.86 | Z41: =Y41-(AA41*X41) -> 1.2800003e-05 | AA41: =ROUND(Y41/X41,8) -> 4.4185478 | AB41: 5920.5 | AC41: 26122.98 | AD41: =AC41-(AE41*AB41) -> 3.9600018e-06 | AE41: =ROUND(AC41/AB41,8) -> 4.4122929 | AF41: 5624 | AG41: 24831.47 | AH41: =AG41-(AI41*AF41) -> 1.2240002e-05 | AI41: =ROUND(AG41/AF41,8) -> 4.4152685 | AL41: =AK41-(AM41*AJ41) -> #DIV/0! | AM41: =ROUND(AK41/AJ41,8) -> #DIV/0! | AP41: =AO41-(AQ41*AN41) -> #DIV/0! | AQ41: =ROUND(AO41/AN41,8) -> #DIV/0! | AT41: =AS41-(AU41*AR41) -> #DIV/0! | AU41: =ROUND(AS41/AR41,8) -> #DIV/0! | AX41: =AW41-(AY41*AV41) -> #DIV/0! | AY41: =ROUND(AW41/AV41,8) -> #DIV/0!
A42: 5 | B42: มหาวิทยาลัยแม่โจ้วิทยาเขตชุมพร | C42: 9801 020022277344 | D42: 264 | E42: 1465.65 | F42: =E42-(G42*D42) -> -1.2e-06 | G42: =ROUND(E42/D42,8) -> 5.5517046 | H42: 198 | I42: 1182.78 | J42: =I42-(K42*H42) -> 7.1999989e-07 | K42: =ROUND(I42/H42,8) -> 5.9736364 | L42: 203.5 | M42: 1206.34 | N42: =M42-(O42*L42) -> -4.1500016e-07 | O42: =ROUND(M42/L42,8) -> 5.9279607 | P42: 139.5 | Q42: 932.03 | R42: =Q42-(S42*P42) -> -2.7999999e-07 | S42: =ROUND(Q42/P42,8) -> 6.6812186 | T42: 58.5 | U42: 588.91 | V42: =U42-(W42*T42) -> -1.8500009e-07 | W42: =ROUND(U42/T42,8) -> 10.066838 | X42: 37.5 | Y42: 497.44 | Z42: =Y42-(AA42*X42) -> -1.2499999e-07 | AA42: =ROUND(Y42/X42,8) -> 13.265067 | AB42: 78.5 | AC42: 676.04 | AD42: =AC42-(AE42*AB42) -> 1.7999992e-07 | AE42: =ROUND(AC42/AB42,8) -> 8.6119745 | AF42: 385 | AG42: 2011.12 | AH42: =AG42-(AI42*AF42) -> 6.4999995e-07 | AI42: =ROUND(AG42/AF42,8) -> 5.2236883 | AL42: =AK42-(AM42*AJ42) -> #DIV/0! | AM42: =ROUND(AK42/AJ42,8) -> #DIV/0! | AP42: =AO42-(AQ42*AN42) -> #DIV/0! | AQ42: =ROUND(AO42/AN42,8) -> #DIV/0! | AT42: =AS42-(AU42*AR42) -> #DIV/0! | AU42: =ROUND(AS42/AR42,8) -> #DIV/0! | AX42: =AW42-(AY42*AV42) -> #DIV/0! | AY42: =ROUND(AW42/AV42,8) -> #DIV/0!
A43: รวม | D43: =SUM(D38:D42) -> 27504.49 | E43: =SUM(E38:E42) -> 125181.9 | G43: - | H43: =SUM(H38:H42) -> 29699.91 | I43: =SUM(I38:I42) -> 140053.87 | K43: - | L43: =SUM(L38:L42) -> 31940.25 | M43: =SUM(M38:M42) -> 122122.85 | O43: - | P43: =SUM(P38:P42) -> 24779.03 | Q43: =SUM(Q38:Q42) -> 113100.94 | S43: - | T43: =SUM(T38:T42) -> 24496.74 | U43: =SUM(U38:U42) -> 113626.17 | W43: - | X43: =SUM(X38:X42) -> 24263.48 | Y43: =SUM(Y38:Y42) -> 116924.15 | AA43: - | AB43: =SUM(AB38:AB42) -> 33904.42 | AC43: =SUM(AC38:AC42) -> 162935.97 | AE43: - | AF43: =SUM(AF38:AF42) -> 33705.4 | AG43: =SUM(AG38:AG42) -> 160202.54 | AI43: - | AJ43: =SUM(AJ38:AJ42) -> 0 | AK43: =SUM(AK38:AK42) -> 0 | AM43: - | AN43: =SUM(AN38:AN42) -> 0 | AO43: =SUM(AO38:AO42) -> 0 | AQ43: - | AR43: =SUM(AR38:AR42) -> 0 | AS43: =SUM(AS38:AS42) -> 0 | AU43: - | AV43: =SUM(AV38:AV42) -> 0 | AW43: =SUM(AW38:AW42) -> 0 | AY43: - | AZ43: =AV43+AR43+AN43+AJ43+AF43+AB43+X43+AB43+P43+L43+H43+D43 -> 239701.4 | BA43: =AW43+AS43+AO43+AK43+AG43+AC43+Y43+U43+Q43+M43+I43+E43 -> 1054148.4 | BB43: =AJ43+AF43+AB43+X43+AB43+P43+L43+H43+D43 -> 239701.4 | BC43: =AK43+AG43+AC43+Y43+U43+Q43+M43+I43+E43 -> 1054148.4 | BD43: =AV43+AR43+AN43 -> 0 | BE43: =AW43+AS43+AO43 -> 0 | BF43: =(BD43+BB43)-AZ43 -> 0 | BG43: =(BE43+BC43)-BA43 -> 0 | BM43: =X43/X45*100 -> 2.3263118
A45: รวมทุกบิลค่าไฟฟ้า | D45: =D43+D36+D31+D27+D25+D21+D17+D11+D9+D7+D5 -> 882423.97 | E45: =E43+E36+E31+E27+E25+E21+E17+E11+E9+E7+E5 -> 3523205.8 | G45: - | H45: =H43+H36+H31+H27+H25+H21+H17+H11+H9+H7+H5 -> 1021156.8 | I45: =I43+I36+I31+I27+I25+I21+I17+I11+I9+I7+I5 -> 4251821.8 | K45: - | L45: =L43+L36+L31+L27+L25+L21+L17+L11+L9+L7+L5 -> 1021136.6 | M45: =M43+M36+M31+M27+M25+M21+M17+M11+M9+M7+M5 -> 4141675 | O45: - | P45: =P43+P36+P31+P27+P25+P21+P17+P11+P9+P7+P5 -> 913533.47 | Q45: =Q43+Q36+Q31+Q27+Q25+Q21+Q17+Q11+Q9+Q7+Q5 -> 3763159.6 | S45: - | T45: =T43+T36+T31+T27+T25+T21+T17+T11+T9+T7+T5 -> 950583.33 | U45: =U43+U36+U31+U27+U25+U21+U17+U11+U9+U7+U5 -> 3907243.4 | W45: - | X45: =X43+X36+X31+X27+X25+X21+X17+X11+X9+X7+X5 -> 1043002.1 | Y45: =Y43+Y36+Y31+Y27+Y25+Y21+Y17+Y11+Y9+Y7+Y5 -> 4255382.7 | AA45: - | AB45: =AB43+AB36+AB31+AB27+AB25+AB21+AB17+AB11+AB9+AB7+AB5 -> 1277660.8 | AC45: =AC43+AC36+AC31+AC27+AC25+AC21+AC17+AC11+AC9+AC7+AC5 -> 5391028.6 | AE45: - | AF45: =AF43+AF36+AF31+AF27+AF25+AF21+AF17+AF11+AF9+AF7+AF5 -> 1343713.9 | AG45: =AG43+AG36+AG31+AG27+AG25+AG21+AG17+AG11+AG9+AG7+AG5 -> 5596765 | AI45: - | AJ45: =AJ43+AJ36+AJ31+AJ27+AJ25+AJ21+AJ17+AJ11+AJ9+AJ7+AJ5 -> 0 | AK45: =AK43+AK36+AK31+AK27+AK25+AK21+AK17+AK11+AK9+AK7+AK5 -> 0 | AM45: - | AN45: =AN43+AN36+AN31+AN27+AN25+AN21+AN17+AN11+AN9+AN7+AN5 -> 0 | AO45: =AO43+AO36+AO31+AO27+AO25+AO21+AO17+AO11+AO9+AO7+AO5 -> 0 | AQ45: - | AR45: =AR43+AR36+AR31+AR27+AR25+AR21+AR17+AR11+AR9+AR7+AR5 -> 0 | AS45: =AS43+AS36+AS31+AS27+AS25+AS21+AS17+AS11+AS9+AS7+AS5 -> 0 | AU45: - | AV45: =AV43+AV36+AV31+AV27+AV25+AV21+AV17+AV11+AV9+AV7+AV5 -> 0 | AW45: =AW43+AW36+AW31+AW27+AW25+AW21+AW17+AW11+AW9+AW7+AW5 -> 0 | AY45: - | AZ45: =AV45+AR45+AN45+AJ45+AF45+AB45+X45+AB45+P45+L45+H45+D45 -> 8780288.4 | BA45: =AW45+AS45+AO45+AK45+AG45+AC45+Y45+U45+Q45+M45+I45+E45 -> 34830282 | BB45: =AJ45+AF45+AB45+X45+AB45+P45+L45+H45+D45 -> 8780288.4 | BC45: =AK45+AG45+AC45+Y45+U45+Q45+M45+I45+E45 -> 34830282 | BD45: =AV45+AR45+AN45 -> 0 | BE45: =AW45+AS45+AO45 -> 0 | BF45: =(BD45+BB45)-AZ45 -> 0 | BG45: =(BE45+BC45)-BA45 -> 0 | BM45: =SUM(BM31:BM44) -> 2.3263118
A49: การใช้พลังงานไฟฟ้า ตามหนังสือแจ้งค่าไฟฟ้า(จ่ายตรงกับการไฟฟ้า)
A50: ลำดับ | B50: ชื่ออาคาร | C50: หมายเลข | D50: มกราคม 69 | H50: กุมภาพันธ์ 69 | L50: มีนาคม 69 | P50: เมษายน 69 | T50: พฤษภาคม 69 | X50: มิถุนายน 69 | AB50: กรกฏาคม 69 | AF50: สิงหาคม 69 | AJ50: กันยายน 69 | AN50: ตุลาคม 69 | AR50: พฤศจิกายน 69 | AV50: ธันวาคม 69 | AZ50: ผลรวมบิลค่าไฟฟ้า/ปี | BB50: ม.ค.-ก.ย. 68 | BD50: ต.ค.-ธ.ค. 68 | BF50: เช็ด
C51: ผู้ใช้ไฟฟ้า | D51: kWh | E51: บาท | F51: เช็ด | G51: หน่วยค่าไฟ/บาท | H51: kWh | I51: บาท | J51: เช็ด | K51: หน่วยค่าไฟ/บาท | L51: kWh | M51: บาท | N51: เช็ด | O51: หน่วยค่าไฟ/บาท | P51: kWh | Q51: บาท | R51: เช็ด | S51: หน่วยค่าไฟ/บาท | T51: kWh | U51: บาท | V51: เช็ด | W51: หน่วยค่าไฟ/บาท | X51: kWh | Y51: บาท | Z51: เช็ด | AA51: หน่วยค่าไฟ/บาท | AB51: kWh | AC51: บาท | AD51: เช็ด | AE51: หน่วยค่าไฟ/บาท | AF51: kWh | AG51: บาท | AH51: เช็ด | AI51: หน่วยค่าไฟ/บาท | AJ51: kWh | AK51: บาท | AL51: เช็ด | AM51: หน่วยค่าไฟ/บาท | AN51: kWh | AO51: บาท | AP51: เช็ด | AQ51: หน่วยค่าไฟ/บาท | AR51: kWh | AS51: บาท | AT51: เช็ด | AU51: หน่วยค่าไฟ/บาท | AV51: kWh | AW51: บาท | AX51: เช็ด | AY51: หน่วยค่าไฟ/บาท | AZ51: kWh | BA51: บาท | BB51: kWh | BC51: บาท | BD51: kWh | BE51: บาท | BF51: kWh | BG51: บาท
A52: มหาวิทยาลัยแม่โจ้ (ศูนย์ทดลองวิจัยและพัฒนากัญชงอุตสาหกรรม)
A53: 1 | B53: มหาวิทยาลัยแม่โจ้ (ศูนย์ทดลองวิจัยและพัฒนากัญชงอุตสาหกรรม) | C53: 9205 20025162757 | D53: 1928 | E53: 8597.91 | F53: =E53-(G53*D53) -> -3.9199986e-06 | G53: =ROUND(E53/D53,8) -> 4.4594969 | H53: 2116 | I53: 9403.71 | J53: =I53-(K53*H53) -> 7.4e-06 | K53: =ROUND(I53/H53,8) -> 4.4440973 | L53: 1900 | M53: 8477.89 | N53: =M53-(O53*L53) -> -2.9999992e-06 | O53: =ROUND(M53/L53,8) -> 4.4620474 | P53: 2708 | Q53: 11941.15 | R53: =Q53-(S53*P53) -> -5.7600009e-06 | S53: =ROUND(Q53/P53,8) -> 4.4095827 | T53: 2260 | U53: 10178.34 | V53: =U53-(W53*T53) -> -1.0199999e-05 | W53: =ROUND(U53/T53,8) -> 4.5036903 | X53: 1848 | Y53: 8383.73 | Z53: =Y53-(AA53*X53) -> 5.3599997e-06 | AA53: =ROUND(Y53/X53,8) -> 4.5366504 | AB53: 1748 | AC53: 7948.14 | AD53: =AC53-(AE53*AB53) -> -5.8000005e-06 | AE53: =ROUND(AC53/AB53,8) -> 4.5469909 | AF53: 2404 | AG53: 10805.59 | AH53: =AG53-(AI53*AF53) -> 9.1999937e-07 | AI53: =ROUND(AG53/AF53,8) -> 4.4948378 | AL53: =AK53-(AM53*AJ53) -> #DIV/0! | AM53: =ROUND(AK53/AJ53,8) -> #DIV/0! | AP53: =AO53-(AQ53*AN53) -> #DIV/0! | AQ53: =ROUND(AO53/AN53,8) -> #DIV/0! | AT53: =AS53-(AU53*AR53) -> #DIV/0! | AU53: =ROUND(AS53/AR53,8) -> #DIV/0! | AX53: =AW53-(AY53*AV53) -> #DIV/0! | AY53: =ROUND(AW53/AV53,8) -> #DIV/0! | AZ53: =AV53+AR53+AN53+AJ53+AF53+AB53+X53+AB53+P53+L53+H53+D53 -> 16400 | BA53: =AW53+AS53+AO53+AK53+AG53+AC53+Y53+U53+Q53+M53+I53+E53 -> 75736.46 | BB53: =AJ53+AF53+AB53+X53+AB53+P53+L53+H53+D53 -> 16400 | BC53: =AK53+AG53+AC53+Y53+U53+Q53+M53+I53+E53 -> 75736.46 | BD53: =AV53+AR53+AN53 -> 0 | BE53: =AW53+AS53+AO53 -> 0 | BF53: =(BD53+BB53)-AZ53 -> 0 | BG53: =(BE53+BC53)-BA53 -> 0 | BH53: 23
A54: สำนักฟาร์มมหาวิทยาลัยแม่โจ้ (ฟาร์มบ้านโปง)
A55: 1 | B55: สำนักฟาร์ม มหาวิทยาลัยแม่โจ้ 2 | C55: 9205 020005984784 | D55: 1760 | E55: 7877.81 | F55: 0 | G55: =ROUND(E55/D55,8) -> 4.4760284 | H55: 1620 | I55: 7277.74 | J55: 0 | K55: =ROUND(I55/H55,8) -> 4.4924321 | L55: 1474 | M55: 6651.95 | N55: 0 | O55: =ROUND(M55/L55,8) -> 4.5128562 | P55: 1539 | Q55: 6930.57 | R55: 0 | S55: =ROUND(Q55/P55,8) -> 4.5032944 | T55: 1817 | U55: 8248.7 | V55: 0 | W55: =ROUND(U55/T55,8) -> 4.5397358 | X55: 1590 | Y55: 7259.92 | Z55: 0 | AA55: =ROUND(Y55/X55,8) -> 4.5659874 | AB55: 1261 | AC55: 5826.83 | AD55: 0 | AE55: =ROUND(AC55/AB55,8) -> 4.6208009 | AF55: 1164 | AG55: 5404.32 | AH55: 0 | AI55: =ROUND(AG55/AF55,8) -> 4.6428866 | AL55: 0 | AM55: =ROUND(AK55/AJ55,8) -> #DIV/0! | AP55: 0 | AQ55: =ROUND(AO55/AN55,8) -> #DIV/0! | AT55: =AS55-(AU55*AR55) -> #DIV/0! | AU55: =ROUND(AS55/AR55,8) -> #DIV/0! | AX55: =AW55-(AY55*AV55) -> #DIV/0! | AY55: =ROUND(AW55/AV55,8) -> #DIV/0! | AZ55: =AV55+AR55+AN55+AJ55+AF55+AB55+X55+AB55+P55+L55+H55+D55 -> 11669 | BA55: =AW55+AS55+AO55+AK55+AG55+AC55+Y55+U55+Q55+M55+I55+E55 -> 55477.84 | BB55: =AJ55+AF55+AB55+X55+AB55+P55+L55+H55+D55 -> 11669 | BC55: =AK55+AG55+AC55+Y55+U55+Q55+M55+I55+E55 -> 55477.84 | BD55: =AV55+AR55+AN55 -> 0 | BE55: =AW55+AS55+AO55 -> 0 | BF55: =(BD55+BB55)-AZ55 -> 0 | BG55: =(BE55+BC55)-BA55 -> 0 | BH55: 10
A56: สมาคมศิษย์เก่าแม่โจ้
A57: 1 | B57: มหาวิทยาลัยแม่โจ้-อาคารศิษย์เก่า | C57: 9211 020027862395 | D57: 67 | E57: 621.27 | F57: =E57-(G57*D57) -> -1.8999992e-07 | G57: =ROUND(E57/D57,8) -> 9.2726866 | H57: 363 | I57: 1889.98 | J57: =I57-(K57*H57) -> 1.3900001e-06 | K57: =ROUND(I57/H57,8) -> 5.2065565 | L57: 595 | M57: 2884.39 | N57: =M57-(O57*L57) -> -2.5499999e-06 | O57: =ROUND(M57/L57,8) -> 4.8477143 | P57: 893 | Q57: 4161.68 | R57: =Q57-(S57*P57) -> -3.35e-06 | S57: =ROUND(Q57/P57,8) -> 4.660336 | T57: 889 | U57: 4206.46 | V57: =U57-(W57*T57) -> 4.3999989e-07 | W57: =ROUND(U57/T57,8) -> 4.731676 | X57: 905 | Y57: 4276.15 | Z57: =Y57-(AA57*X57) -> 3.8999997e-06 | AA57: =ROUND(Y57/X57,8) -> 4.7250276 | AB57: 727 | AC57: 3500.8 | AD57: =AC57-(AE57*AB57) -> -2.0599996e-06 | AE57: =ROUND(AC57/AB57,8) -> 4.8154058 | AF57: 841 | AG57: 3997.38 | AH57: =AG57-(AI57*AF57) -> -4.2999955e-07 | AI57: =ROUND(AG57/AF57,8) -> 4.7531272 | AL57: =AK57-(AM57*AJ57) -> #DIV/0! | AM57: =ROUND(AK57/AJ57,8) -> #DIV/0! | AP57: =AO57-(AQ57*AN57) -> #DIV/0! | AQ57: =ROUND(AO57/AN57,8) -> #DIV/0! | AT57: =AS57-(AU57*AR57) -> #DIV/0! | AU57: =ROUND(AS57/AR57,8) -> #DIV/0! | AX57: =AW57-(AY57*AV57) -> #DIV/0! | AY57: =ROUND(AW57/AV57,8) -> #DIV/0! | BH57: 24
A58: 2 | B58: มหาวิทยาลัยแม่โจ้-อาคารพลังศิษย์เก่า | C58: 9212 020027862396 | D58: 2411 | E58: 10668.14 | F58: =E58-(G58*D58) -> 8.9999958e-07 | G58: =ROUND(E58/D58,8) -> 4.4247781 | H58: 3174 | I58: 13938.5 | J58: =I58-(K58*H58) -> -7.1199993e-06 | K58: =ROUND(I58/H58,8) -> 4.3914619 | L58: 3470 | M58: 15207.21 | N58: =M58-(O58*L58) -> -6.9000016e-06 | O58: =ROUND(M58/L58,8) -> 4.3824813 | P58: 3097 | Q58: 13608.47 | R58: =Q58-(S58*P58) -> -2.8900013e-06 | S58: =ROUND(Q58/P58,8) -> 4.3940814 | T58: 5326 | U58: 23533.43 | V58: =U58-(W58*T58) -> 7.0599999e-06 | W58: =ROUND(U58/T58,8) -> 4.4185937 | X58: 3601 | Y58: 16019.59 | Z58: =Y58-(AA58*X58) -> 1.763e-05 | AA58: =ROUND(Y58/X58,8) -> 4.4486504 | AB58: 8093 | AC58: 35586.09 | AD58: =AC58-(AE58*AB58) -> -3.3850003e-05 | AE58: =ROUND(AC58/AB58,8) -> 4.3971444 | AH58: =AG58-(AI58*AF58) -> #DIV/0! | AI58: =ROUND(AG58/AF58,8) -> #DIV/0! | AL58: =AK58-(AM58*AJ58) -> #DIV/0! | AM58: =ROUND(AK58/AJ58,8) -> #DIV/0! | AP58: =AO58-(AQ58*AN58) -> #DIV/0! | AQ58: =ROUND(AO58/AN58,8) -> #DIV/0! | AT58: =AS58-(AU58*AR58) -> #DIV/0! | AU58: =ROUND(AS58/AR58,8) -> #DIV/0! | AX58: =AW58-(AY58*AV58) -> #DIV/0! | AY58: =ROUND(AW58/AV58,8) -> #DIV/0! | BH58: 25
A59: 3 | B59: มหาวิทยาลัยแม่โจ้-อาคารสายพิรุณ | C59: 9211 020027862399 | D59: 25.7 | E59: 444.25 | F59: =E59-(G59*D59) -> -5.3999997e-08 | G59: =ROUND(E59/D59,8) -> 17.285992 | H59: 35.2 | I59: 484.97 | J59: =I59-(K59*H59) -> -6.4000005e-08 | K59: =ROUND(I59/H59,8) -> 13.777557 | L59: 37.6 | M59: 495.25 | N59: =M59-(O59*L59) -> 1.1999998e-07 | O59: =ROUND(M59/L59,8) -> 13.171543 | P59: 46 | Q59: 531.27 | R59: =Q59-(S59*P59) -> -1.8000003e-07 | S59: =ROUND(Q59/P59,8) -> 11.549348 | T59: 53.9 | U59: 568.89 | V59: =U59-(W59*T59) -> 2.4499991e-07 | W59: =ROUND(U59/T59,8) -> 10.554545 | X59: 50.3 | Y59: 553.2 | Z59: =Y59-(AA59*X59) -> -7.899996e-08 | AA59: =ROUND(Y59/X59,8) -> 10.998012 | AB59: 47 | AC59: 538.82 | AD59: =AC59-(AE59*AB59) -> -3.9999918e-08 | AE59: =ROUND(AC59/AB59,8) -> 11.464255 | AF59: 46.1 | AG59: 534.89 | AH59: =AG59-(AI59*AF59) -> -1.5600006e-07 | AI59: =ROUND(AG59/AF59,8) -> 11.60282 | AL59: =AK59-(AM59*AJ59) -> #DIV/0! | AM59: =ROUND(AK59/AJ59,8) -> #DIV/0! | AP59: =AO59-(AQ59*AN59) -> #DIV/0! | AQ59: =ROUND(AO59/AN59,8) -> #DIV/0! | AT59: =AS59-(AU59*AR59) -> #DIV/0! | AU59: =ROUND(AS59/AR59,8) -> #DIV/0! | AX59: =AW59-(AY59*AV59) -> #DIV/0! | AY59: =ROUND(AW59/AV59,8) -> #DIV/0! | BH59: 26
A60: รวม | D60: =SUM(D57:D59) -> 2503.7 | E60: =SUM(E57:E59) -> 11733.66 | G60: - | H60: =SUM(H57:H59) -> 3572.2 | I60: =SUM(I57:I59) -> 16313.45 | K60: - | L60: =SUM(L57:L59) -> 4102.6 | M60: =SUM(M57:M59) -> 18586.85 | O60: - | P60: =SUM(P57:P59) -> 4036 | Q60: =SUM(Q57:Q59) -> 18301.42 | S60: - | T60: =SUM(T57:T59) -> 6268.9 | U60: =SUM(U57:U59) -> 28308.78 | W60: - | X60: =SUM(X57:X59) -> 4556.3 | Y60: =SUM(Y57:Y59) -> 20848.94 | AA60: - | AB60: =SUM(AB57:AB59) -> 8867 | AC60: =SUM(AC57:AC59) -> 39625.71 | AE60: - | AF60: =SUM(AF57:AF59) -> 887.1 | AG60: =SUM(AG57:AG59) -> 4532.27 | AI60: - | AJ60: =SUM(AJ57:AJ59) -> 0 | AK60: =SUM(AK57:AK59) -> 0 | AM60: - | AN60: =SUM(AN57:AN59) -> 0 | AO60: =SUM(AO57:AO59) -> 0 | AQ60: - | AR60: =SUM(AR53:AR59) -> 0 | AS60: =SUM(AS53:AS59) -> 0 | AU60: - | AV60: =SUM(AV53:AV59) -> 0 | AW60: =SUM(AW53:AW59) -> 0 | AY60: - | AZ60: =AV60+AR60+AN60+AJ60+AF60+AB60+X60+AB60+P60+L60+H60+D60 -> 37391.9 | BA60: =AW60+AS60+AO60+AK60+AG60+AC60+Y60+U60+Q60+M60+I60+E60 -> 158251.08 | BB60: =AJ60+AF60+AB60+X60+AB60+P60+L60+H60+D60 -> 37391.9 | BC60: =AK60+AG60+AC60+Y60+U60+Q60+M60+I60+E60 -> 158251.08 | BD60: =AV60+AR60+AN60 -> 0 | BE60: =AW60+AS60+AO60 -> 0 | BF60: =(BD60+BB60)-AZ60 -> 0 | BG60: =(BE60+BC60)-BA60 -> 0

Sheet กราฟ68-69 มหาวิทยาลัยแม่โจ้
B2: Month | C2: มหาวิทยาลัยแม่โจ้
C3: 9806 020017405371
C4: ค่าพลังงานไฟฟ้า 68 (kWh) | D4: ค่าพลังงานไฟฟ้า 69 (kWh)
B5: มกราคม | C5: ='2568-บิลค่าไฟฟ้า'!D5 -> 621643 | D5: ='2569-บิลค่าไฟฟ้า'!D5 -> 662720.31
B6: กุมภาพันธ์ | C6: ='2568-บิลค่าไฟฟ้า'!H5 -> 723443 | D6: ='2569-บิลค่าไฟฟ้า'!H5 -> 784824.81
B7: มีนาคม | C7: ='2568-บิลค่าไฟฟ้า'!L5 -> 854947 | D7: ='2569-บิลค่าไฟฟ้า'!L5 -> 760511.41
B8: เมษายน | C8: ='2568-บิลค่าไฟฟ้า'!P5 -> 713467 | D8: ='2569-บิลค่าไฟฟ้า'!P5 -> 670856.01
B9: พฤษภาคม | C9: ='2568-บิลค่าไฟฟ้า'!T5 -> 703971.99 | D9: ='2569-บิลค่าไฟฟ้า'!T5 -> 709237.1
B10: มิถุนายน | C10: ='2568-บิลค่าไฟฟ้า'!X5 -> 897765 | D10: ='2569-บิลค่าไฟฟ้า'!X5 -> 811905.7
B11: กรกฏาคม | C11: ='2568-บิลค่าไฟฟ้า'!AB5 -> 1065556.5 | D11: ='2569-บิลค่าไฟฟ้า'!AB5 -> 1004451
B12: สิงหาคม | C12: ='2568-บิลค่าไฟฟ้า'!AF5 -> 1058378.5 | D12: ='2569-บิลค่าไฟฟ้า'!AF5 -> 1079791.9
B13: กันยายน | C13: ='2568-บิลค่าไฟฟ้า'!AJ5 -> 1078213 | D13: ='2569-บิลค่าไฟฟ้า'!AJ5 -> 0
B14: ตุลาคม | C14: ='2568-บิลค่าไฟฟ้า'!AN5 -> 928769 | D14: ='2569-บิลค่าไฟฟ้า'!AN5 -> 0
B15: พฤศจิกายน | C15: ='2568-บิลค่าไฟฟ้า'!AR5 -> 699110.6 | D15: ='2569-บิลค่าไฟฟ้า'!AR5 -> 0
B16: ธันวาคม | C16: ='2568-บิลค่าไฟฟ้า'!AV5 -> 660682.1 | D16: ='2569-บิลค่าไฟฟ้า'!AV5 -> 0
B28: Month | C28: มหาวิทยาลัยแม่โจ้
C29: 9806 020017405371
C30: ค่าไฟฟ้า 68 (บาท) | D30: ค่าไฟฟ้า 69 (บาท)
B31: มกราคม | C31: ='2568-บิลค่าไฟฟ้า'!E5 -> 2608168 | D31: ='2569-บิลค่าไฟฟ้า'!E5 -> 2594110.3
B32: กุมภาพันธ์ | C32: ='2568-บิลค่าไฟฟ้า'!I5 -> 3143026.7 | D32: ='2569-บิลค่าไฟฟ้า'!I5 -> 3218927
B33: มีนาคม | C33: ='2568-บิลค่าไฟฟ้า'!M5 -> 3673807 | D33: ='2569-บิลค่าไฟฟ้า'!M5 -> 3039870.8
B34: เมษายน | C34: ='2568-บิลค่าไฟฟ้า'!Q5 -> 3142174 | D34: ='2569-บิลค่าไฟฟ้า'!Q5 -> 2723683.6
B35: พฤษภาคม | C35: ='2568-บิลค่าไฟฟ้า'!U5 -> 2899419.5 | D35: ='2569-บิลค่าไฟฟ้า'!U5 -> 2846769.8
B36: มิถุนายน | C36: ='2568-บิลค่าไฟฟ้า'!Y5 -> 3748635.9 | D36: ='2569-บิลค่าไฟฟ้า'!Y5 -> 3410218.4
B37: กรกฏาคม | C37: ='2568-บิลค่าไฟฟ้า'!AC5 -> 4495970.7 | D37: ='2569-บิลค่าไฟฟ้า'!AC5 -> 4164476.8
B38: สิงหาคม | C38: ='2568-บิลค่าไฟฟ้า'!AG5 -> 4389811.3 | D38: ='2569-บิลค่าไฟฟ้า'!AG5 -> 4433389.8
B39: กันยายน | C39: ='2568-บิลค่าไฟฟ้า'!AK5 -> 4521903.2 | D39: ='2569-บิลค่าไฟฟ้า'!AK5 -> 0
B40: ตุลาคม | C40: ='2568-บิลค่าไฟฟ้า'!AO5 -> 3849488.4 | D40: ='2569-บิลค่าไฟฟ้า'!AO5 -> 0
B41: พฤศจิกายน | C41: ='2568-บิลค่าไฟฟ้า'!AS5 -> 2792408.9 | D41: ='2569-บิลค่าไฟฟ้า'!AS5 -> 0
B42: ธันวาคม | C42: ='2568-บิลค่าไฟฟ้า'!AW5 -> 2639317.1 | D42: ='2569-บิลค่าไฟฟ้า'!AW5 -> 0

Sheet กราฟ68-69 คณะสัตวศาสตร์
B2: Month | C2: คณะสัตวศาสตร์และเทคโนโลยี
C3: 9805 020004553162
C4: ค่าพลังงานไฟฟ้า 68 (kWh) | D4: ค่าพลังงานไฟฟ้า 69 (kWh)
B5: มกราคม | C5: ='2568-บิลค่าไฟฟ้า'!D7 -> 47268.01 | D5: ='2569-บิลค่าไฟฟ้า'!D7 -> 44632
B6: กุมภาพันธ์ | C6: ='2568-บิลค่าไฟฟ้า'!H7 -> 53628 | D6: ='2569-บิลค่าไฟฟ้า'!H7 -> 54860.01
B7: มีนาคม | C7: ='2568-บิลค่าไฟฟ้า'!L7 -> 70820 | D7: ='2569-บิลค่าไฟฟ้า'!L7 -> 56488
B8: เมษายน | C8: ='2568-บิลค่าไฟฟ้า'!P7 -> 65476 | D8: ='2569-บิลค่าไฟฟ้า'!P7 -> 61940.01
B9: พฤษภาคม | C9: ='2568-บิลค่าไฟฟ้า'!T7 -> 54860.01 | D9: ='2569-บิลค่าไฟฟ้า'!T7 -> 69448
B10: มิถุนายน | C10: ='2568-บิลค่าไฟฟ้า'!X7 -> 50527.99 | D10: ='2569-บิลค่าไฟฟ้า'!X7 -> 55484
B11: กรกฏาคม | C11: ='2568-บิลค่าไฟฟ้า'!AB7 -> 59984.01 | D11: ='2569-บิลค่าไฟฟ้า'!AB7 -> 60036
B12: สิงหาคม | C12: ='2568-บิลค่าไฟฟ้า'!AF7 -> 54847.99 | D12: ='2569-บิลค่าไฟฟ้า'!AF7 -> 48792
B13: กันยายน | C13: ='2568-บิลค่าไฟฟ้า'!AJ7 -> 59884 | D13: ='2569-บิลค่าไฟฟ้า'!AJ7 -> 0
B14: ตุลาคม | C14: ='2568-บิลค่าไฟฟ้า'!AN7 -> 51100 | D14: ='2569-บิลค่าไฟฟ้า'!AN7 -> 0
B15: พฤศจิกายน | C15: ='2568-บิลค่าไฟฟ้า'!AR7 -> 40088 | D15: ='2569-บิลค่าไฟฟ้า'!AR7 -> 0
B16: ธันวาคม | C16: ='2568-บิลค่าไฟฟ้า'!AV7 -> 39628.01 | D16: ='2569-บิลค่าไฟฟ้า'!AV7 -> 0
B28: Month | C28: คณะสัตวศาสตร์และเทคโนโลยี
C29: 9805 020004553162
C30: ค่าไฟฟ้า 68 (บาท) | D30: ค่าไฟฟ้า 69 (บาท)
B31: มกราคม | C31: ='2568-บิลค่าไฟฟ้า'!E7 -> 208113.87 | D31: ='2569-บิลค่าไฟฟ้า'!E7 -> 188362.59
B32: กุมภาพันธ์ | C32: ='2568-บิลค่าไฟฟ้า'!I7 -> 241001.73 | D32: ='2569-บิลค่าไฟฟ้า'!I7 -> 231305.27
B33: มีนาคม | C33: ='2568-บิลค่าไฟฟ้า'!M7 -> 319021.92 | D33: ='2569-บิลค่าไฟฟ้า'!M7 -> 239054.99
B34: เมษายน | C34: ='2568-บิลค่าไฟฟ้า'!Q7 -> 290323.83 | D34: ='2569-บิลค่าไฟฟ้า'!Q7 -> 252408.12
B35: พฤษภาคม | C35: ='2568-บิลค่าไฟฟ้า'!U7 -> 235726.16 | D35: ='2569-บิลค่าไฟฟ้า'!U7 -> 294991.46
B36: มิถุนายน | C36: ='2568-บิลค่าไฟฟ้า'!Y7 -> 215174.85 | D36: ='2569-บิลค่าไฟฟ้า'!Y7 -> 15284.81
B37: กรกฏาคม | C37: ='2568-บิลค่าไฟฟ้า'!AC7 -> 247528.69 | D37: ='2569-บิลค่าไฟฟ้า'!AC7 -> 249478.08
B38: สิงหาคม | C38: ='2568-บิลค่าไฟฟ้า'!AG7 -> 235210.89 | D38: ='2569-บิลค่าไฟฟ้า'!AG7 -> 203507.85
B39: กันยายน | C39: ='2568-บิลค่าไฟฟ้า'!AK7 -> 251710.22 | D39: ='2569-บิลค่าไฟฟ้า'!AK7 -> 0
B40: ตุลาคม | C40: ='2568-บิลค่าไฟฟ้า'!AO7 -> 211628.95 | D40: ='2569-บิลค่าไฟฟ้า'!AO7 -> 0
B41: พฤศจิกายน | C41: ='2568-บิลค่าไฟฟ้า'!AS7 -> 167800.01 | D41: ='2569-บิลค่าไฟฟ้า'!AS7 -> 0
B42: ธันวาคม | C42: ='2568-บิลค่าไฟฟ้า'!AW7 -> 163900.13 | D42: ='2569-บิลค่าไฟฟ้า'!AW7 -> 0

Sheet กราฟ68-69 พลังงานทดแทน
B2: Month | C2: วิทยาลัยพลังงานทดแทน
C3: 9095 020016355485
C4: ค่าพลังงานไฟฟ้า 68 (kWh) | D4: ค่าพลังงานไฟฟ้า 69 (kWh)
B5: มกราคม | C5: ='2568-บิลค่าไฟฟ้า'!D9 -> 9220 | D5: ='2569-บิลค่าไฟฟ้า'!D9 -> 21680
B6: กุมภาพันธ์ | C6: ='2568-บิลค่าไฟฟ้า'!H9 -> 8760 | D6: ='2569-บิลค่าไฟฟ้า'!H9 -> 11480
B7: มีนาคม | C7: ='2568-บิลค่าไฟฟ้า'!L9 -> 10620 | D7: ='2569-บิลค่าไฟฟ้า'!L9 -> 10140
B8: เมษายน | C8: ='2568-บิลค่าไฟฟ้า'!P9 -> 10340 | D8: ='2569-บิลค่าไฟฟ้า'!P9 -> 9400
B9: พฤษภาคม | C9: ='2568-บิลค่าไฟฟ้า'!T9 -> 11280 | D9: ='2569-บิลค่าไฟฟ้า'!T9 -> 13420
B10: มิถุนายน | C10: ='2568-บิลค่าไฟฟ้า'!X9 -> 11520 | D10: ='2569-บิลค่าไฟฟ้า'!X9 -> 14560
B11: กรกฏาคม | C11: ='2568-บิลค่าไฟฟ้า'!AB9 -> 15020 | D11: ='2569-บิลค่าไฟฟ้า'!AB9 -> 16200
B12: สิงหาคม | C12: ='2568-บิลค่าไฟฟ้า'!AF9 -> 13680 | D12: ='2569-บิลค่าไฟฟ้า'!AF9 -> 18260
B13: กันยายน | C13: ='2568-บิลค่าไฟฟ้า'!AJ9 -> 14400 | D13: ='2569-บิลค่าไฟฟ้า'!AJ9 -> 0
B14: ตุลาคม | C14: ='2568-บิลค่าไฟฟ้า'!AN9 -> 14320 | D14: ='2569-บิลค่าไฟฟ้า'!AN9 -> 0
B15: พฤศจิกายน | C15: ='2568-บิลค่าไฟฟ้า'!AR9 -> 13640 | D15: ='2569-บิลค่าไฟฟ้า'!AR9 -> 0
B16: ธันวาคม | C16: ='2568-บิลค่าไฟฟ้า'!AV9 -> 18800 | D16: ='2569-บิลค่าไฟฟ้า'!AV9 -> 0
B28: Month | C28: วิทยาลัยพลังงานทดแทน
C29: 9095 020016355485
C30: ค่าไฟฟ้า 68 (บาท) | D30: ค่าไฟฟ้า 69 (บาท)
B31: มกราคม | C31: ='2568-บิลค่าไฟฟ้า'!E9 -> 40019.97 | D31: ='2569-บิลค่าไฟฟ้า'!E9 -> 81019.04
B32: กุมภาพันธ์ | C32: ='2568-บิลค่าไฟฟ้า'!I9 -> 38733.29 | D32: ='2569-บิลค่าไฟฟ้า'!I9 -> 50232.65
B33: มีนาคม | C33: ='2568-บิลค่าไฟฟ้า'!M9 -> 46870.35 | D33: ='2569-บิลค่าไฟฟ้า'!M9 -> 43746.18
B34: เมษายน | C34: ='2568-บิลค่าไฟฟ้า'!Q9 -> 46649.1 | D34: ='2569-บิลค่าไฟฟ้า'!Q9 -> 40965.09
B35: พฤษภาคม | C35: ='2568-บิลค่าไฟฟ้า'!U9 -> 49903.72 | D35: ='2569-บิลค่าไฟฟ้า'!U9 -> 63117.77
B36: มิถุนายน | C36: ='2568-บิลค่าไฟฟ้า'!Y9 -> 53192.2 | D36: ='2569-บิลค่าไฟฟ้า'!Y9 -> 69320.43
B37: กรกฏาคม | C37: ='2568-บิลค่าไฟฟ้า'!AC9 -> 73281.79 | D37: ='2569-บิลค่าไฟฟ้า'!AC9 -> 83684.84
B38: สิงหาคม | C38: ='2568-บิลค่าไฟฟ้า'!AG9 -> 63666.03 | D38: ='2569-บิลค่าไฟฟ้า'!AG9 -> 90436.05
B39: กันยายน | C39: ='2568-บิลค่าไฟฟ้า'!AK9 -> 67664.24 | D39: ='2569-บิลค่าไฟฟ้า'!AK9 -> 0
B40: ตุลาคม | C40: ='2568-บิลค่าไฟฟ้า'!AO9 -> 63364.12 | D40: ='2569-บิลค่าไฟฟ้า'!AO9 -> 0
B41: พฤศจิกายน | C41: ='2568-บิลค่าไฟฟ้า'!AS9 -> 58005.04 | D41: ='2569-บิลค่าไฟฟ้า'!AS9 -> 0
B42: ธันวาคม | C42: ='2568-บิลค่าไฟฟ้า'!AW9 -> 74465.91 | D42: ='2569-บิลค่าไฟฟ้า'!AW9 -> 0

Sheet กราฟ68-69 โครงการแปรรูป
B2: Month | C2: โครงการแปรรูปผลิตผลทางการเกษตร
C3: 9805 020006009966
C4: ค่าพลังงานไฟฟ้า 68 (kWh) | D4: ค่าพลังงานไฟฟ้า 69 (kWh)
B5: มกราคม | C5: ='2568-บิลค่าไฟฟ้า'!D11 -> 1675.5 | D5: ='2569-บิลค่าไฟฟ้า'!D11 -> 593.5
B6: กุมภาพันธ์ | C6: ='2568-บิลค่าไฟฟ้า'!H11 -> 2438 | D6: ='2569-บิลค่าไฟฟ้า'!H11 -> 405.99
B7: มีนาคม | C7: ='2568-บิลค่าไฟฟ้า'!L11 -> 2387.5 | D7: ='2569-บิลค่าไฟฟ้า'!L11 -> 454.99
B8: เมษายน | C8: ='2568-บิลค่าไฟฟ้า'!P11 -> 1187.51 | D8: ='2569-บิลค่าไฟฟ้า'!P11 -> 490.5
B9: พฤษภาคม | C9: ='2568-บิลค่าไฟฟ้า'!T11 -> 765.5 | D9: ='2569-บิลค่าไฟฟ้า'!T11 -> 411.5
B10: มิถุนายน | C10: ='2568-บิลค่าไฟฟ้า'!X11 -> 806 | D10: ='2569-บิลค่าไฟฟ้า'!X11 -> 510.01
B11: กรกฏาคม | C11: ='2568-บิลค่าไฟฟ้า'!AB11 -> 721 | D11: ='2569-บิลค่าไฟฟ้า'!AB11 -> 673
B12: สิงหาคม | C12: ='2568-บิลค่าไฟฟ้า'!AF11 -> 850.51 | D12: ='2569-บิลค่าไฟฟ้า'!AF11 -> 681
B13: กันยายน | C13: ='2568-บิลค่าไฟฟ้า'!AJ11 -> 975.51 | D13: ='2569-บิลค่าไฟฟ้า'!AJ11 -> 0
B14: ตุลาคม | C14: ='2568-บิลค่าไฟฟ้า'!AN11 -> 1162.5 | D14: ='2569-บิลค่าไฟฟ้า'!AN11 -> 0
B15: พฤศจิกายน | C15: ='2568-บิลค่าไฟฟ้า'!AR11 -> 957.5 | D15: ='2569-บิลค่าไฟฟ้า'!AR11 -> 0
B16: ธันวาคม | C16: ='2568-บิลค่าไฟฟ้า'!AV11 -> 636.99 | D16: ='2569-บิลค่าไฟฟ้า'!AV11 -> 0
B28: Month | C28: โครงการแปรรูปผลิตผลทางการเกษตร
C29: 9805 020006009966
C30: ค่าไฟฟ้า 68 (บาท) | D30: ค่าไฟฟ้า 69 (บาท)
B31: มกราคม | C31: ='2568-บิลค่าไฟฟ้า'!E11 -> 7999.68 | D31: ='2569-บิลค่าไฟฟ้า'!E11 -> 2877.96
B32: กุมภาพันธ์ | C32: ='2568-บิลค่าไฟฟ้า'!I11 -> 11488.19 | D32: ='2569-บิลค่าไฟฟ้า'!I11 -> 2074.25
B33: มีนาคม | C33: ='2568-บิลค่าไฟฟ้า'!M11 -> 11257.17 | D33: ='2569-บิลค่าไฟฟ้า'!M11 -> 2284.29
B34: เมษายน | C34: ='2568-บิลค่าไฟฟ้า'!Q11 -> 5767.08 | D34: ='2569-บิลค่าไฟฟ้า'!Q11 -> 2136.49
B35: พฤษภาคม | C35: ='2568-บิลค่าไฟฟ้า'!U11 -> 3697.1 | D35: ='2569-บิลค่าไฟฟ้า'!U11 -> 2126.53
B36: มิถุนายน | C36: ='2568-บิลค่าไฟฟ้า'!Y11 -> 3875.02 | D36: ='2569-บิลค่าไฟฟ้า'!Y11 -> 2555.62
B37: กรกฏาคม | C37: ='2568-บิลค่าไฟฟ้า'!AC11 -> 3501.6 | D37: ='2569-บิลค่าไฟฟ้า'!AC11 -> 3265.6
B38: สิงหาคม | C38: ='2568-บิลค่าไฟฟ้า'!AG11 -> 4070.57 | D38: ='2569-บิลค่าไฟฟ้า'!AG11 -> 3300.44
B39: กันยายน | C39: ='2568-บิลค่าไฟฟ้า'!AK11 -> 4577.97 | D39: ='2569-บิลค่าไฟฟ้า'!AK11 -> 0
B40: ตุลาคม | C40: ='2568-บิลค่าไฟฟ้า'!AO11 -> 5391.45 | D40: ='2569-บิลค่าไฟฟ้า'!AO11 -> 0
B41: พฤศจิกายน | C41: ='2568-บิลค่าไฟฟ้า'!AS11 -> 4499.61 | D41: ='2569-บิลค่าไฟฟ้า'!AS11 -> 0
B42: ธันวาคม | C42: ='2568-บิลค่าไฟฟ้า'!AW11 -> 3105.26 | D42: ='2569-บิลค่าไฟฟ้า'!AW11 -> 0

Sheet กราฟ68-69 โครงการพัฒนา 907 ไร่
B2: Month | C2: โครงการพัฒนาบ้านโปงพระราชดำริ (907 ไร่)
C3: 9801 020025008422
C4: ค่าพลังงานไฟฟ้า 68 (kWh) | D4: ค่าพลังงานไฟฟ้า 69 (kWh)
B5: มกราคม | C5: ='2568-บิลค่าไฟฟ้า'!D13 -> 28131.28 | D5: ='2569-บิลค่าไฟฟ้า'!D13 -> 22315.4
B6: กุมภาพันธ์ | C6: ='2568-บิลค่าไฟฟ้า'!H13 -> 32671.18 | D6: ='2569-บิลค่าไฟฟ้า'!H13 -> 25817
B7: มีนาคม | C7: ='2568-บิลค่าไฟฟ้า'!L13 -> 41678.71 | D7: ='2569-บิลค่าไฟฟ้า'!L13 -> 30360
B8: เมษายน | C8: ='2568-บิลค่าไฟฟ้า'!P13 -> 39121.12 | D8: ='2569-บิลค่าไฟฟ้า'!P13 -> 39631
B9: พฤษภาคม | C9: ='2568-บิลค่าไฟฟ้า'!T13 -> 41111.36 | D9: ='2569-บิลค่าไฟฟ้า'!T13 -> 40536
B10: มิถุนายน | C10: ='2568-บิลค่าไฟฟ้า'!X13 -> 31015.35 | D10: ='2569-บิลค่าไฟฟ้า'!X13 -> 36009
B11: กรกฏาคม | C11: ='2568-บิลค่าไฟฟ้า'!AB13 -> 27788.48 | D11: ='2569-บิลค่าไฟฟ้า'!AB13 -> 28003
B12: สิงหาคม | C12: ='2568-บิลค่าไฟฟ้า'!AF13 -> 28100.97 | D12: ='2569-บิลค่าไฟฟ้า'!AF13 -> 32208
B13: กันยายน | C13: ='2568-บิลค่าไฟฟ้า'!AJ13 -> 29992.3 | D13: ='2569-บิลค่าไฟฟ้า'!AJ13 -> 0
B14: ตุลาคม | C14: ='2568-บิลค่าไฟฟ้า'!AN13 -> 33133.07 | D14: ='2569-บิลค่าไฟฟ้า'!AN13 -> 0
B15: พฤศจิกายน | C15: ='2568-บิลค่าไฟฟ้า'!AR13 -> 23641.13 | D15: ='2569-บิลค่าไฟฟ้า'!AR13 -> 0
B16: ธันวาคม | C16: ='2568-บิลค่าไฟฟ้า'!AV13 -> 23030.21 | D16: ='2569-บิลค่าไฟฟ้า'!AV13 -> 0
B28: Month | C28: โครงการพัฒนาบ้านโปงพระราชดำริ (907 ไร่)
C29: 9801 020025008422
C30: ค่าไฟฟ้า 68 (บาท) | D30: ค่าไฟฟ้า 69 (บาท)
B31: มกราคม | C31: ='2568-บิลค่าไฟฟ้า'!E13 -> 123983.37 | D31: ='2569-บิลค่าไฟฟ้า'!E13 -> 91458.71
B32: กุมภาพันธ์ | C32: ='2568-บิลค่าไฟฟ้า'!I13 -> 146407.42 | D32: ='2569-บิลค่าไฟฟ้า'!I13 -> 108777.58
B33: มีนาคม | C33: ='2568-บิลค่าไฟฟ้า'!M13 -> 184611.74 | D33: ='2569-บิลค่าไฟฟ้า'!M13 -> 127100.01
B34: เมษายน | C34: ='2568-บิลค่าไฟฟ้า'!Q13 -> 174589.24 | D34: ='2569-บิลค่าไฟฟ้า'!Q13 -> 166225.06
B35: พฤษภาคม | C35: ='2568-บิลค่าไฟฟ้า'!U13 -> 174546.29 | D35: ='2569-บิลค่าไฟฟ้า'!U13 -> 168334.86
B36: มิถุนายน | C36: ='2568-บิลค่าไฟฟ้า'!Y13 -> 132324.69 | D36: ='2569-บิลค่าไฟฟ้า'!Y13 -> 152044.54
B37: กรกฏาคม | C37: ='2568-บิลค่าไฟฟ้า'!AC13 -> 115968.72 | D37: ='2569-บิลค่าไฟฟ้า'!AC13 -> 114335.07
B38: สิงหาคม | C38: ='2568-บิลค่าไฟฟ้า'!AG13 -> 117799.05 | D38: ='2569-บิลค่าไฟฟ้า'!AG13 -> 131953.66
B39: กันยายน | C39: ='2568-บิลค่าไฟฟ้า'!AK13 -> 126048.1 | D39: ='2569-บิลค่าไฟฟ้า'!AK13 -> 0
B40: ตุลาคม | C40: ='2568-บิลค่าไฟฟ้า'!AO13 -> 138860.88 | D40: ='2569-บิลค่าไฟฟ้า'!AO13 -> 0
B41: พฤศจิกายน | C41: ='2568-บิลค่าไฟฟ้า'!AS13 -> 99147.7 | D41: ='2569-บิลค่าไฟฟ้า'!AS13 -> 0
B42: ธันวาคม | C42: ='2568-บิลค่าไฟฟ้า'!AW13 -> 94057.89 | D42: ='2569-บิลค่าไฟฟ้า'!AW13 -> 0

Sheet กราฟ68-69  โครงการพัฒนาบ้านโปง
B2: Month | C2: 0228 020005942984 | E2: 0535 020004636485
B3: Month | C3: โครงการพัฒนาบ้านโปง(2984) | E3: โครงการพัฒนาบ้านโปง(6485)
C4: ค่าพลังงานไฟฟ้า 68 (kWh) | D4: ค่าพลังงานไฟฟ้า 69 (kWh) | E4: ค่าพลังงานไฟฟ้า 68 (kWh) | F4: ค่าพลังงานไฟฟ้า 69 (kWh)
B5: มกราคม | C5: ='2568-บิลค่าไฟฟ้า'!D14 -> 498 | D5: ='2569-บิลค่าไฟฟ้า'!D14 -> 493 | E5: ='2568-บิลค่าไฟฟ้า'!D15 -> 0 | F5: ='2569-บิลค่าไฟฟ้า'!D15 -> 0
B6: กุมภาพันธ์ | C6: ='2568-บิลค่าไฟฟ้า'!H14 -> 553 | D6: ='2569-บิลค่าไฟฟ้า'!H14 -> 422 | E6: ='2568-บิลค่าไฟฟ้า'!H15 -> 0 | F6: ='2569-บิลค่าไฟฟ้า'!H15 -> 0
B7: มีนาคม | C7: ='2568-บิลค่าไฟฟ้า'!L14 -> 606 | D7: ='2569-บิลค่าไฟฟ้า'!L14 -> 434 | E7: ='2568-บิลค่าไฟฟ้า'!L15 -> 0 | F7: ='2569-บิลค่าไฟฟ้า'!L15 -> 0
B8: เมษายน | C8: ='2568-บิลค่าไฟฟ้า'!P14 -> 606 | D8: ='2569-บิลค่าไฟฟ้า'!P14 -> 482 | E8: ='2568-บิลค่าไฟฟ้า'!P15 -> 0 | F8: ='2569-บิลค่าไฟฟ้า'!P15 -> 0
B9: พฤษภาคม | C9: ='2568-บิลค่าไฟฟ้า'!T14 -> 469 | D9: ='2569-บิลค่าไฟฟ้า'!T14 -> 442 | E9: ='2568-บิลค่าไฟฟ้า'!T15 -> 0 | F9: ='2569-บิลค่าไฟฟ้า'!T15 -> 0
B10: มิถุนายน | C10: ='2568-บิลค่าไฟฟ้า'!X14 -> 499 | D10: ='2569-บิลค่าไฟฟ้า'!X14 -> 422 | E10: ='2568-บิลค่าไฟฟ้า'!X15 -> 0 | F10: ='2569-บิลค่าไฟฟ้า'!X15 -> 0
B11: กรกฏาคม | C11: ='2568-บิลค่าไฟฟ้า'!AB14 -> 431 | D11: ='2569-บิลค่าไฟฟ้า'!AB14 -> 516 | E11: ='2568-บิลค่าไฟฟ้า'!AB15 -> 0 | F11: ='2569-บิลค่าไฟฟ้า'!AB15 -> 0
B12: สิงหาคม | C12: ='2568-บิลค่าไฟฟ้า'!AF14 -> 445 | D12: ='2569-บิลค่าไฟฟ้า'!AF14 -> 608 | E12: ='2568-บิลค่าไฟฟ้า'!AF15 -> 0 | F12: ='2569-บิลค่าไฟฟ้า'!AF15 -> 0
B13: กันยายน | C13: ='2568-บิลค่าไฟฟ้า'!AJ14 -> 448 | D13: ='2569-บิลค่าไฟฟ้า'!AJ14 -> 0 | E13: ='2568-บิลค่าไฟฟ้า'!AJ15 -> 0 | F13: ='2569-บิลค่าไฟฟ้า'!AJ15 -> 0
B14: ตุลาคม | C14: ='2568-บิลค่าไฟฟ้า'!AN14 -> 419 | D14: ='2569-บิลค่าไฟฟ้า'!AN14 -> 0 | E14: ='2568-บิลค่าไฟฟ้า'!AN15 -> 0 | F14: ='2569-บิลค่าไฟฟ้า'!AN15 -> 0
B15: พฤศจิกายน | C15: ='2568-บิลค่าไฟฟ้า'!AR14 -> 380 | D15: ='2569-บิลค่าไฟฟ้า'!AR14 -> 0 | E15: ='2568-บิลค่าไฟฟ้า'!AR15 -> 0 | F15: ='2569-บิลค่าไฟฟ้า'!AR15 -> 0
B16: ธันวาคม | C16: ='2568-บิลค่าไฟฟ้า'!AV14 -> 439 | D16: ='2569-บิลค่าไฟฟ้า'!AV14 -> 0 | E16: ='2568-บิลค่าไฟฟ้า'!AV15 -> 0 | F16: ='2569-บิลค่าไฟฟ้า'!AV15 -> 0
B33: Month | C33: 0228 020005942984 | E33: 0535 020004636485
B34: Month | C34: โครงการพัฒนาบ้านโปง(2984) | E34: โครงการพัฒนาบ้านโปง(6485)
C35: ค่าไฟฟ้า 68 (บาท) | D35: ค่าไฟฟ้า 69 (บาท) | E35: ค่าไฟฟ้า 68 (บาท) | F35: ค่าไฟฟ้า 69 (บาท)
B36: มกราคม | C36: ='2568-บิลค่าไฟฟ้า'!E14 -> 2345.65 | D36: ='2569-บิลค่าไฟฟ้า'!E14 -> 2177.6 | E36: ='2568-บิลค่าไฟฟ้า'!E15 -> 35.62 | F36: ='2569-บิลค่าไฟฟ้า'!E15 -> 35.62
B37: กุมภาพันธ์ | C37: ='2568-บิลค่าไฟฟ้า'!I14 -> 2627.47 | D37: ='2569-บิลค่าไฟฟ้า'!I14 -> 1834.3 | E37: ='2568-บิลค่าไฟฟ้า'!I15 -> 36.62 | F37: ='2569-บิลค่าไฟฟ้า'!I15 -> 35.62
B38: มีนาคม | C38: ='2568-บิลค่าไฟฟ้า'!M14 -> 2899.05 | D38: ='2569-บิลค่าไฟฟ้า'!M14 -> 1892.32 | E38: ='2568-บิลค่าไฟฟ้า'!M15 -> 35.62 | F38: ='2569-บิลค่าไฟฟ้า'!M15 -> 35.62
B39: เมษายน | C39: ='2568-บิลค่าไฟฟ้า'!Q14 -> 2899.05 | D39: ='2569-บิลค่าไฟฟ้า'!Q14 -> 2124.41 | E39: ='2568-บิลค่าไฟฟ้า'!Q15 -> 35.62 | F39: ='2569-บิลค่าไฟฟ้า'!Q15 -> 35.62
B40: พฤษภาคม | C40: ='2568-บิลค่าไฟฟ้า'!U14 -> 2111.74 | D40: ='2569-บิลค่าไฟฟ้า'!U14 -> 1961.79 | E40: ='2568-บิลค่าไฟฟ้า'!U15 -> 35.62 | F40: ='2569-บิลค่าไฟฟ้า'!U15 -> 35.62
B41: มิถุนายน | C41: ='2568-บิลค่าไฟฟ้า'!Y14 -> 2260 | D41: ='2569-บิลค่าไฟฟ้า'!Y14 -> 1863.69 | E41: ='2568-บิลค่าไฟฟ้า'!Y15 -> 35.62 | F41: ='2569-บิลค่าไฟฟ้า'!Y15 -> 35.62
B42: กรกฏาคม | C42: ='2568-บิลค่าไฟฟ้า'!AC14 -> 1923.92 | D42: ='2569-บิลค่าไฟฟ้า'!AC14 -> 2324.76 | E42: ='2568-บิลค่าไฟฟ้า'!AC15 -> 35.62 | F42: ='2569-บิลค่าไฟฟ้า'!AC15 -> 35.62
B43: สิงหาคม | C43: ='2568-บิลค่าไฟฟ้า'!AG14 -> 1993.12 | D43: ='2569-บิลค่าไฟฟ้า'!AG14 -> 2776 | E43: ='2568-บิลค่าไฟฟ้า'!AG15 -> 35.62 | F43: ='2569-บิลค่าไฟฟ้า'!AG15 -> 35.62
B44: กันยายน | C44: ='2568-บิลค่าไฟฟ้า'!AK14 -> 1988.78 | D44: ='2569-บิลค่าไฟฟ้า'!AK14 -> 0 | E44: ='2568-บิลค่าไฟฟ้า'!AK15 -> 35.62 | F44: ='2569-บิลค่าไฟฟ้า'!AK15 -> 0
B45: ตุลาคม | C45: ='2568-บิลค่าไฟฟ้า'!AO14 -> 1846.69 | D45: ='2569-บิลค่าไฟฟ้า'!AO14 -> 0 | E45: ='2568-บิลค่าไฟฟ้า'!AO15 -> 35.62 | F45: ='2569-บิลค่าไฟฟ้า'!AO15 -> 0
B46: พฤศจิกายน | C46: ='2568-บิลค่าไฟฟ้า'!AS14 -> 1659.89 | D46: ='2569-บิลค่าไฟฟ้า'!AS14 -> 0 | E46: ='2568-บิลค่าไฟฟ้า'!AS15 -> 35.62 | F46: ='2569-บิลค่าไฟฟ้า'!AS15 -> 0
B47: ธันวาคม | C47: ='2568-บิลค่าไฟฟ้า'!AW14 -> 1944.68 | D47: ='2569-บิลค่าไฟฟ้า'!AW14 -> 0 | E47: ='2568-บิลค่าไฟฟ้า'!AW15 -> 35.62 | F47: ='2569-บิลค่าไฟฟ้า'!AW15 -> 0

Sheet กราฟ68-69เรือนเพาะพันธุ์กัญชา
B2: Month | C2: โรงเรือนเพาะพันธุ์กัญชา (9068) | E2: โรงเรือนเพาะพันธุ์กัญชา 2(3024)
C3: ค่าพลังงานไฟฟ้า 68 (kWh) | D3: ค่าพลังงานไฟฟ้า 69 (kWh) | E3: ค่าพลังงานไฟฟ้า 68 (kWh) | F3: ค่าพลังงานไฟฟ้า 69 (kWh)
B4: มกราคม | C4: ='2568-บิลค่าไฟฟ้า'!D19 -> 1836 | D4: ='2569-บิลค่าไฟฟ้า'!D19 -> 3276 | E4: ='2568-บิลค่าไฟฟ้า'!D20 -> 10471 | F4: ='2569-บิลค่าไฟฟ้า'!D20 -> 113.6
B5: กุมภาพันธ์ | C5: ='2568-บิลค่าไฟฟ้า'!H19 -> 2960 | D5: ='2569-บิลค่าไฟฟ้า'!H19 -> 3584 | E5: ='2568-บิลค่าไฟฟ้า'!H20 -> 9721.82 | F5: ='2569-บิลค่าไฟฟ้า'!H20 -> 40
B6: มีนาคม | C6: ='2568-บิลค่าไฟฟ้า'!L19 -> 3952 | D6: ='2569-บิลค่าไฟฟ้า'!L19 -> 4292 | E6: ='2568-บิลค่าไฟฟ้า'!L20 -> 8389.29 | F6: ='2569-บิลค่าไฟฟ้า'!L20 -> ยกเลิกใช้งาน
B7: เมษายน | C7: ='2568-บิลค่าไฟฟ้า'!P19 -> 4916 | D7: ='2569-บิลค่าไฟฟ้า'!P19 -> 3756 | E7: ='2568-บิลค่าไฟฟ้า'!P20 -> 4022.88 | F7: ยกเลิกใช้งาน
B8: พฤษภาคม | C8: ='2568-บิลค่าไฟฟ้า'!T19 -> 6384 | D8: ='2569-บิลค่าไฟฟ้า'!T19 -> 2420 | E8: ='2568-บิลค่าไฟฟ้า'!T20 -> 3500.64 | F8: ยกเลิกใช้งาน
B9: มิถุนายน | C9: ='2568-บิลค่าไฟฟ้า'!X19 -> 5144 | D9: ='2569-บิลค่าไฟฟ้า'!X19 -> 3000 | E9: ='2568-บิลค่าไฟฟ้า'!X20 -> 3154.65 | F9: ยกเลิกใช้งาน
B10: กรกฏาคม | C10: ='2568-บิลค่าไฟฟ้า'!AB19 -> 4012 | D10: ='2569-บิลค่าไฟฟ้า'!AB19 -> 2964 | E10: ='2568-บิลค่าไฟฟ้า'!AB20 -> 2362.31 | F10: ยกเลิกใช้งาน
B11: สิงหาคม | C11: ='2568-บิลค่าไฟฟ้า'!AF19 -> 2872 | D11: ='2569-บิลค่าไฟฟ้า'!AF19 -> 4292 | E11: ='2568-บิลค่าไฟฟ้า'!AF20 -> 2296.22 | F11: ='2569-บิลค่าไฟฟ้า'!AF20 -> 0
B12: กันยายน | C12: ='2568-บิลค่าไฟฟ้า'!AJ19 -> 3892 | D12: ='2569-บิลค่าไฟฟ้า'!AJ19 -> 0 | E12: ='2568-บิลค่าไฟฟ้า'!AJ20 -> 2045.71 | F12: ='2569-บิลค่าไฟฟ้า'!AJ20 -> 0
B13: ตุลาคม | C13: ='2568-บิลค่าไฟฟ้า'!AN19 -> 2988 | D13: ='2569-บิลค่าไฟฟ้า'!AN19 -> 0 | E13: ='2568-บิลค่าไฟฟ้า'!AN20 -> 638.93 | F13: ='2569-บิลค่าไฟฟ้า'!AN20 -> 0
B14: พฤศจิกายน | C14: ='2568-บิลค่าไฟฟ้า'!AR19 -> 1976 | D14: ='2569-บิลค่าไฟฟ้า'!AR19 -> 0 | E14: ='2568-บิลค่าไฟฟ้า'!AR20 -> 257.86 | F14: ='2569-บิลค่าไฟฟ้า'!AR20 -> 0
B15: ธันวาคม | C15: ='2568-บิลค่าไฟฟ้า'!AV19 -> 2608 | D15: ='2569-บิลค่าไฟฟ้า'!AV19 -> 0 | E15: ='2568-บิลค่าไฟฟ้า'!AV20 -> 180.8 | F15: ='2569-บิลค่าไฟฟ้า'!AV20 -> 0
B29: Month | C29: 0228 020005942984 | E29: 0535 020004636485
B30: Month | C30: โรงเรือนเพาะพันธุ์กัญชา (9068) | E30: โรงเรือนเพาะพันธุ์กัญชา 2(3024)
C31: ค่าไฟฟ้า 68 (บาท) | D31: ค่าไฟฟ้า 69 (บาท) | E31: ค่าไฟฟ้า 68 (บาท) | F31: ค่าไฟฟ้า 69 (บาท)
B32: มกราคม | C32: ='2568-บิลค่าไฟฟ้า'!E19 -> 8733.99 | D32: ='2569-บิลค่าไฟฟ้า'!E19 -> 14375.72 | E32: ='2568-บิลค่าไฟฟ้า'!E20 -> 49133.75 | F32: ='2569-บิลค่าไฟฟ้า'!E20 -> 821
B33: กุมภาพันธ์ | C33: ='2568-บิลค่าไฟฟ้า'!I19 -> 13876.4 | D33: ='2569-บิลค่าไฟฟ้า'!I19 -> 15695.86 | E33: ='2568-บิลค่าไฟฟ้า'!I20 -> 47830.64 | F33: ='2569-บิลค่าไฟฟ้า'!I20 -> 505.55
B34: มีนาคม | C34: ='2568-บิลค่าไฟฟ้า'!M19 -> 18414.91 | D34: ='2569-บิลค่าไฟฟ้า'!M19 -> 18730.49 | E34: ='2568-บิลค่าไฟฟ้า'!M20 -> 41274.51 | F34: ยกเลิกใช้งาน
B35: เมษายน | C35: ='2568-บิลค่าไฟฟ้า'!Q19 -> 22825.31 | D35: ='2569-บิลค่าไฟฟ้า'!Q19 -> 16433.08 | E35: ='2568-บิลค่าไฟฟ้า'!Q20 -> 20419.66 | F35: ยกเลิกใช้งาน
B36: พฤษภาคม | C36: ='2568-บิลค่าไฟฟ้า'!U19 -> 28380.33 | D36: ='2569-บิลค่าไฟฟ้า'!U19 -> 10875.29 | E36: ='2568-บิลค่าไฟฟ้า'!U20 -> 15592.7 | F36: ยกเลิกใช้งาน
B37: มิถุนายน | C37: ='2568-บิลค่าไฟฟ้า'!Y19 -> 22932.75 | D37: ='2569-บิลค่าไฟฟ้า'!Y19 -> 13401.69 | E37: ='2568-บิลค่าไฟฟ้า'!Y20 -> 14423.76 | F37: ยกเลิกใช้งาน
B38: กรกฏาคม | C38: ='2568-บิลค่าไฟฟ้า'!AC19 -> 17959.64 | D38: ='2569-บิลค่าไฟฟ้า'!AC19 -> 13244.88 | E38: ='2568-บิลค่าไฟฟ้า'!AC20 -> 10875.73 | F38: ยกเลิกใช้งาน
B39: สิงหาคม | C39: ='2568-บิลค่าไฟฟ้า'!AG19 -> 12951.38 | D39: ='2569-บิลค่าไฟฟ้า'!AG19 -> 19029.46 | E39: ='2568-บิลค่าไฟฟ้า'!AG20 -> 10658.84 | F39: ='2569-บิลค่าไฟฟ้า'!AG20 -> 0
B40: กันยายน | C40: ='2568-บิลค่าไฟฟ้า'!AK19 -> 17265.87 | D40: ='2569-บิลค่าไฟฟ้า'!AK19 -> 0 | E40: ='2568-บิลค่าไฟฟ้า'!AK20 -> 9823.64 | F40: ='2569-บิลค่าไฟฟ้า'!AK20 -> 0
B41: ตุลาคม | C41: ='2568-บิลค่าไฟฟ้า'!AO19 -> 13333.11 | D41: ='2569-บิลค่าไฟฟ้า'!AO19 -> 0 | E41: ='2568-บิลค่าไฟฟ้า'!AO20 -> 7051.36 | F41: ='2569-บิลค่าไฟฟ้า'!AO20 -> 0
B42: พฤศจิกายน | C42: ='2568-บิลค่าไฟฟ้า'!AS19 -> 8930.51 | D42: ='2569-บิลค่าไฟฟ้า'!AS19 -> 0 | E42: ='2568-บิลค่าไฟฟ้า'!AS20 -> 5288.26 | F42: ='2569-บิลค่าไฟฟ้า'!AS20 -> 0
B43: ธันวาคม | C43: ='2568-บิลค่าไฟฟ้า'!AW19 -> 11679.96 | D43: ='2569-บิลค่าไฟฟ้า'!AW19 -> 0 | E43: ='2568-บิลค่าไฟฟ้า'!AW20 -> 1120.64 | F43: ='2569-บิลค่าไฟฟ้า'!AW20 -> 0

Sheet กราฟ68-69 โรงสูบน้ำศรีบุญเรือน
B2: Month | C2: มหาวิทยาลัยแม่โจ้ (โรงสูบน้ำศรีบุญเรือน)
C3: 9807 020005984751
C4: ค่าพลังงานไฟฟ้า 68 (kWh) | D4: ค่าพลังงานไฟฟ้า 69 (kWh)
B5: มกราคม | C5: ='2568-บิลค่าไฟฟ้า'!D25 -> 8154.29 | D5: ='2569-บิลค่าไฟฟ้า'!D25 -> 12612.1
B6: กุมภาพันธ์ | C6: ='2568-บิลค่าไฟฟ้า'!H25 -> 8962.39 | D6: ='2569-บิลค่าไฟฟ้า'!H25 -> 13455.83
B7: มีนาคม | C7: ='2568-บิลค่าไฟฟ้า'!L25 -> 18128 | D7: ='2569-บิลค่าไฟฟ้า'!L25 -> 14655.37
B8: เมษายน | C8: ='2568-บิลค่าไฟฟ้า'!P25 -> 15262.46 | D8: ='2569-บิลค่าไฟฟ้า'!P25 -> 16106.21
B9: พฤษภาคม | C9: ='2568-บิลค่าไฟฟ้า'!T25 -> 4111.01 | D9: ='2569-บิลค่าไฟฟ้า'!T25 -> 7538.21
B10: มิถุนายน | C10: ='2568-บิลค่าไฟฟ้า'!X25 -> 2062.85 | D10: ='2569-บิลค่าไฟฟ้า'!X25 -> 3234.62
B11: กรกฏาคม | C11: ='2568-บิลค่าไฟฟ้า'!AB25 -> 1682.59 | D11: ='2569-บิลค่าไฟฟ้า'!AB25 -> 1317.84
B12: สิงหาคม | C12: ='2568-บิลค่าไฟฟ้า'!AF25 -> 1774.81 | D12: ='2569-บิลค่าไฟฟ้า'!AF25 -> 1871.09
B13: กันยายน | C13: ='2568-บิลค่าไฟฟ้า'!AJ25 -> 1551.22 | D13: ='2569-บิลค่าไฟฟ้า'!AJ25 -> 0
B14: ตุลาคม | C14: ='2568-บิลค่าไฟฟ้า'!AN25 -> 1246.85 | D14: ='2569-บิลค่าไฟฟ้า'!AN25 -> 0
B15: พฤศจิกายน | C15: ='2568-บิลค่าไฟฟ้า'!AR25 -> 1529.18 | D15: ='2569-บิลค่าไฟฟ้า'!AR25 -> 0
B16: ธันวาคม | C16: ='2568-บิลค่าไฟฟ้า'!AV25 -> 4097.14 | D16: ='2569-บิลค่าไฟฟ้า'!AV25 -> 0
B28: Month | C28: มหาวิทยาลัยแม่โจ้ (โรงสูบน้ำศรีบุญเรือน)
C29: 9807 020005984751
C30: ค่าไฟฟ้า 68 (บาท) | D30: ค่าไฟฟ้า 69 (บาท)
B31: มกราคม | C31: ='2568-บิลค่าไฟฟ้า'!E25 -> 49461.17 | D31: ='2569-บิลค่าไฟฟ้า'!E25 -> 62104.42
B32: กุมภาพันธ์ | C32: ='2568-บิลค่าไฟฟ้า'!I25 -> 51869.62 | D32: ='2569-บิลค่าไฟฟ้า'!I25 -> 65986.07
B33: มีนาคม | C33: ='2568-บิลค่าไฟฟ้า'!M25 -> 91946.63 | D33: ='2569-บิลค่าไฟฟ้า'!M25 -> 70611.61
B34: เมษายน | C34: ='2568-บิลค่าไฟฟ้า'!Q25 -> 75426.95 | D34: ='2569-บิลค่าไฟฟ้า'!Q25 -> 74513.55
B35: พฤษภาคม | C35: ='2568-บิลค่าไฟฟ้า'!U25 -> 27372.92 | D35: ='2569-บิลค่าไฟฟ้า'!U25 -> 42256.8
B36: มิถุนายน | C36: ='2568-บิลค่าไฟฟ้า'!Y25 -> 19760.03 | D36: ='2569-บิลค่าไฟฟ้า'!Y25 -> 25378.42
B37: กรกฏาคม | C37: ='2568-บิลค่าไฟฟ้า'!AC25 -> 17984.41 | D37: ='2569-บิลค่าไฟฟ้า'!AC25 -> 17209.51
B38: สิงหาคม | C38: ='2568-บิลค่าไฟฟ้า'!AG25 -> 18791.65 | D38: ='2569-บิลค่าไฟฟ้า'!AG25 -> 19991.89
B39: กันยายน | C39: ='2568-บิลค่าไฟฟ้า'!AK25 -> 16994.64 | D39: ='2569-บิลค่าไฟฟ้า'!AK25 -> 0
B40: ตุลาคม | C40: ='2568-บิลค่าไฟฟ้า'!AO25 -> 17478.24 | D40: ='2569-บิลค่าไฟฟ้า'!AO25 -> 0
B41: พฤศจิกายน | C41: ='2568-บิลค่าไฟฟ้า'!AS25 -> 18648.47 | D41: ='2569-บิลค่าไฟฟ้า'!AS25 -> 0
B42: ธันวาคม | C42: ='2568-บิลค่าไฟฟ้า'!AW25 -> 27766.55 | D42: ='2569-บิลค่าไฟฟ้า'!AW25 -> 0

Sheet กราฟ68-69 หมู่ 6 ตำบลป่าไผ่
B2: Month | C2: มหาวิทยาลัยแม่โจ้ (หมู่ 6 ตำบลป่าไผ่)
C3: 0633 020005539809
C4: ค่าพลังงานไฟฟ้า 68 (kWh) | D4: ค่าพลังงานไฟฟ้า 69 (kWh)
B5: มกราคม | C5: ='2568-บิลค่าไฟฟ้า'!D27 -> 1117 | D5: ='2569-บิลค่าไฟฟ้า'!D27 -> 580
B6: กุมภาพันธ์ | C6: ='2568-บิลค่าไฟฟ้า'!H27 -> 1090 | D6: ='2569-บิลค่าไฟฟ้า'!H27 -> 518
B7: มีนาคม | C7: ='2568-บิลค่าไฟฟ้า'!L27 -> 474 | D7: ='2569-บิลค่าไฟฟ้า'!L27 -> 455
B8: เมษายน | C8: ='2568-บิลค่าไฟฟ้า'!P27 -> 235 | D8: ='2569-บิลค่าไฟฟ้า'!P27 -> 415
B9: พฤษภาคม | C9: ='2568-บิลค่าไฟฟ้า'!T27 -> 173 | D9: ='2569-บิลค่าไฟฟ้า'!T27 -> 531
B10: มิถุนายน | C10: ='2568-บิลค่าไฟฟ้า'!X27 -> 121 | D10: ='2569-บิลค่าไฟฟ้า'!X27 -> 933
B11: กรกฏาคม | C11: ='2568-บิลค่าไฟฟ้า'!AB27 -> 113 | D11: ='2569-บิลค่าไฟฟ้า'!AB27 -> 757
B12: สิงหาคม | C12: ='2568-บิลค่าไฟฟ้า'!AF27 -> 219 | D12: ='2569-บิลค่าไฟฟ้า'!AF27 -> 484
B13: กันยายน | C13: ='2568-บิลค่าไฟฟ้า'!AJ27 -> 136 | D13: ='2569-บิลค่าไฟฟ้า'!AJ27 -> 0
B14: ตุลาคม | C14: ='2568-บิลค่าไฟฟ้า'!AN27 -> 197 | D14: ='2569-บิลค่าไฟฟ้า'!AN27 -> 0
B15: พฤศจิกายน | C15: ='2568-บิลค่าไฟฟ้า'!AR27 -> 247 | D15: ='2569-บิลค่าไฟฟ้า'!AR27 -> 0
B16: ธันวาคม | C16: ='2568-บิลค่าไฟฟ้า'!AV27 -> 390 | D16: ='2569-บิลค่าไฟฟ้า'!AV27 -> 0
B28: Month | C28: มหาวิทยาลัยแม่โจ้ (หมู่ 6 ตำบลป่าไผ่)
C29: 0633 020005539809
C30: ค่าไฟฟ้า 68 (บาท) | D30: ค่าไฟฟ้า 69 (บาท)
B31: มกราคม | C31: ='2568-บิลค่าไฟฟ้า'!E27 -> 5517.48 | D31: ='2569-บิลค่าไฟฟ้า'!E27 -> 2598.27
B32: กุมภาพันธ์ | C32: ='2568-บิลค่าไฟฟ้า'!I27 -> 5379.13 | D32: ='2569-บิลค่าไฟฟ้า'!I27 -> 2298.48
B33: มีนาคม | C33: ='2568-บิลค่าไฟฟ้า'!M27 -> 2222.67 | D33: ='2569-บิลค่าไฟฟ้า'!M27 -> 1993.86
B34: เมษายน | C34: ='2568-บิลค่าไฟฟ้า'!Q27 -> 1033.29 | D34: ='2569-บิลค่าไฟฟ้า'!Q27 -> 1800.46
B35: พฤษภาคม | C35: ='2568-บิลค่าไฟฟ้า'!U27 -> 697.39 | D35: ='2569-บิลค่าไฟฟ้า'!U27 -> 2398.32
B36: มิถุนายน | C36: ='2568-บิลค่าไฟฟ้า'!Y27 -> 481.72 | D36: ='2569-บิลค่าไฟฟ้า'!Y27 -> 4370.09
B37: กรกฏาคม | C37: ='2568-บิลค่าไฟฟ้า'!AC27 -> 452.22 | D37: ='2569-บิลค่าไฟฟ้า'!AC27 -> 3506.83
B38: สิงหาคม | C38: ='2568-บิลค่าไฟฟ้า'!AG27 -> 914.89 | D38: ='2569-บิลค่าไฟฟ้า'!AG27 -> 2167.79
B39: กันยายน | C39: ='2568-บิลค่าไฟฟ้า'!AK27 -> 531.2 | D39: ='2569-บิลค่าไฟฟ้า'!AK27 -> 0
B40: ตุลาคม | C40: ='2568-บิลค่าไฟฟ้า'!AO27 -> 802.44 | D40: ='2569-บิลค่าไฟฟ้า'!AO27 -> 0
B41: พฤศจิกายน | C41: ='2568-บิลค่าไฟฟ้า'!AS27 -> 1036.71 | D41: ='2569-บิลค่าไฟฟ้า'!AS27 -> 0
B42: ธันวาคม | C42: ='2568-บิลค่าไฟฟ้า'!AW27 -> 1706.75 | D42: ='2569-บิลค่าไฟฟ้า'!AW27 -> 0

Sheet กราฟ68-69 ฟาร์มพร้าว
B2: Month | C2: 9804 020005752138 | E2: 9803 020016314816
B3: Month | C3: มหาวิทยาลัยแม่โจ้ (อุทยานเกษตร) | E3: มหาวิทยาลัยแม่โจ้
C4: ค่าพลังงานไฟฟ้า 68 (kWh) | D4: ค่าพลังงานไฟฟ้า 69 (kWh) | E4: ค่าพลังงานไฟฟ้า 68 (kWh) | F4: ค่าพลังงานไฟฟ้า 69 (kWh)
B5: มกราคม | C5: ='2568-บิลค่าไฟฟ้า'!D29 -> 6760 | D5: ='2569-บิลค่าไฟฟ้า'!D29 -> 4072 | E5: ='2568-บิลค่าไฟฟ้า'!D30 -> 0 | F5: ='2569-บิลค่าไฟฟ้า'!D30 -> 0
B6: กุมภาพันธ์ | C6: ='2568-บิลค่าไฟฟ้า'!H29 -> 6892 | D6: ='2569-บิลค่าไฟฟ้า'!H29 -> 4496 | E6: ='2568-บิลค่าไฟฟ้า'!H30 -> 0 | F6: ='2569-บิลค่าไฟฟ้า'!H30 -> 0
B7: มีนาคม | C7: ='2568-บิลค่าไฟฟ้า'!L29 -> 6768 | D7: ='2569-บิลค่าไฟฟ้า'!L29 -> 7912 | E7: ='2568-บิลค่าไฟฟ้า'!L30 -> 0 | F7: ='2569-บิลค่าไฟฟ้า'!L30 -> 0
B8: เมษายน | C8: ='2568-บิลค่าไฟฟ้า'!P29 -> 11000 | D8: ='2569-บิลค่าไฟฟ้า'!P29 -> 8904 | E8: ='2568-บิลค่าไฟฟ้า'!P30 -> 0 | F8: ='2569-บิลค่าไฟฟ้า'!P30 -> 0
B9: พฤษภาคม | C9: ='2568-บิลค่าไฟฟ้า'!T29 -> 3592 | D9: ='2569-บิลค่าไฟฟ้า'!T29 -> 6904 | E9: ='2568-บิลค่าไฟฟ้า'!T30 -> 0 | F9: ='2569-บิลค่าไฟฟ้า'!T30 -> 0
B10: มิถุนายน | C10: ='2568-บิลค่าไฟฟ้า'!X29 -> 3432 | D10: ='2569-บิลค่าไฟฟ้า'!X29 -> 4848 | E10: ='2568-บิลค่าไฟฟ้า'!X30 -> 0 | F10: ='2569-บิลค่าไฟฟ้า'!X30 -> 0
B11: กรกฏาคม | C11: ='2568-บิลค่าไฟฟ้า'!AB29 -> 1788 | D11: ='2569-บิลค่าไฟฟ้า'!AB29 -> 5824 | E11: ='2568-บิลค่าไฟฟ้า'!AB30 -> 0 | F11: ='2569-บิลค่าไฟฟ้า'!AB30 -> 0
B12: สิงหาคม | C12: ='2568-บิลค่าไฟฟ้า'!AF29 -> 1336 | D12: ='2569-บิลค่าไฟฟ้า'!AF29 -> 3620 | E12: ='2568-บิลค่าไฟฟ้า'!AF30 -> 0 | F12: ='2569-บิลค่าไฟฟ้า'!AF30 -> 0
B13: กันยายน | C13: ='2568-บิลค่าไฟฟ้า'!AJ29 -> 2180 | D13: ='2569-บิลค่าไฟฟ้า'!AJ29 -> 0 | E13: ='2568-บิลค่าไฟฟ้า'!AJ30 -> 0 | F13: ='2569-บิลค่าไฟฟ้า'!AJ30 -> 0
B14: ตุลาคม | C14: ='2568-บิลค่าไฟฟ้า'!AN29 -> 2908 | D14: ='2569-บิลค่าไฟฟ้า'!AN29 -> 0 | E14: ='2568-บิลค่าไฟฟ้า'!AN30 -> 0 | F14: ='2569-บิลค่าไฟฟ้า'!AN30 -> 0
B15: พฤศจิกายน | C15: ='2568-บิลค่าไฟฟ้า'!AR29 -> 3420 | D15: ='2569-บิลค่าไฟฟ้า'!AR29 -> 0 | E15: ='2568-บิลค่าไฟฟ้า'!AR30 -> 0 | F15: ='2569-บิลค่าไฟฟ้า'!AR30 -> 0
B16: ธันวาคม | C16: ='2568-บิลค่าไฟฟ้า'!AV29 -> 3964 | D16: ='2569-บิลค่าไฟฟ้า'!AV29 -> 0 | E16: ='2568-บิลค่าไฟฟ้า'!AV30 -> 0 | F16: ='2569-บิลค่าไฟฟ้า'!AV30 -> 0
B33: Month | C33: 9804 020005752138 | E33: 9803 020016314816
B34: Month | C34: มหาวิทยาลัยแม่โจ้ (อุทยานเกษตร) | E34: มหาวิทยาลัยแม่โจ้
C35: ค่าไฟฟ้า 68 (บาท) | D35: ค่าไฟฟ้า 69 (บาท) | E35: ค่าไฟฟ้า 68 (บาท) | F35: ค่าไฟฟ้า 69 (บาท)
B36: มกราคม | C36: ='2568-บิลค่าไฟฟ้า'!E29 -> 29188.97 | D36: ='2569-บิลค่าไฟฟ้า'!E29 -> 17787.52 | E36: ='2568-บิลค่าไฟฟ้า'!E30 -> 334.1 | F36: ='2569-บิลค่าไฟฟ้า'!E30 -> 334.1
B37: กุมภาพันธ์ | C37: ='2568-บิลค่าไฟฟ้า'!I29 -> 29640.02 | D37: ='2569-บิลค่าไฟฟ้า'!I29 -> 19604.88 | E37: ='2568-บิลค่าไฟฟ้า'!I30 -> 334.1 | F37: ='2569-บิลค่าไฟฟ้า'!I30 -> 334.1
B38: มีนาคม | C38: ='2568-บิลค่าไฟฟ้า'!M29 -> 28975.32 | D38: ='2569-บิลค่าไฟฟ้า'!M29 -> 34246.56 | E38: ='2568-บิลค่าไฟฟ้า'!M30 -> 334.1 | F38: ='2569-บิลค่าไฟฟ้า'!M30 -> 334.1
B39: เมษายน | C39: ='2568-บิลค่าไฟฟ้า'!Q29 -> 46064.53 | D39: ='2569-บิลค่าไฟฟ้า'!Q29 -> 38498.47 | E39: ='2568-บิลค่าไฟฟ้า'!Q30 -> 334.1 | F39: ='2569-บิลค่าไฟฟ้า'!Q30 -> 334.1
B40: พฤษภาคม | C40: ='2568-บิลค่าไฟฟ้า'!U29 -> 14991.73 | D40: ='2569-บิลค่าไฟฟ้า'!U29 -> 30406.97 | E40: ='2568-บิลค่าไฟฟ้า'!U30 -> 334.1 | F40: ='2569-บิลค่าไฟฟ้า'!U30 -> 334.1
B41: มิถุนายน | C41: ='2568-บิลค่าไฟฟ้า'!Y29 -> 14316.09 | D41: ='2569-บิลค่าไฟฟ้า'!Y29 -> 21451.32 | E41: ='2568-บิลค่าไฟฟ้า'!Y30 -> 334.1 | F41: ='2569-บิลค่าไฟฟ้า'!Y30 -> 334.1
B42: กรกฏาคม | C42: ='2568-บิลค่าไฟฟ้า'!AC29 -> 7597.16 | D42: ='2569-บิลค่าไฟฟ้า'!AC29 -> 25702.64 | E42: ='2568-บิลค่าไฟฟ้า'!AC30 -> 334.1 | F42: ='2569-บิลค่าไฟฟ้า'!AC30 -> 334.1
B43: สิงหาคม | C43: ='2568-บิลค่าไฟฟ้า'!AG29 -> 6203.42 | D43: ='2569-บิลค่าไฟฟ้า'!AG29 -> 16102.32 | E43: ='2568-บิลค่าไฟฟ้า'!AG30 -> 334.1 | F43: ='2569-บิลค่าไฟฟ้า'!AG30 -> 334.1
B44: กันยายน | C44: ='2568-บิลค่าไฟฟ้า'!AK29 -> 9817.99 | D44: ='2569-บิลค่าไฟฟ้า'!AK29 -> 0 | E44: ='2568-บิลค่าไฟฟ้า'!AK30 -> 334.1 | F44: ='2569-บิลค่าไฟฟ้า'!AK30 -> 0
B45: ตุลาคม | C45: ='2568-บิลค่าไฟฟ้า'!AO29 -> 12985.08 | D45: ='2569-บิลค่าไฟฟ้า'!AO29 -> 0 | E45: ='2568-บิลค่าไฟฟ้า'!AO30 -> 334.1 | F45: ='2569-บิลค่าไฟฟ้า'!AO30 -> 0
B46: พฤศจิกายน | C46: ='2568-บิลค่าไฟฟ้า'!AS29 -> 15212.48 | D46: ='2569-บิลค่าไฟฟ้า'!AS29 -> 0 | E46: ='2568-บิลค่าไฟฟ้า'!AS30 -> 334.1 | F46: ='2569-บิลค่าไฟฟ้า'!AS30 -> 0
B47: ธันวาคม | C47: ='2568-บิลค่าไฟฟ้า'!AW29 -> 17579.1 | D47: ='2569-บิลค่าไฟฟ้า'!AW29 -> 0 | E47: ='2568-บิลค่าไฟฟ้า'!AW30 -> 334.1 | F47: ='2569-บิลค่าไฟฟ้า'!AW30 -> 0

Sheet กราฟ68-69 แม่โจ้-แพร่
B2: Month | C2: 9801 020010405428 | E2: 9801 020010405537
B3: Month | C3: มหาวิทยาลัยแม่โจ้เฉลิมพระเกียรติ แพร่ | E3: โรงสูบน้ำมหาวิทยาลัยแม่โจ้
C4: ค่าพลังงานไฟฟ้า 68 (kWh) | D4: ค่าพลังงานไฟฟ้า 69 (kWh) | E4: ค่าพลังงานไฟฟ้า 68 (kWh) | F4: ค่าพลังงานไฟฟ้า 69 (kWh)
B5: มกราคม | C5: ='2568-บิลค่าไฟฟ้า'!D33 -> 62880 | D5: ='2569-บิลค่าไฟฟ้า'!D33 -> 69120 | E5: ='2568-บิลค่าไฟฟ้า'!D34 -> 6953.34 | F5: ='2569-บิลค่าไฟฟ้า'!D34 -> 11988.57
B6: กุมภาพันธ์ | C6: ='2568-บิลค่าไฟฟ้า'!H33 -> 66720 | D6: ='2569-บิลค่าไฟฟ้า'!H33 -> 80880 | E6: ='2568-บิลค่าไฟฟ้า'!H34 -> 7347.57 | F6: ='2569-บิลค่าไฟฟ้า'!H34 -> 9853.2
B7: มีนาคม | C7: ='2568-บิลค่าไฟฟ้า'!L33 -> 91440 | D7: ='2569-บิลค่าไฟฟ้า'!L33 -> 92640 | E7: ='2568-บิลค่าไฟฟ้า'!L34 -> 8967.33 | F7: ='2569-บิลค่าไฟฟ้า'!L34 -> 9592.59
B8: เมษายน | C8: ='2568-บิลค่าไฟฟ้า'!P33 -> 66600 | D8: ='2569-บิลค่าไฟฟ้า'!P33 -> 66720 | E8: ='2568-บิลค่าไฟฟ้า'!P34 -> 6492.3 | F8: ='2569-บิลค่าไฟฟ้า'!P34 -> 8629.71
B9: พฤษภาคม | C9: ='2568-บิลค่าไฟฟ้า'!T33 -> 66840 | D9: ='2569-บิลค่าไฟฟ้า'!T33 -> 67320 | E9: ='2568-บิลค่าไฟฟ้า'!T34 -> 7046.67 | F9: ='2569-บิลค่าไฟฟ้า'!T34 -> 6465.78
B10: มิถุนายน | C10: ='2568-บิลค่าไฟฟ้า'!X33 -> 78720 | D10: ='2569-บิลค่าไฟฟ้า'!X33 -> 80400 | E10: ='2568-บิลค่าไฟฟ้า'!X34 -> 11688.18 | F10: ='2569-บิลค่าไฟฟ้า'!X34 -> 6159.27
B11: กรกฏาคม | C11: ='2568-บิลค่าไฟฟ้า'!AB33 -> 99480 | D11: ='2569-บิลค่าไฟฟ้า'!AB33 -> 114000 | E11: ='2568-บิลค่าไฟฟ้า'!AB34 -> 9504.36 | F11: ='2569-บิลค่าไฟฟ้า'!AB34 -> 7905.51
B12: สิงหาคม | C12: ='2568-บิลค่าไฟฟ้า'!AF33 -> 106560 | D12: ='2569-บิลค่าไฟฟ้า'!AF33 -> 110520 | E12: ='2568-บิลค่าไฟฟ้า'!AF34 -> 7890.72 | F12: ='2569-บิลค่าไฟฟ้า'!AF34 -> 7882.56
B13: กันยายน | C13: ='2568-บิลค่าไฟฟ้า'!AJ33 -> 111360 | D13: ='2569-บิลค่าไฟฟ้า'!AJ33 -> 0 | E13: ='2568-บิลค่าไฟฟ้า'!AJ34 -> 11180.22 | F13: ='2569-บิลค่าไฟฟ้า'!AJ34 -> 0
B14: ตุลาคม | C14: ='2568-บิลค่าไฟฟ้า'!AN33 -> 100440 | D14: ='2569-บิลค่าไฟฟ้า'!AN33 -> 0 | E14: ='2568-บิลค่าไฟฟ้า'!AN34 -> 12348.63 | F14: ='2569-บิลค่าไฟฟ้า'!AN34 -> 0
B15: พฤศจิกายน | C15: ='2568-บิลค่าไฟฟ้า'!AR33 -> 68640 | D15: ='2569-บิลค่าไฟฟ้า'!AR33 -> 0 | E15: ='2568-บิลค่าไฟฟ้า'!AR34 -> 6884.49 | F15: ='2569-บิลค่าไฟฟ้า'!AR34 -> 0
B16: ธันวาคม | C16: ='2568-บิลค่าไฟฟ้า'!AV33 -> 74520 | D16: ='2569-บิลค่าไฟฟ้า'!AV33 -> 0 | E16: ='2568-บิลค่าไฟฟ้า'!AV34 -> 10224.99 | F16: ='2569-บิลค่าไฟฟ้า'!AV34 -> 0
B33: Month | C33: 9801 020010405428 | E33: 9801 020010405537
B34: Month | C34: มหาวิทยาลัยแม่โจ้เฉลิมพระเกียรติ แพร่ | E34: โรงสูบน้ำมหาวิทยาลัยแม่โจ้
C35: ค่าไฟฟ้า 68 (บาท) | D35: ค่าไฟฟ้า 69 (บาท) | E35: ค่าไฟฟ้า 68 (บาท) | F35: ค่าไฟฟ้า 69 (บาท)
B36: มกราคม | C36: ='2568-บิลค่าไฟฟ้า'!E33 -> 273707.18 | D36: ='2569-บิลค่าไฟฟ้า'!E33 -> 283721.49 | E36: ='2568-บิลค่าไฟฟ้า'!E34 -> 32223.11 | F36: ='2569-บิลค่าไฟฟ้า'!E34 -> 52949.87
B37: กุมภาพันธ์ | C37: ='2568-บิลค่าไฟฟ้า'!I33 -> 296918.49 | D37: ='2569-บิลค่าไฟฟ้า'!I33 -> 346828.18 | E37: ='2568-บิลค่าไฟฟ้า'!I34 -> 34662.46 | F37: ='2569-บิลค่าไฟฟ้า'!I34 -> 43569.38
B38: มีนาคม | C38: ='2568-บิลค่าไฟฟ้า'!M33 -> 427956.04 | D38: ='2569-บิลค่าไฟฟ้า'!M33 -> 391364.82 | E38: ='2568-บิลค่าไฟฟ้า'!M34 -> 43106.31 | F38: ='2569-บิลค่าไฟฟ้า'!M34 -> 42395.44
B39: เมษายน | C39: ='2568-บิลค่าไฟฟ้า'!Q33 -> 301741.14 | D39: ='2569-บิลค่าไฟฟ้า'!Q33 -> 286260.85 | E39: ='2568-บิลค่าไฟฟ้า'!Q34 -> 31125.3 | F39: ='2569-บิลค่าไฟฟ้า'!Q34 -> 37960.58
B40: พฤษภาคม | C40: ='2568-บิลค่าไฟฟ้า'!U33 -> 297447.3 | D40: ='2569-บิลค่าไฟฟ้า'!U33 -> 293447.7 | E40: ='2568-บิลค่าไฟฟ้า'!U34 -> 32269.34 | F40: ='2569-บิลค่าไฟฟ้า'!U34 -> 29835.76
B41: มิถุนายน | C41: ='2568-บิลค่าไฟฟ้า'!Y33 -> 363307.78 | D41: ='2569-บิลค่าไฟฟ้า'!Y33 -> 387493.35 | E41: ='2568-บิลค่าไฟฟ้า'!Y34 -> 50406.35 | F41: ='2569-บิลค่าไฟฟ้า'!Y34 -> 28668.71
B42: กรกฏาคม | C42: ='2568-บิลค่าไฟฟ้า'!AC33 -> 426658.48 | D42: ='2569-บิลค่าไฟฟ้า'!AC33 -> 509242.93 | E42: ='2568-บิลค่าไฟฟ้า'!AC34 -> 41146.84 | F42: ='2569-บิลค่าไฟฟ้า'!AC34 -> 36017.57
B43: สิงหาคม | C43: ='2568-บิลค่าไฟฟ้า'!AG33 -> 463822.24 | D43: ='2569-บิลค่าไฟฟ้า'!AG33 -> 473269.89 | E43: ='2568-บิลค่าไฟฟ้า'!AG34 -> 37037.2 | F43: ='2569-บิลค่าไฟฟ้า'!AG34 -> 35578.67
B44: กันยายน | C44: ='2568-บิลค่าไฟฟ้า'!AK33 -> 476401.29 | D44: ='2569-บิลค่าไฟฟ้า'!AK33 -> 0 | E44: ='2568-บิลค่าไฟฟ้า'!AK34 -> 48632.39 | F44: ='2569-บิลค่าไฟฟ้า'!AK34 -> 0
B45: ตุลาคม | C45: ='2568-บิลค่าไฟฟ้า'!AO33 -> 425188.7 | D45: ='2569-บิลค่าไฟฟ้า'!AO33 -> 0 | E45: ='2568-บิลค่าไฟฟ้า'!AO34 -> 53406.48 | F45: ='2569-บิลค่าไฟฟ้า'!AO34 -> 0
B46: พฤศจิกายน | C46: ='2568-บิลค่าไฟฟ้า'!AS33 -> 290641.98 | D46: ='2569-บิลค่าไฟฟ้า'!AS33 -> 0 | E46: ='2568-บิลค่าไฟฟ้า'!AS34 -> 31075.25 | F46: ='2569-บิลค่าไฟฟ้า'!AS34 -> 0
B47: ธันวาคม | C47: ='2568-บิลค่าไฟฟ้า'!AW33 -> 305171.89 | D47: ='2569-บิลค่าไฟฟ้า'!AW33 -> 0 | E47: ='2568-บิลค่าไฟฟ้า'!AW34 -> 42723.39 | F47: ='2569-บิลค่าไฟฟ้า'!AW34 -> 0

Sheet กราฟ68-69 ศูนย์ประสานงาน แพร่
B2: Month | C2: ศูนย์ประสานงานมหาวิทยาลัยแม่โจ้-แพร่
C3: 0025 020023324092
C4: ค่าพลังงานไฟฟ้า 68 (kWh) | D4: ค่าพลังงานไฟฟ้า 69 (kWh)
B5: มกราคม | C5: ='2568-บิลค่าไฟฟ้า'!D35 -> 755 | D5: ='2569-บิลค่าไฟฟ้า'!D35 -> 723
B6: กุมภาพันธ์ | C6: ='2568-บิลค่าไฟฟ้า'!H35 -> 833 | D6: ='2569-บิลค่าไฟฟ้า'!H35 -> 820
B7: มีนาคม | C7: ='2568-บิลค่าไฟฟ้า'!L35 -> 1290 | D7: ='2569-บิลค่าไฟฟ้า'!L35 -> 1261
B8: เมษายน | C8: ='2568-บิลค่าไฟฟ้า'!P35 -> 1278 | D8: ='2569-บิลค่าไฟฟ้า'!P35 -> 1424
B9: พฤษภาคม | C9: ='2568-บิลค่าไฟฟ้า'!T35 -> 1215 | D9: ='2569-บิลค่าไฟฟ้า'!T35 -> 1413
B10: มิถุนายน | C10: ='2568-บิลค่าไฟฟ้า'!X35 -> 1143 | D10: ='2569-บิลค่าไฟฟ้า'!X35 -> 1273
B11: กรกฏาคม | C11: ='2568-บิลค่าไฟฟ้า'!AB35 -> 1199 | D11: ='2569-บิลค่าไฟฟ้า'!AB35 -> 1109
B12: สิงหาคม | C12: ='2568-บิลค่าไฟฟ้า'!AF35 -> 1040 | D12: ='2569-บิลค่าไฟฟ้า'!AF35 -> 998
B13: กันยายน | C13: ='2568-บิลค่าไฟฟ้า'!AJ35 -> 1027 | D13: ='2569-บิลค่าไฟฟ้า'!AJ35 -> 0
B14: ตุลาคม | C14: ='2568-บิลค่าไฟฟ้า'!AN35 -> 1087 | D14: ='2569-บิลค่าไฟฟ้า'!AN35 -> 0
B15: พฤศจิกายน | C15: ='2568-บิลค่าไฟฟ้า'!AR35 -> 901 | D15: ='2569-บิลค่าไฟฟ้า'!AR35 -> 0
B16: ธันวาคม | C16: ='2568-บิลค่าไฟฟ้า'!AV35 -> 727 | D16: ='2569-บิลค่าไฟฟ้า'!AV35 -> 0
B28: Month | C28: ศูนย์ประสานงานมหาวิทยาลัยแม่โจ้-แพร่
C29: 0025 020023324092
C30: ค่าไฟฟ้า 68 (บาท) | D30: ค่าไฟฟ้า 69 (บาท)
B31: มกราคม | C31: ='2568-บิลค่าไฟฟ้า'!E35 -> 3662.55 | D31: ='2569-บิลค่าไฟฟ้า'!E35 -> 3289.7
B32: กุมภาพันธ์ | C32: ='2568-บิลค่าไฟฟ้า'!I35 -> 4062.23 | D32: ='2569-บิลค่าไฟฟ้า'!I35 -> 3758.71
B33: มีนาคม | C33: ='2568-บิลค่าไฟฟ้า'!M35 -> 6403.95 | D33: ='2569-บิลค่าไฟฟ้า'!M35 -> 5891.05
B34: เมษายน | C34: ='2568-บิลค่าไฟฟ้า'!Q35 -> 6342.46 | D34: ='2569-บิลค่าไฟฟ้า'!Q35 -> 6679.19
B35: พฤษภาคม | C35: ='2568-บิลค่าไฟฟ้า'!U35 -> 5798.64 | D35: ='2569-บิลค่าไฟฟ้า'!U35 -> 6724.43
B36: มิถุนายน | C36: ='2568-บิลค่าไฟฟ้า'!Y35 -> 5442.79 | D36: ='2569-บิลค่าไฟฟ้า'!Y35 -> 6037.74
B37: กรกฏาคม | C37: ='2568-บิลค่าไฟฟ้า'!AC35 -> 5719.56 | D37: ='2569-บิลค่าไฟฟ้า'!AC35 -> 5233.35
B38: สิงหาคม | C38: ='2568-บิลค่าไฟฟ้า'!AG35 -> 4933.75 | D38: ='2569-บิลค่าไฟฟ้า'!AG35 -> 4688.91
B39: กันยายน | C39: ='2568-บิลค่าไฟฟ้า'!AK35 -> 4825.54 | D39: ='2569-บิลค่าไฟฟ้า'!AK35 -> 0
B40: ตุลาคม | C40: ='2568-บิลค่าไฟฟ้า'!AO35 -> 5119.51 | D40: ='2569-บิลค่าไฟฟ้า'!AO35 -> 0
B41: พฤศจิกายน | C41: ='2568-บิลค่าไฟฟ้า'!AS35 -> 4208.21 | D41: ='2569-บิลค่าไฟฟ้า'!AS35 -> 0
B42: ธันวาคม | C42: ='2568-บิลค่าไฟฟ้า'!AW35 -> 3355.71 | D42: ='2569-บิลค่าไฟฟ้า'!AW35 -> 0

Sheet กราฟ68-69 แม่โจ้ - ชุมพร (1)
B2: Month | C2: 9801 020004457486 | E2: 9026 020016381667
B3: Month | C3: สถาบันเทคโนโลยี่การเกษตรแม่โจ้ | E3: มหาวิทยาลัยแม่โจ้วิทยาเขตชุมพร
C4: ค่าพลังงานไฟฟ้า 68 (kWh) | D4: ค่าพลังงานไฟฟ้า 69 (kWh) | E4: ค่าพลังงานไฟฟ้า 68 (kWh) | F4: ค่าพลังงานไฟฟ้า 69 (kWh)
B5: มกราคม | C5: ='2568-บิลค่าไฟฟ้า'!D38 -> 9572.49 | D5: ='2569-บิลค่าไฟฟ้า'!D38 -> 9230.59 | E5: ='2568-บิลค่าไฟฟ้า'!D39 -> 6624 | F5: ='2569-บิลค่าไฟฟ้า'!D39 -> 9348
B6: กุมภาพันธ์ | C6: ='2568-บิลค่าไฟฟ้า'!H38 -> 8718.14 | D6: ='2569-บิลค่าไฟฟ้า'!H38 -> 10685.51 | E6: ='2568-บิลค่าไฟฟ้า'!H39 -> 6888 | F6: ='2569-บิลค่าไฟฟ้า'!H39 -> 9804
B7: มีนาคม | C7: ='2568-บิลค่าไฟฟ้า'!L38 -> 12551.71 | D7: ='2569-บิลค่าไฟฟ้า'!L38 -> 11548.85 | E7: ='2568-บิลค่าไฟฟ้า'!L39 -> 8988 | F7: ='2569-บิลค่าไฟฟ้า'!L39 -> 9648
B8: เมษายน | C8: ='2568-บิลค่าไฟฟ้า'!P38 -> 10631.67 | D8: ='2569-บิลค่าไฟฟ้า'!P38 -> 10410.63 | E8: ='2568-บิลค่าไฟฟ้า'!P39 -> 8028 | F8: ='2569-บิลค่าไฟฟ้า'!P39 -> 6516
B9: พฤษภาคม | C9: ='2568-บิลค่าไฟฟ้า'!T38 -> 12933.6 | D9: ='2569-บิลค่าไฟฟ้า'!T38 -> 10737.74 | E9: ='2568-บิลค่าไฟฟ้า'!T39 -> 8448 | F9: ='2569-บิลค่าไฟฟ้า'!T39 -> 6480
B10: มิถุนายน | C10: ='2568-บิลค่าไฟฟ้า'!X38 -> 12333.02 | D10: ='2569-บิลค่าไฟฟ้า'!X38 -> 10199.18 | E10: ='2568-บิลค่าไฟฟ้า'!X39 -> 7224 | F10: ='2569-บิลค่าไฟฟ้า'!X39 -> 7512
B11: กรกฏาคม | C11: ='2568-บิลค่าไฟฟ้า'!AB38 -> 12167.38 | D11: ='2569-บิลค่าไฟฟ้า'!AB38 -> 12312.62 | E11: ='2568-บิลค่าไฟฟ้า'!AB39 -> 11700 | F11: ='2569-บิลค่าไฟฟ้า'!AB39 -> 11328
B12: สิงหาคม | C12: ='2568-บิลค่าไฟฟ้า'!AF38 -> 11138.4 | D12: ='2569-บิลค่าไฟฟ้า'!AF38 -> 12138 | E12: ='2568-บิลค่าไฟฟ้า'!AF39 -> 11256 | F12: ='2569-บิลค่าไฟฟ้า'!AF39 -> 11172
B13: กันยายน | C13: ='2568-บิลค่าไฟฟ้า'!AJ38 -> 10528.86 | D13: ='2569-บิลค่าไฟฟ้า'!AJ38 -> 0 | E13: ='2568-บิลค่าไฟฟ้า'!AJ39 -> 10080 | F13: ='2569-บิลค่าไฟฟ้า'!AJ39 -> 0
B14: ตุลาคม | C14: ='2568-บิลค่าไฟฟ้า'!AN38 -> 10048.23 | D14: ='2569-บิลค่าไฟฟ้า'!AN38 -> 0 | E14: ='2568-บิลค่าไฟฟ้า'!AN39 -> 9204 | F14: ='2569-บิลค่าไฟฟ้า'!AN39 -> 0
B15: พฤศจิกายน | C15: ='2568-บิลค่าไฟฟ้า'!AR38 -> 9770.79 | D15: ='2569-บิลค่าไฟฟ้า'!AR38 -> 0 | E15: ='2568-บิลค่าไฟฟ้า'!AR39 -> 8064 | F15: ='2569-บิลค่าไฟฟ้า'!AR39 -> 0
B16: ธันวาคม | C16: ='2568-บิลค่าไฟฟ้า'!AV38 -> 9323.62 | D16: ='2569-บิลค่าไฟฟ้า'!AR41 -> 0 | E16: ='2568-บิลค่าไฟฟ้า'!AV39 -> 9528 | F16: ='2569-บิลค่าไฟฟ้า'!AV39 -> 0
B34: Month | C34: 9801 020004457486 | E34: 9026 020016391667
B35: Month | C35: สถาบันเทคโนโลยี่การเกษตรแม่โจ้ | E35: มหาวิทยาลัยแม่โจ้วิทยาเขตชุมพร
C36: ค่าไฟฟ้า 68 (บาท) | D36: ค่าไฟฟ้า 69 (บาท) | E36: ค่าไฟฟ้า 68 (บาท) | F36: ค่าไฟฟ้า 69 (บาท)
B37: มกราคม | C37: ='2568-บิลค่าไฟฟ้า'!E38 -> 46850.37 | D37: ='2569-บิลค่าไฟฟ้า'!E38 -> 41613.95 | E37: ='2568-บิลค่าไฟฟ้า'!E39 -> 33740.55 | F37: ='2569-บิลค่าไฟฟ้า'!E39 -> 44307.41
B38: กุมภาพันธ์ | C38: ='2568-บิลค่าไฟฟ้า'!I38 -> 43918.5 | D38: ='2569-บิลค่าไฟฟ้า'!I38 -> 50310.77 | E38: ='2568-บิลค่าไฟฟ้า'!I39 -> 35609.24 | F38: ='2569-บิลค่าไฟฟ้า'!I39 -> 49263.13
B39: มีนาคม | C39: ='2568-บิลค่าไฟฟ้า'!M38 -> 63116 | D39: ='2569-บิลค่าไฟฟ้า'!M38 -> 25900.5 | E39: ='2568-บิลค่าไฟฟ้า'!M39 -> 47403.33 | F39: ='2569-บิลค่าไฟฟ้า'!M39 -> 49171.64
B40: เมษายน | C40: ='2568-บิลค่าไฟฟ้า'!Q38 -> 51206.35 | D40: ='2569-บิลค่าไฟฟ้า'!Q38 -> 48299.44 | E40: ='2568-บิลค่าไฟฟ้า'!Q39 -> 40741.14 | F40: ='2569-บิลค่าไฟฟ้า'!Q39 -> 30142.18
B41: พฤษภาคม | C41: ='2568-บิลค่าไฟฟ้า'!U38 -> 60980.54 | D41: ='2569-บิลค่าไฟฟ้า'!U38 -> 50602.3 | E41: ='2568-บิลค่าไฟฟ้า'!U39 -> 42270.16 | F41: ='2569-บิลค่าไฟฟ้า'!U39 -> 30315.27
B42: มิถุนายน | C42: ='2568-บิลค่าไฟฟ้า'!Y38 -> 60961.38 | D42: ='2569-บิลค่าไฟฟ้า'!Y38 -> 48149.75 | E42: ='2568-บิลค่าไฟฟ้า'!Y39 -> 40509.35 | F42: ='2569-บิลค่าไฟฟ้า'!Y39 -> 39231.18
B43: กรกฏาคม | C43: ='2568-บิลค่าไฟฟ้า'!AC38 -> 53738.98 | D43: ='2569-บิลค่าไฟฟ้า'!AC38 -> 58679.12 | E43: ='2568-บิลค่าไฟฟ้า'!AC39 -> 61913.01 | F43: ='2569-บิลค่าไฟฟ้า'!AC39 -> 58546.84
B44: สิงหาคม | C44: ='2568-บิลค่าไฟฟ้า'!AG38 -> 52613.34 | D44: ='2569-บิลค่าไฟฟ้า'!AG38 -> 56426.12 | E44: ='2568-บิลค่าไฟฟ้า'!AG39 -> 62294.24 | F44: ='2569-บิลค่าไฟฟ้า'!AG39 -> 57493.17
B45: กันยายน | C45: ='2568-บิลค่าไฟฟ้า'!AK38 -> 49479.45 | D45: ='2569-บิลค่าไฟฟ้า'!AK38 -> 0 | E45: ='2568-บิลค่าไฟฟ้า'!AK39 -> 54483.2 | F45: ='2569-บิลค่าไฟฟ้า'!AK39 -> 0
B46: ตุลาคม | C46: ='2568-บิลค่าไฟฟ้า'!AO38 -> 46516.63 | D46: ='2569-บิลค่าไฟฟ้า'!AO38 -> 0 | E46: ='2568-บิลค่าไฟฟ้า'!AO39 -> 46708.12 | F46: ='2569-บิลค่าไฟฟ้า'!AO39 -> 0
B47: พฤศจิกายน | C47: ='2568-บิลค่าไฟฟ้า'!AS38 -> 47076.66 | D47: ='2569-บิลค่าไฟฟ้า'!AS38 -> 0 | E47: ='2568-บิลค่าไฟฟ้า'!AS39 -> 40062.89 | F47: ='2569-บิลค่าไฟฟ้า'!AS39 -> 0
B48: ธันวาคม | C48: ='2568-บิลค่าไฟฟ้า'!AW38 -> 43429.88 | D48: ='2569-บิลค่าไฟฟ้า'!AW38 -> 0 | E48: ='2568-บิลค่าไฟฟ้า'!AW39 -> 45760.36 | F48: ='2569-บิลค่าไฟฟ้า'!AW39 -> 0

Sheet กราฟ68-69 แม่โจ้ - ชุมพร (2)
B2: Month | C2: 9801 020004456066 | E2: 9801 020004456103 | G2: 9801 020022277344
B3: Month | C3: มหาวิทยาลัยแม่โจ้วิทยาเขตชุมพร | E3: มหาวิทยาลัยแม่โจ้(อาคารชุดพักอาศัยข้าราชการ) | G3: มหาวิทยาลัยแม่โจ้วิทยาเขตชุมพร
C4: ค่าพลังงานไฟฟ้า 68 (kWh) | D4: ค่าพลังงานไฟฟ้า 69 (kWh) | E4: ค่าพลังงานไฟฟ้า 68 (kWh) | F4: ค่าพลังงานไฟฟ้า 69 (kWh) | G4: ค่าพลังงานไฟฟ้า 68 (kWh) | H4: ค่าพลังงานไฟฟ้า 69 (kWh)
B5: มกราคม | C5: ='2568-บิลค่าไฟฟ้า'!D40 -> 3136.8 | D5: ='2569-บิลค่าไฟฟ้า'!D40 -> 4054.4 | E5: ='2568-บิลค่าไฟฟ้า'!D41 -> 3742.5 | F5: ='2569-บิลค่าไฟฟ้า'!D41 -> 4607.5 | G5: ='2568-บิลค่าไฟฟ้า'!D42 -> 109.5 | H5: ='2569-บิลค่าไฟฟ้า'!D42 -> 264
B6: กุมภาพันธ์ | C6: ='2568-บิลค่าไฟฟ้า'!H40 -> 3088.8 | D6: ='2569-บิลค่าไฟฟ้า'!H40 -> 4126.4 | E6: ='2568-บิลค่าไฟฟ้า'!H41 -> 4016 | F6: ='2569-บิลค่าไฟฟ้า'!H41 -> 4886 | G6: ='2568-บิลค่าไฟฟ้า'!H42 -> 82 | H6: ='2569-บิลค่าไฟฟ้า'!H42 -> 198
B7: มีนาคม | C7: ='2568-บิลค่าไฟฟ้า'!L40 -> 3359.2 | D7: ='2569-บิลค่าไฟฟ้า'!L40 -> 4422.4 | E7: ='2568-บิลค่าไฟฟ้า'!L41 -> 5946 | F7: ='2569-บิลค่าไฟฟ้า'!L41 -> 6117.5 | G7: ='2568-บิลค่าไฟฟ้า'!L42 -> 39.5 | H7: ='2569-บิลค่าไฟฟ้า'!L42 -> 203.5
B8: เมษายน | C8: ='2568-บิลค่าไฟฟ้า'!P40 -> 1855.2 | D8: ='2569-บิลค่าไฟฟ้า'!P40 -> 2150.4 | E8: ='2568-บิลค่าไฟฟ้า'!P41 -> 5132.5 | F8: ='2569-บิลค่าไฟฟ้า'!P41 -> 5562.5 | G8: ='2568-บิลค่าไฟฟ้า'!P42 -> 64 | H8: ='2569-บิลค่าไฟฟ้า'!P42 -> 139.5
B9: พฤษภาคม | C9: ='2568-บิลค่าไฟฟ้า'!T40 -> 1351.2 | D9: ='2569-บิลค่าไฟฟ้า'!T40 -> 1684 | E9: ='2568-บิลค่าไฟฟ้า'!T41 -> 5637.5 | F9: ='2569-บิลค่าไฟฟ้า'!T41 -> 5536.5 | G9: ='2568-บิลค่าไฟฟ้า'!T42 -> 27.59 | H9: ='2569-บิลค่าไฟฟ้า'!T42 -> 58.5
B10: มิถุนายน | C10: ='2568-บิลค่าไฟฟ้า'!X40 -> 1436.8 | D10: ='2569-บิลค่าไฟฟ้า'!X40 -> 1184.8 | E10: ='2568-บิลค่าไฟฟ้า'!X41 -> 4957.5 | F10: ='2569-บิลค่าไฟฟ้า'!X41 -> 5330 | G10: ='2568-บิลค่าไฟฟ้า'!X42 -> 35 | H10: ='2569-บิลค่าไฟฟ้า'!X42 -> 37.5
B11: กรกฏาคม | C11: ='2568-บิลค่าไฟฟ้า'!AB40 -> 4145.6 | D11: ='2569-บิลค่าไฟฟ้า'!AB40 -> 4264.8 | E11: ='2568-บิลค่าไฟฟ้า'!AB41 -> 5343 | F11: ='2569-บิลค่าไฟฟ้า'!AB41 -> 5920.5 | G11: ='2568-บิลค่าไฟฟ้า'!AB42 -> 222.5 | H11: ='2569-บิลค่าไฟฟ้า'!AB42 -> 78.5
B12: สิงหาคม | C12: ='2568-บิลค่าไฟฟ้า'!AF40 -> 4555.2 | D12: ='2569-บิลค่าไฟฟ้า'!AF40 -> 4386.4 | E12: ='2568-บิลค่าไฟฟ้า'!AF41 -> 5432.5 | F12: ='2569-บิลค่าไฟฟ้า'!AF41 -> 5624 | G12: ='2568-บิลค่าไฟฟ้า'!AF42 -> 693.5 | H12: ='2569-บิลค่าไฟฟ้า'!AF42 -> 385
B13: กันยายน | C13: ='2568-บิลค่าไฟฟ้า'!AJ40 -> 4450.4 | D13: ='2569-บิลค่าไฟฟ้า'!AJ40 -> 0 | E13: ='2568-บิลค่าไฟฟ้า'!AJ41 -> 4742 | F13: ='2569-บิลค่าไฟฟ้า'!AJ41 -> 0 | G13: ='2568-บิลค่าไฟฟ้า'!AJ42 -> 521.5 | H13: ='2569-บิลค่าไฟฟ้า'!AJ42 -> 0
B14: ตุลาคม | C14: ='2568-บิลค่าไฟฟ้า'!AN40 -> 4344.8 | D14: ='2569-บิลค่าไฟฟ้า'!AN40 -> 0 | E14: ='2568-บิลค่าไฟฟ้า'!AN41 -> 5298.5 | F14: ='2569-บิลค่าไฟฟ้า'!AN41 -> 0 | G14: ='2568-บิลค่าไฟฟ้า'!AN42 -> 480 | H14: ='2569-บิลค่าไฟฟ้า'!AN42 -> 0
B15: พฤศจิกายน | C15: ='2568-บิลค่าไฟฟ้า'!AR40 -> 2928 | D15: ='2569-บิลค่าไฟฟ้า'!AR40 -> 0 | E15: ='2568-บิลค่าไฟฟ้า'!AR41 -> 4580 | F15: ='2569-บิลค่าไฟฟ้า'!AR41 -> 0 | G15: ='2568-บิลค่าไฟฟ้า'!AR42 -> 202.5 | H15: ='2569-บิลค่าไฟฟ้า'!AR42 -> 0
B16: ธันวาคม | C16: ='2568-บิลค่าไฟฟ้า'!AV40 -> 4507.2 | D16: ='2569-บิลค่าไฟฟ้า'!AV40 -> 0 | E16: ='2568-บิลค่าไฟฟ้า'!AV41 -> 4645 | F16: ='2569-บิลค่าไฟฟ้า'!AV41 -> 0 | G16: ='2568-บิลค่าไฟฟ้า'!AV42 -> 174 | H16: ='2569-บิลค่าไฟฟ้า'!AV42 -> 0
B33: Month | C33: 9801 020004456066 | E33: 9801 020004456103 | G33: 9801 020022277344
B34: Month | C34: มหาวิทยาลัยแม่โจ้วิทยาเขตชุมพร | E34: มหาวิทยาลัยแม่โจ้(อาคารชุดพักอาศัยข้าราชการ) | G34: มหาวิทยาลัยแม่โจ้วิทยาเขตชุมพร
C35: ค่าไฟฟ้า 68 (บาท) | D35: ค่าไฟฟ้า 69 (บาท) | E35: ค่าไฟฟ้า 68 (บาท) | F35: ค่าไฟฟ้า 69 (บาท) | G35: ค่าไฟฟ้า 68 (บาท) | H35: ค่าไฟฟ้า 69 (บาท)
B36: มกราคม | C36: ='2568-บิลค่าไฟฟ้า'!E40 -> 14685.28 | D36: ='2569-บิลค่าไฟฟ้า'!E40 -> 17712.1 | E36: ='2568-บิลค่าไฟฟ้า'!E41 -> 17456.44 | F36: ='2569-บิลค่าไฟฟ้า'!E41 -> 20082.79 | G36: ='2568-บิลค่าไฟฟ้า'!E42 -> 835.07 | H36: ='2569-บิลค่าไฟฟ้า'!E42 -> 1465.65
B37: กุมภาพันธ์ | C37: ='2568-บิลค่าไฟฟ้า'!I40 -> 14465.68 | D37: ='2569-บิลค่าไฟฟ้า'!I40 -> 18020.69 | E37: ='2568-บิลค่าไฟฟ้า'!I41 -> 18707.72 | F37: ='2569-บิลค่าไฟฟ้า'!I41 -> 21276.5 | G37: ='2568-บิลค่าไฟฟ้า'!I42 -> 709.26 | H37: ='2569-บิลค่าไฟฟ้า'!I42 -> 1182.78
B38: มีนาคม | C38: ='2568-บิลค่าไฟฟ้า'!M40 -> 15702.8 | D38: ='2569-บิลค่าไฟฟ้า'!M40 -> 19289.41 | E38: ='2568-บิลค่าไฟฟ้า'!M41 -> 27537.68 | F38: ='2569-บิลค่าไฟฟ้า'!M41 -> 26554.96 | G38: ='2568-บิลค่าไฟฟ้า'!M42 -> 514.82 | H38: ='2569-บิลค่าไฟฟ้า'!M42 -> 1206.34
B39: เมษายน | C39: ='2568-บิลค่าไฟฟ้า'!Q40 -> 8821.84 | D39: ='2569-บิลค่าไฟฟ้า'!Q40 -> 9551.16 | E39: ='2568-บิลค่าไฟฟ้า'!Q41 -> 23815.82 | F39: ='2569-บิลค่าไฟฟ้า'!Q41 -> 24176.13 | G39: ='2568-บิลค่าไฟฟ้า'!Q42 -> 583.44 | H39: ='2569-บิลค่าไฟฟ้า'!Q42 -> 932.03
B40: พฤษภาคม | C40: ='2568-บิลค่าไฟฟ้า'!U40 -> 6270.2 | D40: ='2569-บิลค่าไฟฟ้า'!U40 -> 7669.37 | E40: ='2568-บิลค่าไฟฟ้า'!U41 -> 25100.8 | F40: ='2569-บิลค่าไฟฟ้า'!U41 -> 24450.32 | G40: ='2568-บิลค่าไฟฟ้า'!U42 -> 454.9 | H40: ='2569-บิลค่าไฟฟ้า'!U42 -> 588.91
B41: มิถุนายน | C41: ='2568-บิลค่าไฟฟ้า'!Y40 -> 6646.25 | D41: ='2569-บิลค่าไฟฟ้า'!Y40 -> 5494.92 | E41: ='2568-บิลค่าไฟฟ้า'!Y41 -> 22113.41 | F41: ='2569-บิลค่าไฟฟ้า'!Y41 -> 23550.86 | G41: ='2568-บิลค่าไฟฟ้า'!Y42 -> 487.87 | H41: ='2569-บิลค่าไฟฟ้า'!Y42 -> 497.44
B42: กรกฏาคม | C42: ='2568-บิลค่าไฟฟ้า'!AC40 -> 18546.57 | D42: ='2569-บิลค่าไฟฟ้า'!AC40 -> 18910.99 | E42: ='2568-บิลค่าไฟฟ้า'!AC41 -> 23807 | F42: ='2569-บิลค่าไฟฟ้า'!AC41 -> 26122.98 | G42: ='2568-บิลค่าไฟฟ้า'!AC42 -> 1311.58 | H42: ='2569-บิลค่าไฟฟ้า'!AC42 -> 676.04
B43: สิงหาคม | C43: ='2568-บิลค่าไฟฟ้า'!AG40 -> 20346.04 | D43: ='2569-บิลค่าไฟฟ้า'!AG40 -> 19440.66 | E43: ='2568-บิลค่าไฟฟ้า'!AG41 -> 24200.19 | F43: ='2569-บิลค่าไฟฟ้า'!AG41 -> 24831.47 | G43: ='2568-บิลค่าไฟฟ้า'!AG42 -> 3380.78 | H43: ='2569-บิลค่าไฟฟ้า'!AG42 -> 2011.12
B44: กันยายน | C44: ='2568-บิลค่าไฟฟ้า'!AK40 -> 19695.15 | D44: ='2569-บิลค่าไฟฟ้า'!AK40 -> 0 | E44: ='2568-บิลค่าไฟฟ้า'!AK41 -> 20963.73 | F44: ='2569-บิลค่าไฟฟ้า'!AK41 -> 0 | G44: ='2568-บิลค่าไฟฟ้า'!AK42 -> 2602.83 | H44: ='2569-บิลค่าไฟฟ้า'!AK42 -> 0
B45: ตุลาคม | C45: ='2568-บิลค่าไฟฟ้า'!AO40 -> 19235.73 | D45: ='2569-บิลค่าไฟฟ้า'!AO40 -> 0 | E45: ='2568-บิลค่าไฟฟ้า'!AO41 -> 23387.72 | F45: ='2569-บิลค่าไฟฟ้า'!AO41 -> 0 | G45: ='2568-บิลค่าไฟฟ้า'!AO42 -> 2422.3 | H45: ='2569-บิลค่าไฟฟ้า'!AO42 -> 0
B46: พฤศจิกายน | C46: ='2568-บิลค่าไฟฟ้า'!AS40 -> 13072.09 | D46: ='2569-บิลค่าไฟฟ้า'!AS40 -> 0 | E46: ='2568-บิลค่าไฟฟ้า'!AS41 -> 20258.96 | F46: ='2569-บิลค่าไฟฟ้า'!AS41 -> 0 | G46: ='2568-บิลค่าไฟฟ้า'!AS42 -> 1215.04 | H46: ='2569-บิลค่าไฟฟ้า'!AS42 -> 0
B47: ธันวาคม | C47: ='2568-บิลค่าไฟฟ้า'!AW40 -> 19942.25 | D47: ='2569-บิลค่าไฟฟ้า'!AW40 -> 0 | E47: ='2568-บิลค่าไฟฟ้า'!AW41 -> 20541.73 | F47: ='2569-บิลค่าไฟฟ้า'!AW41 -> 0 | G47: ='2568-บิลค่าไฟฟ้า'!AW42 -> 1091.06 | H47: ='2569-บิลค่าไฟฟ้า'!AW42 -> 0

Sheet 2568-บิลค่าไฟฟ้า
A1: การใช้พลังงานไฟฟ้า ตามหนังสือแจ้งค่าไฟฟ้า(บิลค่าไฟฟ้า)
A2: ลำดับ | B2: ชื่ออาคาร | C2: หมายเลข | D2: มกราคม 68 | H2: กุมภาพันธ์ 68 | L2: มีนาคม 68 | P2: เมษายน 68 | T2: พฤษภาคม 68 | X2: มิถุนายน 68 | AB2: กรกฏาคม 68 | AF2: สิงหาคม 68 | AJ2: กันยายน 68 | AN2: ตุลาคม 68 | AR2: พฤศจิกายน 68 | AV2: ธันวาคม 68 | AZ2: ผลรวมบิลค่าไฟฟ้า/ปี | BB2: ม.ค.-ก.ย. 68 | BD2: ต.ค.-ธ.ค. 68 | BF2: เช็ด
C3: ผู้ใช้ไฟฟ้า | D3: kWh | E3: บาท | F3: เช็ด | G3: หน่วยค่าไฟ/บาท | H3: kWh | I3: บาท | J3: เช็ด | K3: หน่วยค่าไฟ/บาท | L3: kWh | M3: บาท | N3: เช็ด | O3: หน่วยค่าไฟ/บาท | P3: kWh | Q3: บาท | R3: เช็ด | S3: หน่วยค่าไฟ/บาท | T3: kWh | U3: บาท | V3: เช็ด | W3: หน่วยค่าไฟ/บาท | X3: kWh | Y3: บาท | Z3: เช็ด | AA3: หน่วยค่าไฟ/บาท | AB3: kWh | AC3: บาท | AD3: เช็ด | AE3: หน่วยค่าไฟ/บาท | AF3: kWh | AG3: บาท | AH3: เช็ด | AI3: หน่วยค่าไฟ/บาท | AJ3: kWh | AK3: บาท | AL3: เช็ด | AM3: หน่วยค่าไฟ/บาท | AN3: kWh | AO3: บาท | AP3: เช็ด | AQ3: หน่วยค่าไฟ/บาท | AR3: kWh | AS3: บาท | AT3: เช็ด | AU3: หน่วยค่าไฟ/บาท | AV3: kWh | AW3: บาท | AX3: เช็ด | AY3: หน่วยค่าไฟ/บาท | AZ3: kWh | BA3: บาท | BB3: kWh | BC3: บาท | BD3: kWh | BE3: บาท | BF3: kWh | BG3: บาท
A4: มหาวิทยาลัยแม่โจ้
A5: 1 | B5: มหาวิทยาลัยแม่โจ้ | C5: 9806 020017405371 | D5: 621643 | E5: 2608168 | F5: =E5-(G5*D5) -> -8.1330538e-05 | G5: =ROUND(E5/D5,8) -> 4.1956043 | H5: 723443 | I5: 3143026.7 | J5: =I5-(K5*H5) -> -0.00013950979 | K5: =ROUND(I5/H5,8) -> 4.3445396 | L5: 854947 | M5: 3673807 | N5: =M5-(O5*L5) -> -0.0014686096 | O5: =ROUND(M5/L5,8) -> 4.2971166 | P5: 713467 | Q5: 3142174 | R5: =Q5-(S5*P5) -> -0.00011588028 | S5: =ROUND(Q5/P5,8) -> 4.4040916 | T5: 703971.99 | U5: 2899419.5 | V5: =U5-(W5*T5) -> -0.0030459454 | W5: =ROUND(U5/T5,8) -> 4.1186574 | X5: 897765 | Y5: 3748635.9 | Z5: =Y5-(AA5*X5) -> -0.0003082999 | AA5: =ROUND(Y5/X5,8) -> 4.1755202 | AB5: 1065556.5 | AC5: 4495970.7 | AD5: =AC5-(AE5*AB5) -> -0.0008214796 | AE5: =ROUND(AC5/AB5,8) -> 4.2193639 | AF5: 1058378.5 | AG5: 4389811.3 | AH5: =AG5-(AI5*AF5) -> -0.0038741305 | AI5: =ROUND(AG5/AF5,8) -> 4.1476762 | AJ5: 1078213 | AK5: 4521903.2 | AL5: =AK5-(AM5*AJ5) -> -0.0035956195 | AM5: =ROUND(AK5/AJ5,8) -> 4.1938867 | AN5: 928769 | AO5: 3849488.4 | AP5: =AO5-(AQ5*AV5) -> 1111145.4 | AQ5: =ROUND(AO5/AN5,8) -> 4.144721 | AR5: 699110.6 | AS5: 2792408.9 | AT5: =AS5-(AU5*AR5) -> -0.003339936 | AU5: =ROUND(AS5/AR5,8) -> 3.9942306 | AV5: 660682.1 | AW5: 2639317.1 | AX5: =AW5-(AY5*AV5) -> -0.002967638 | AY5: =ROUND(AW5/AV5,8) -> 3.9948368 | AZ5: =AV5+AR5+AV5+AJ5+AF5+AB5+X5+AB5+P5+L5+H5+D5 -> 10099444 | BA5: =AW5+AS5+AO5+AK5+AG5+AC5+Y5+U5+Q5+M5+I5+E5 -> 41904131 | BB5: =AJ5+AF5+AB5+X5+AB5+P5+L5+H5+D5 -> 8078969.5 | BC5: =AK5+AG5+AC5+Y5+U5+Q5+M5+I5+E5 -> 32622916 | BD5: =AV5+AR5+AV5 -> 2020474.8 | BE5: =AW5+AS5+AO5 -> 9281214.4 | BF5: =(BD5+BB5)-AZ5 -> 0 | BG5: =(BE5+BC5)-BA5 -> 0
A6: คณะสัตวศาสตร์และเทคโนโลยี
A7: 1 | B7: คณะสัตวศาสตร์และเทคโนโลยี | C7: 9805 020004553162 | D7: 47268.01 | E7: 208113.87 | F7: =E7-(G7*D7) -> 8.999859e-05 | G7: =ROUND(E7/D7,8) -> 4.4028481 | H7: 53628 | I7: 241001.73 | J7: =I7-(K7*H7) -> -0.00025379998 | K7: =ROUND(I7/H7,8) -> 4.4939533 | L7: 70820 | M7: 319021.92 | N7: =M7-(O7*L7) -> 0.00011580001 | O7: =ROUND(M7/L7,8) -> 4.5046868 | P7: 65476 | Q7: 290323.83 | R7: =Q7-(S7*P7) -> -0.00030007999 | S7: =ROUND(Q7/P7,8) -> 4.4340496 | T7: 54860.01 | U7: 235726.16 | V7: =U7-(W7*T7) -> -5.4687844e-06 | W7: =ROUND(U7/T7,8) -> 4.2968669 | X7: 50527.99 | Y7: 215174.85 | Z7: =Y7-(AA7*X7) -> -9.3122013e-05 | AA7: =ROUND(Y7/X7,8) -> 4.2585278 | AB7: 59984.01 | AC7: 247528.69 | AD7: =AC7-(AE7*AB7) -> -1.9379018e-05 | AE7: =ROUND(AC7/AB7,8) -> 4.1265779 | AF7: 54847.99 | AG7: 235210.89 | AH7: =AG7-(AI7*AF7) -> 0.00016670031 | AI7: =ROUND(AG7/AF7,8) -> 4.288414 | AJ7: 59884 | AK7: 251710.22 | AL7: =AK7-(AM7*AJ7) -> -0.00018164 | AM7: =ROUND(AK7/AJ7,8) -> 4.2032967 | AN7: 51100 | AO7: 211628.95 | AP7: =AO7-(AQ7*AV7) -> 47510.865 | AQ7: =ROUND(AO7/AN7,8) -> 4.1414667 | AR7: 40088 | AS7: 167800.01 | AT7: =AS7-(AU7*AR7) -> -5.2879972e-05 | AU7: =ROUND(AS7/AR7,8) -> 4.1857915 | AV7: 39628.01 | AW7: 163900.13 | AX7: =AW7-(AY7*AV7) -> -0.00014354711 | AY7: =ROUND(AW7/AV7,8) -> 4.1359667 | AZ7: =AV7+AR7+AV7+AJ7+AF7+AB7+X7+AB7+P7+L7+H7+D7 -> 641764.03 | BA7: =AW7+AS7+AO7+AK7+AG7+AC7+Y7+U7+Q7+M7+I7+E7 -> 2787141.3 | BB7: =AJ7+AF7+AB7+X7+AB7+P7+L7+H7+D7 -> 522420.01 | BC7: =AK7+AG7+AC7+Y7+U7+Q7+M7+I7+E7 -> 2243812.2 | BD7: =AV7+AR7+AV7 -> 119344.02 | BE7: =AW7+AS7+AO7 -> 543329.09 | BF7: =(BD7+BB7)-AZ7 -> 0 | BG7: =(BE7+BC7)-BA7 -> 0
A8: วิทยาลัยพลังงานทดแทน
A9: 1 | B9: วิทยาลัยพลังงานทดแทน | C9: 9205 020016355485 | D9: 9220 | E9: 40019.97 | F9: =E9-(G9*D9) -> -2.2799999e-05 | G9: =ROUND(E9/D9,8) -> 4.3405607 | H9: 8760 | I9: 38733.29 | J9: =I9-(K9*H9) -> -2.2e-05 | K9: =ROUND(I9/H9,8) -> 4.4216084 | L9: 10620 | M9: 46870.35 | N9: =M9-(O9*L9) -> 5.0999995e-05 | O9: =ROUND(M9/L9,8) -> 4.413404 | P9: 10340 | Q9: 46649.1 | R9: =Q9-(S9*P9) -> -4.9200004e-05 | S9: =ROUND(Q9/P9,8) -> 4.5115184 | T9: 11280 | U9: 49903.72 | V9: =U9-(W9*T9) -> 2.8000002e-05 | W9: =ROUND(U9/T9,8) -> 4.4240886 | X9: 11520 | Y9: 53192.2 | Z9: =Y9-(AA9*X9) -> 2.5599991e-05 | AA9: =ROUND(Y9/X9,8) -> 4.6173785 | AB9: 15020 | AC9: 73281.79 | AD9: =AC9-(AE9*AB9) -> 5.1999989e-05 | AE9: =ROUND(AC9/AB9,8) -> 4.8789474 | AF9: 13680 | AG9: 63666.03 | AH9: =AG9-(AI9*AF9) -> 1.9200001e-05 | AI9: =ROUND(AG9/AF9,8) -> 4.6539496 | AJ9: 14400 | AK9: 67664.24 | AL9: =AK9-(AM9*AJ9) -> -6.3999993e-05 | AM9: =ROUND(AK9/AJ9,8) -> 4.6989056 | AN9: 14320 | AO9: 63364.12 | AP9: =AO9-(AQ9*AV9) -> -19823.412 | AQ9: =ROUND(AO9/AN9,8) -> 4.4248687 | AR9: 13640 | AS9: 58005.04 | AT9: =AS9-(AU9*AR9) -> 6.7600005e-05 | AU9: =ROUND(AS9/AR9,8) -> 4.2525689 | AV9: 18800 | AW9: 74465.91 | AX9: =AW9-(AY9*AV9) -> -7.9999882e-06 | AY9: =ROUND(AW9/AV9,8) -> 3.9609527 | AZ9: =AV9+AR9+AV9+AJ9+AF9+AB9+X9+AB9+P9+L9+H9+D9 -> 159820 | BA9: =AW9+AS9+AO9+AK9+AG9+AC9+Y9+U9+Q9+M9+I9+E9 -> 675815.76 | BB9: =AJ9+AF9+AB9+X9+AB9+P9+L9+H9+D9 -> 108580 | BC9: =AK9+AG9+AC9+Y9+U9+Q9+M9+I9+E9 -> 479980.69 | BD9: =AV9+AR9+AV9 -> 51240 | BE9: =AW9+AS9+AO9 -> 195835.07 | BF9: =(BD9+BB9)-AZ9 -> 0 | BG9: =(BE9+BC9)-BA9 -> 0
A10: โครงการแปรรูปผลิตผลทางการเกษตร
A11: 1 | B11: โครงการแปรรูปผลิตผลทางการเกษตร | C11: 9805 020006009966 | D11: 1675.5 | E11: 7999.68 | F11: =E11-(G11*D11) -> 5.6849995e-06 | G11: =ROUND(E11/D11,8) -> 4.7745031 | H11: 2438 | I11: 11488.19 | J11: =I11-(K11*H11) -> -6.0000002e-06 | K11: =ROUND(I11/H11,8) -> 4.712137 | L11: 2387.5 | M11: 11257.17 | N11: =M11-(O11*L11) -> -9.1249985e-06 | O11: =ROUND(M11/L11,8) -> 4.715045 | P11: 1187.51 | Q11: 5767.08 | R11: =Q11-(S11*P11) -> 5.5248001e-06 | S11: =ROUND(Q11/P11,8) -> 4.8564475 | T11: 765.5 | U11: 3697.1 | V11: =U11-(W11*T11) -> 7.8999983e-07 | W11: =ROUND(U11/T11,8) -> 4.8296538 | X11: 806 | Y11: 3875.02 | Z11: =Y11-(AA11*X11) -> 1.2799997e-06 | AA11: =ROUND(Y11/X11,8) -> 4.8077171 | AB11: 721 | AC11: 3501.6 | AD11: =AC11-(AE11*AB11) -> 1.5300002e-06 | AE11: =ROUND(AC11/AB11,8) -> 4.8565881 | AF11: 850.51 | AG11: 4070.57 | AH11: =AG11-(AI11*AF11) -> 1.5273999e-06 | AI11: =ROUND(AG11/AF11,8) -> 4.7860343 | AJ11: 975.51 | AK11: 4577.97 | AL11: =AK11-(AM11*AJ11) -> -1.0409995e-06 | AM11: =ROUND(AK11/AJ11,8) -> 4.6928991 | AN11: 1162.5 | AO11: 5391.45 | AP11: =AO11-(AQ11*AV11) -> 2437.2137 | AQ11: =ROUND(AO11/AN11,8) -> 4.6378065 | AR11: 957.5 | AS11: 4499.61 | AT11: =AS11-(AU11*AR11) -> 2.5749996e-06 | AU11: =ROUND(AS11/AR11,8) -> 4.6993316 | AV11: 636.99 | AW11: 3105.26 | AX11: =AW11-(AY11*AV11) -> -3.0399997e-06 | AY11: =ROUND(AW11/AV11,8) -> 4.874896 | AZ11: =AV11+AR11+AV11+AJ11+AF11+AB11+X11+AB11+P11+L11+H11+D11 -> 13994.01 | BA11: =AW11+AS11+AO11+AK11+AG11+AC11+Y11+U11+Q11+M11+I11+E11 -> 69230.7 | BB11: =AJ11+AF11+AB11+X11+AB11+P11+L11+H11+D11 -> 11762.53 | BC11: =AK11+AG11+AC11+Y11+U11+Q11+M11+I11+E11 -> 56234.38 | BD11: =AV11+AR11+AV11 -> 2231.48 | BE11: =AW11+AS11+AO11 -> 12996.32 | BF11: =(BD11+BB11)-AZ11 -> 0 | BG11: =(BE11+BC11)-BA11 -> 0
A12: สำนักฟาร์มมหาวิทยาลัยแม่โจ้ (ฟาร์มบ้านโปง)
A13: 1 | B13: โครงการพัฒนาบ้านโปงพระราชดำริ (907 ไร่) | C13: 9801 020025008422 | D13: 28131.28 | E13: 123983.37 | F13: =E13-(G13*D13) -> -0.00011627999 | G13: =ROUND(E13/D13,8) -> 4.4073135 | H13: 32671.18 | I13: 146407.42 | J13: =I13-(K13*H13) -> 0.00010053301 | K13: =ROUND(I13/H13,8) -> 4.4812407 | L13: 41678.71 | M13: 184611.74 | N13: =M13-(O13*L13) -> -0.00017527791 | O13: =ROUND(M13/L13,8) -> 4.4294015 | P13: 39121.12 | Q13: 174589.24 | R13: =Q13-(S13*P13) -> 0.00015495677 | S13: =ROUND(Q13/P13,8) -> 4.4627874 | T13: 41111.36 | U13: 174546.29 | V13: =U13-(W13*T13) -> 0.00016039039 | W13: =ROUND(U13/T13,8) -> 4.2456949 | X13: 31015.35 | Y13: 132324.69 | Z13: =Y13-(AA13*X13) -> -5.6337012e-05 | AA13: =ROUND(Y13/X13,8) -> 4.2664258 | AB13: 27788.48 | AC13: 115968.72 | AD13: =AC13-(AE13*AB13) -> 0.00011278081 | AE13: =ROUND(AC13/AB13,8) -> 4.173266 | AF13: 28100.97 | AG13: 117799.05 | AH13: =AG13-(AI13*AF13) -> 0.000137469 | AI13: =ROUND(AG13/AF13,8) -> 4.1919923 | AJ13: 29992.3 | AK13: 126048.1 | AL13: =AK13-(AM13*AJ13) -> 5.1554001e-05 | AM13: =ROUND(AK13/AJ13,8) -> 4.202682 | AN13: 33133.07 | AO13: 138860.88 | AP13: =AO13-(AQ13*AV13) -> 42341.142 | AQ13: =ROUND(AO13/AN13,8) -> 4.1910055 | AR13: 23641.13 | AS13: 99147.7 | AT13: =AS13-(AU13*AR13) -> -0.00010228841 | AU13: =ROUND(AS13/AR13,8) -> 4.1938647 | AV13: 23030.21 | AW13: 94057.89 | AX13: =AW13-(AY13*AV13) -> -5.6089048e-06 | AY13: =ROUND(AW13/AV13,8) -> 4.0841091
A14: 2 | B14: โครงการพัฒนาบ้านโปง | C14: 0228 020005942984 | D14: 498 | E14: 2345.65 | F14: =E14-(G14*D14) -> 1.12e-06 | G14: =ROUND(E14/D14,8) -> 4.7101406 | H14: 553 | I14: 2627.47 | J14: =I14-(K14*H14) -> -4.7000003e-07 | K14: =ROUND(I14/H14,8) -> 4.751302 | L14: 606 | M14: 2899.05 | N14: =M14-(O14*L14) -> 6.600003e-07 | O14: =ROUND(M14/L14,8) -> 4.7839109 | P14: 606 | Q14: 2899.05 | R14: =Q14-(S14*P14) -> 6.600003e-07 | S14: =ROUND(Q14/P14,8) -> 4.7839109 | T14: 469 | U14: 2111.74 | V14: =U14-(W14*T14) -> 1.5199998e-06 | W14: =ROUND(U14/T14,8) -> 4.5026439 | X14: 499 | Y14: 2260 | Z14: =Y14-(AA14*X14) -> -1.8800001e-06 | AA14: =ROUND(Y14/X14,8) -> 4.5290581 | AB14: 431 | AC14: 1923.92 | AD14: =AC14-(AE14*AB14) -> -8.0999985e-07 | AE14: =ROUND(AC14/AB14,8) -> 4.4638515 | AF14: 445 | AG14: 1993.12 | AH14: =AG14-(AI14*AF14) -> -7.5000025e-07 | AI14: =ROUND(AG14/AF14,8) -> 4.4789214 | AJ14: 448 | AK14: 1988.78 | AL14: =AK14-(AM14*AJ14) -> 6.4000028e-07 | AM14: =ROUND(AK14/AJ14,8) -> 4.4392411 | AN14: 419 | AO14: 1846.69 | AP14: =AO14-(AQ14*AV14) -> -88.147493 | AQ14: =ROUND(AO14/AN14,8) -> 4.4073747 | AR14: 380 | AS14: 1659.89 | AT14: =AS14-(AU14*AR14) -> -3.9999986e-07 | AU14: =ROUND(AS14/AR14,8) -> 4.3681316 | AV14: 439 | AW14: 1944.68 | AX14: =AW14-(AY14*AV14) -> -6.1000014e-07 | AY14: =ROUND(AW14/AV14,8) -> 4.429795
A15: 3 | B15: โครงการพัฒนาบ้านโปง | C15: 0535 020004636485 | D15: 0 | E15: 35.62 | F15: - | G15: - | H15: 0 | I15: 36.62 | J15: - | K15: - | L15: 0 | M15: 35.62 | N15: - | O15: - | P15: 0 | Q15: 35.62 | R15: - | S15: - | T15: 0 | U15: 35.62 | V15: - | W15: - | X15: 0 | Y15: 35.62 | Z15: - | AA15: - | AB15: 0 | AC15: 35.62 | AD15: - | AE15: - | AF15: 0 | AG15: 35.62 | AH15: - | AI15: - | AJ15: 0 | AK15: 35.62 | AL15: - | AM15: - | AN15: 0 | AO15: 35.62 | AP15: - | AQ15: - | AR15: 0 | AS15: 35.62 | AT15: - | AU15: - | AV15: 0 | AW15: 35.62 | AX15: - | AY15: -
A16: 4 | B16: โครงการวิจัยและพัฒนาการผลิตกล้วยไม้เชิงอุตสาหกรรม ในพระดำริ สมเด็จพระเจ้าลูกเธอเจ้าฟ้าจุฬาภรณฯ | C16: 9205 020005984784 | F16: =E16-(G16*D16) -> #DIV/0! | G16: =ROUND(E16/D16,8) -> #DIV/0! | J16: =I16-(K16*H16) -> #DIV/0! | K16: =ROUND(I16/H16,8) -> #DIV/0! | N16: =M16-(O16*L16) -> #DIV/0! | O16: =ROUND(M16/L16,8) -> #DIV/0! | R16: =Q16-(S16*P16) -> #DIV/0! | S16: =ROUND(Q16/P16,8) -> #DIV/0! | V16: =U16-(W16*T16) -> #DIV/0! | W16: =ROUND(U16/T16,8) -> #DIV/0! | Z16: =Y16-(AA16*X16) -> #DIV/0! | AA16: =ROUND(Y16/X16,8) -> #DIV/0!
A17: รวม | D17: =SUM(D13:D16) -> 28629.28 | E17: =SUM(E13:E16) -> 126364.64 | G17: - | H17: =SUM(H13:H16) -> 33224.18 | I17: =SUM(I13:I16) -> 149071.51 | K17: - | L17: =SUM(L13:L16) -> 42284.71 | M17: =SUM(M13:M16) -> 187546.41 | O17: - | P17: =SUM(P13:P16) -> 39727.12 | Q17: =SUM(Q13:Q16) -> 177523.91 | S17: - | T17: =SUM(AB13:AB16) -> 28219.48 | U17: =SUM(U13:U16) -> 176693.65 | W17: - | X17: =SUM(X13:X16) -> 31514.35 | Y17: =SUM(Y13:Y16) -> 134620.31 | AA17: - | AB17: =SUM(AB13:AB16) -> 28219.48 | AC17: =SUM(AC13:AC16) -> 117928.26 | AE17: - | AF17: =SUM(AF13:AF16) -> 28545.97 | AG17: =SUM(AG13:AG16) -> 119827.79 | AI17: - | AJ17: =SUM(AJ13:AJ16) -> 30440.3 | AK17: =SUM(AK13:AK16) -> 128072.5 | AM17: - | AN17: =SUM(AN13:AN16) -> 33552.07 | AO17: =SUM(AO13:AO16) -> 140743.19 | AQ17: - | AR17: =SUM(AR13:AR16) -> 24021.13 | AS17: =SUM(AS13:AS16) -> 100843.21 | AU17: - | AV17: =SUM(AV13:AV16) -> 23469.21 | AW17: =SUM(AW13:AW16) -> 96038.19 | AY17: - | AZ17: =AV17+AR17+AV17+AJ17+AF17+AB17+X17+AB17+P17+L17+H17+D17 -> 361764.42 | BA17: =AW17+AS17+AO17+AK17+AG17+AC17+Y17+U17+Q17+M17+I17+E17 -> 1655273.6 | BB17: =AJ17+AF17+AB17+X17+AB17+P17+L17+H17+D17 -> 290804.87 | BC17: =AK17+AG17+AC17+Y17+U17+Q17+M17+I17+E17 -> 1317649 | BD17: =AV17+AR17+AV17 -> 70959.55 | BE17: =AW17+AS17+AO17 -> 337624.59 | BF17: =(BD17+BB17)-AZ17 -> 0 | BG17: =(BE17+BC17)-BA17 -> 0
A18: โรงเรือนเพาะพันธุ์กัญชา (ฟาร์มบ้านโปง)
A19: 1 | B19: มหาวิทยาลัยแม่โจ้(โรงเรือนเพาะพันธุ์กัญชา)_ (ผศ. ดร.ปรีดา นาเทเวศน์) | C19: 9205 020024629068 | D19: 1836 | E19: 8733.99 | F19: =E19-(G19*D19) -> 6.2399995e-06 | G19: =ROUND(E19/D19,8) -> 4.7570752 | H19: 2960 | I19: 13876.4 | J19: =I19-(K19*H19) -> 8.7999997e-06 | K19: =ROUND(I19/H19,8) -> 4.687973 | L19: 3952 | M19: 18414.91 | N19: =M19-(O19*L19) -> -5.4400007e-06 | O19: =ROUND(M19/L19,8) -> 4.6596432 | P19: 4916 | Q19: 22825.31 | R19: =Q19-(S19*P19) -> 2.0000043e-06 | S19: =ROUND(Q19/P19,8) -> 4.6430655 | T19: 6384 | U19: 28380.33 | V19: =U19-(W19*T19) -> 2.2559998e-05 | W19: =ROUND(U19/T19,8) -> 4.4455404 | X19: 5144 | Y19: 22932.75 | Z19: =Y19-(AA19*X19) -> 1.1280001e-05 | AA19: =ROUND(Y19/X19,8) -> 4.4581551 | AB19: 4012 | AC19: 17959.64 | AD19: =AC19-(AE19*AB19) -> -6.7199981e-06 | AE19: =ROUND(AC19/AB19,8) -> 4.4764806 | AF19: 2872 | AG19: 12951.38 | AH19: =AG19-(AI19*AF19) -> -1.0960002e-05 | AI19: =ROUND(AG19/AF19,8) -> 4.5095334 | AJ19: 3892 | AK19: 17265.87 | AL19: =AK19-(AM19*AJ19) -> -1.58e-05 | AM19: =ROUND(AK19/AJ19,8) -> 4.4362461 | AN19: 2988 | AO19: 13333.11 | AP19: =AO19-(AQ19*AV19) -> 1695.6432 | AQ19: =ROUND(AO19/AN19,8) -> 4.4622189 | AR19: 1976 | AS19: 8930.51 | AT19: =AS19-(AU19*AR19) -> -7.1199993e-06 | AU19: =ROUND(AS19/AR19,8) -> 4.5194889 | AV19: 2608 | AW19: 11679.96 | AX19: =AW19-(AY19*AV19) -> -1.6000195e-07 | AY19: =ROUND(AW19/AV19,8) -> 4.4785123
A20: 2 | B20: มหาวิทยาลัยแม่โจ้(โรงเรือนเพาะพันธุ์กัญชา2)_(ศ. ดร.อานัฐ ตันโช) | C20: 9205 020024633024 | D20: 10471 | E20: 49133.75 | F20: =E20-(G20*D20) -> -4.0730003e-05 | G20: =ROUND(E20/D20,8) -> 4.6923646 | H20: 9721.82 | I20: 47830.64 | J20: =I20-(K20*H20) -> -4.0666397e-05 | K20: =ROUND(I20/H20,8) -> 4.9199265 | L20: 8389.29 | M20: 41274.51 | N20: =M20-(O20*L20) -> 1.4764199e-05 | O20: =ROUND(M20/L20,8) -> 4.919905 | P20: 4022.88 | Q20: 20419.66 | R20: =Q20-(S20*P20) -> 3.6351994e-06 | S20: =ROUND(Q20/P20,8) -> 5.075881 | T20: 3500.64 | U20: 15592.7 | V20: =U20-(W20*T20) -> 9.7040011e-06 | W20: =ROUND(U20/T20,8) -> 4.4542427 | X20: 3154.65 | Y20: 14423.76 | Z20: =Y20-(AA20*X20) -> -6.1140017e-06 | AA20: =ROUND(Y20/X20,8) -> 4.572222 | AB20: 2362.31 | AC20: 10875.73 | AD20: =AC20-(AE20*AB20) -> 1.16065e-05 | AE20: =ROUND(AC20/AB20,8) -> 4.6038539 | AF20: 2296.22 | AG20: 10658.84 | AH20: =AG20-(AI20*AF20) -> 9.9514018e-06 | AI20: =ROUND(AG20/AF20,8) -> 4.6419071 | AJ20: 2045.71 | AK20: 9823.64 | AL20: =AK20-(AM20*AJ20) -> -1.1912016e-06 | AM20: =ROUND(AK20/AJ20,8) -> 4.8020687 | AN20: 638.93 | AO20: 7051.36 | AP20: =AO20-(AQ20*AV20) -> 5056.0148 | AQ20: =ROUND(AO20/AN20,8) -> 11.036201 | AR20: 257.86 | AS20: 5288.26 | AT20: =AS20-(AU20*AR20) -> -9.5799987e-07 | AU20: =ROUND(AS20/AR20,8) -> 20.50826 | AV20: 180.8 | AW20: 1120.64 | AX20: =AW20-(AY20*AV20) -> -2.7200008e-07 | AY20: =ROUND(AW20/AV20,8) -> 6.1982301
A21: รวม | D21: =SUM(D19:D20) -> 12307 | E21: =SUM(E19:E20) -> 57867.74 | G21: - | H21: =SUM(H19:H20) -> 12681.82 | I21: =SUM(I19:I20) -> 61707.04 | K21: - | L21: =SUM(L19:L20) -> 12341.29 | M21: =SUM(M19:M20) -> 59689.42 | O21: - | P21: =SUM(P19:P20) -> 8938.88 | Q21: =SUM(Q19:Q20) -> 43244.97 | S21: - | T21: =SUM(AB19:AB20) -> 6374.31 | U21: =SUM(U19:U20) -> 43973.03 | W21: - | X21: =SUM(X19:X20) -> 8298.65 | Y21: =SUM(Y19:Y20) -> 37356.51 | AA21: - | AB21: =SUM(AB19:AB20) -> 6374.31 | AC21: =SUM(AC19:AC20) -> 28835.37 | AE21: - | AF21: =SUM(AF19:AF20) -> 5168.22 | AG21: =SUM(AG19:AG20) -> 23610.22 | AI21: - | AJ21: =SUM(AJ19:AJ20) -> 5937.71 | AK21: =SUM(AK19:AK20) -> 27089.51 | AM21: - | AN21: =SUM(AN19:AN20) -> 3626.93 | AO21: =SUM(AO19:AO20) -> 20384.47 | AQ21: - | AR21: =SUM(AR19:AR20) -> 2233.86 | AS21: =SUM(AS19:AS20) -> 14218.77 | AU21: - | AV21: =SUM(AV19:AV20) -> 2788.8 | AW21: =SUM(AW19:AW20) -> 12800.6 | AY21: - | AZ21: =AV21+AR21+AV21+AJ21+AF21+AB21+X21+AB21+P21+L21+H21+D21 -> 86233.65 | BA21: =AW21+AS21+AO21+AK21+AG21+AC21+Y21+U21+Q21+M21+I21+E21 -> 430777.65 | BB21: =AJ21+AF21+AB21+X21+AB21+P21+L21+H21+D21 -> 78422.19 | BC21: =AK21+AG21+AC21+Y21+U21+Q21+M21+I21+E21 -> 383373.81 | BD21: =AV21+AR21+AV21 -> 7811.46 | BE21: =AW21+AS21+AO21 -> 47403.84 | BF21: =(BD21+BB21)-AZ21 -> 0 | BG21: =(BE21+BC21)-BA21 -> 0
A24: มหาวิทยาลัยแม่โจ้ (โรงสูบน้ำศรีบุญเรือน)
A25: 1 | B25: มหาวิทยาลัยแม่โจ้ (โรงสูบน้ำศรีบุญเรือน) | C25: 9807 020005984751 | D25: 8154.29 | E25: 49461.17 | F25: =E25-(G25*D25) -> -7.067305e-06 | G25: =ROUND(E25/D25,8) -> 6.0656624 | H25: 8962.39 | I25: 51869.62 | J25: =I25-(K25*H25) -> 1.4771307e-05 | K25: =ROUND(I25/H25,8) -> 5.7874763 | L25: 18128 | M25: 91946.63 | N25: =M25-(O25*L25) -> 1.6000005e-05 | O25: =ROUND(M25/L25,8) -> 5.072078 | P25: 15262.46 | Q25: 75426.95 | R25: =Q25-(S25*P25) -> -3.1083604e-05 | S25: =ROUND(Q25/P25,8) -> 4.9419917 | T25: 4111.01 | U25: 27372.92 | V25: =U25-(W25*T25) -> -2.0160005e-06 | W25: =ROUND(U25/T25,8) -> 6.6584416 | X25: 2062.85 | Y25: 19760.03 | Z25: =Y25-(AA25*X25) -> -7.7799996e-07 | AA25: =ROUND(Y25/X25,8) -> 9.5789951 | AB25: 1682.59 | AC25: 17984.41 | AD25: =AC25-(AE25*AB25) -> -7.8279008e-06 | AE25: =ROUND(AC25/AB25,8) -> 10.688528 | AF25: 1774.81 | AG25: 18791.65 | AH25: =AG25-(AI25*AF25) -> 2.6517009e-06 | AI25: =ROUND(AG25/AF25,8) -> 10.587978 | AJ25: 1551.22 | AK25: 16994.64 | AL25: =AK25-(AM25*AJ25) -> -6.5662025e-06 | AM25: =ROUND(AK25/AJ25,8) -> 10.955661 | AN25: 1246.85 | AO25: 17478.24 | AP25: =AO25-(AQ25*AV25) -> -39955.129 | AQ25: =ROUND(AO25/AN25,8) -> 14.017917 | AR25: 1529.18 | AS25: 18648.47 | AT25: =AS25-(AU25*AR25) -> -3.0037991e-06 | AU25: =ROUND(AS25/AR25,8) -> 12.195078 | AV25: 4097.14 | AW25: 27766.55 | AX25: =AW25-(AY25*AV25) -> -5.8952028e-06 | AY25: =ROUND(AW25/AV25,8) -> 6.7770567 | AZ25: =AV25+AR25+AV25+AJ25+AF25+AB25+X25+AB25+P25+L25+H25+D25 -> 68984.66 | BA25: =AW25+AS25+AO25+AK25+AG25+AC25+Y25+U25+Q25+M25+I25+E25 -> 433501.28 | BB25: =AJ25+AF25+AB25+X25+AB25+P25+L25+H25+D25 -> 59261.2 | BC25: =AK25+AG25+AC25+Y25+U25+Q25+M25+I25+E25 -> 369608.02 | BD25: =AV25+AR25+AV25 -> 9723.46 | BE25: =AW25+AS25+AO25 -> 63893.26 | BF25: =(BD25+BB25)-AZ25 -> 0 | BG25: =(BE25+BC25)-BA25 -> 0
A26: มหาวิทยาลัยแม่โจ้ (หมู่ 6 ตำบลป่าไผ่)
A27: 1 | B27: มหาวิทยาลัยแม่โจ้ (หมู่ 6 ตำบลป่าไผ่) | C27: 0633 020005539809 | D27: 1117 | E27: 5517.48 | F27: =E27-(G27*D27) -> 2.7099995e-06 | G27: =ROUND(E27/D27,8) -> 4.9395524 | H27: 1090 | I27: 5379.13 | J27: =I27-(K27*H27) -> 1.4999996e-06 | K27: =ROUND(I27/H27,8) -> 4.9349817 | L27: 474 | M27: 2222.67 | N27: =M27-(O27*L27) -> -2.28e-06 | O27: =ROUND(M27/L27,8) -> 4.6891772 | P27: 235 | Q27: 1033.29 | R27: =Q27-(S27*P27) -> 7.9999995e-07 | S27: =ROUND(Q27/P27,8) -> 4.3969787 | T27: 173 | U27: 697.39 | V27: =U27-(W27*T27) -> -1.0999997e-07 | W27: =ROUND(U27/T27,8) -> 4.0311561 | X27: 121 | Y27: 481.72 | Z27: =Y27-(AA27*X27) -> 5.8000006e-07 | AA27: =ROUND(Y27/X27,8) -> 3.981157 | AB27: 113 | AC27: 452.22 | AD27: =AC27-(AE27*AB27) -> 3.0000001e-07 | AE27: =ROUND(AC27/AB27,8) -> 4.0019469 | AF27: 219 | AG27: 914.89 | AH27: =AG27-(AI27*AF27) -> -2.9000012e-07 | AI27: =ROUND(AG27/AF27,8) -> 4.1775799 | AJ27: 136 | AK27: 531.2 | AL27: =AK27-(AM27*AJ27) -> 3.9999998e-07 | AM27: =ROUND(AK27/AJ27,8) -> 3.9058824 | AN27: 197 | AO27: 802.44 | AP27: =AO27-(AQ27*AV27) -> -786.1468 | AQ27: =ROUND(AO27/AN27,8) -> 4.0732995 | AR27: 247 | AS27: 1036.71 | AT27: =AS27-(AU27*AR27) -> -5.5999999e-07 | AU27: =ROUND(AS27/AR27,8) -> 4.1972065 | AV27: 390 | AW27: 1706.75 | AX27: =AW27-(AY27*AV27) -> 4.9999994e-07 | AY27: =ROUND(AW27/AV27,8) -> 4.3762821 | AZ27: =AV27+AR27+AV27+AJ27+AF27+AB27+X27+AB27+P27+L27+H27+D27 -> 4645 | BA27: =AW27+AS27+AO27+AK27+AG27+AC27+Y27+U27+Q27+M27+I27+E27 -> 20775.89 | BB27: =AJ27+AF27+AB27+X27+AB27+P27+L27+H27+D27 -> 3618 | BC27: =AK27+AG27+AC27+Y27+U27+Q27+M27+I27+E27 -> 17229.99 | BD27: =AV27+AR27+AV27 -> 1027 | BE27: =AW27+AS27+AO27 -> 3545.9 | BF27: =(BD27+BB27)-AZ27 -> 0 | BG27: =(BE27+BC27)-BA27 -> 0
A28: สำนักฟาร์มมหาวิทยาลัยแม่โจ้ (ฟาร์มพร้าว )
A29: 1 | B29: มหาวิทยาลัยแม่โจ้ (อุทยานเกษตร) | C29: 9804 020005752138 | D29: 6760 | E29: 29188.97 | F29: =E29-(G29*D29) -> 2.7999995e-06 | G29: =ROUND(E29/D29,8) -> 4.317895 | H29: 6892 | I29: 29640.02 | J29: =I29-(K29*H29) -> 2.2559998e-05 | K29: =ROUND(I29/H29,8) -> 4.3006413 | L29: 6768 | M29: 28975.32 | N29: =M29-(O29*L29) -> 2.8800001e-05 | O29: =ROUND(M29/L29,8) -> 4.2812234 | P29: 11000 | Q29: 46064.53 | R29: =Q29-(S29*P29) -> -5.0000002e-05 | S29: =ROUND(Q29/P29,8) -> 4.1876846 | T29: 3592 | U29: 14991.73 | V29: =U29-(W29*T29) -> -2.3200009e-06 | W29: =ROUND(U29/T29,8) -> 4.1736442 | X29: 3432 | Y29: 14316.09 | Z29: =Y29-(AA29*X29) -> -1.6799999e-05 | AA29: =ROUND(Y29/X29,8) -> 4.1713549 | AB29: 1788 | AC29: 7597.16 | AD29: =AC29-(AE29*AB29) -> -4.9599994e-06 | AE29: =ROUND(AC29/AB29,8) -> 4.2489709 | AF29: 1336 | AG29: 6203.42 | AH29: =AG29-(AI29*AF29) -> 4.1600006e-06 | AI29: =ROUND(AG29/AF29,8) -> 4.6432784 | AJ29: 2180 | AK29: 9817.99 | AL29: =AK29-(AM29*AJ29) -> -5.1999996e-06 | AM29: =ROUND(AK29/AJ29,8) -> 4.5036651 | AN29: 2908 | AO29: 12985.08 | AP29: =AO29-(AQ29*AV29) -> -4715.3523 | AQ29: =ROUND(AO29/AN29,8) -> 4.4652957 | AR29: 3420 | AS29: 15212.48 | AT29: =AS29-(AU29*AR29) -> -9.4000006e-06 | AU29: =ROUND(AS29/AR29,8) -> 4.4480936 | AV29: 3964 | AW29: 17579.1 | AX29: =AW29-(AY29*AV29) -> 1.8479997e-05 | AY29: =ROUND(AW29/AV29,8) -> 4.4346872
A30: 2 | B30: มหาวิทยาลัยแม่โจ้ | C30: 9803 020016314816 | D30: 0 | E30: 334.1 | F30: 0 | G30: - | H30: 0 | I30: 334.1 | J30: 0 | K30: - | L30: 0 | M30: 334.1 | N30: 0 | O30: - | P30: 0 | Q30: 334.1 | R30: 0 | S30: - | T30: 0 | U30: 334.1 | V30: 0 | W30: - | X30: 0 | Y30: 334.1 | Z30: 0 | AA30: - | AB30: 0 | AC30: 334.1 | AD30: 0 | AE30: - | AF30: 0 | AG30: 334.1 | AH30: 0 | AI30: - | AJ30: 0 | AK30: 334.1 | AL30: 0 | AM30: - | AN30: 0 | AO30: 334.1 | AP30: 0 | AQ30: - | AR30: 0 | AS30: 334.1 | AT30: 0 | AU30: - | AV30: 0 | AW30: 334.1 | AX30: 0 | AY30: - | BJ30: kWh | BK30: %
A31: รวม | D31: =SUM(D29:D30) -> 6760 | E31: =SUM(E29:E30) -> 29523.07 | G31: - | H31: =SUM(H29:H30) -> 6892 | I31: =SUM(I29:I30) -> 29974.12 | K31: - | L31: =SUM(L29:L30) -> 6768 | M31: =SUM(M29:M30) -> 29309.42 | O31: - | P31: =SUM(P29:P30) -> 11000 | Q31: =SUM(Q29:Q30) -> 46398.63 | S31: - | T31: =SUM(AB29:AB30) -> 1788 | U31: =SUM(U29:U30) -> 15325.83 | W31: - | X31: =SUM(X29:X30) -> 3432 | Y31: =SUM(Y29:Y30) -> 14650.19 | AA31: - | AB31: =SUM(AB29:AB30) -> 1788 | AC31: =SUM(AC29:AC30) -> 7931.26 | AE31: - | AF31: =SUM(AF29:AF30) -> 1336 | AG31: =SUM(AG29:AG30) -> 6537.52 | AI31: - | AJ31: =SUM(AJ29:AJ30) -> 2180 | AK31: =SUM(AK29:AK30) -> 10152.09 | AM31: - | AN31: =SUM(AN29:AN30) -> 2908 | AO31: =SUM(AO29:AO30) -> 13319.18 | AQ31: - | AR31: =SUM(AR29:AR30) -> 3420 | AS31: =SUM(AS29:AS30) -> 15546.58 | AU31: - | AV31: =SUM(AV29:AV30) -> 3964 | AW31: =SUM(AW29:AW30) -> 17913.2 | AY31: - | AZ31: =AV31+AR31+AV31+AJ31+AF31+AB31+X31+AB31+P31+L31+H31+D31 -> 53292 | BA31: =AW31+AS31+AO31+AK31+AG31+AC31+Y31+U31+Q31+M31+I31+E31 -> 236581.09 | BB31: =AJ31+AF31+AB31+X31+AB31+P31+L31+H31+D31 -> 41944 | BC31: =AK31+AG31+AC31+Y31+U31+Q31+M31+I31+E31 -> 189802.13 | BD31: =AV31+AR31+AV31 -> 11348 | BE31: =AW31+AS31+AO31 -> 46778.96 | BF31: =(BD31+BB31)-AZ31 -> 0 | BG31: =(BE31+BC31)-BA31 -> 0 | BI31: ม.เชียงใหม่ | BJ31: =SUM(AV31+AV27+AV25+AV21+AV17+AV11+AV9+AV7+AV5) -> 754456.25 | BK31: =BJ31/AV45*100 -> 86.908304
A32: มหาวิทยาลัยแม่โจ้-แพร่ เฉลิมพระเกียรติ | AF32: =SUM(AF31+AF27+AF25+AF21+AF17+AF11+AF9+AF7+AF5) -> 1164801 | AG32: =SUM(AG31+AG27+AG25+AG21+AG17+AG11+AG9+AG7+AG5) -> 4862440.8 | AH32: =AH31+AH27+AH25+AH21+AH17+AH11+AH9+AH7+AH5 -> -0.0036843411 | AJ32: =SUM(AJ31+AJ27+AJ25+AJ21+AJ17+AJ11+AJ9+AJ7+AJ5) -> 1193717.7 | AK32: =SUM(AK31+AK27+AK25+AK21+AK17+AK11+AK9+AK7+AK5) -> 5028695.6 | AN32: =SUM(AV31+AV27+AV25+AV21+AV17+AV11+AV9+AV7+AV5) -> 754456.25 | AO32: =SUM(AO31+AO27+AO25+AO21+AO17+AO11+AO9+AO7+AO5) -> 4322600.4 | AR32: =SUM(AR31+AR27+AR25+AR21+AR17+AR11+AR9+AR7+AR5) -> 785247.27 | AS32: =SUM(AS31+AS27+AS25+AS21+AS17+AS11+AS9+AS7+AS5) -> 3173007.3 | AV32: =SUM(AV31+AV27+AV25+AV21+AV17+AV11+AV9+AV7+AV5) -> 754456.25 | AW32: =SUM(AW31+AW27+AW25+AW21+AW17+AW11+AW9+AW7+AW5) -> 3037013.7 | BI32: แพร่ | BJ32: =AV36 -> 85471.99 | BK32: =BJ32/AV45*100 -> 9.8458004
A33: 1 | B33: มหาวิทยาลัยแม่โจ้เฉลิมพระเกียรติ แพร่ | C33: 9801 020010405428 | D33: 62880 | E33: 273707.18 | F33: =E33-(G33*D33) -> 0.00029599998 | G33: =ROUND(E33/D33,8) -> 4.3528496 | H33: 66720 | I33: 296918.49 | J33: =I33-(K33*H33) -> -0.00024960004 | K33: =ROUND(I33/H33,8) -> 4.4502172 | L33: 91440 | M33: 427956.04 | N33: =M33-(O33*L33) -> 0.00040960003 | O33: =ROUND(M33/L33,8) -> 4.6801842 | P33: 66600 | Q33: 301741.14 | R33: =Q33-(S33*P33) -> -0.00014999998 | S33: =ROUND(Q33/P33,8) -> 4.5306477 | T33: 66840 | U33: 297447.3 | V33: =U33-(W33*T33) -> -0.00011760002 | W33: =ROUND(U33/T33,8) -> 4.4501391 | X33: 78720 | Y33: 363307.78 | Z33: =Y33-(AA33*X33) -> 0.00037120003 | AA33: =ROUND(Y33/X33,8) -> 4.6151903 | AB33: 99480 | AC33: 426658.48 | AD33: =AC33-(AE33*AB33) -> 0.0002452 | AE33: =ROUND(AC33/AB33,8) -> 4.288887 | AF33: 106560 | AG33: 463822.24 | AH33: =AG33-(AI33*AF33) -> -0.00040640001 | AI33: =ROUND(AG33/AF33,8) -> 4.3526862 | AJ33: 111360 | AK33: 476401.29 | AL33: =AK33-(AM33*AJ33) -> -0.00050880003 | AM33: =ROUND(AK33/AJ33,8) -> 4.2780288 | AN33: 100440 | AO33: 425188.7 | AP33: =AO33-(AQ33*AV33) -> 109726.12 | AQ33: =ROUND(AO33/AN33,8) -> 4.2332607 | AR33: 68640 | AS33: 290641.98 | AT33: =AS33-(AU33*AR33) -> 2.8799986e-05 | AU33: =ROUND(AS33/AR33,8) -> 4.2342946 | AV33: 74520 | AW33: 305171.89 | AX33: =AW33-(AY33*AV33) -> -0.00029719999 | AY33: =ROUND(AW33/AV33,8) -> 4.0951676 | BI33: ชุมพร | BJ33: =AV43 -> 28177.82 | BK33: =BJ33/AV45*100 -> 3.245896
A34: 2 | B34: โรงสูบน้ำมหาวิทยาลัยแม่โจ้ | C34: 9801 020010405537 | D34: 6953.34 | E34: 32223.11 | F34: =E34-(G34*D34) -> -2.85442e-05 | G34: =ROUND(E34/D34,8) -> 4.6341916 | H34: 7347.57 | I34: 34662.46 | J34: =I34-(K34*H34) -> -6.7690999e-06 | K34: =ROUND(I34/H34,8) -> 4.7175406 | L34: 8967.33 | M34: 43106.31 | N34: =M34-(O34*L34) -> 3.2098498e-05 | O34: =ROUND(M34/L34,8) -> 4.8070395 | P34: 6492.3 | Q34: 31125.3 | R34: =Q34-(S34*P34) -> -4.0800296e-07 | S34: =ROUND(Q34/P34,8) -> 4.794187 | T34: 7046.67 | U34: 32269.34 | V34: =U34-(W34*T34) -> 8.1520993e-06 | W34: =ROUND(U34/T34,8) -> 4.5793744 | X34: 11688.18 | Y34: 50406.35 | Z34: =Y34-(AA34*X34) -> -4.309661e-05 | AA34: =ROUND(Y34/X34,8) -> 4.3125919 | AB34: 9504.36 | AC34: 41146.84 | AD34: =AC34-(AE34*AB34) -> 3.3972399e-05 | AE34: =ROUND(AC34/AB34,8) -> 4.3292594 | AF34: 7890.72 | AG34: 37037.2 | AH34: =AG34-(AI34*AF34) -> -3.7539205e-05 | AI34: =ROUND(AG34/AF34,8) -> 4.6937669 | AJ34: 11180.22 | AK34: 48632.39 | AL34: =AK34-(AM34*AJ34) -> 1.9635205e-05 | AM34: =ROUND(AK34/AJ34,8) -> 4.3498598 | AN34: 12348.63 | AO34: 53406.48 | AP34: =AO34-(AQ34*AV34) -> 9184.5118 | AQ34: =ROUND(AO34/AN34,8) -> 4.3248911 | AR34: 6884.49 | AS34: 31075.25 | AT34: =AS34-(AU34*AR34) -> 2.9417024e-06 | AU34: =ROUND(AS34/AR34,8) -> 4.5138057 | AV34: 10224.99 | AW34: 42723.39 | AX34: =AW34-(AY34*AV34) -> -3.3192598e-05 | AY34: =ROUND(AW34/AV34,8) -> 4.1783307 | BK34: =SUM(BK31:BK33) -> 100
A35: 3 | B35: ศูนย์ประสานงานมหาวิทยาลัยแม่โจ้ | C35: 0025 020023324092 | D35: 755 | E35: 3662.55 | F35: =E35-(G35*D35) -> 2.0000002e-06 | G35: =ROUND(E35/D35,8) -> 4.8510596 | H35: 833 | I35: 4062.23 | J35: =I35-(K35*H35) -> 5.4999964e-07 | K35: =ROUND(I35/H35,8) -> 4.8766267 | L35: 1290 | M35: 6403.95 | N35: =M35-(O35*L35) -> -5.6999997e-06 | O35: =ROUND(M35/L35,8) -> 4.9643023 | P35: 1278 | Q35: 6342.46 | R35: =Q35-(S35*P35) -> 2.4999999e-06 | S35: =ROUND(Q35/P35,8) -> 4.9628013 | T35: 1215 | U35: 5798.64 | V35: =U35-(W35*T35) -> -1.5000023e-07 | W35: =ROUND(U35/T35,8) -> 4.7725432 | X35: 1143 | Y35: 5442.79 | Z35: =Y35-(AA35*X35) -> -8.6e-07 | AA35: =ROUND(Y35/X35,8) -> 4.761846 | AB35: 1199 | AC35: 5719.56 | AD35: =AC35-(AE35*AB35) -> -7.7000004e-07 | AE35: =ROUND(AC35/AB35,8) -> 4.7702752 | AF35: 1040 | AG35: 4933.75 | AH35: =AG35-(AI35*AF35) -> 4.8000002e-06 | AI35: =ROUND(AG35/AF35,8) -> 4.7439904 | AJ35: 1027 | AK35: 4825.54 | AL35: =AK35-(AM35*AJ35) -> 4.7500007e-06 | AM35: =ROUND(AK35/AJ35,8) -> 4.6986757 | AN35: 1087 | AO35: 5119.51 | AP35: =AO35-(AQ35*AV35) -> 1695.5139 | AQ35: =ROUND(AO35/AN35,8) -> 4.7097608 | AR35: 901 | AS35: 4208.21 | AT35: =AS35-(AU35*AR35) -> 3.6700003e-06 | AU35: =ROUND(AS35/AR35,8) -> 4.6705993 | AV35: 727 | AW35: 3355.71 | AX35: =AW35-(AY35*AV35) -> -2.1299998e-06 | AY35: =ROUND(AW35/AV35,8) -> 4.6158322
A36: รวม | D36: =SUM(D33:D35) -> 70588.34 | E36: =SUM(E33:E35) -> 309592.84 | G36: - | H36: =SUM(H33:H35) -> 74900.57 | I36: =SUM(I33:I35) -> 335643.18 | K36: - | L36: =SUM(L33:L35) -> 101697.33 | M36: =SUM(M33:M35) -> 477466.3 | O36: - | P36: =SUM(P33:P35) -> 74370.3 | Q36: =SUM(Q33:Q35) -> 339208.9 | S36: - | T36: =SUM(AB33:AB35) -> 110183.36 | U36: =SUM(U33:U35) -> 335515.28 | W36: - | X36: =SUM(X33:X35) -> 91551.18 | Y36: =SUM(Y33:Y35) -> 419156.92 | AA36: - | AB36: =SUM(AB33:AB35) -> 110183.36 | AC36: =SUM(AC33:AC35) -> 473524.88 | AE36: - | AF36: =SUM(AF33:AF35) -> 115490.72 | AG36: =SUM(AG33:AG35) -> 505793.19 | AI36: - | AJ36: =SUM(AJ33:AJ35) -> 123567.22 | AK36: =SUM(AK33:AK35) -> 529859.22 | AM36: - | AN36: =SUM(AN33:AN35) -> 113875.63 | AO36: =SUM(AO33:AO35) -> 483714.69 | AQ36: - | AR36: =SUM(AR33:AR35) -> 76425.49 | AS36: =SUM(AS33:AS35) -> 325925.44 | AU36: - | AV36: =SUM(AV33:AV35) -> 85471.99 | AW36: =SUM(AW33:AW35) -> 351250.99 | AY36: - | AZ36: =AV36+AR36+AV36+AJ36+AF36+AB36+X36+AB36+P36+L36+H36+D36 -> 1119901.9 | BA36: =AW36+AS36+AO36+AK36+AG36+AC36+Y36+U36+Q36+M36+I36+E36 -> 4886651.8 | BB36: =AJ36+AF36+AB36+X36+AB36+P36+L36+H36+D36 -> 872532.38 | BC36: =AK36+AG36+AC36+Y36+U36+Q36+M36+I36+E36 -> 3725760.7 | BD36: =AV36+AR36+AV36 -> 247369.47 | BE36: =AW36+AS36+AO36 -> 1160891.1 | BF36: =(BD36+BB36)-AZ36 -> 0 | BG36: =(BE36+BC36)-BA36 -> 0
A37: มหาวิทยาลัยแม่โจ้ - ชุมพร
A38: 1 | B38: สถาบันเทคโนโลยี่การเกษตรแม่โจ้ | C38: 9801 020004457486 | D38: 9572.49 | E38: 46850.37 | F38: =E38-(G38*D38) -> 3.1270203e-05 | G38: =ROUND(E38/D38,8) -> 4.894272 | H38: 8718.14 | I38: 43918.5 | J38: =I38-(K38*H38) -> 2.8353606e-05 | K38: =ROUND(I38/H38,8) -> 5.0375998 | L38: 12551.71 | M38: 63116 | N38: =M38-(O38*L38) -> 1.7795101e-05 | O38: =ROUND(M38/L38,8) -> 5.0284782 | P38: 10631.67 | Q38: 51206.35 | R38: =Q38-(S38*P38) -> 2.1691296e-05 | S38: =ROUND(Q38/P38,8) -> 4.8163976 | T38: 12933.6 | U38: 60980.54 | V38: =U38-(W38*T38) -> 2.4535999e-05 | W38: =ROUND(U38/T38,8) -> 4.714893 | X38: 12333.02 | Y38: 60961.38 | Z38: =Y38-(AA38*X38) -> 2.4586596e-05 | AA38: =ROUND(Y38/X38,8) -> 4.9429402 | AB38: 12167.38 | AC38: 53738.98 | AD38: =AC38-(AE38*AB38) -> -3.2377597e-05 | AE38: =ROUND(AC38/AB38,8) -> 4.4166435 | AF38: 11138.4 | AG38: 52613.34 | AH38: =AG38-(AI38*AF38) -> -2.4960027e-06 | AI38: =ROUND(AG38/AF38,8) -> 4.7235994 | AJ38: 10528.86 | AK38: 49479.45 | AL38: =AK38-(AM38*AJ38) -> 2.256599e-05 | AM38: =ROUND(AK38/AJ38,8) -> 4.6994119 | AN38: 10048.23 | AO38: 46516.63 | AP38: =AO38-(AQ38*AV38) -> 3354.463 | AQ38: =ROUND(AO38/AN38,8) -> 4.6293357 | AR38: 9770.79 | AS38: 47076.66 | AT38: =AS38-(AU38*AR38) -> -7.0508977e-06 | AU38: =ROUND(AS38/AR38,8) -> 4.8181017 | AV38: 9323.62 | AW38: 43429.88 | AX38: =AW38-(AY38*AV38) -> -2.945061e-05 | AY38: =ROUND(AW38/AV38,8) -> 4.6580491
A39: 2 | B39: มหาวิทยาลัยแม่โจ้วิทยาเขตชุมพร | C39: 9026 020016381667 | D39: 6624 | E39: 33740.55 | F39: =E39-(G39*D39) -> -3.168e-05 | G39: =ROUND(E39/D39,8) -> 5.0936821 | H39: 6888 | I39: 35609.24 | J39: =I39-(K39*H39) -> 2.4800029e-06 | K39: =ROUND(I39/H39,8) -> 5.1697503 | L39: 8988 | M39: 47403.33 | N39: =M39-(O39*L39) -> -1.4879995e-05 | O39: =ROUND(M39/L39,8) -> 5.2740688 | P39: 8028 | Q39: 40741.14 | R39: =Q39-(S39*P39) -> -1.1760007e-05 | S39: =ROUND(Q39/P39,8) -> 5.0748804 | T39: 8448 | U39: 42270.16 | V39: =U39-(W39*T39) -> -3.5839999e-05 | W39: =ROUND(U39/T39,8) -> 5.0035701 | X39: 7224 | Y39: 40509.35 | Z39: =Y39-(AA39*X39) -> -6.1600003e-06 | AA39: =ROUND(Y39/X39,8) -> 5.6076066 | AB39: 11700 | AC39: 61913.01 | AD39: =AC39-(AE39*AB39) -> -4.2e-05 | AE39: =ROUND(AC39/AB39,8) -> 5.2917103 | AF39: 11256 | AG39: 62294.24 | AH39: =AG39-(AI39*AF39) -> 4.0159997e-05 | AI39: =ROUND(AG39/AF39,8) -> 5.5343141 | AJ39: 10080 | AK39: 54483.2 | AL39: =AK39-(AM39*AJ39) -> -4.9600007e-05 | AM39: =ROUND(AK39/AJ39,8) -> 5.4050794 | AN39: 9204 | AO39: 46708.12 | AP39: =AO39-(AQ39*AV39) -> -1644.2233 | AQ39: =ROUND(AO39/AN39,8) -> 5.0747631 | AR39: 8064 | AS39: 40062.89 | AT39: =AS39-(AU39*AR39) -> -4.4800036e-06 | AU39: =ROUND(AS39/AR39,8) -> 4.9681163 | AV39: 9528 | AW39: 45760.36 | AX39: =AW39-(AY39*AV39) -> 1.1199998e-05 | AY39: =ROUND(AW39/AV39,8) -> 4.8027246
A40: 3 | B40: มหาวิทยาลัยแม่โจ้วิทยาเขตชุมพร | C40: 9801 020004456066 | D40: 3136.8 | E40: 14685.28 | F40: =E40-(G40*D40) -> 1.1656e-05 | G40: =ROUND(E40/D40,8) -> 4.6816118 | H40: 3088.8 | I40: 14465.68 | J40: =I40-(K40*H40) -> 1.0095999e-05 | K40: =ROUND(I40/H40,8) -> 4.6832686 | L40: 3359.2 | M40: 15702.8 | N40: =M40-(O40*L40) -> 9.0960002e-06 | O40: =ROUND(M40/L40,8) -> 4.6745654 | P40: 1855.2 | Q40: 8821.84 | R40: =Q40-(S40*P40) -> -8.7919998e-06 | S40: =ROUND(Q40/P40,8) -> 4.7551962 | T40: 1351.2 | U40: 6270.2 | V40: =U40-(W40*T40) -> 3.2239996e-06 | W40: =ROUND(U40/T40,8) -> 4.6404677 | X40: 1436.8 | Y40: 6646.25 | Z40: =Y40-(AA40*X40) -> 9.2799928e-07 | AA40: =ROUND(Y40/X40,8) -> 4.6257308 | AB40: 4145.6 | AC40: 18546.57 | AD40: =AC40-(AE40*AB40) -> 1.7263999e-05 | AE40: =ROUND(AC40/AB40,8) -> 4.4737963 | AF40: 4555.2 | AG40: 20346.04 | AH40: =AG40-(AI40*AF40) -> 6.4480046e-06 | AI40: =ROUND(AG40/AF40,8) -> 4.4665525 | AJ40: 4450.4 | AK40: 19695.15 | AL40: =AK40-(AM40*AJ40) -> -5.9439953e-06 | AM40: =ROUND(AK40/AJ40,8) -> 4.4254786 | AN40: 4344.8 | AO40: 19235.73 | AP40: =AO40-(AQ40*AV40) -> -718.9934 | AQ40: =ROUND(AO40/AN40,8) -> 4.4272993 | AR40: 2928 | AS40: 13072.09 | AT40: =AS40-(AU40*AR40) -> 5.9200011e-06 | AU40: =ROUND(AS40/AR40,8) -> 4.4645116 | AV40: 4507.2 | AW40: 19942.25 | AX40: =AW40-(AY40*AV40) -> 6.0800085e-07 | AY40: =ROUND(AW40/AV40,8) -> 4.4245319
A41: 4 | B41: มหาวิทยาลัยแม่โจ้(อาคารชุดพักอาศัยข้าราชการ) | C41: 9801 020004456103 | D41: 3742.5 | E41: 17456.44 | F41: =E41-(G41*D41) -> -1.6775004e-05 | G41: =ROUND(E41/D41,8) -> 4.6643794 | H41: 4016 | I41: 18707.72 | J41: =I41-(K41*H41) -> 1.104e-05 | K41: =ROUND(I41/H41,8) -> 4.6582968 | L41: 5946 | M41: 27537.68 | N41: =M41-(O41*L41) -> -1.0539999e-05 | O41: =ROUND(M41/L41,8) -> 4.631295 | P41: 5132.5 | Q41: 23815.82 | R41: =Q41-(S41*P41) -> 1.8275001e-05 | S41: =ROUND(Q41/P41,8) -> 4.6401987 | T41: 5637.5 | U41: 25100.8 | V41: =U41-(W41*T41) -> -1.9625004e-05 | W41: =ROUND(U41/T41,8) -> 4.4524701 | X41: 4957.5 | Y41: 22113.41 | Z41: =Y41-(AA41*X41) -> -2.4100002e-05 | AA41: =ROUND(Y41/X41,8) -> 4.4605971 | AB41: 5343 | AC41: 23807 | AD41: =AC41-(AE41*AB41) -> -1.2639997e-05 | AE41: =ROUND(AC41/AB41,8) -> 4.4557365 | AF41: 5432.5 | AG41: 24200.19 | AH41: =AG41-(AI41*AF41) -> -1.9050003e-05 | AI41: =ROUND(AG41/AF41,8) -> 4.4547059 | AJ41: 4742 | AK41: 20963.73 | AL41: =AK41-(AM41*AJ41) -> -2.2420001e-05 | AM41: =ROUND(AK41/AJ41,8) -> 4.4208625 | AN41: 5298.5 | AO41: 23387.72 | AP41: =AO41-(AQ41*AV41) -> 2884.5664 | AQ41: =ROUND(AO41/AN41,8) -> 4.4140266 | AR41: 4580 | AS41: 20258.96 | AT41: =AS41-(AU41*AR41) -> 8.2000006e-06 | AU41: =ROUND(AS41/AR41,8) -> 4.4233537 | AV41: 4645 | AW41: 20541.73 | AX41: =AW41-(AY41*AV41) -> -3.2999997e-06 | AY41: =ROUND(AW41/AV41,8) -> 4.4223315
A42: 5 | B42: มหาวิทยาลัยแม่โจ้วิทยาเขตชุมพร | C42: 9801 020022277344 | D42: 109.5 | E42: 835.07 | F42: =E42-(G42*D42) -> -4.7499998e-07 | G42: =ROUND(E42/D42,8) -> 7.6262101 | H42: 82 | I42: 709.26 | J42: =I42-(K42*H42) -> -3.9999998e-07 | K42: =ROUND(I42/H42,8) -> 8.6495122 | L42: 39.5 | M42: 514.82 | N42: =M42-(O42*L42) -> 6.0000048e-08 | O42: =ROUND(M42/L42,8) -> 13.033418 | P42: 64 | Q42: 583.44 | R42: =Q42-(S42*P42) -> 0 | S42: =ROUND(Q42/P42,8) -> 9.11625 | T42: 27.59 | U42: 454.9 | V42: =U42-(W42*T42) -> -1.2800001e-08 | W42: =ROUND(U42/T42,8) -> 16.487858 | X42: 35 | Y42: 487.87 | Z42: =Y42-(AA42*X42) -> -1.0000002e-07 | AA42: =ROUND(Y42/X42,8) -> 13.939143 | AB42: 222.5 | AC42: 1311.58 | AD42: =AC42-(AE42*AB42) -> 6.7499991e-07 | AE42: =ROUND(AC42/AB42,8) -> 5.8947416 | AF42: 693.5 | AG42: 3380.78 | AH42: =AG42-(AI42*AF42) -> -2.5899994e-06 | AI42: =ROUND(AG42/AF42,8) -> 4.8749531 | AJ42: 521.5 | AK42: 2602.83 | AL42: =AK42-(AM42*AJ42) -> 1.2099999e-06 | AM42: =ROUND(AK42/AJ42,8) -> 4.9910451 | AN42: 480 | AO42: 2422.3 | AP42: =AO42-(AQ42*AV42) -> 1544.2163 | AQ42: =ROUND(AO42/AN42,8) -> 5.0464583 | AR42: 202.5 | AS42: 1215.04 | AT42: =AS42-(AU42*AR42) -> 1.7499997e-07 | AU42: =ROUND(AS42/AR42,8) -> 6.0001975 | AV42: 174 | AW42: 1091.06 | AX42: =AW42-(AY42*AV42) -> 1.9999788e-08 | AY42: =ROUND(AW42/AV42,8) -> 6.2704598
A43: รวม | D43: =SUM(D38:D42) -> 23185.29 | E43: =SUM(E38:E42) -> 113567.71 | G43: - | H43: =SUM(H38:H42) -> 22792.94 | I43: =SUM(I38:I42) -> 113410.4 | K43: - | L43: =SUM(L38:L42) -> 30884.41 | M43: =SUM(M38:M42) -> 154274.63 | O43: - | P43: =SUM(P38:P42) -> 25711.37 | Q43: =SUM(Q38:Q42) -> 125168.59 | S43: - | T43: =SUM(AB38:AB42) -> 33578.48 | U43: =SUM(U38:U42) -> 135076.6 | W43: - | X43: =SUM(X38:X42) -> 25986.32 | Y43: =SUM(Y38:Y42) -> 130718.26 | AA43: - | AB43: =SUM(AB38:AB42) -> 33578.48 | AC43: =SUM(AC38:AC42) -> 159317.14 | AE43: - | AF43: =SUM(AF38:AF42) -> 33075.6 | AG43: =SUM(AG38:AG42) -> 162834.59 | AI43: - | AJ43: =SUM(AJ38:AJ42) -> 30322.76 | AK43: =SUM(AK38:AK42) -> 147224.36 | AM43: - | AN43: =SUM(AN38:AN42) -> 29375.53 | AO43: =SUM(AO38:AO42) -> 138270.5 | AQ43: - | AR43: =SUM(AR38:AR42) -> 25545.29 | AS43: =SUM(AS38:AS42) -> 121685.64 | AU43: - | AV43: =SUM(AV38:AV42) -> 28177.82 | AW43: =SUM(AW38:AW42) -> 130765.28 | AY43: - | AZ43: =AV43+AR43+AV43+AJ43+AF43+AB43+X43+AB43+P43+L43+H43+D43 -> 341016.58 | BA43: =AW43+AS43+AO43+AK43+AG43+AC43+Y43+U43+Q43+M43+I43+E43 -> 1632313.7 | BB43: =AJ43+AF43+AB43+X43+AB43+P43+L43+H43+D43 -> 259115.65 | BC43: =AK43+AG43+AC43+Y43+U43+Q43+M43+I43+E43 -> 1241592.3 | BD43: =AV43+AR43+AV43 -> 81900.93 | BE43: =AW43+AS43+AO43 -> 390721.42 | BF43: =(BD43+BB43)-AZ43 -> 0 | BG43: =(BE43+BC43)-BA43 -> 0 | BM43: =AB43/AB45*100 -> 2.5376326
A45: รวมทุกบิลค่าไฟฟ้า | D45: =D43+D36+D31+D27+D25+D21+D17+D11+D9+D7+D5 -> 830547.71 | E45: =E43+E36+E31+E27+E25+E21+E17+E11+E9+E7+E5 -> 3556196.2 | G45: - | H45: =H43+H36+H31+H27+H25+H21+H17+H11+H9+H7+H5 -> 948812.9 | I45: =I43+I36+I31+I27+I25+I21+I17+I11+I9+I7+I5 -> 4181305 | K45: - | L45: =L43+L36+L31+L27+L25+L21+L17+L11+L9+L7+L5 -> 1151352.2 | M45: =M43+M36+M31+M27+M25+M21+M17+M11+M9+M7+M5 -> 5053411.9 | O45: - | P45: =P43+P36+P31+P27+P25+P21+P17+P11+P9+P7+P5 -> 965715.64 | Q45: =Q43+Q36+Q31+Q27+Q25+Q21+Q17+Q11+Q9+Q7+Q5 -> 4292919.3 | S45: - | T45: =T43+T36+T31+T27+T25+T21+T17+T11+T9+T7+T5 -> 955305.14 | U45: =U43+U36+U31+U27+U25+U21+U17+U11+U9+U7+U5 -> 3923401.1 | W45: - | X45: =X43+X36+X31+X27+X25+X21+X17+X11+X9+X7+X5 -> 1123585.3 | Y45: =Y43+Y36+Y31+Y27+Y25+Y21+Y17+Y11+Y9+Y7+Y5 -> 4777621.9 | AA45: - | AB45: =AB43+AB36+AB31+AB27+AB25+AB21+AB17+AB11+AB9+AB7+AB5 -> 1323220.7 | AC45: =AC43+AC36+AC31+AC27+AC25+AC21+AC17+AC11+AC9+AC7+AC5 -> 5626256.3 | AE45: - | AF45: =AF43+AF36+AF31+AF27+AF25+AF21+AF17+AF11+AF9+AF7+AF5 -> 1313367.3 | AG45: =AG43+AG36+AG31+AG27+AG25+AG21+AG17+AG11+AG9+AG7+AG5 -> 5531068.6 | AI45: - | AJ45: =AJ43+AJ36+AJ31+AJ27+AJ25+AJ21+AJ17+AJ11+AJ9+AJ7+AJ5 -> 1347607.7 | AK45: =AK43+AK36+AK31+AK27+AK25+AK21+AK17+AK11+AK9+AK7+AK5 -> 5705779.2 | AM45: - | AN45: =AN43+AN36+AN31+AN27+AN25+AN21+AN17+AN11+AN9+AN7+AN5 -> 1180133.5 | AO45: =AO43+AO36+AO31+AO27+AO25+AO21+AO17+AO11+AO9+AO7+AO5 -> 4944585.6 | AQ45: - | AR45: =AR43+AR36+AR31+AR27+AR25+AR21+AR17+AR11+AR9+AR7+AR5 -> 887218.05 | AS45: =AS43+AS36+AS31+AS27+AS25+AS21+AS17+AS11+AS9+AS7+AS5 -> 3620618.4 | AU45: - | AV45: =AV43+AV36+AV31+AV27+AV25+AV21+AV17+AV11+AV9+AV7+AV5 -> 868106.06 | AW45: =AW43+AW36+AW31+AW27+AW25+AW21+AW17+AW11+AW9+AW7+AW5 -> 3519030 | AY45: - | AZ45: =AV45+AR45+AV45+AJ45+AF45+AB45+X45+AB45+P45+L45+H45+D45 -> 12950860 | BA45: =AW45+AS45+AO45+AK45+AG45+AC45+Y45+U45+Q45+M45+I45+E45 -> 54732193 | BB45: =AJ45+AF45+AB45+X45+AB45+P45+L45+H45+D45 -> 10327430 | BC45: =AK45+AG45+AC45+Y45+U45+Q45+M45+I45+E45 -> 42647959 | BD45: =AV45+AR45+AV45 -> 2623430.2 | BE45: =AW45+AS45+AO45 -> 12084234 | BF45: =(BD45+BB45)-AZ45 -> 0 | BG45: =(BE45+BC45)-BA45 -> 0 | BM45: =SUM(BM31:BM44) -> 2.5376326
A52: การใช้พลังงานไฟฟ้า ตามหนังสือแจ้งค่าไฟฟ้า(จ่ายตรงกับการไฟฟ้า)
A53: ลำดับ | B53: ชื่ออาคาร | C53: หมายเลข | D53: มกราคม 68 | H53: กุมภาพันธ์ 68 | L53: มีนาคม 68 | P53: เมษายน 68 | T53: พฤษภาคม 68 | X53: มิถุนายน 68 | AB53: กรกฏาคม 68 | AF53: สิงหาคม 68 | AJ53: กันยายน 68 | AN53: ตุลาคม 68 | AR53: พฤศจิกายน 68 | AV53: ธันวาคม 68 | AZ53: ผลรวมบิลค่าไฟฟ้า/ปี | BB53: ม.ค.-ก.ย. 68 | BD53: ต.ค.-ธ.ค. 68 | BF53: เช็ด
C54: ผู้ใช้ไฟฟ้า | D54: kWh | E54: บาท | F54: เช็ด | G54: หน่วยค่าไฟ/บาท | H54: kWh | I54: บาท | J54: เช็ด | K54: หน่วยค่าไฟ/บาท | L54: kWh | M54: บาท | N54: เช็ด | O54: หน่วยค่าไฟ/บาท | P54: kWh | Q54: บาท | R54: เช็ด | S54: หน่วยค่าไฟ/บาท | T54: kWh | U54: บาท | V54: เช็ด | W54: หน่วยค่าไฟ/บาท | X54: kWh | Y54: บาท | Z54: เช็ด | AA54: หน่วยค่าไฟ/บาท | AB54: kWh | AC54: บาท | AD54: เช็ด | AE54: หน่วยค่าไฟ/บาท | AF54: kWh | AG54: บาท | AH54: เช็ด | AI54: หน่วยค่าไฟ/บาท | AJ54: kWh | AK54: บาท | AL54: เช็ด | AM54: หน่วยค่าไฟ/บาท | AN54: kWh | AO54: บาท | AP54: เช็ด | AQ54: หน่วยค่าไฟ/บาท | AR54: kWh | AS54: บาท | AT54: เช็ด | AU54: หน่วยค่าไฟ/บาท | AV54: kWh | AW54: บาท | AX54: เช็ด | AY54: หน่วยค่าไฟ/บาท | AZ54: kWh | BA54: บาท | BB54: kWh | BC54: บาท | BD54: kWh | BE54: บาท | BF54: kWh | BG54: บาท
A55: มหาวิทยาลัยแม่โจ้ (ศูนย์ทดลองวิจัยและพัฒนากัญชงอุตสาหกรรม)
A56: 1 | B56: มหาวิทยาลัยแม่โจ้ (ศูนย์ทดลองวิจัยและพัฒนากัญชงอุตสาหกรรม) | C56: 9205 20025162757 | D56: 2668 | E56: 13335.45 | F56: =E56-(G56*D56) -> 7.2000003e-06 | G56: =ROUND(E56/D56,8) -> 4.9982946 | H56: 1636 | I56: 7244.99 | J56: =I56-(K56*H56) -> -8.0000009e-06 | K56: =ROUND(I56/H56,8) -> 4.428478 | L56: 1684 | M56: 8890.88 | N56: =M56-(O56*L56) -> 4.1999992e-06 | O56: =ROUND(M56/L56,8) -> 5.2796199 | P56: 2400 | Q56: 13376.68 | R56: =Q56-(S56*P56) -> -7.9999991e-06 | S56: =ROUND(Q56/P56,8) -> 5.5736167 | T56: 1684 | U56: 8660.08 | V56: =U56-(W56*T56) -> 1.1199991e-06 | W56: =ROUND(U56/T56,8) -> 5.1425653 | X56: 2356 | Y56: 10684.49 | Z56: =Y56-(AA56*X56) -> 8.1199996e-06 | AA56: =ROUND(Y56/X56,8) -> 4.5350127 | AB56: 2305.2 | AC56: 10461.33 | AD56: =AC56-(AE56*AB56) -> -9.8399978e-06 | AE56: =ROUND(AC56/AB56,8) -> 4.5381442 | AF56: 1902.8 | AG56: 8693.49 | AH56: =AG56-(AI56*AF56) -> 3.3199995e-06 | AI56: =ROUND(AG56/AF56,8) -> 4.5687881 | AJ56: 2176 | AK56: 9800.59 | AL56: =AK56-(AM56*AJ56) -> 6.4000051e-07 | AM56: =ROUND(AK56/AJ56,8) -> 4.5039476 | AN56: 1280 | AO56: 5902.62 | AP56: =AO56-(AQ56*AV56) -> -110.67413 | AQ56: =ROUND(AO56/AN56,8) -> 4.6114219 | AR56: 1248 | AS56: 5763.41 | AT56: =AS56-(AU56*AR56) -> -3.5200001e-06 | AU56: =ROUND(AS56/AR56,8) -> 4.618117 | AV56: 1304 | AW56: 6007.02 | AX56: =AW56-(AY56*AV56) -> -7.1999966e-07 | AY56: =ROUND(AW56/AV56,8) -> 4.6066104 | AZ56: =AV56+AR56+AV56+AJ56+AF56+AB56+X56+AB56+P56+L56+H56+D56 -> 23289.2 | BA56: =AW56+AS56+AO56+AK56+AG56+AC56+Y56+U56+Q56+M56+I56+E56 -> 108821.03 | BB56: =AJ56+AF56+AB56+X56+AB56+P56+L56+H56+D56 -> 19433.2 | BC56: =AK56+AG56+AC56+Y56+U56+Q56+M56+I56+E56 -> 91147.98 | BD56: =AV56+AR56+AV56 -> 3856 | BE56: =AW56+AS56+AO56 -> 17673.05 | BF56: =(BD56+BB56)-AZ56 -> 0 | BG56: =(BE56+BC56)-BA56 -> 0 | BH56: 23
A57: สำนักฟาร์มมหาวิทยาลัยแม่โจ้ (ฟาร์มบ้านโปง)
A58: 1 | B58: สำนักฟาร์ม มหาวิทยาลัยแม่โจ้ 2 | C58: 9205 020005984784 | D58: 1065 | E58: 5343.84 | F58: 0 | G58: =ROUND(E58/D58,8) -> 5.0176901 | H58: 1141 | I58: 5554.31 | J58: =I58-(K58*H58) -> -1.2399996e-06 | K58: =ROUND(I58/H58,8) -> 4.8679316 | L58: 1791 | M58: 8528.11 | N58: 0 | O58: =ROUND(M58/L58,8) -> 4.7616471 | P58: 1963 | Q58: 9315.02 | R58: 0 | S58: =ROUND(Q58/P58,8) -> 4.745298 | T58: 1580 | U58: 7275.37 | V58: =U58-(W58*T58) -> -4.8000002e-06 | W58: =ROUND(U58/T58,8) -> 4.6046646 | X58: 1622 | Y58: 7459.87 | Z58: =Y58-(AA58*X58) -> 7.5599992e-06 | AA58: =ROUND(Y58/X58,8) -> 4.59918 | AB58: 1415 | AC58: 6550.48 | AD58: =AC58-(AE58*AB58) -> -3.35e-06 | AE58: =ROUND(AC58/AB58,8) -> 4.6293145 | AF58: 2774 | AG58: 12520.84 | AH58: =AG58-(AI58*AF58) -> 4.6999994e-06 | AI58: =ROUND(AG58/AF58,8) -> 4.513641 | AJ58: 2854 | AK58: 12750.15 | AL58: =AK58-(AM58*AJ58) -> 9.6599997e-06 | AM58: =ROUND(AK58/AJ58,8) -> 4.4674667 | AN58: 1569 | AO58: 7159.88 | AP58: =AO58-(AQ58*AV58) -> -547.60077 | AQ58: =ROUND(AO58/AN58,8) -> 4.5633397 | AR58: 908 | AS58: 4284.27 | AT58: =AS58-(AU58*AR58) -> 7.6000015e-07 | AU58: =ROUND(AS58/AR58,8) -> 4.718359 | AV58: 1689 | AW58: 7681.94 | AX58: =AW58-(AY58*AV58) -> 6.7999918e-07 | AY58: =ROUND(AW58/AV58,8) -> 4.5482179 | AZ58: =AV58+AR58+AV58+AJ58+AF58+AB58+X58+AB58+P58+L58+H58+D58 -> 20326 | BA58: =AW58+AS58+AO58+AK58+AG58+AC58+Y58+U58+Q58+M58+I58+E58 -> 94424.08 | BB58: =AJ58+AF58+AB58+X58+AB58+P58+L58+H58+D58 -> 16040 | BC58: =AK58+AG58+AC58+Y58+U58+Q58+M58+I58+E58 -> 75297.99 | BD58: =AV58+AR58+AV58 -> 4286 | BE58: =AW58+AS58+AO58 -> 19126.09 | BF58: =(BD58+BB58)-AZ58 -> 0 | BG58: =(BE58+BC58)-BA58 -> 0 | BH58: 10
A59: สมาคมศิษย์เก่าแม่โจ้
A60: 1 | B60: มหาวิทยาลัยแม่โจ้-อาคารศิษย์เก่า | C60: 9211 020027862395 | D60: 74 | E60: 672.64 | F60: =E60-(G60*D60) -> -2.0000016e-08 | G60: =ROUND(E60/D60,8) -> 9.0897297 | H60: 472 | I60: 2493.54 | J60: =I60-(K60*H60) -> -5.5999999e-07 | K60: =ROUND(I60/H60,8) -> 5.2829237 | L60: 732 | M60: 3683.08 | N60: =M60-(O60*L60) -> 3.4e-06 | O60: =ROUND(M60/L60,8) -> 5.03153 | P60: 682 | Q60: 3454.32 | R60: =Q60-(S60*P60) -> -1.8799997e-06 | S60: =ROUND(Q60/P60,8) -> 5.0649853 | T60: 730 | U60: 3541.15 | V60: =U60-(W60*T60) -> 7.0000033e-07 | W60: =ROUND(U60/T60,8) -> 4.8508904 | X60: 896 | Y60: 4270.41 | Z60: =Y60-(AA60*X60) -> -6.4000051e-07 | AA60: =ROUND(Y60/X60,8) -> 4.7660826 | AB60: 782 | AC60: 3769.59 | AD60: =AC60-(AE60*AB60) -> 2.6000043e-07 | AE60: =ROUND(AC60/AB60,8) -> 4.8204476 | AF60: 745 | AG60: 3607.03 | AH60: =AG60-(AI60*AF60) -> -2.4499996e-06 | AI60: =ROUND(AG60/AF60,8) -> 4.841651 | AJ60: 897 | AK60: 4236.41 | AL60: =AK60-(AM60*AJ60) -> -3.6700003e-06 | AM60: =ROUND(AK60/AJ60,8) -> 4.7228651 | AN60: 778 | AO60: 3718.72 | AP60: =AO60-(AQ60*AV60) -> 2996.9633 | AQ60: =ROUND(AO60/AN60,8) -> 4.7798458 | AR60: 366 | AS60: 1926.35 | AT60: =AS60-(AU60*AR60) -> -1.42e-06 | AU60: =ROUND(AS60/AR60,8) -> 5.2632514 | AV60: 151 | AW60: 991.02 | AX60: =AW60-(AY60*AV60) -> -3.6000006e-07 | AY60: =ROUND(AW60/AV60,8) -> 6.5630464 | BH60: 24
A61: 2 | B61: มหาวิทยาลัยแม่โจ้-อาคารพลังศิษย์เก่า | C61: 9212 020027862396 | D61: 2188 | E61: 10344.43 | F61: =E61-(G61*D61) -> -1.0199999e-05 | G61: =ROUND(E61/D61,8) -> 4.7278016 | H61: 3325 | I61: 15546.33 | J61: =I61-(K61*H61) -> -2.4999827e-07 | K61: =ROUND(I61/H61,8) -> 4.675588 | L61: 3896 | M61: 18158.71 | N61: =M61-(O61*L61) -> -1.4560002e-05 | O61: =ROUND(M61/L61,8) -> 4.6608599 | P61: 3604 | Q61: 16822.78 | R61: =Q61-(S61*P61) -> 4.0399973e-06 | S61: =ROUND(Q61/P61,8) -> 4.667808 | T61: 3225 | U61: 14502.19 | V61: =U61-(W61*T61) -> 2.5000008e-06 | W61: =ROUND(U61/T61,8) -> 4.4968031 | X61: 4390 | Y61: 19620.27 | Z61: =Y61-(AA61*X61) -> 2.1900003e-05 | AA61: =ROUND(Y61/X61,8) -> 4.4693098 | AB61: 4397 | AC61: 19654.02 | AD61: =AC61-(AE61*AB61) -> -1.6889997e-05 | AE61: =ROUND(AC61/AB61,8) -> 4.4698704 | AF61: 4099 | AG61: 18341.84 | AH61: =AG61-(AI61*AF61) -> -2.0089999e-05 | AI61: =ROUND(AG61/AF61,8) -> 4.4747109 | AJ61: 2257 | AK61: 10152.96 | AL61: =AK61-(AM61*AJ61) -> -8.3500017e-06 | AM61: =ROUND(AK61/AJ61,8) -> 4.4984316 | AN61: 3755 | AO61: 16669.987 | AP61: =AO61-(AQ61*AV61) -> 7595.8316 | AQ61: =ROUND(AO61/AN61,8) -> 4.4394107 | AR61: 2544 | AS61: 11401.53 | AT61: =AS61-(AU61*AR61) -> 1.4400011e-06 | AU61: =ROUND(AS61/AR61,8) -> 4.4817335 | AV61: 2044 | AW61: 9226.33 | AX61: =AW61-(AY61*AV61) -> -3.5199992e-06 | AY61: =ROUND(AW61/AV61,8) -> 4.5138601 | BH61: 25
A62: 3 | B62: มหาวิทยาลัยแม่โจ้-อาคารสายพิรุณ | C62: 9211 020027862399 | D62: 19 | E62: 421.03 | F62: =E62-(G62*D62) -> 7.999995e-08 | G62: =ROUND(E62/D62,8) -> 22.159474 | H62: 24 | I62: 443.89 | J62: =I62-(K62*H62) -> -8.0000063e-08 | K62: =ROUND(I62/H62,8) -> 18.495417 | L62: 36 | M62: 498.8 | N62: =M62-(O62*L62) -> -1.6000001e-07 | O62: =ROUND(M62/L62,8) -> 13.855556 | P62: 33 | Q62: 485.07 | R62: =Q62-(S62*P62) -> -3.0000024e-08 | S62: =ROUND(Q62/P62,8) -> 14.699091 | T62: 36 | U62: 492.25 | V62: =U62-(W62*T62) -> 4.0000032e-08 | W62: =ROUND(U62/T62,8) -> 13.673611 | X62: 40 | Y62: 509.83 | Z62: =Y62-(AA62*X62) -> 0 | AA62: =ROUND(Y62/X62,8) -> 12.74575 | AB62: 40.5 | AC62: 512.04 | AD62: =AC62-(AE62*AB62) -> 1.1999998e-07 | AE62: =ROUND(AC62/AB62,8) -> 12.642963 | AF62: 39.5 | AG62: 507.64 | AH62: =AG62-(AI62*AF62) -> -1.5000012e-08 | AI62: =ROUND(AG62/AF62,8) -> 12.851646 | AJ62: 28 | AK62: 455.92 | AL62: =AK62-(AM62*AJ62) -> 8.0000007e-08 | AM62: =ROUND(AK62/AJ62,8) -> 16.282857 | AN62: 34 | AO62: 482 | AP62: =AO62-(AQ62*AV62) -> 185.71176 | AQ62: =ROUND(AO62/AN62,8) -> 14.176471 | AR62: 24.4 | AS62: 440.24 | AT62: =AS62-(AU62*AR62) -> 2.0000073e-08 | AU62: =ROUND(AS62/AR62,8) -> 18.042623 | AV62: 20.9 | AW62: 425.03 | AX62: =AW62-(AY62*AV62) -> -7.5999935e-08 | AY62: =ROUND(AW62/AV62,8) -> 20.336364 | BH62: 26
A63: รวม | D63: =SUM(D60:D62) -> 2281 | E63: =SUM(E60:E62) -> 11438.1 | G63: - | H63: =SUM(H60:H62) -> 3821 | I63: =SUM(I60:I62) -> 18483.76 | K63: - | L63: =SUM(L60:L62) -> 4664 | M63: =SUM(M60:M62) -> 22340.59 | O63: - | P63: =SUM(P60:P62) -> 4319 | Q63: =SUM(Q60:Q62) -> 20762.17 | S63: - | T63: =SUM(T60:T62) -> 3991 | U63: =SUM(U60:U62) -> 18535.59 | W63: - | X63: =SUM(X60:X62) -> 5326 | Y63: =SUM(Y60:Y62) -> 24400.51 | AA63: - | AB63: =SUM(AB60:AB62) -> 5219.5 | AC63: =SUM(AC60:AC62) -> 23935.65 | AE63: - | AF63: =SUM(AF60:AF62) -> 4883.5 | AG63: =SUM(AG60:AG62) -> 22456.51 | AI63: - | AJ63: =SUM(AJ60:AJ62) -> 3182 | AK63: =SUM(AK60:AK62) -> 14845.29 | AM63: - | AN63: =SUM(AV60:AV62) -> 2215.9 | AO63: =SUM(AO60:AO62) -> 20870.707 | AQ63: - | AR63: =SUM(AR60:AR62) -> 2934.4 | AS63: =SUM(AS60:AS62) -> 13768.12 | AU63: - | AV63: =SUM(AV60:AV62) -> 2215.9 | AW63: =SUM(AW60:AW62) -> 10642.38 | AY63: - | AZ63: =AV63+AR63+AV63+AJ63+AF63+AB63+X63+AB63+P63+L63+H63+D63 -> 46281.7 | BA63: =AW63+AS63+AO63+AK63+AG63+AC63+Y63+U63+Q63+M63+I63+E63 -> 222479.38 | BB63: =AJ63+AF63+AB63+X63+AB63+P63+L63+H63+D63 -> 38915.5 | BC63: =AK63+AG63+AC63+Y63+U63+Q63+M63+I63+E63 -> 177198.17 | BD63: =AV63+AR63+AV63 -> 7366.2 | BE63: =AW63+AS63+AO63 -> 45281.207 | BF63: =(BD63+BB63)-AZ63 -> 0 | BG63: =(BE63+BC63)-BA63 -> 0
