Workbook
Name _1vg: #REF!
Name _1vg: #REF!
Name _1vg: #REF!
Name _1vg: #REF!
Name _1vg: #REF!
Name _1vg: #REF!
Name _1vg: #REF!
Name _1vg: #REF!
Name _1vg: #REF!
Name _1vg: #REF!
Name _1vg: #REF!
Name _1vg: #REF!
Name _1vg: #REF!
Name _1vg: #REF!
Name _1vg: #REF!
Name _1vg: #REF!
Name _Flu40: 50
Name _sss2: [1]DATA!#REF!
Name _sss2: [1]DATA!#REF!
Name _sss2: [1]DATA!#REF!
Name _sss2: [1]DATA!#REF!
Name _sss2: [1]DATA!#REF!
Name _sss2: [1]DATA!#REF!
Name _sss2: [1]DATA!#REF!
Name _sss2: [1]DATA!#REF!
Name _sss2: [1]DATA!#REF!
Name _sss2: [1]DATA!#REF!
Name _sss2: [1]DATA!#REF!
Name _sss2: [1]DATA!#REF!
Name _sss2: [1]DATA!#REF!
Name _sss2: [1]DATA!#REF!
Name _sss2: [1]DATA!#REF!
Name _sss2: [1]DATA!#REF!
Name _sss4: [1]RE_DATA!#REF!
Name _sss4: [1]RE_DATA!#REF!
Name _sss4: [1]RE_DATA!#REF!
Name _sss4: [1]RE_DATA!#REF!
Name _sss4: [1]RE_DATA!#REF!
Name _sss4: [1]RE_DATA!#REF!
Name _sss4: [1]RE_DATA!#REF!
Name _sss4: [1]RE_DATA!#REF!
Name _sss4: [1]RE_DATA!#REF!
Name _sss4: [1]RE_DATA!#REF!
Name _sss4: [1]RE_DATA!#REF!
Name _sss4: [1]RE_DATA!#REF!
Name _sss4: [1]RE_DATA!#REF!
Name _sss4: [1]RE_DATA!#REF!
Name _sss4: [1]RE_DATA!#REF!
Name _sss4: [1]RE_DATA!#REF!
Name af_flu: #REF!
Name af_flu: #REF!
Name af_flu: #REF!
Name af_flu: #REF!
Name af_flu: #REF!
Name af_flu: #REF!
Name af_flu: #REF!
Name af_flu: #REF!
Name af_flu: #REF!
Name af_flu: #REF!
Name af_flu: #REF!

Sheet 2569-บิลค่าไฟฟ้า
A1: การใช้พลังงานไฟฟ้า ตามหนังสือแจ้งค่าไฟฟ้า(บิลค่าไฟฟ้า)
A2: ลำดับ | B2: ชื่ออาคาร | C2: หมายเลข | D2: มกราคม 69 | H2: กุมภาพันธ์ 69 | L2: มีนาคม 69 | P2: เมษายน 69 | T2: พฤษภาคม 69 | X2: มิถุนายน 69 | AB2: กรกฏาคม 69 | AF2: สิงหาคม 69 | AJ2: กันยายน 69 | AN2: ตุลาคม 69 | AR2: พฤศจิกายน 69 | AV2: ธันวาคม 69 | AZ2: ผลรวมบิลค่าไฟฟ้า/ปี | BB2: ม.ค.-ก.ย. 69 | BD2: ต.ค.-ธ.ค. 69 | BF2: เช็ด
C3: ผู้ใช้ไฟฟ้า | D3: kWh | E3: บาท | F3: เช็ด | G3: หน่วยค่าไฟ/บาท | H3: kWh | I3: บาท | J3: เช็ด | K3: หน่วยค่าไฟ/บาท | L3: kWh | M3: บาท | N3: เช็ด | O3: หน่วยค่าไฟ/บาท | P3: kWh | Q3: บาท | R3: เช็ด | S3: หน่วยค่าไฟ/บาท | T3: kWh | U3: บาท | V3: เช็ด | W3: หน่วยค่าไฟ/บาท | X3: kWh | Y3: บาท | Z3: เช็ด | AA3: หน่วยค่าไฟ/บาท | AB3: kWh | AC3: บาท | AD3: เช็ด | AE3: หน่วยค่าไฟ/บาท | AF3: kWh | AG3: บาท | AH3: เช็ด | AI3: หน่วยค่าไฟ/บาท | AJ3: kWh | AK3: บาท | AL3: เช็ด | AM3: หน่วยค่าไฟ/บาท | AN3: kWh | AO3: บาท | AP3: เช็ด | AQ3: หน่วยค่าไฟ/บาท | AR3: kWh | AS3: บาท | AT3: เช็ด | AU3: หน่วยค่าไฟ/บาท | AV3: kWh | AW3: บาท | AX3: เช็ด | AY3: หน่วยค่าไฟ/บาท | AZ3: kWh | BA3: บาท | BB3: kWh | BC3: บาท | BD3: kWh | BE3: บาท | BF3: kWh | BG3: บาท
A4: มหาวิทยาลัยแม่โจ้
A5: 1 | B5: มหาวิทยาลัยแม่โจ้ | C5: 9806 020017405371 | D5: 662720.31 | E5: 2594110.3 | F5: =E5-(G5*D5) -> 2873.8579 | G5: =ROUND(E5/D5,2) -> 3.91 | H5: 784824.81 | I5: 3218927 | J5: =I5-(K5*H5) -> 1145.289 | K5: =ROUND(I5/H5,2) -> 4.1 | L5: 760511.41 | M5: 3039870.8 | N5: =M5-(O5*L5) -> -2174.87 | O5: =ROUND(M5/L5,2) -> 4 | P5: 670856.01 | Q5: 2723683.6 | R5: =Q5-(S5*P5) -> 8.2194 | S5: =ROUND(Q5/P5,2) -> 4.06 | T5: 709237.1 | U5: 2846769.8 | V5: =U5-(W5*T5) -> 2729.029 | W5: =ROUND(U5/T5,2) -> 4.01 | X5: 811905.7 | Y5: 3410218.4 | Z5: =Y5-(AA5*X5) -> 214.45 | AA5: =ROUND(Y5/X5,2) -> 4.2 | AB5: 1004451 | AC5: 4164476.8 | AD5: =AC5-(AE5*AB5) -> -3994.84 | AE5: =ROUND(AC5/AB5,2) -> 4.15 | AF5: 1079791.9 | AG5: 4433389.8 | AH5: =AG5-(AI5*AF5) -> -4554.909 | AI5: =ROUND(AG5/AF5,2) -> 4.11 | AL5: =AK5-(AM5*AJ5) -> #DIV/0! | AM5: =ROUND(AK5/AJ5,2) -> #DIV/0! | AP5: =AO5-(AQ5*AN5) -> #DIV/0! | AQ5: =ROUND(AO5/AN5,2) -> #DIV/0! | AT5: =AS5-(AU5*AR5) -> #DIV/0! | AU5: =ROUND(AS5/AR5,2) -> #DIV/0! | AX5: =AW5-(AY5*AV5) -> #DIV/0! | AY5: =ROUND(AW5/AV5,2) -> #DIV/0! | AZ5: =AV5+AR5+AN5+AJ5+AF5+AB5+X5+AB5+P5+L5+H5+D5 -> 6779512.1 | BA5: =AW5+AS5+AO5+AK5+AG5+AC5+Y5+U5+Q5+M5+I5+E5 -> 26431446 | BB5: =AJ5+AF5+AB5+X5+AB5+P5+L5+H5+D5 -> 6779512.1 | BC5: =AK5+AG5+AC5+Y5+U5+Q5+M5+I5+E5 -> 26431446 | BD5: =AV5+AR5+AN5 -> 0 | BE5: =AW5+AS5+AO5 -> 0 | BF5: =(BD5+BB5)-AZ5 -> 0 | BG5: =(BE5+BC5)-BA5 -> 0
A6: คณะสัตวศาสตร์และเทคโนโลยี
A7: 1 | B7: คณะสัตวศาสตร์และเทคโนโลยี | C7: 9805 020004553162 | D7: 44632 | E7: 188362.59 | F7: =E7-(G7*D7) -> 0.00021120001 | G7: =ROUND(E7/D7,8) -> 4.2203484 | H7: 54860.01 | I7: 231305.27 | J7: =I7-(K7*H7) -> 6.0180493e-05 | K7: =ROUND(I7/H7,8) -> 4.2162819 | L7: 56488 | M7: 239054.99 | N7: =M7-(O7*L7) -> 0.00019207998 | O7: =ROUND(M7/L7,8) -> 4.2319606 | P7: 61940.01 | Q7: 252408.12 | R7: =Q7-(S7*P7) -> 6.7983579e-05 | S7: =ROUND(Q7/P7,8) -> 4.0750416 | T7: 69448 | U7: 294991.46 | V7: =U7-(W7*T7) -> 0.00026608002 | W7: =ROUND(U7/T7,8) -> 4.2476595 | X7: 55484 | Y7: 15284.81 | Z7: =Y7-(AA7*X7) -> 2.4000001e-06 | AA7: =ROUND(Y7/X7,8) -> 0.2754814 | AB7: 60036 | AC7: 249478.08 | AD7: =AC7-(AE7*AB7) -> -0.00028992002 | AE7: =ROUND(AC7/AB7,8) -> 4.1554747 | AF7: 48792 | AG7: 203507.85 | AH7: =AG7-(AI7*AF7) -> -0.00017927997 | AI7: =ROUND(AG7/AF7,8) -> 4.1709266 | AL7: =AK7-(AM7*AJ7) -> #DIV/0! | AM7: =ROUND(AK7/AJ7,8) -> #DIV/0! | AP7: =AO7-(AQ7*AN7) -> #DIV/0! | AQ7: =ROUND(AO7/AN7,8) -> #DIV/0! | AT7: =AS7-(AU7*AR7) -> #DIV/0! | AU7: =ROUND(AS7/AR7,8) -> #DIV/0! | AX7: =AW7-(AY7*AV7) -> #DIV/0! | AY7: =ROUND(AW7/AV7,8) -> #DIV/0! | AZ7: =AV7+AR7+AN7+AJ7+AF7+AB7+X7+AB7+P7+L7+H7+D7 -> 442268.02 | BA7: =AW7+AS7+AO7+AK7+AG7+AC7+Y7+U7+Q7+M7+I7+E7 -> 1674393.2 | BB7: =AJ7+AF7+AB7+X7+AB7+P7+L7+H7+D7 -> 442268.02 | BC7: =AK7+AG7+AC7+Y7+U7+Q7+M7+I7+E7 -> 1674393.2 | BD7: =AV7+AR7+AN7 -> 0 | BE7: =AW7+AS7+AO7 -> 0 | BF7: =(BD7+BB7)-AZ7 -> 0 | BG7: =(BE7+BC7)-BA7 -> 0
A8: วิทยาลัยพลังงานทดแทน
A9: 1 | B9: วิทยาลัยพลังงานทดแทน | C9: 9205 020016355485 | D9: 21680 | E9: 81019.04 | F9: =E9-(G9*D9) -> 8.7999942e-06 | G9: =ROUND(E9/D9,8) -> 3.7370406 | H9: 11480 | I9: 50232.65 | J9: =I9-(K9*H9) -> -4.2400003e-05 | K9: =ROUND(I9/H9,8) -> 4.3756664 | L9: 10140 | M9: 43746.18 | N9: =M9-(O9*L9) -> 4.9800001e-05 | O9: =ROUND(M9/L9,8) -> 4.3142189 | P9: 9400 | Q9: 40965.09 | R9: =Q9-(S9*P9) -> -1.9999999e-05 | S9: =ROUND(Q9/P9,8) -> 4.3579883 | T9: 13420 | U9: 63117.77 | V9: =U9-(W9*T9) -> -1.0000003e-06 | W9: =ROUND(U9/T9,8) -> 4.7032615 | X9: 14560 | Y9: 69320.43 | Z9: =Y9-(AA9*X9) -> 5.7599987e-05 | AA9: =ROUND(Y9/X9,8) -> 4.7610185 | AB9: 16200 | AC9: 83684.84 | AD9: =AC9-(AE9*AB9) -> 6.7999994e-05 | AE9: =ROUND(AC9/AB9,8) -> 5.1657309 | AF9: 18260 | AG9: 90436.05 | AH9: =AG9-(AI9*AF9) -> -1.199999e-05 | AI9: =ROUND(AG9/AF9,8) -> 4.9526862 | AL9: =AK9-(AM9*AJ9) -> #DIV/0! | AM9: =ROUND(AK9/AJ9,8) -> #DIV/0! | AP9: =AO9-(AQ9*AN9) -> #DIV/0! | AQ9: =ROUND(AO9/AN9,8) -> #DIV/0! | AT9: =AS9-(AU9*AR9) -> #DIV/0! | AU9: =ROUND(AS9/AR9,8) -> #DIV/0! | AX9: =AW9-(AY9*AV9) -> #DIV/0! | AY9: =ROUND(AW9/AV9,8) -> #DIV/0! | AZ9: =AV9+AR9+AN9+AJ9+AF9+AB9+X9+AB9+P9+L9+H9+D9 -> 117920 | BA9: =AW9+AS9+AO9+AK9+AG9+AC9+Y9+U9+Q9+M9+I9+E9 -> 522522.05 | BB9: =AJ9+AF9+AB9+X9+AB9+P9+L9+H9+D9 -> 117920 | BC9: =AK9+AG9+AC9+Y9+U9+Q9+M9+I9+E9 -> 522522.05 | BD9: =AV9+AR9+AN9 -> 0 | BE9: =AW9+AS9+AO9 -> 0 | BF9: =(BD9+BB9)-AZ9 -> 0 | BG9: =(BE9+BC9)-BA9 -> 0
A10: โครงการแปรรูปผลิตผลทางการเกษตร
A11: 1 | B11: โครงการแปรรูปผลิตผลทางการเกษตร | C11: 9805 020006009966 | D11: 593.5 | E11: 2877.96 | F11: =E11-(G11*D11) -> -2.2449999e-06 | G11: =ROUND(E11/D11,8) -> 4.8491323 | H11: 405.99 | I11: 2074.25 | J11: =I11-(K11*H11) -> -7.8009998e-07 | K11: =ROUND(I11/H11,8) -> 5.109116 | L11: 454.99 | M11: 2284.29 | N11: =M11-(O11*L11) -> 1.6792001e-06 | O11: =ROUND(M11/L11,8) -> 5.0205279 | P11: 490.5 | Q11: 2136.49 | R11: =Q11-(S11*P11) -> 8.7999979e-07 | S11: =ROUND(Q11/P11,8) -> 4.355739 | T11: 411.5 | U11: 2126.53 | V11: =U11-(W11*T11) -> -1.4950001e-06 | W11: =ROUND(U11/T11,8) -> 5.1677521 | X11: 510.01 | Y11: 2555.62 | Z11: =Y11-(AA11*X11) -> 2.2864997e-06 | AA11: =ROUND(Y11/X11,8) -> 5.0109214 | AB11: 673 | AC11: 3265.6 | AD11: =AC11-(AE11*AB11) -> 2.3999974e-07 | AE11: =ROUND(AC11/AB11,8) -> 4.8523031 | AF11: 681 | AG11: 3300.44 | AH11: =AG11-(AI11*AF11) -> -2.2899999e-06 | AI11: =ROUND(AG11/AF11,8) -> 4.8464611 | AL11: =AK11-(AM11*AJ11) -> #DIV/0! | AM11: =ROUND(AK11/AJ11,8) -> #DIV/0! | AP11: =AO11-(AQ11*AN11) -> #DIV/0! | AQ11: =ROUND(AO11/AN11,8) -> #DIV/0! | AT11: =AS11-(AU11*AR11) -> #DIV/0! | AU11: =ROUND(AS11/AR11,8) -> #DIV/0! | AX11: =AW11-(AY11*AV11) -> #DIV/0! | AY11: =ROUND(AW11/AV11,8) -> #DIV/0! | AZ11: =AV11+AR11+AN11+AJ11+AF11+AB11+X11+AB11+P11+L11+H11+D11 -> 4481.99 | BA11: =AW11+AS11+AO11+AK11+AG11+AC11+Y11+U11+Q11+M11+I11+E11 -> 20621.18 | BB11: =AJ11+AF11+AB11+X11+AB11+P11+L11+H11+D11 -> 4481.99 | BC11: =AK11+AG11+AC11+Y11+U11+Q11+M11+I11+E11 -> 20621.18 | BD11: =AV11+AR11+AN11 -> 0 | BE11: =AW11+AS11+AO11 -> 0 | BF11: =(BD11+BB11)-AZ11 -> 0 | BG11: =(BE11+BC11)-BA11 -> 0
A12: สำนักฟาร์มมหาวิทยาลัยแม่โจ้ (ฟาร์มบ้านโปง)
A13: 1 | B13: โครงการพัฒนาบ้านโปงพระราชดำริ (907 ไร่) | C13: 9801 020025008422 | D13: 22315.4 | E13: 91458.71 | F13: =E13-(G13*D13) -> -1.5647995e-05 | G13: =ROUND(E13/D13,8) -> 4.0984571 | H13: 25817 | I13: 108777.58 | J13: =I13-(K13*H13) -> 0.00010517001 | K13: =ROUND(I13/H13,8) -> 4.213409 | L13: 30360 | M13: 127100.01 | N13: =M13-(O13*L13) -> 5.7600002e-05 | O13: =ROUND(M13/L13,8) -> 4.1864298 | P13: 39631 | Q13: 166225.06 | R13: =Q13-(S13*P13) -> 0.00014421 | S13: =ROUND(Q13/P13,8) -> 4.1943191 | T13: 40536 | U13: 168334.86 | V13: =U13-(W13*T13) -> -0.00019464002 | W13: =ROUND(U13/T13,8) -> 4.152725 | X13: 36009 | Y13: 152044.54 | Z13: =Y13-(AA13*X13) -> 0.00012544001 | AA13: =ROUND(Y13/X13,8) -> 4.2224038 | AB13: 28003 | AC13: 114335.07 | AD13: =AC13-(AE13*AB13) -> -7.3699994e-05 | AE13: =ROUND(AC13/AB13,8) -> 4.0829579 | AF13: 32208 | AG13: 131953.66 | AH13: =AG13-(AI13*AF13) -> 8.8959991e-05 | AI13: =ROUND(AG13/AF13,8) -> 4.0969219 | AL13: =AK13-(AM13*AJ13) -> #DIV/0! | AM13: =ROUND(AK13/AJ13,8) -> #DIV/0! | AP13: =AO13-(AQ13*AN13) -> #DIV/0! | AQ13: =ROUND(AO13/AN13,8) -> #DIV/0! | AT13: =AS13-(AU13*AR13) -> #DIV/0! | AU13: =ROUND(AS13/AR13,8) -> #DIV/0! | AX13: =AW13-(AY13*AV13) -> #DIV/0! | AY13: =ROUND(AW13/AV13,8) -> #DIV/0!
A14: 2 | B14: โครงการพัฒนาบ้านโปง | C14: 0228 020005942984 | D14: 493 | E14: 2177.6 | F14: =E14-(G14*D14) -> -2.1999995e-07 | G14: =ROUND(E14/D14,8) -> 4.4170385 | H14: 422 | I14: 1834.3 | J14: =I14-(K14*H14) -> 1.8799999e-06 | K14: =ROUND(I14/H14,8) -> 4.3466825 | L14: 434 | M14: 1892.32 | N14: =M14-(O14*L14) -> 7.7999994e-07 | O14: =ROUND(M14/L14,8) -> 4.3601843 | P14: 482 | Q14: 2124.41 | R14: =Q14-(S14*P14) -> -1.6600002e-06 | S14: =ROUND(Q14/P14,8) -> 4.4074896 | T14: 442 | U14: 1961.79 | V14: =U14-(W14*T14) -> 1.7799998e-06 | W14: =ROUND(U14/T14,8) -> 4.4384389 | X14: 422 | Y14: 1863.69 | Z14: =Y14-(AA14*X14) -> 1.78e-06 | AA14: =ROUND(Y14/X14,8) -> 4.416327 | AB14: 516 | AC14: 2324.76 | AD14: =AC14-(AE14*AB14) -> -1.4399998e-06 | AE14: =ROUND(AC14/AB14,8) -> 4.5053488 | AF14: 608 | AG14: 2776 | AH14: =AG14-(AI14*AF14) -> 2.24e-06 | AI14: =ROUND(AG14/AF14,8) -> 4.5657895 | AL14: =AK14-(AM14*AJ14) -> #DIV/0! | AM14: =ROUND(AK14/AJ14,8) -> #DIV/0! | AP14: =AO14-(AQ14*AN14) -> #DIV/0! | AQ14: =ROUND(AO14/AN14,8) -> #DIV/0! | AT14: =AS14-(AU14*AR14) -> #DIV/0! | AU14: =ROUND(AS14/AR14,8) -> #DIV/0! | AX14: =AW14-(AY14*AV14) -> #DIV/0! | AY14: =ROUND(AW14/AV14,8) -> #DIV/0!
A15: 3 | B15: โครงการพัฒนาบ้านโปง | C15: 0535 020004636485 | D15: 0 | E15: 35.62 | F15: - | G15: - | H15: 0 | I15: 35.62 | J15: - | K15: - | L15: 0 | M15: 35.62 | N15: - | O15: - | P15: 0 | Q15: 35.62 | R15: - | S15: - | T15: 0 | U15: 35.62 | V15: - | W15: - | X15: 0 | Y15: 35.62 | Z15: - | AA15: - | AB15: 0 | AC15: 35.62 | AD15: - | AE15: - | AF15: 0 | AG15: 35.62 | AH15: - | AI15: - | AL15: - | AM15: - | AP15: - | AQ15: - | AT15: - | AU15: - | AX15: - | AY15: -
A16: 4 | B16: โครงการวิจัยและพัฒนาการผลิตกล้วยไม้เชิงอุตสาหกรรม ในพระดำริ สมเด็จพระเจ้าลูกเธอเจ้าฟ้าจุฬาภรณฯ | C16: 9205 020005984784 | F16: =E16-(G16*D16) -> #DIV/0! | G16: =ROUND(E16/D16,8) -> #DIV/0! | J16: =I16-(K16*H16) -> #DIV/0! | K16: =ROUND(I16/H16,8) -> #DIV/0! | N16: =M16-(O16*L16) -> #DIV/0! | O16: =ROUND(M16/L16,8) -> #DIV/0! | R16: =Q16-(S16*P16) -> #DIV/0! | S16: =ROUND(Q16/P16,8) -> #DIV/0! | V16: =U16-(W16*T16) -> #DIV/0! | W16: =ROUND(U16/T16,8) -> #DIV/0! | Z16: =Y16-(AA16*X16) -> #DIV/0! | AA16: =ROUND(Y16/X16,8) -> #DIV/0! | AD16: =AC16-(AE16*AB16) -> #DIV/0! | AE16: =ROUND(AC16/AB16,8) -> #DIV/0! | AH16: =AG16-(AI16*AF16) -> #DIV/0! | AI16: =ROUND(AG16/AF16,8) -> #DIV/0! | AL16: =AK16-(AM16*AJ16) -> #DIV/0! | AM16: =ROUND(AK16/AJ16,8) -> #DIV/0! | AP16: =AO16-(AQ16*AN16) -> #DIV/0! | AQ16: =ROUND(AO16/AN16,8) -> #DIV/0!
A17: รวม | D17: =SUM(D13:D16) -> 22808.4 | E17: =SUM(E13:E16) -> 93671.93 | G17: - | H17: =SUM(H13:H16) -> 26239 | I17: =SUM(I13:I16) -> 110647.5 | K17: - | L17: =SUM(L13:L16) -> 30794 | M17: =SUM(M13:M16) -> 129027.95 | O17: - | P17: =SUM(P13:P16) -> 40113 | Q17: =SUM(Q13:Q16) -> 168385.09 | S17: - | T17: =SUM(T13:T16) -> 40978 | U17: =SUM(U13:U16) -> 170332.27 | W17: - | X17: =SUM(X13:X16) -> 36431 | Y17: =SUM(Y13:Y16) -> 153943.85 | AA17: - | AB17: =SUM(AB13:AB16) -> 28519 | AC17: =SUM(AC13:AC16) -> 116695.45 | AE17: - | AF17: =SUM(AF13:AF16) -> 32816 | AG17: =SUM(AG13:AG16) -> 134765.28 | AI17: - | AJ17: =SUM(AJ13:AJ16) -> 0 | AK17: =SUM(AK13:AK16) -> 0 | AM17: - | AN17: =SUM(AN13:AN16) -> 0 | AO17: =SUM(AO13:AO16) -> 0 | AQ17: - | AR17: =SUM(AR13:AR16) -> 0 | AS17: =SUM(AS13:AS16) -> 0 | AU17: - | AV17: =SUM(AV13:AV16) -> 0 | AW17: =SUM(AW13:AW16) -> 0 | AY17: - | AZ17: =AV17+AR17+AN17+AJ17+AF17+AB17+X17+AB17+P17+L17+H17+D17 -> 246239.4 | BA17: =AW17+AS17+AO17+AK17+AG17+AC17+Y17+U17+Q17+M17+I17+E17 -> 1077469.3 | BB17: =AJ17+AF17+AB17+X17+AB17+P17+L17+H17+D17 -> 246239.4 | BC17: =AK17+AG17+AC17+Y17+U17+Q17+M17+I17+E17 -> 1077469.3 | BD17: =AV17+AR17+AN17 -> 0 | BE17: =AW17+AS17+AO17 -> 0 | BF17: =(BD17+BB17)-AZ17 -> 0 | BG17: =(BE17+BC17)-BA17 -> 0
A18: โรงเรือนเพาะพันธุ์กัญชา (ฟาร์มบ้านโปง)
A19: 1 | B19: มหาวิทยาลัยแม่โจ้(โรงเรือนเพาะพันธุ์กัญชา)_ (ผศ. ดร.ปรีดา นาเทเวศน์) | C19: 9205 020024629068 | D19: 3276 | E19: 14375.72 | F19: =E19-(G19*D19) -> -5.9199992e-06 | G19: =ROUND(E19/D19,8) -> 4.3881929 | H19: 3584 | I19: 15695.86 | J19: =I19-(K19*H19) -> 1.1520002e-05 | K19: =ROUND(I19/H19,8) -> 4.3794252 | L19: 4292 | M19: 18730.49 | N19: =M19-(O19*L19) -> 1.8480001e-05 | O19: =ROUND(M19/L19,8) -> 4.3640471 | P19: 3756 | Q19: 16433.08 | R19: =Q19-(S19*P19) -> -1.5199985e-06 | S19: =ROUND(Q19/P19,8) -> 4.3751544 | T19: 2420 | U19: 10875.29 | V19: =U19-(W19*T19) -> -5.7999987e-06 | W19: =ROUND(U19/T19,8) -> 4.4939215 | X19: 3000 | Y19: 13401.69 | Z19: =Y19-(AA19*X19) -> 0 | AA19: =ROUND(Y19/X19,8) -> 4.46723 | AB19: 2964 | AC19: 13244.88 | AD19: =AC19-(AE19*AB19) -> -1.2e-05 | AE19: =ROUND(AC19/AB19,8) -> 4.468583 | AF19: 4292 | AG19: 19029.46 | AH19: =AG19-(AI19*AF19) -> -1.444e-05 | AI19: =ROUND(AG19/AF19,8) -> 4.4337046 | AL19: =AK19-(AM19*AJ19) -> #DIV/0! | AM19: =ROUND(AK19/AJ19,8) -> #DIV/0! | AP19: =AO19-(AQ19*AN19) -> #DIV/0! | AQ19: =ROUND(AO19/AN19,8) -> #DIV/0! | AT19: =AS19-(AU19*AR19) -> #DIV/0! | AU19: =ROUND(AS19/AR19,8) -> #DIV/0! | AX19: =AW19-(AY19*AV19) -> #DIV/0! | AY19: =ROUND(AW19/AV19,8) -> #DIV/0!
A20: 2 | B20: มหาวิทยาลัยแม่โจ้(โรงเรือนเพาะพันธุ์กัญชา2)_(ศ. ดร.อานัฐ ตันโช) | C20: 9205 020024633024 | D20: 113.6 | E20: 821 | F20: =E20-(G20*D20) -> -4.4800004e-07 | G20: =ROUND(E20/D20,8) -> 7.2271127 | H20: 40 | I20: 505.55 | J20: =I20-(K20*H20) -> 0 | K20: =ROUND(I20/H20,8) -> 12.63875 | L20: ยกเลิกใช้งาน
A21: รวม | D21: =SUM(D19:D20) -> 3389.6 | E21: =SUM(E19:E20) -> 15196.72 | G21: - | H21: =SUM(H19:H20) -> 3624 | I21: =SUM(I19:I20) -> 16201.41 | K21: - | L21: =SUM(L19:L20) -> 4292 | M21: =SUM(M19:M20) -> 18730.49 | O21: - | P21: =SUM(P19:P20) -> 3756 | Q21: =SUM(Q19:Q20) -> 16433.08 | S21: - | T21: =SUM(T19:T20) -> 2420 | U21: =SUM(U19:U20) -> 10875.29 | W21: - | X21: =SUM(X19:X20) -> 3000 | Y21: =SUM(Y19:Y20) -> 13401.69 | AA21: - | AB21: =SUM(AB19:AB20) -> 2964 | AC21: =SUM(AC19:AC20) -> 13244.88 | AE21: - | AF21: =SUM(AF19:AF20) -> 4292 | AG21: =SUM(AG19:AG20) -> 19029.46 | AI21: - | AJ21: =SUM(AJ19:AJ20) -> 0 | AK21: =SUM(AK19:AK20) -> 0 | AM21: - | AN21: =SUM(AN19:AN20) -> 0 | AO21: =SUM(AO19:AO20) -> 0 | AQ21: - | AR21: =SUM(AR19:AR20) -> 0 | AS21: =SUM(AS19:AS20) -> 0 | AU21: - | AV21: =SUM(AV19:AV20) -> 0 | AW21: =SUM(AW19:AW20) -> 0 | AY21: - | AZ21: =AV21+AR21+AN21+AJ21+AF21+AB21+X21+AB21+P21+L21+H21+D21 -> 28281.6 | BA21: =AW21+AS21+AO21+AK21+AG21+AC21+Y21+U21+Q21+M21+I21+E21 -> 123113.02 | BB21: =AJ21+AF21+AB21+X21+AB21+P21+L21+H21+D21 -> 28281.6 | BC21: =AK21+AG21+AC21+Y21+U21+Q21+M21+I21+E21 -> 123113.02 | BD21: =AV21+AR21+AN21 -> 0 | BE21: =AW21+AS21+AO21 -> 0 | BF21: =(BD21+BB21)-AZ21 -> 0 | BG21: =(BE21+BC21)-BA21 -> 0
A24: มหาวิทยาลัยแม่โจ้ (โรงสูบน้ำศรีบุญเรือน)
A25: 1 | B25: มหาวิทยาลัยแม่โจ้ (โรงสูบน้ำศรีบุญเรือน) | C25: 9807 020005984751 | D25: 12612.1 | E25: 62104.42 | F25: =E25-(G25*D25) -> 4.1496998e-05 | G25: =ROUND(E25/D25,8) -> 4.9241934 | H25: 13455.83 | I25: 65986.07 | J25: =I25-(K25*H25) -> -3.3960401e-05 | K25: =ROUND(I25/H25,8) -> 4.9039019 | L25: 14655.37 | M25: 70611.61 | N25: =M25-(O25*L25) -> -4.9537412e-05 | O25: =ROUND(M25/L25,8) -> 4.818139 | P25: 16106.21 | Q25: 74513.55 | R25: =Q25-(S25*P25) -> 6.6828608e-05 | S25: =ROUND(Q25/P25,8) -> 4.6263863 | T25: 7538.21 | U25: 42256.8 | V25: =U25-(W25*T25) -> 3.2046803e-05 | W25: =ROUND(U25/T25,8) -> 5.6056809 | X25: 3234.62 | Y25: 25378.42 | Z25: =Y25-(AA25*X25) -> 1.2506e-05 | AA25: =ROUND(Y25/X25,8) -> 7.8458737 | AB25: 1317.84 | AC25: 17209.51 | AD25: =AC25-(AE25*AB25) -> -4.4360022e-06 | AE25: =ROUND(AC25/AB25,8) -> 13.058877 | AF25: 1871.09 | AG25: 19991.89 | AH25: =AG25-(AI25*AF25) -> 4.560301e-06 | AI25: =ROUND(AG25/AF25,8) -> 10.684622 | AL25: =AK25-(AM25*AJ25) -> #DIV/0! | AM25: =ROUND(AK25/AJ25,8) -> #DIV/0! | AP25: =AO25-(AQ25*AN25) -> #DIV/0! | AQ25: =ROUND(AO25/AN25,8) -> #DIV/0! | AT25: =AS25-(AU25*AR25) -> #DIV/0! | AU25: =ROUND(AS25/AR25,8) -> #DIV/0! | AX25: =AW25-(AY25*AV25) -> #DIV/0! | AY25: =ROUND(AW25/AV25,8) -> #DIV/0! | AZ25: =AV25+AR25+AN25+AJ25+AF25+AB25+X25+AB25+P25+L25+H25+D25 -> 64570.9 | BA25: =AW25+AS25+AO25+AK25+AG25+AC25+Y25+U25+Q25+M25+I25+E25 -> 378052.27 | BB25: =AJ25+AF25+AB25+X25+AB25+P25+L25+H25+D25 -> 64570.9 | BC25: =AK25+AG25+AC25+Y25+U25+Q25+M25+I25+E25 -> 378052.27 | BD25: =AV25+AR25+AN25 -> 0 | BE25: =AW25+AS25+AO25 -> 0 | BF25: =(BD25+BB25)-AZ25 -> 0 | BG25: =(BE25+BC25)-BA25 -> 0
A26: มหาวิทยาลัยแม่โจ้ (หมู่ 6 ตำบลป่าไผ่)
A27: 1 | B27: มหาวิทยาลัยแม่โจ้ (หมู่ 6 ตำบลป่าไผ่) | C27: 0633 020005539809 | D27: 580 | E27: 2598.27 | F27: =E27-(G27*D27) -> 1.2e-06 | G27: =ROUND(E27/D27,8) -> 4.4797759 | H27: 518 | I27: 2298.48 | J27: =I27-(K27*H27) -> -1.4400002e-06 | K27: =ROUND(I27/H27,8) -> 4.4372201 | L27: 455 | M27: 1993.86 | N27: =M27-(O27*L27) -> 4.9999926e-08 | O27: =ROUND(M27/L27,8) -> 4.3821099 | P27: 415 | Q27: 1800.46 | R27: =Q27-(S27*P27) -> 5.4999987e-07 | S27: =ROUND(Q27/P27,8) -> 4.3384578 | T27: 531 | U27: 2398.32 | V27: =U27-(W27*T27) -> -2.6999987e-07 | W27: =ROUND(U27/T27,8) -> 4.5166102 | X27: 933 | Y27: 4370.09 | Z27: =Y27-(AA27*X27) -> 1.3700001e-06 | AA27: =ROUND(Y27/X27,8) -> 4.6839121 | AB27: 757 | AC27: 3506.83 | AD27: =AC27-(AE27*AB27) -> -1.81e-06 | AE27: =ROUND(AC27/AB27,8) -> 4.6325363 | AF27: 484 | AG27: 2167.79 | AH27: =AG27-(AI27*AF27) -> -6.4000005e-07 | AI27: =ROUND(AG27/AF27,8) -> 4.478905 | AL27: =AK27-(AM27*AJ27) -> #DIV/0! | AM27: =ROUND(AK27/AJ27,8) -> #DIV/0! | AP27: =AO27-(AQ27*AN27) -> #DIV/0! | AQ27: =ROUND(AO27/AN27,8) -> #DIV/0! | AT27: =AS27-(AU27*AR27) -> #DIV/0! | AU27: =ROUND(AS27/AR27,8) -> #DIV/0! | AX27: =AW27-(AY27*AV27) -> #DIV/0! | AY27: =ROUND(AW27/AV27,8) -> #DIV/0! | AZ27: =AV27+AR27+AN27+AJ27+AF27+AB27+X27+AB27+P27+L27+H27+D27 -> 4899 | BA27: =AW27+AS27+AO27+AK27+AG27+AC27+Y27+U27+Q27+M27+I27+E27 -> 21134.1 | BB27: =AJ27+AF27+AB27+X27+AB27+P27+L27+H27+D27 -> 4899 | BC27: =AK27+AG27+AC27+Y27+U27+Q27+M27+I27+E27 -> 21134.1 | BD27: =AV27+AR27+AN27 -> 0 | BE27: =AW27+AS27+AO27 -> 0 | BF27: =(BD27+BB27)-AZ27 -> 0 | BG27: =(BE27+BC27)-BA27 -> 0
A28: สำนักฟาร์มมหาวิทยาลัยแม่โจ้ (ฟาร์มพร้าว )
A29: 1 | B29: มหาวิทยาลัยแม่โจ้ (อุทยานเกษตร) | C29: 9804 020005752138 | D29: 4072 | E29: 17787.52 | F29: =E29-(G29*D29) -> 1.4160003e-05 | G29: =ROUND(E29/D29,8) -> 4.3682515 | H29: 4496 | I29: 19604.88 | J29: =I29-(K29*H29) -> 1.9039999e-05 | K29: =ROUND(I29/H29,8) -> 4.360516 | L29: 7912 | M29: 34246.56 | N29: =M29-(O29*L29) -> 2.8799986e-06 | O29: =ROUND(M29/L29,8) -> 4.3284328 | P29: 8904 | Q29: 38498.47 | R29: =Q29-(S29*P29) -> -1.6160004e-05 | S29: =ROUND(Q29/P29,8) -> 4.3237275 | T29: 6904 | U29: 30406.97 | V29: =U29-(W29*T29) -> -3.024e-05 | W29: =ROUND(U29/T29,8) -> 4.4042541 | X29: 4848 | Y29: 21451.32 | Z29: =Y29-(AA29*X29) -> -1.104e-05 | AA29: =ROUND(Y29/X29,8) -> 4.4247772 | AB29: 5824 | AC29: 25702.64 | AD29: =AC29-(AE29*AB29) -> 1.1519998e-05 | AE29: =ROUND(AC29/AB29,8) -> 4.413228 | AF29: 3620 | AG29: 16102.32 | AH29: =AG29-(AI29*AF29) -> -1.3999999e-05 | AI29: =ROUND(AG29/AF29,8) -> 4.4481547 | AL29: =AK29-(AM29*AJ29) -> #DIV/0! | AM29: =ROUND(AK29/AJ29,8) -> #DIV/0! | AP29: =AO29-(AQ29*AN29) -> #DIV/0! | AQ29: =ROUND(AO29/AN29,8) -> #DIV/0! | AT29: =AS29-(AU29*AR29) -> #DIV/0! | AU29: =ROUND(AS29/AR29,8) -> #DIV/0! | AX29: =AW29-(AY29*AV29) -> #DIV/0! | AY29: =ROUND(AW29/AV29,8) -> #DIV/0!
A30: 2 | B30: มหาวิทยาลัยแม่โจ้ | C30: 9803 020016314816 | D30: 0 | E30: 334.1 | F30: 0 | G30: - | H30: 0 | I30: 334.1 | J30: 0 | K30: - | L30: 0 | M30: 334.1 | N30: 0 | O30: - | P30: 0 | Q30: 334.1 | R30: 0 | S30: - | T30: 0 | U30: 334.1 | V30: 0 | W30: - | X30: 0 | Y30: 334.1 | Z30: 0 | AA30: - | AB30: 0 | AC30: 334.1 | AD30: 0 | AE30: - | AF30: 0 | AG30: 334.1 | AH30: 0 | AI30: - | AL30: 0 | AM30: - | AP30: 0 | AQ30: - | AT30: 0 | AU30: - | AX30: 0 | AY30: - | BJ30: kWh | BK30: %
A31: รวม | D31: =SUM(D29:D30) -> 4072 | E31: =SUM(E29:E30) -> 18121.62 | G31: - | H31: =SUM(H29:H30) -> 4496 | I31: =SUM(I29:I30) -> 19938.98 | K31: - | L31: =SUM(L29:L30) -> 7912 | M31: =SUM(M29:M30) -> 34580.66 | O31: - | P31: =SUM(P29:P30) -> 8904 | Q31: =SUM(Q29:Q30) -> 38832.57 | S31: - | T31: =SUM(T29:T30) -> 6904 | U31: =SUM(U29:U30) -> 30741.07 | W31: - | X31: =SUM(X29:X30) -> 4848 | Y31: =SUM(Y29:Y30) -> 21785.42 | AA31: - | AB31: =SUM(AB29:AB30) -> 5824 | AC31: =SUM(AC29:AC30) -> 26036.74 | AE31: - | AF31: =SUM(AF29:AF30) -> 3620 | AG31: =SUM(AG29:AG30) -> 16436.42 | AI31: - | AJ31: =SUM(AJ29:AJ30) -> 0 | AK31: =SUM(AK29:AK30) -> 0 | AM31: - | AN31: =SUM(AN29:AN30) -> 0 | AO31: =SUM(AO29:AO30) -> 0 | AQ31: - | AR31: =SUM(AR29:AR30) -> 0 | AS31: =SUM(AS29:AS30) -> 0 | AU31: - | AV31: =SUM(AV29:AV30) -> 0 | AW31: =SUM(AW29:AW30) -> 0 | AY31: - | AZ31: =AV31+AR31+AN31+AJ31+AF31+AB31+X31+AB31+P31+L31+H31+D31 -> 45500 | BA31: =AW31+AS31+AO31+AK31+AG31+AC31+Y31+U31+Q31+M31+I31+E31 -> 206473.48 | BB31: =AJ31+AF31+AB31+X31+AB31+P31+L31+H31+D31 -> 45500 | BC31: =AK31+AG31+AC31+Y31+U31+Q31+M31+I31+E31 -> 206473.48 | BD31: =AV31+AR31+AN31 -> 0 | BE31: =AW31+AS31+AO31 -> 0 | BF31: =(BD31+BB31)-AZ31 -> 0 | BG31: =(BE31+BC31)-BA31 -> 0 | BI31: ม.เชียงใหม่ | BJ31: =AB32 -> 1120741.8 | BK31: =BJ31/AB45*100 -> 87.718263
A32: มหาวิทยาลัยแม่โจ้-แพร่ เฉลิมพระเกียรติ | D32: =D31+D27+D25+D21+D17+D11+D9+D7+D5 -> 773087.91 | E32: =E31+E27+E25+E21+E17+E11+E9+E7+E5 -> 3058062.8 | H32: =H31+H27+H25+H21+H17+H11+H9+H7+H5 -> 899903.64 | I32: =I31+I27+I25+I21+I17+I11+I9+I7+I5 -> 3717611.6 | L32: =L31+L27+L25+L21+L17+L11+L9+L7+L5 -> 885702.77 | M32: =M31+M27+M25+M21+M17+M11+M9+M7+M5 -> 3579900.8 | P32: =P31+P27+P25+P21+P17+P11+P9+P7+P5 -> 811980.73 | Q32: =Q31+Q27+Q25+Q21+Q17+Q11+Q9+Q7+Q5 -> 3319158.1 | T32: =T31+T27+T25+T21+T17+T11+T9+T7+T5 -> 850887.81 | U32: =U31+U27+U25+U21+U17+U11+U9+U7+U5 -> 3463609.3 | X32: =X31+X27+X25+X21+X17+X11+X9+X7+X5 -> 930906.33 | Y32: =Y31+Y27+Y25+Y21+Y17+Y11+Y9+Y7+Y5 -> 3716258.7 | AB32: =AB31+AB27+AB25+AB21+AB17+AB11+AB9+AB7+AB5 -> 1120741.8 | AC32: =AC31+AC27+AC25+AC21+AC17+AC11+AC9+AC7+AC5 -> 4677598.7 | AF32: =AF31+AF27+AF25+AF21+AF17+AF11+AF9+AF7+AF5 -> 1190608 | AG32: =AG31+AG27+AG25+AG21+AG17+AG11+AG9+AG7+AG5 -> 4923025 | AJ32: =AJ31+AJ27+AJ25+AJ21+AJ17+AJ11+AJ9+AJ7+AJ5 -> 0 | AK32: =AK31+AK27+AK25+AK21+AK17+AK11+AK9+AK7+AK5 -> 0 | BI32: แพร่ | BJ32: =AB36 -> 123014.51 | BK32: =BJ32/AB45*100 -> 9.6281042
A33: 1 | B33: มหาวิทยาลัยแม่โจ้เฉลิมพระเกียรติ แพร่ | C33: 9801 020010405428 | D33: 69120 | E33: 283721.49 | F33: =E33-(G33*D33) -> -0.00020160002 | G33: =ROUND(E33/D33,8) -> 4.1047669 | H33: 80880 | I33: 346828.18 | J33: =I33-(K33*H33) -> -0.00038000004 | K33: =ROUND(I33/H33,8) -> 4.2881823 | L33: 92640 | M33: 391364.82 | N33: =M33-(O33*L33) -> 0.00023520004 | O33: =ROUND(M33/L33,8) -> 4.2245771 | P33: 66720 | Q33: 286260.85 | R33: =Q33-(S33*P33) -> -0.00028640003 | S33: =ROUND(Q33/P33,8) -> 4.2904804 | T33: 67320 | U33: 293447.7 | V33: =U33-(W33*T33) -> -0.00025560003 | W33: =ROUND(U33/T33,8) -> 4.3589973 | X33: 80400 | Y33: 387493.35 | Z33: =Y33-(AA33*X33) -> -1.2000033e-05 | AA33: =ROUND(Y33/X33,8) -> 4.819569 | AB33: 114000 | AC33: 509242.93 | AD33: =AC33-(AE33*AB33) -> -0.00049999997 | AE33: =ROUND(AC33/AB33,8) -> 4.4670432 | AF33: 110520 | AG33: 473269.89 | AH33: =AG33-(AI33*AF33) -> -9.2399947e-05 | AI33: =ROUND(AG33/AF33,8) -> 4.2822104 | AL33: =AK33-(AM33*AJ33) -> #DIV/0! | AM33: =ROUND(AK33/AJ33,8) -> #DIV/0! | AP33: =AO33-(AQ33*AN33) -> #DIV/0! | AQ33: =ROUND(AO33/AN33,8) -> #DIV/0! | AT33: =AS33-(AU33*AR33) -> #DIV/0! | AU33: =ROUND(AS33/AR33,8) -> #DIV/0! | AX33: =AW33-(AY33*AV33) -> #DIV/0! | AY33: =ROUND(AW33/AV33,8) -> #DIV/0! | BI33: ชุมพร | BJ33: =AB43 -> 33904.42 | BK33: =BJ33/AB45*100 -> 2.6536324
A34: 2 | B34: โรงสูบน้ำมหาวิทยาลัยแม่โจ้ | C34: 9801 020010405537 | D34: 11988.57 | E34: 52949.87 | F34: =E34-(G34*D34) -> -3.9199003e-06 | G34: =ROUND(E34/D34,8) -> 4.4166961 | H34: 9853.2 | I34: 43569.38 | J34: =I34-(K34*H34) -> -6.9640009e-06 | K34: =ROUND(I34/H34,8) -> 4.4218508 | L34: 9592.59 | M34: 42395.44 | N34: =M34-(O34*L34) -> -2.1399501e-05 | O34: =ROUND(M34/L34,8) -> 4.4196031 | P34: 8629.71 | Q34: 37960.58 | R34: =Q34-(S34*P34) -> -3.4786295e-05 | S34: =ROUND(Q34/P34,8) -> 4.3988245 | T34: 6465.78 | U34: 29835.76 | V34: =U34-(W34*T34) -> -1.9115603e-05 | W34: =ROUND(U34/T34,8) -> 4.61441 | X34: 6159.27 | Y34: 28668.71 | Z34: =Y34-(AA34*X34) -> -2.6392008e-06 | AA34: =ROUND(Y34/X34,8) -> 4.654563 | AB34: 7905.51 | AC34: 36017.57 | AD34: =AC34-(AE34*AB34) -> 3.3716002e-05 | AE34: =ROUND(AC34/AB34,8) -> 4.5560084 | AF34: 7882.56 | AG34: 35578.67 | AH34: =AG34-(AI34*AF34) -> -2.8480063e-06 | AI34: =ROUND(AG34/AF34,8) -> 4.5135933 | AL34: =AK34-(AM34*AJ34) -> #DIV/0! | AM34: =ROUND(AK34/AJ34,8) -> #DIV/0! | AP34: =AO34-(AQ34*AN34) -> #DIV/0! | AQ34: =ROUND(AO34/AN34,8) -> #DIV/0! | AT34: =AS34-(AU34*AR34) -> #DIV/0! | AU34: =ROUND(AS34/AR34,8) -> #DIV/0! | AX34: =AW34-(AY34*AV34) -> #DIV/0! | AY34: =ROUND(AW34/AV34,8) -> #DIV/0! | BK34: =SUM(BK31:BK33) -> 100
A35: 3 | B35: ศูนย์ประสานงานมหาวิทยาลัยแม่โจ้ | C35: 0025 020023324092 | D35: 723 | E35: 3289.7 | F35: =E35-(G35*D35) -> -2.6799999e-06 | G35: =ROUND(E35/D35,8) -> 4.5500692 | H35: 820 | I35: 3758.71 | J35: =I35-(K35*H35) -> 2.4000001e-06 | K35: =ROUND(I35/H35,8) -> 4.5837927 | L35: 1261 | M35: 5891.05 | N35: =M35-(O35*L35) -> -4.1900003e-06 | O35: =ROUND(M35/L35,8) -> 4.6717288 | P35: 1424 | Q35: 6679.19 | R35: =Q35-(S35*P35) -> -6.0800003e-06 | S35: =ROUND(Q35/P35,8) -> 4.6904424 | T35: 1413 | U35: 6724.43 | V35: =U35-(W35*T35) -> 6.4700007e-06 | W35: =ROUND(U35/T35,8) -> 4.7589738 | X35: 1273 | Y35: 6037.74 | Z35: =Y35-(AA35*X35) -> 1.2099999e-06 | AA35: =ROUND(Y35/X35,8) -> 4.7429222 | AB35: 1109 | AC35: 5233.35 | AD35: =AC35-(AE35*AB35) -> 4.4600001e-06 | AE35: =ROUND(AC35/AB35,8) -> 4.7189811 | AF35: 998 | AG35: 4688.91 | AH35: =AG35-(AI35*AF35) -> 3.2199996e-06 | AI35: =ROUND(AG35/AF35,8) -> 4.6983066 | AL35: =AK35-(AM35*AJ35) -> #DIV/0! | AM35: =ROUND(AK35/AJ35,8) -> #DIV/0! | AP35: =AO35-(AQ35*AN35) -> #DIV/0! | AQ35: =ROUND(AO35/AN35,8) -> #DIV/0! | AT35: =AS35-(AU35*AR35) -> #DIV/0! | AU35: =ROUND(AS35/AR35,8) -> #DIV/0! | AX35: =AW35-(AY35*AV35) -> #DIV/0! | AY35: =ROUND(AW35/AV35,8) -> #DIV/0!
A36: รวม | D36: =SUM(D33:D35) -> 81831.57 | E36: =SUM(E33:E35) -> 339961.06 | G36: - | H36: =SUM(H33:H35) -> 91553.2 | I36: =SUM(I33:I35) -> 394156.27 | K36: - | L36: =SUM(L33:L35) -> 103493.59 | M36: =SUM(M33:M35) -> 439651.31 | O36: - | P36: =SUM(P33:P35) -> 76773.71 | Q36: =SUM(Q33:Q35) -> 330900.62 | S36: - | T36: =SUM(T33:T35) -> 75198.78 | U36: =SUM(U33:U35) -> 330007.89 | W36: - | X36: =SUM(X33:X35) -> 87832.27 | Y36: =SUM(Y33:Y35) -> 422199.8 | AA36: - | AB36: =SUM(AB33:AB35) -> 123014.51 | AC36: =SUM(AC33:AC35) -> 550493.85 | AE36: - | AF36: =SUM(AF33:AF35) -> 119400.56 | AG36: =SUM(AG33:AG35) -> 513537.47 | AI36: - | AJ36: =SUM(AJ33:AJ35) -> 0 | AK36: =SUM(AK33:AK35) -> 0 | AM36: - | AN36: =SUM(AN33:AN35) -> 0 | AO36: =SUM(AO33:AO35) -> 0 | AQ36: - | AR36: =SUM(AR33:AR35) -> 0 | AS36: =SUM(AS33:AS35) -> 0 | AU36: - | AV36: =SUM(AV33:AV35) -> 0 | AW36: =SUM(AW33:AW35) -> 0 | AY36: - | AZ36: =AV36+AR36+AN36+AJ36+AF36+AB36+X36+AB36+P36+L36+H36+D36 -> 806913.92 | BA36: =AW36+AS36+AO36+AK36+AG36+AC36+Y36+U36+Q36+M36+I36+E36 -> 3320908.3 | BB36: =AJ36+AF36+AB36+X36+AB36+P36+L36+H36+D36 -> 806913.92 | BC36: =AK36+AG36+AC36+Y36+U36+Q36+M36+I36+E36 -> 3320908.3 | BD36: =AV36+AR36+AN36 -> 0 | BE36: =AW36+AS36+AO36 -> 0 | BF36: =(BD36+BB36)-AZ36 -> 0 | BG36: =(BE36+BC36)-BA36 -> 0
A37: มหาวิทยาลัยแม่โจ้ - ชุมพร
A38: 1 | B38: สถาบันเทคโนโลยี่การเกษตรแม่โจ้ | C38: 9801 020004457486 | D38: 9230.59 | E38: 41613.95 | F38: =E38-(G38*D38) -> 1.9884501e-05 | G38: =ROUND(E38/D38,8) -> 4.5082654 | H38: 10685.51 | I38: 50310.77 | J38: =I38-(K38*H38) -> 1.0503492e-05 | K38: =ROUND(I38/H38,8) -> 4.7083172 | L38: 11548.85 | M38: 25900.5 | N38: =M38-(O38*L38) -> 7.9544989e-06 | O38: =ROUND(M38/L38,8) -> 2.2426908 | P38: 10410.63 | Q38: 48299.44 | R38: =Q38-(S38*P38) -> -4.8880698e-05 | S38: =ROUND(Q38/P38,8) -> 4.6394349 | T38: 10737.74 | U38: 50602.3 | V38: =U38-(W38*T38) -> 4.1974599e-05 | W38: =ROUND(U38/T38,8) -> 4.7125652 | X38: 10199.18 | Y38: 48149.75 | Z38: =Y38-(AA38*X38) -> 2.3464992e-05 | AA38: =ROUND(Y38/X38,8) -> 4.7209433 | AB38: 12312.62 | AC38: 58679.12 | AD38: =AC38-(AE38*AB38) -> 5.7551995e-05 | AE38: =ROUND(AC38/AB38,8) -> 4.7657704 | AF38: 12138 | AG38: 56426.12 | AH38: =AG38-(AI38*AF38) -> -2.734e-05 | AI38: =ROUND(AG38/AF38,8) -> 4.6487164 | AL38: =AK38-(AM38*AJ38) -> #DIV/0! | AM38: =ROUND(AK38/AJ38,8) -> #DIV/0! | AP38: =AO38-(AQ38*AN38) -> #DIV/0! | AQ38: =ROUND(AO38/AN38,8) -> #DIV/0! | AT38: =AS38-(AU38*AR38) -> #DIV/0! | AU38: =ROUND(AS38/AR38,8) -> #DIV/0! | AX38: =AW38-(AY38*AV38) -> #DIV/0! | AY38: =ROUND(AW38/AV38,8) -> #DIV/0!
A39: 2 | B39: มหาวิทยาลัยแม่โจ้วิทยาเขตชุมพร | C39: 9026 020016381667 | D39: 9348 | E39: 44307.41 | F39: =E39-(G39*D39) -> 3.0560004e-05 | G39: =ROUND(E39/D39,8) -> 4.7397743 | H39: 9804 | I39: 49263.13 | J39: =I39-(K39*H39) -> 1.5759993e-05 | K39: =ROUND(I39/H39,8) -> 5.0247991 | L39: 9648 | M39: 49171.64 | N39: =M39-(O39*L39) -> -1.6959995e-05 | O39: =ROUND(M39/L39,8) -> 5.096563 | P39: 6516 | Q39: 30142.18 | R39: =Q39-(S39*P39) -> 2.7999995e-06 | S39: =ROUND(Q39/P39,8) -> 4.6258717 | T39: 6480 | U39: 30315.27 | V39: =U39-(W39*T39) -> -1.6799997e-05 | W39: =ROUND(U39/T39,8) -> 4.6782824 | X39: 7512 | Y39: 39231.18 | Z39: =Y39-(AA39*X39) -> 8.3999985e-06 | AA39: =ROUND(Y39/X39,8) -> 5.222468 | AB39: 11328 | AC39: 58546.84 | AD39: =AC39-(AE39*AB39) -> 2.5599991e-05 | AE39: =ROUND(AC39/AB39,8) -> 5.1683298 | AF39: 11172 | AG39: 57493.17 | AH39: =AG39-(AI39*AF39) -> 5.8799924e-06 | AI39: =ROUND(AG39/AF39,8) -> 5.1461842 | AL39: =AK39-(AM39*AJ39) -> #DIV/0! | AM39: =ROUND(AK39/AJ39,8) -> #DIV/0! | AP39: =AO39-(AQ39*AN39) -> #DIV/0! | AQ39: =ROUND(AO39/AN39,8) -> #DIV/0! | AT39: =AS39-(AU39*AR39) -> #DIV/0! | AU39: =ROUND(AS39/AR39,8) -> #DIV/0! | AX39: =AW39-(AY39*AV39) -> #DIV/0! | AY39: =ROUND(AW39/AV39,8) -> #DIV/0!
A40: 3 | B40: มหาวิทยาลัยแม่โจ้วิทยาเขตชุมพร | C40: 9801 020004456066 | D40: 4054.4 | E40: 17712.1 | F40: =E40-(G40*D40) -> -6.2719992e-06 | G40: =ROUND(E40/D40,8) -> 4.3686119 | H40: 4126.4 | I40: 18020.69 | J40: =I40-(K40*H40) -> 8.4799831e-07 | K40: =ROUND(I40/H40,8) -> 4.3671699 | L40: 4422.4 | M40: 19289.41 | N40: =M40-(O40*L40) -> -1.0495998e-05 | O40: =ROUND(M40/L40,8) -> 4.3617515 | P40: 2150.4 | Q40: 9551.16 | R40: =Q40-(S40*P40) -> 1.5359983e-06 | S40: =ROUND(Q40/P40,8) -> 4.4415737 | T40: 1684 | U40: 7669.37 | V40: =U40-(W40*T40) -> -4.7999947e-07 | W40: =ROUND(U40/T40,8) -> 4.5542577 | X40: 1184.8 | Y40: 5494.92 | Z40: =Y40-(AA40*X40) -> -4.0000486e-08 | AA40: =ROUND(Y40/X40,8) -> 4.6378461 | AB40: 4264.8 | AC40: 18910.99 | AD40: =AC40-(AE40*AB40) -> -2.06e-05 | AE40: =ROUND(AC40/AB40,8) -> 4.4342033 | AF40: 4386.4 | AG40: 19440.66 | AH40: =AG40-(AI40*AF40) -> 1.1152002e-05 | AI40: =ROUND(AG40/AF40,8) -> 4.4320308 | AL40: =AK40-(AM40*AJ40) -> #DIV/0! | AM40: =ROUND(AK40/AJ40,8) -> #DIV/0! | AP40: =AO40-(AQ40*AN40) -> #DIV/0! | AQ40: =ROUND(AO40/AN40,8) -> #DIV/0! | AT40: =AS40-(AU40*AR40) -> #DIV/0! | AU40: =ROUND(AS40/AR40,8) -> #DIV/0! | AX40: =AW40-(AY40*AV40) -> #DIV/0! | AY40: =ROUND(AW40/AV40,8) -> #DIV/0!
A41: 4 | B41: มหาวิทยาลัยแม่โจ้(อาคารชุดพักอาศัยข้าราชการ) | C41: 9801 020004456103 | D41: 4607.5 | E41: 20082.79 | F41: =E41-(G41*D41) -> -5.8250007e-06 | G41: =ROUND(E41/D41,8) -> 4.3587173 | H41: 4886 | I41: 21276.5 | J41: =I41-(K41*H41) -> -1.358e-05 | K41: =ROUND(I41/H41,8) -> 4.3545845 | L41: 6117.5 | M41: 26554.96 | N41: =M41-(O41*L41) -> 1.2199998e-05 | O41: =ROUND(M41/L41,8) -> 4.340819 | P41: 5562.5 | Q41: 24176.13 | R41: =Q41-(S41*P41) -> 1.0000003e-05 | S41: =ROUND(Q41/P41,8) -> 4.3462706 | T41: 5536.5 | U41: 24450.32 | V41: =U41-(W41*T41) -> 2.0929998e-05 | W41: =ROUND(U41/T41,8) -> 4.4162052 | X41: 5330 | Y41: 23550.86 | Z41: =Y41-(AA41*X41) -> 1.2800003e-05 | AA41: =ROUND(Y41/X41,8) -> 4.4185478 | AB41: 5920.5 | AC41: 26122.98 | AD41: =AC41-(AE41*AB41) -> 3.9600018e-06 | AE41: =ROUND(AC41/AB41,8) -> 4.4122929 | AF41: 5624 | AG41: 24831.47 | AH41: =AG41-(AI41*AF41) -> 1.2240002e-05 | AI41: =ROUND(AG41/AF41,8) -> 4.4152685 | AL41: =AK41-(AM41*AJ41) -> #DIV/0! | AM41: =ROUND(AK41/AJ41,8) -> #DIV/0! | AP41: =AO41-(AQ41*AN41) -> #DIV/0! | AQ41: =ROUND(AO41/AN41,8) -> #DIV/0! | AT41: =AS41-(AU41*AR41) -> #DIV/0! | AU41: =ROUND(AS41/AR41,8) -> #DIV/0! | AX41: =AW41-(AY41*AV41) -> #DIV/0! | AY41: =ROUND(AW41/AV41,8) -> #DIV/0!
A42: 5 | B42: มหาวิทยาลัยแม่โจ้วิทยาเขตชุมพร | C42: 9801 020022277344 | D42: 264 | E42: 1465.65 | F42: =E42-(G42*D42) -> -1.2e-06 | G42: =ROUND(E42/D42,8) -> 5.5517046 | H42: 198 | I42: 1182.78 | J42: =I42-(K42*H42) -> 7.1999989e-07 | K42: =ROUND(I42/H42,8) -> 5.9736364 | L42: 203.5 | M42: 1206.34 | N42: =M42-(O42*L42) -> -4.1500016e-07 | O42: =ROUND(M42/L42,8) -> 5.9279607 | P42: 139.5 | Q42: 932.03 | R42: =Q42-(S42*P42) -> -2.7999999e-07 | S42: =ROUND(Q42/P42,8) -> 6.6812186 | T42: 58.5 | U42: 588.91 | V42: =U42-(W42*T42) -> -1.8500009e-07 | W42: =ROUND(U42/T42,8) -> 10.066838 | X42: 37.5 | Y42: 497.44 | Z42: =Y42-(AA42*X42) -> -1.2499999e-07 | AA42: =ROUND(Y42/X42,8) -> 13.265067 | AB42: 78.5 | AC42: 676.04 | AD42: =AC42-(AE42*AB42) -> 1.7999992e-07 | AE42: =ROUND(AC42/AB42,8) -> 8.6119745 | AF42: 385 | AG42: 2011.12 | AH42: =AG42-(AI42*AF42) -> 6.4999995e-07 | AI42: =ROUND(AG42/AF42,8) -> 5.2236883 | AL42: =AK42-(AM42*AJ42) -> #DIV/0! | AM42: =ROUND(AK42/AJ42,8) -> #DIV/0! | AP42: =AO42-(AQ42*AN42) -> #DIV/0! | AQ42: =ROUND(AO42/AN42,8) -> #DIV/0! | AT42: =AS42-(AU42*AR42) -> #DIV/0! | AU42: =ROUND(AS42/AR42,8) -> #DIV/0! | AX42: =AW42-(AY42*AV42) -> #DIV/0! | AY42: =ROUND(AW42/AV42,8) -> #DIV/0!
...

Sheet กราฟ68-69 มหาวิทยาลัยแม่โจ้
B2: Month | C2: มหาวิทยาลัยแม่โจ้
C3: 9806 020017405371
C4: ค่าพลังงานไฟฟ้า 68 (kWh) | D4: ค่าพลังงานไฟฟ้า 69 (kWh)
B5: มกราคม | C5: ='2568-บิลค่าไฟฟ้า'!D5 -> 621643 | D5: ='2569-บิลค่าไฟฟ้า'!D5 -> 662720.31
B6: กุมภาพันธ์ | C6: ='2568-บิลค่าไฟฟ้า'!H5 -> 723443 | D6: ='2569-บิลค่าไฟฟ้า'!H5 -> 784824.81
B7: มีนาคม | C7: ='2568-บิลค่าไฟฟ้า'!L5 -> 854947 | D7: ='2569-บิลค่าไฟฟ้า'!L5 -> 760511.41
B8: เมษายน | C8: ='2568-บิลค่าไฟฟ้า'!P5 -> 713467 | D8: ='2569-บิลค่าไฟฟ้า'!P5 -> 670856.01
B9: พฤษภาคม | C9: ='2568-บิลค่าไฟฟ้า'!T5 -> 703971.99 | D9: ='2569-บิลค่าไฟฟ้า'!T5 -> 709237.1
B10: มิถุนายน | C10: ='2568-บิลค่าไฟฟ้า'!X5 -> 897765 | D10: ='2569-บิลค่าไฟฟ้า'!X5 -> 811905.7
B11: กรกฏาคม | C11: ='2568-บิลค่าไฟฟ้า'!AB5 -> 1065556.5 | D11: ='2569-บิลค่าไฟฟ้า'!AB5 -> 1004451
B12: สิงหาคม | C12: ='2568-บิลค่าไฟฟ้า'!AF5 -> 1058378.5 | D12: ='2569-บิลค่าไฟฟ้า'!AF5 -> 1079791.9
B13: กันยายน | C13: ='2568-บิลค่าไฟฟ้า'!AJ5 -> 1078213 | D13: ='2569-บิลค่าไฟฟ้า'!AJ5 -> 0
B14: ตุลาคม | C14: ='2568-บิลค่าไฟฟ้า'!AN5 -> 928769 | D14: ='2569-บิลค่าไฟฟ้า'!AN5 -> 0
B15: พฤศจิกายน | C15: ='2568-บิลค่าไฟฟ้า'!AR5 -> 699110.6 | D15: ='2569-บิลค่าไฟฟ้า'!AR5 -> 0
B16: ธันวาคม | C16: ='2568-บิลค่าไฟฟ้า'!AV5 -> 660682.1 | D16: ='2569-บิลค่าไฟฟ้า'!AV5 -> 0
B28: Month | C28: มหาวิทยาลัยแม่โจ้
C29: 9806 020017405371
C30: ค่าไฟฟ้า 68 (บาท) | D30: ค่าไฟฟ้า 69 (บาท)
B31: มกราคม | C31: ='2568-บิลค่าไฟฟ้า'!E5 -> 2608168 | D31: ='2569-บิลค่าไฟฟ้า'!E5 -> 2594110.3
B32: กุมภาพันธ์ | C32: ='2568-บิลค่าไฟฟ้า'!I5 -> 3143026.7 | D32: ='2569-บิลค่าไฟฟ้า'!I5 -> 3218927
B33: มีนาคม | C33: ='2568-บิลค่าไฟฟ้า'!M5 -> 3673807 | D33: ='2569-บิลค่าไฟฟ้า'!M5 -> 3039870.8
B34: เมษายน | C34: ='2568-บิลค่าไฟฟ้า'!Q5 -> 3142174 | D34: ='2569-บิลค่าไฟฟ้า'!Q5 -> 2723683.6
B35: พฤษภาคม | C35: ='2568-บิลค่าไฟฟ้า'!U5 -> 2899419.5 | D35: ='2569-บิลค่าไฟฟ้า'!U5 -> 2846769.8
B36: มิถุนายน | C36: ='2568-บิลค่าไฟฟ้า'!Y5 -> 3748635.9 | D36: ='2569-บิลค่าไฟฟ้า'!Y5 -> 3410218.4
B37: กรกฏาคม | C37: ='2568-บิลค่าไฟฟ้า'!AC5 -> 4495970.7 | D37: ='2569-บิลค่าไฟฟ้า'!AC5 -> 4164476.8
B38: สิงหาคม | C38: ='2568-บิลค่าไฟฟ้า'!AG5 -> 4389811.3 | D38: ='2569-บิลค่าไฟฟ้า'!AG5 -> 4433389.8
B39: กันยายน | C39: ='2568-บิลค่าไฟฟ้า'!AK5 -> 4521903.2 | D39: ='2569-บิลค่าไฟฟ้า'!AK5 -> 0
B40: ตุลาคม | C40: ='2568-บิลค่าไฟฟ้า'!AO5 -> 3849488.4 | D40: ='2569-บิลค่าไฟฟ้า'!AO5 -> 0
B41: พฤศจิกายน | C41: ='2568-บิลค่าไฟฟ้า'!AS5 -> 2792408.9 | D41: ='2569-บิลค่าไฟฟ้า'!AS5 -> 0
B42: ธันวาคม | C42: ='2568-บิลค่าไฟฟ้า'!AW5 -> 2639317.1 | D42: ='2569-บิลค่าไฟฟ้า'!AW5 -> 0

Sheet กราฟ68-69 คณะสัตวศาสตร์
B2: Month | C2: คณะสัตวศาสตร์และเทคโนโลยี
C3: 9805 020004553162
C4: ค่าพลังงานไฟฟ้า 68 (kWh) | D4: ค่าพลังงานไฟฟ้า 69 (kWh)
B5: มกราคม | C5: ='2568-บิลค่าไฟฟ้า'!D7 -> 47268.01 | D5: ='2569-บิลค่าไฟฟ้า'!D7 -> 44632
B6: กุมภาพันธ์ | C6: ='2568-บิลค่าไฟฟ้า'!H7 -> 53628 | D6: ='2569-บิลค่าไฟฟ้า'!H7 -> 54860.01
B7: มีนาคม | C7: ='2568-บิลค่าไฟฟ้า'!L7 -> 70820 | D7: ='2569-บิลค่าไฟฟ้า'!L7 -> 56488
B8: เมษายน | C8: ='2568-บิลค่าไฟฟ้า'!P7 -> 65476 | D8: ='2569-บิลค่าไฟฟ้า'!P7 -> 61940.01
B9: พฤษภาคม | C9: ='2568-บิลค่าไฟฟ้า'!T7 -> 54860.01 | D9: ='2569-บิลค่าไฟฟ้า'!T7 -> 69448
B10: มิถุนายน | C10: ='2568-บิลค่าไฟฟ้า'!X7 -> 50527.99 | D10: ='2569-บิลค่าไฟฟ้า'!X7 -> 55484
B11: กรกฏาคม | C11: ='2568-บิลค่าไฟฟ้า'!AB7 -> 59984.01 | D11: ='2569-บิลค่าไฟฟ้า'!AB7 -> 60036
B12: สิงหาคม | C12: ='2568-บิลค่าไฟฟ้า'!AF7 -> 54847.99 | D12: ='2569-บิลค่าไฟฟ้า'!AF7 -> 48792
B13: กันยายน | C13: ='2568-บิลค่าไฟฟ้า'!AJ7 -> 59884 | D13: ='2569-บิลค่าไฟฟ้า'!AJ7 -> 0
B14: ตุลาคม | C14: ='2568-บิลค่าไฟฟ้า'!AN7 -> 51100 | D14: ='2569-บิลค่าไฟฟ้า'!AN7 -> 0
B15: พฤศจิกายน | C15: ='2568-บิลค่าไฟฟ้า'!AR7 -> 40088 | D15: ='2569-บิลค่าไฟฟ้า'!AR7 -> 0
B16: ธันวาคม | C16: ='2568-บิลค่าไฟฟ้า'!AV7 -> 39628.01 | D16: ='2569-บิลค่าไฟฟ้า'!AV7 -> 0
B28: Month | C28: คณะสัตวศาสตร์และเทคโนโลยี
C29: 9805 020004553162
C30: ค่าไฟฟ้า 68 (บาท) | D30: ค่าไฟฟ้า 69 (บาท)
B31: มกราคม | C31: ='2568-บิลค่าไฟฟ้า'!E7 -> 208113.87 | D31: ='2569-บิลค่าไฟฟ้า'!E7 -> 188362.59
B32: กุมภาพันธ์ | C32: ='2568-บิลค่าไฟฟ้า'!I7 -> 241001.73 | D32: ='2569-บิลค่าไฟฟ้า'!I7 -> 231305.27
B33: มีนาคม | C33: ='2568-บิลค่าไฟฟ้า'!M7 -> 319021.92 | D33: ='2569-บิลค่าไฟฟ้า'!M7 -> 239054.99
B34: เมษายน | C34: ='2568-บิลค่าไฟฟ้า'!Q7 -> 290323.83 | D34: ='2569-บิลค่าไฟฟ้า'!Q7 -> 252408.12
B35: พฤษภาคม | C35: ='2568-บิลค่าไฟฟ้า'!U7 -> 235726.16 | D35: ='2569-บิลค่าไฟฟ้า'!U7 -> 294991.46
B36: มิถุนายน | C36: ='2568-บิลค่าไฟฟ้า'!Y7 -> 215174.85 | D36: ='2569-บิลค่าไฟฟ้า'!Y7 -> 15284.81
B37: กรกฏาคม | C37: ='2568-บิลค่าไฟฟ้า'!AC7 -> 247528.69 | D37: ='2569-บิลค่าไฟฟ้า'!AC7 -> 249478.08
B38: สิงหาคม | C38: ='2568-บิลค่าไฟฟ้า'!AG7 -> 235210.89 | D38: ='2569-บิลค่าไฟฟ้า'!AG7 -> 203507.85
B39: กันยายน | C39: ='2568-บิลค่าไฟฟ้า'!AK7 -> 251710.22 | D39: ='2569-บิลค่าไฟฟ้า'!AK7 -> 0
B40: ตุลาคม | C40: ='2568-บิลค่าไฟฟ้า'!AO7 -> 211628.95 | D40: ='2569-บิลค่าไฟฟ้า'!AO7 -> 0
B41: พฤศจิกายน | C41: ='2568-บิลค่าไฟฟ้า'!AS7 -> 167800.01 | D41: ='2569-บิลค่าไฟฟ้า'!AS7 -> 0
B42: ธันวาคม | C42: ='2568-บิลค่าไฟฟ้า'!AW7 -> 163900.13 | D42: ='2569-บิลค่าไฟฟ้า'!AW7 -> 0

Sheet กราฟ68-69 พลังงานทดแทน
B2: Month | C2: วิทยาลัยพลังงานทดแทน
C3: 9095 020016355485
C4: ค่าพลังงานไฟฟ้า 68 (kWh) | D4: ค่าพลังงานไฟฟ้า 69 (kWh)
B5: มกราคม | C5: ='2568-บิลค่าไฟฟ้า'!D9 -> 9220 | D5: ='2569-บิลค่าไฟฟ้า'!D9 -> 21680
B6: กุมภาพันธ์ | C6: ='2568-บิลค่าไฟฟ้า'!H9 -> 8760 | D6: ='2569-บิลค่าไฟฟ้า'!H9 -> 11480
B7: มีนาคม | C7: ='2568-บิลค่าไฟฟ้า'!L9 -> 10620 | D7: ='2569-บิลค่าไฟฟ้า'!L9 -> 10140
B8: เมษายน | C8: ='2568-บิลค่าไฟฟ้า'!P9 -> 10340 | D8: ='2569-บิลค่าไฟฟ้า'!P9 -> 9400
B9: พฤษภาคม | C9: ='2568-บิลค่าไฟฟ้า'!T9 -> 11280 | D9: ='2569-บิลค่าไฟฟ้า'!T9 -> 13420
B10: มิถุนายน | C10: ='2568-บิลค่าไฟฟ้า'!X9 -> 11520 | D10: ='2569-บิลค่าไฟฟ้า'!X9 -> 14560
B11: กรกฏาคม | C11: ='2568-บิลค่าไฟฟ้า'!AB9 -> 15020 | D11: ='2569-บิลค่าไฟฟ้า'!AB9 -> 16200
B12: สิงหาคม | C12: ='2568-บิลค่าไฟฟ้า'!AF9 -> 13680 | D12: ='2569-บิลค่าไฟฟ้า'!AF9 -> 18260
B13: กันยายน | C13: ='2568-บิลค่าไฟฟ้า'!AJ9 -> 14400 | D13: ='2569-บิลค่าไฟฟ้า'!AJ9 -> 0
B14: ตุลาคม | C14: ='2568-บิลค่าไฟฟ้า'!AN9 -> 14320 | D14: ='2569-บิลค่าไฟฟ้า'!AN9 -> 0
B15: พฤศจิกายน | C15: ='2568-บิลค่าไฟฟ้า'!AR9 -> 13640 | D15: ='2569-บิลค่าไฟฟ้า'!AR9 -> 0
B16: ธันวาคม | C16: ='2568-บิลค่าไฟฟ้า'!AV9 -> 18800 | D16: ='2569-บิลค่าไฟฟ้า'!AV9 -> 0
B28: Month | C28: วิทยาลัยพลังงานทดแทน
C29: 9095 020016355485
C30: ค่าไฟฟ้า 68 (บาท) | D30: ค่าไฟฟ้า 69 (บาท)
B31: มกราคม | C31: ='2568-บิลค่าไฟฟ้า'!E9 -> 40019.97 | D31: ='2569-บิลค่าไฟฟ้า'!E9 -> 81019.04
B32: กุมภาพันธ์ | C32: ='2568-บิลค่าไฟฟ้า'!I9 -> 38733.29 | D32: ='2569-บิลค่าไฟฟ้า'!I9 -> 50232.65
B33: มีนาคม | C33: ='2568-บิลค่าไฟฟ้า'!M9 -> 46870.35 | D33: ='2569-บิลค่าไฟฟ้า'!M9 -> 43746.18
B34: เมษายน | C34: ='2568-บิลค่าไฟฟ้า'!Q9 -> 46649.1 | D34: ='2569-บิลค่าไฟฟ้า'!Q9 -> 40965.09
B35: พฤษภาคม | C35: ='2568-บิลค่าไฟฟ้า'!U9 -> 49903.72 | D35: ='2569-บิลค่าไฟฟ้า'!U9 -> 63117.77
B36: มิถุนายน | C36: ='2568-บิลค่าไฟฟ้า'!Y9 -> 53192.2 | D36: ='2569-บิลค่าไฟฟ้า'!Y9 -> 69320.43
B37: กรกฏาคม | C37: ='2568-บิลค่าไฟฟ้า'!AC9 -> 73281.79 | D37: ='2569-บิลค่าไฟฟ้า'!AC9 -> 83684.84
B38: สิงหาคม | C38: ='2568-บิลค่าไฟฟ้า'!AG9 -> 63666.03 | D38: ='2569-บิลค่าไฟฟ้า'!AG9 -> 90436.05
B39: กันยายน | C39: ='2568-บิลค่าไฟฟ้า'!AK9 -> 67664.24 | D39: ='2569-บิลค่าไฟฟ้า'!AK9 -> 0
B40: ตุลาคม | C40: ='2568-บิลค่าไฟฟ้า'!AO9 -> 63364.12 | D40: ='2569-บิลค่าไฟฟ้า'!AO9 -> 0
B41: พฤศจิกายน | C41: ='2568-บิลค่าไฟฟ้า'!AS9 -> 58005.04 | D41: ='2569-บิลค่าไฟฟ้า'!AS9 -> 0
B42: ธันวาคม | C42: ='2568-บิลค่าไฟฟ้า'!AW9 -> 74465.91 | D42: ='2569-บิลค่าไฟฟ้า'!AW9 -> 0

Sheet กราฟ68-69 โครงการแปรรูป
B2: Month | C2: โครงการแปรรูปผลิตผลทางการเกษตร
C3: 9805 020006009966
C4: ค่าพลังงานไฟฟ้า 68 (kWh) | D4: ค่าพลังงานไฟฟ้า 69 (kWh)
B5: มกราคม | C5: ='2568-บิลค่าไฟฟ้า'!D11 -> 1675.5 | D5: ='2569-บิลค่าไฟฟ้า'!D11 -> 593.5
B6: กุมภาพันธ์ | C6: ='2568-บิลค่าไฟฟ้า'!H11 -> 2438 | D6: ='2569-บิลค่าไฟฟ้า'!H11 -> 405.99
B7: มีนาคม | C7: ='2568-บิลค่าไฟฟ้า'!L11 -> 2387.5 | D7: ='2569-บิลค่าไฟฟ้า'!L11 -> 454.99
B8: เมษายน | C8: ='2568-บิลค่าไฟฟ้า'!P11 -> 1187.51 | D8: ='2569-บิลค่าไฟฟ้า'!P11 -> 490.5
B9: พฤษภาคม | C9: ='2568-บิลค่าไฟฟ้า'!T11 -> 765.5 | D9: ='2569-บิลค่าไฟฟ้า'!T11 -> 411.5
B10: มิถุนายน | C10: ='2568-บิลค่าไฟฟ้า'!X11 -> 806 | D10: ='2569-บิลค่าไฟฟ้า'!X11 -> 510.01
B11: กรกฏาคม | C11: ='2568-บิลค่าไฟฟ้า'!AB11 -> 721 | D11: ='2569-บิลค่าไฟฟ้า'!AB11 -> 673
B12: สิงหาคม | C12: ='2568-บิลค่าไฟฟ้า'!AF11 -> 850.51 | D12: ='2569-บิลค่าไฟฟ้า'!AF11 -> 681
B13: กันยายน | C13: ='2568-บิลค่าไฟฟ้า'!AJ11 -> 975.51 | D13: ='2569-บิลค่าไฟฟ้า'!AJ11 -> 0
B14: ตุลาคม | C14: ='2568-บิลค่าไฟฟ้า'!AN11 -> 1162.5 | D14: ='2569-บิลค่าไฟฟ้า'!AN11 -> 0
B15: พฤศจิกายน | C15: ='2568-บิลค่าไฟฟ้า'!AR11 -> 957.5 | D15: ='2569-บิลค่าไฟฟ้า'!AR11 -> 0
B16: ธันวาคม | C16: ='2568-บิลค่าไฟฟ้า'!AV11 -> 636.99 | D16: ='2569-บิลค่าไฟฟ้า'!AV11 -> 0
B28: Month | C28: โครงการแปรรูปผลิตผลทางการเกษตร
C29: 9805 020006009966
C30: ค่าไฟฟ้า 68 (บาท) | D30: ค่าไฟฟ้า 69 (บาท)
B31: มกราคม | C31: ='2568-บิลค่าไฟฟ้า'!E11 -> 7999.68 | D31: ='2569-บิลค่าไฟฟ้า'!E11 -> 2877.96
B32: กุมภาพันธ์ | C32: ='2568-บิลค่าไฟฟ้า'!I11 -> 11488.19 | D32: ='2569-บิลค่าไฟฟ้า'!I11 -> 2074.25
B33: มีนาคม | C33: ='2568-บิลค่าไฟฟ้า'!M11 -> 11257.17 | D33: ='2569-บิลค่าไฟฟ้า'!M11 -> 2284.29
B34: เมษายน | C34: ='2568-บิลค่าไฟฟ้า'!Q11 -> 5767.08 | D34: ='2569-บิลค่าไฟฟ้า'!Q11 -> 2136.49
B35: พฤษภาคม | C35: ='2568-บิลค่าไฟฟ้า'!U11 -> 3697.1 | D35: ='2569-บิลค่าไฟฟ้า'!U11 -> 2126.53
B36: มิถุนายน | C36: ='2568-บิลค่าไฟฟ้า'!Y11 -> 3875.02 | D36: ='2569-บิลค่าไฟฟ้า'!Y11 -> 2555.62
B37: กรกฏาคม | C37: ='2568-บิลค่าไฟฟ้า'!AC11 -> 3501.6 | D37: ='2569-บิลค่าไฟฟ้า'!AC11 -> 3265.6
B38: สิงหาคม | C38: ='2568-บิลค่าไฟฟ้า'!AG11 -> 4070.57 | D38: ='2569-บิลค่าไฟฟ้า'!AG11 -> 3300.44
B39: กันยายน | C39: ='2568-บิลค่าไฟฟ้า'!AK11 -> 4577.97 | D39: ='2569-บิลค่าไฟฟ้า'!AK11 -> 0
B40: ตุลาคม | C40: ='2568-บิลค่าไฟฟ้า'!AO11 -> 5391.45 | D40: ='2569-บิลค่าไฟฟ้า'!AO11 -> 0
B41: พฤศจิกายน | C41: ='2568-บิลค่าไฟฟ้า'!AS11 -> 4499.61 | D41: ='2569-บิลค่าไฟฟ้า'!AS11 -> 0
B42: ธันวาคม | C42: ='2568-บิลค่าไฟฟ้า'!AW11 -> 3105.26 | D42: ='2569-บิลค่าไฟฟ้า'!AW11 -> 0

Sheet กราฟ68-69 โครงการพัฒนา 907 ไร่
B2: Month | C2: โครงการพัฒนาบ้านโปงพระราชดำริ (907 ไร่)
C3: 9801 020025008422
C4: ค่าพลังงานไฟฟ้า 68 (kWh) | D4: ค่าพลังงานไฟฟ้า 69 (kWh)
B5: มกราคม | C5: ='2568-บิลค่าไฟฟ้า'!D13 -> 28131.28 | D5: ='2569-บิลค่าไฟฟ้า'!D13 -> 22315.4
B6: กุมภาพันธ์ | C6: ='2568-บิลค่าไฟฟ้า'!H13 -> 32671.18 | D6: ='2569-บิลค่าไฟฟ้า'!H13 -> 25817
B7: มีนาคม | C7: ='2568-บิลค่าไฟฟ้า'!L13 -> 41678.71 | D7: ='2569-บิลค่าไฟฟ้า'!L13 -> 30360
B8: เมษายน | C8: ='2568-บิลค่าไฟฟ้า'!P13 -> 39121.12 | D8: ='2569-บิลค่าไฟฟ้า'!P13 -> 39631
B9: พฤษภาคม | C9: ='2568-บิลค่าไฟฟ้า'!T13 -> 41111.36 | D9: ='2569-บิลค่าไฟฟ้า'!T13 -> 40536
B10: มิถุนายน | C10: ='2568-บิลค่าไฟฟ้า'!X13 -> 31015.35 | D10: ='2569-บิลค่าไฟฟ้า'!X13 -> 36009
B11: กรกฏาคม | C11: ='2568-บิลค่าไฟฟ้า'!AB13 -> 27788.48 | D11: ='2569-บิลค่าไฟฟ้า'!AB13 -> 28003
B12: สิงหาคม | C12: ='2568-บิลค่าไฟฟ้า'!AF13 -> 28100.97 | D12: ='2569-บิลค่าไฟฟ้า'!AF13 -> 32208
B13: กันยายน | C13: ='2568-บิลค่าไฟฟ้า'!AJ13 -> 29992.3 | D13: ='2569-บิลค่าไฟฟ้า'!AJ13 -> 0
B14: ตุลาคม | C14: ='2568-บิลค่าไฟฟ้า'!AN13 -> 33133.07 | D14: ='2569-บิลค่าไฟฟ้า'!AN13 -> 0
B15: พฤศจิกายน | C15: ='2568-บิลค่าไฟฟ้า'!AR13 -> 23641.13 | D15: ='2569-บิลค่าไฟฟ้า'!AR13 -> 0
B16: ธันวาคม | C16: ='2568-บิลค่าไฟฟ้า'!AV13 -> 23030.21 | D16: ='2569-บิลค่าไฟฟ้า'!AV13 -> 0
B28: Month | C28: โครงการพัฒนาบ้านโปงพระราชดำริ (907 ไร่)
C29: 9801 020025008422
C30: ค่าไฟฟ้า 68 (บาท) | D30: ค่าไฟฟ้า 69 (บาท)
B31: มกราคม | C31: ='2568-บิลค่าไฟฟ้า'!E13 -> 123983.37 | D31: ='2569-บิลค่าไฟฟ้า'!E13 -> 91458.71
B32: กุมภาพันธ์ | C32: ='2568-บิลค่าไฟฟ้า'!I13 -> 146407.42 | D32: ='2569-บิลค่าไฟฟ้า'!I13 -> 108777.58
B33: มีนาคม | C33: ='2568-บิลค่าไฟฟ้า'!M13 -> 184611.74 | D33: ='2569-บิลค่าไฟฟ้า'!M13 -> 127100.01
B34: เมษายน | C34: ='2568-บิลค่าไฟฟ้า'!Q13 -> 174589.24 | D34: ='2569-บิลค่าไฟฟ้า'!Q13 -> 166225.06
B35: พฤษภาคม | C35: ='2568-บิลค่าไฟฟ้า'!U13 -> 174546.29 | D35: ='2569-บิลค่าไฟฟ้า'!U13 -> 168334.86
B36: มิถุนายน | C36: ='2568-บิลค่าไฟฟ้า'!Y13 -> 132324.69 | D36: ='2569-บิลค่าไฟฟ้า'!Y13 -> 152044.54
B37: กรกฏาคม | C37: ='2568-บิลค่าไฟฟ้า'!AC13 -> 115968.72 | D37: ='2569-บิลค่าไฟฟ้า'!AC13 -> 114335.07
B38: สิงหาคม | C38: ='2568-บิลค่าไฟฟ้า'!AG13 -> 117799.05 | D38: ='2569-บิลค่าไฟฟ้า'!AG13 -> 131953.66
B39: กันยายน | C39: ='2568-บิลค่าไฟฟ้า'!AK13 -> 126048.1 | D39: ='2569-บิลค่าไฟฟ้า'!AK13 -> 0
B40: ตุลาคม | C40: ='2568-บิลค่าไฟฟ้า'!AO13 -> 138860.88 | D40: ='2569-บิลค่าไฟฟ้า'!AO13 -> 0
B41: พฤศจิกายน | C41: ='2568-บิลค่าไฟฟ้า'!AS13 -> 99147.7 | D41: ='2569-บิลค่าไฟฟ้า'!AS13 -> 0
B42: ธันวาคม | C42: ='2568-บิลค่าไฟฟ้า'!AW13 -> 94057.89 | D42: ='2569-บิลค่าไฟฟ้า'!AW13 -> 0

Sheet กราฟ68-69  โครงการพัฒนาบ้านโปง
B2: Month | C2: 0228 020005942984 | E2: 0535 020004636485
B3: Month | C3: โครงการพัฒนาบ้านโปง(2984) | E3: โครงการพัฒนาบ้านโปง(6485)
C4: ค่าพลังงานไฟฟ้า 68 (kWh) | D4: ค่าพลังงานไฟฟ้า 69 (kWh) | E4: ค่าพลังงานไฟฟ้า 68 (kWh) | F4: ค่าพลังงานไฟฟ้า 69 (kWh)
B5: มกราคม | C5: ='2568-บิลค่าไฟฟ้า'!D14 -> 498 | D5: ='2569-บิลค่าไฟฟ้า'!D14 -> 493 | E5: ='2568-บิลค่าไฟฟ้า'!D15 -> 0 | F5: ='2569-บิลค่าไฟฟ้า'!D15 -> 0
B6: กุมภาพันธ์ | C6: ='2568-บิลค่าไฟฟ้า'!H14 -> 553 | D6: ='2569-บิลค่าไฟฟ้า'!H14 -> 422 | E6: ='2568-บิลค่าไฟฟ้า'!H15 -> 0 | F6: ='2569-บิลค่าไฟฟ้า'!H15 -> 0
B7: มีนาคม | C7: ='2568-บิลค่าไฟฟ้า'!L14 -> 606 | D7: ='2569-บิลค่าไฟฟ้า'!L14 -> 434 | E7: ='2568-บิลค่าไฟฟ้า'!L15 -> 0 | F7: ='2569-บิลค่าไฟฟ้า'!L15 -> 0
B8: เมษายน | C8: ='2568-บิลค่าไฟฟ้า'!P14 -> 606 | D8: ='2569-บิลค่าไฟฟ้า'!P14 -> 482 | E8: ='2568-บิลค่าไฟฟ้า'!P15 -> 0 | F8: ='2569-บิลค่าไฟฟ้า'!P15 -> 0
B9: พฤษภาคม | C9: ='2568-บิลค่าไฟฟ้า'!T14 -> 469 | D9: ='2569-บิลค่าไฟฟ้า'!T14 -> 442 | E9: ='2568-บิลค่าไฟฟ้า'!T15 -> 0 | F9: ='2569-บิลค่าไฟฟ้า'!T15 -> 0
B10: มิถุนายน | C10: ='2568-บิลค่าไฟฟ้า'!X14 -> 499 | D10: ='2569-บิลค่าไฟฟ้า'!X14 -> 422 | E10: ='2568-บิลค่าไฟฟ้า'!X15 -> 0 | F10: ='2569-บิลค่าไฟฟ้า'!X15 -> 0
B11: กรกฏาคม | C11: ='2568-บิลค่าไฟฟ้า'!AB14 -> 431 | D11: ='2569-บิลค่าไฟฟ้า'!AB14 -> 516 | E11: ='2568-บิลค่าไฟฟ้า'!AB15 -> 0 | F11: ='2569-บิลค่าไฟฟ้า'!AB15 -> 0
B12: สิงหาคม | C12: ='2568-บิลค่าไฟฟ้า'!AF14 -> 445 | D12: ='2569-บิลค่าไฟฟ้า'!AF14 -> 608 | E12: ='2568-บิลค่าไฟฟ้า'!AF15 -> 0 | F12: ='2569-บิลค่าไฟฟ้า'!AF15 -> 0
B13: กันยายน | C13: ='2568-บิลค่าไฟฟ้า'!AJ14 -> 448 | D13: ='2569-บิลค่าไฟฟ้า'!AJ14 -> 0 | E13: ='2568-บิลค่าไฟฟ้า'!AJ15 -> 0 | F13: ='2569-บิลค่าไฟฟ้า'!AJ15 -> 0
B14: ตุลาคม | C14: ='2568-บิลค่าไฟฟ้า'!AN14 -> 419 | D14: ='2569-บิลค่าไฟฟ้า'!AN14 -> 0 | E14: ='2568-บิลค่าไฟฟ้า'!AN15 -> 0 | F14: ='2569-บิลค่าไฟฟ้า'!AN15 -> 0
B15: พฤศจิกายน | C15: ='2568-บิลค่าไฟฟ้า'!AR14 -> 380 | D15: ='2569-บิลค่าไฟฟ้า'!AR14 -> 0 | E15: ='2568-บิลค่าไฟฟ้า'!AR15 -> 0 | F15: ='2569-บิลค่าไฟฟ้า'!AR15 -> 0
B16: ธันวาคม | C16: ='2568-บิลค่าไฟฟ้า'!AV14 -> 439 | D16: ='2569-บิลค่าไฟฟ้า'!AV14 -> 0 | E16: ='2568-บิลค่าไฟฟ้า'!AV15 -> 0 | F16: ='2569-บิลค่าไฟฟ้า'!AV15 -> 0
B33: Month | C33: 0228 020005942984 | E33: 0535 020004636485
B34: Month | C34: โครงการพัฒนาบ้านโปง(2984) | E34: โครงการพัฒนาบ้านโปง(6485)
C35: ค่าไฟฟ้า 68 (บาท) | D35: ค่าไฟฟ้า 69 (บาท) | E35: ค่าไฟฟ้า 68 (บาท) | F35: ค่าไฟฟ้า 69 (บาท)
B36: มกราคม | C36: ='2568-บิลค่าไฟฟ้า'!E14 -> 2345.65 | D36: ='2569-บิลค่าไฟฟ้า'!E14 -> 2177.6 | E36: ='2568-บิลค่าไฟฟ้า'!E15 -> 35.62 | F36: ='2569-บิลค่าไฟฟ้า'!E15 -> 35.62
B37: กุมภาพันธ์ | C37: ='2568-บิลค่าไฟฟ้า'!I14 -> 2627.47 | D37: ='2569-บิลค่าไฟฟ้า'!I14 -> 1834.3 | E37: ='2568-บิลค่าไฟฟ้า'!I15 -> 36.62 | F37: ='2569-บิลค่าไฟฟ้า'!I15 -> 35.62
B38: มีนาคม | C38: ='2568-บิลค่าไฟฟ้า'!M14 -> 2899.05 | D38: ='2569-บิลค่าไฟฟ้า'!M14 -> 1892.32 | E38: ='2568-บิลค่าไฟฟ้า'!M15 -> 35.62 | F38: ='2569-บิลค่าไฟฟ้า'!M15 -> 35.62
B39: เมษายน | C39: ='2568-บิลค่าไฟฟ้า'!Q14 -> 2899.05 | D39: ='2569-บิลค่าไฟฟ้า'!Q14 -> 2124.41 | E39: ='2568-บิลค่าไฟฟ้า'!Q15 -> 35.62 | F39: ='2569-บิลค่าไฟฟ้า'!Q15 -> 35.62
B40: พฤษภาคม | C40: ='2568-บิลค่าไฟฟ้า'!U14 -> 2111.74 | D40: ='2569-บิลค่าไฟฟ้า'!U14 -> 1961.79 | E40: ='2568-บิลค่าไฟฟ้า'!U15 -> 35.62 | F40: ='2569-บิลค่าไฟฟ้า'!U15 -> 35.62
B41: มิถุนายน | C41: ='2568-บิลค่าไฟฟ้า'!Y14 -> 2260 | D41: ='2569-บิลค่าไฟฟ้า'!Y14 -> 1863.69 | E41: ='2568-บิลค่าไฟฟ้า'!Y15 -> 35.62 | F41: ='2569-บิลค่าไฟฟ้า'!Y15 -> 35.62
B42: กรกฏาคม | C42: ='2568-บิลค่าไฟฟ้า'!AC14 -> 1923.92 | D42: ='2569-บิลค่าไฟฟ้า'!AC14 -> 2324.76 | E42: ='2568-บิลค่าไฟฟ้า'!AC15 -> 35.62 | F42: ='2569-บิลค่าไฟฟ้า'!AC15 -> 35.62
B43: สิงหาคม | C43: ='2568-บิลค่าไฟฟ้า'!AG14 -> 1993.12 | D43: ='2569-บิลค่าไฟฟ้า'!AG14 -> 2776 | E43: ='2568-บิลค่าไฟฟ้า'!AG15 -> 35.62 | F43: ='2569-บิลค่าไฟฟ้า'!AG15 -> 35.62
B44: กันยายน | C44: ='2568-บิลค่าไฟฟ้า'!AK14 -> 1988.78 | D44: ='2569-บิลค่าไฟฟ้า'!AK14 -> 0 | E44: ='2568-บิลค่าไฟฟ้า'!AK15 -> 35.62 | F44: ='2569-บิลค่าไฟฟ้า'!AK15 -> 0
B45: ตุลาคม | C45: ='2568-บิลค่าไฟฟ้า'!AO14 -> 1846.69 | D45: ='2569-บิลค่าไฟฟ้า'!AO14 -> 0 | E45: ='2568-บิลค่าไฟฟ้า'!AO15 -> 35.62 | F45: ='2569-บิลค่าไฟฟ้า'!AO15 -> 0
B46: พฤศจิกายน | C46: ='2568-บิลค่าไฟฟ้า'!AS14 -> 1659.89 | D46: ='2569-บิลค่าไฟฟ้า'!AS14 -> 0 | E46: ='2568-บิลค่าไฟฟ้า'!AS15 -> 35.62 | F46: ='2569-บิลค่าไฟฟ้า'!AS15 -> 0
B47: ธันวาคม | C47: ='2568-บิลค่าไฟฟ้า'!AW14 -> 1944.68 | D47: ='2569-บิลค่าไฟฟ้า'!AW14 -> 0 | E47: ='2568-บิลค่าไฟฟ้า'!AW15 -> 35.62 | F47: ='2569-บิลค่าไฟฟ้า'!AW15 -> 0

Sheet กราฟ68-69เรือนเพาะพันธุ์กัญชา
B2: Month | C2: โรงเรือนเพาะพันธุ์กัญชา (9068) | E2: โรงเรือนเพาะพันธุ์กัญชา 2(3024)
C3: ค่าพลังงานไฟฟ้า 68 (kWh) | D3: ค่าพลังงานไฟฟ้า 69 (kWh) | E3: ค่าพลังงานไฟฟ้า 68 (kWh) | F3: ค่าพลังงานไฟฟ้า 69 (kWh)
B4: มกราคม | C4: ='2568-บิลค่าไฟฟ้า'!D19 -> 1836 | D4: ='2569-บิลค่าไฟฟ้า'!D19 -> 3276 | E4: ='2568-บิลค่าไฟฟ้า'!D20 -> 10471 | F4: ='2569-บิลค่าไฟฟ้า'!D20 -> 113.6
B5: กุมภาพันธ์ | C5: ='2568-บิลค่าไฟฟ้า'!H19 -> 2960 | D5: ='2569-บิลค่าไฟฟ้า'!H19 -> 3584 | E5: ='2568-บิลค่าไฟฟ้า'!H20 -> 9721.82 | F5: ='2569-บิลค่าไฟฟ้า'!H20 -> 40
B6: มีนาคม | C6: ='2568-บิลค่าไฟฟ้า'!L19 -> 3952 | D6: ='2569-บิลค่าไฟฟ้า'!L19 -> 4292 | E6: ='2568-บิลค่าไฟฟ้า'!L20 -> 8389.29 | F6: ='2569-บิลค่าไฟฟ้า'!L20 -> ยกเลิกใช้งาน
B7: เมษายน | C7: ='2568-บิลค่าไฟฟ้า'!P19 -> 4916 | D7: ='2569-บิลค่าไฟฟ้า'!P19 -> 3756 | E7: ='2568-บิลค่าไฟฟ้า'!P20 -> 4022.88 | F7: ยกเลิกใช้งาน
B8: พฤษภาคม | C8: ='2568-บิลค่าไฟฟ้า'!T19 -> 6384 | D8: ='2569-บิลค่าไฟฟ้า'!T19 -> 2420 | E8: ='2568-บิลค่าไฟฟ้า'!T20 -> 3500.64 | F8: ยกเลิกใช้งาน
B9: มิถุนายน | C9: ='2568-บิลค่าไฟฟ้า'!X19 -> 5144 | D9: ='2569-บิลค่าไฟฟ้า'!X19 -> 3000 | E9: ='2568-บิลค่าไฟฟ้า'!X20 -> 3154.65 | F9: ยกเลิกใช้งาน
B10: กรกฏาคม | C10: ='2568-บิลค่าไฟฟ้า'!AB19 -> 4012 | D10: ='2569-บิลค่าไฟฟ้า'!AB19 -> 2964 | E10: ='2568-บิลค่าไฟฟ้า'!AB20 -> 2362.31 | F10: ยกเลิกใช้งาน
B11: สิงหาคม | C11: ='2568-บิลค่าไฟฟ้า'!AF19 -> 2872 | D11: ='2569-บิลค่าไฟฟ้า'!AF19 -> 4292 | E11: ='2568-บิลค่าไฟฟ้า'!AF20 -> 2296.22 | F11: ='2569-บิลค่าไฟฟ้า'!AF20 -> 0
B12: กันยายน | C12: ='2568-บิลค่าไฟฟ้า'!AJ19 -> 3892 | D12: ='2569-บิลค่าไฟฟ้า'!AJ19 -> 0 | E12: ='2568-บิลค่าไฟฟ้า'!AJ20 -> 2045.71 | F12: ='2569-บิลค่าไฟฟ้า'!AJ20 -> 0
B13: ตุลาคม | C13: ='2568-บิลค่าไฟฟ้า'!AN19 -> 2988 | D13: ='2569-บิลค่าไฟฟ้า'!AN19 -> 0 | E13: ='2568-บิลค่าไฟฟ้า'!AN20 -> 638.93 | F13: ='2569-บิลค่าไฟฟ้า'!AN20 -> 0
B14: พฤศจิกายน | C14: ='2568-บิลค่าไฟฟ้า'!AR19 -> 1976 | D14: ='2569-บิลค่าไฟฟ้า'!AR19 -> 0 | E14: ='2568-บิลค่าไฟฟ้า'!AR20 -> 257.86 | F14: ='2569-บิลค่าไฟฟ้า'!AR20 -> 0
B15: ธันวาคม | C15: ='2568-บิลค่าไฟฟ้า'!AV19 -> 2608 | D15: ='2569-บิลค่าไฟฟ้า'!AV19 -> 0 | E15: ='2568-บิลค่าไฟฟ้า'!AV20 -> 180.8 | F15: ='2569-บิลค่าไฟฟ้า'!AV20 -> 0
B29: Month | C29: 0228 020005942984 | E29: 0535 020004636485
B30: Month | C30: โรงเรือนเพาะพันธุ์กัญชา (9068) | E30: โรงเรือนเพาะพันธุ์กัญชา 2(3024)
C31: ค่าไฟฟ้า 68 (บาท) | D31: ค่าไฟฟ้า 69 (บาท) | E31: ค่าไฟฟ้า 68 (บาท) | F31: ค่าไฟฟ้า 69 (บาท)
B32: มกราคม | C32: ='2568-บิลค่าไฟฟ้า'!E19 -> 8733.99 | D32: ='2569-บิลค่าไฟฟ้า'!E19 -> 14375.72 | E32: ='2568-บิลค่าไฟฟ้า'!E20 -> 49133.75 | F32: ='2569-บิลค่าไฟฟ้า'!E20 -> 821
B33: กุมภาพันธ์ | C33: ='2568-บิลค่าไฟฟ้า'!I19 -> 13876.4 | D33: ='2569-บิลค่าไฟฟ้า'!I19 -> 15695.86 | E33: ='2568-บิลค่าไฟฟ้า'!I20 -> 47830.64 | F33: ='2569-บิลค่าไฟฟ้า'!I20 -> 505.55
B34: มีนาคม | C34: ='2568-บิลค่าไฟฟ้า'!M19 -> 18414.91 | D34: ='2569-บิลค่าไฟฟ้า'!M19 -> 18730.49 | E34: ='2568-บิลค่าไฟฟ้า'!M20 -> 41274.51 | F34: ยกเลิกใช้งาน
B35: เมษายน | C35: ='2568-บิลค่าไฟฟ้า'!Q19 -> 22825.31 | D35: ='2569-บิลค่าไฟฟ้า'!Q19 -> 16433.08 | E35: ='2568-บิลค่าไฟฟ้า'!Q20 -> 20419.66 | F35: ยกเลิกใช้งาน
B36: พฤษภาคม | C36: ='2568-บิลค่าไฟฟ้า'!U19 -> 28380.33 | D36: ='2569-บิลค่าไฟฟ้า'!U19 -> 10875.29 | E36: ='2568-บิลค่าไฟฟ้า'!U20 -> 15592.7 | F36: ยกเลิกใช้งาน
B37: มิถุนายน | C37: ='2568-บิลค่าไฟฟ้า'!Y19 -> 22932.75 | D37: ='2569-บิลค่าไฟฟ้า'!Y19 -> 13401.69 | E37: ='2568-บิลค่าไฟฟ้า'!Y20 -> 14423.76 | F37: ยกเลิกใช้งาน
B38: กรกฏาคม | C38: ='2568-บิลค่าไฟฟ้า'!AC19 -> 17959.64 | D38: ='2569-บิลค่าไฟฟ้า'!AC19 -> 13244.88 | E38: ='2568-บิลค่าไฟฟ้า'!AC20 -> 10875.73 | F38: ยกเลิกใช้งาน
B39: สิงหาคม | C39: ='2568-บิลค่าไฟฟ้า'!AG19 -> 12951.38 | D39: ='2569-บิลค่าไฟฟ้า'!AG19 -> 19029.46 | E39: ='2568-บิลค่าไฟฟ้า'!AG20 -> 10658.84 | F39: ='2569-บิลค่าไฟฟ้า'!AG20 -> 0
B40: กันยายน | C40: ='2568-บิลค่าไฟฟ้า'!AK19 -> 17265.87 | D40: ='2569-บิลค่าไฟฟ้า'!AK19 -> 0 | E40: ='2568-บิลค่าไฟฟ้า'!AK20 -> 9823.64 | F40: ='2569-บิลค่าไฟฟ้า'!AK20 -> 0
B41: ตุลาคม | C41: ='2568-บิลค่าไฟฟ้า'!AO19 -> 13333.11 | D41: ='2569-บิลค่าไฟฟ้า'!AO19 -> 0 | E41: ='2568-บิลค่าไฟฟ้า'!AO20 -> 7051.36 | F41: ='2569-บิลค่าไฟฟ้า'!AO20 -> 0
B42: พฤศจิกายน | C42: ='2568-บิลค่าไฟฟ้า'!AS19 -> 8930.51 | D42: ='2569-บิลค่าไฟฟ้า'!AS19 -> 0 | E42: ='2568-บิลค่าไฟฟ้า'!AS20 -> 5288.26 | F42: ='2569-บิลค่าไฟฟ้า'!AS20 -> 0
B43: ธันวาคม | C43: ='2568-บิลค่าไฟฟ้า'!AW19 -> 11679.96 | D43: ='2569-บิลค่าไฟฟ้า'!AW19 -> 0 | E43: ='2568-บิลค่าไฟฟ้า'!AW20 -> 1120.64 | F43: ='2569-บิลค่าไฟฟ้า'!AW20 -> 0

Sheet กราฟ68-69 โรงสูบน้ำศรีบุญเรือน
B2: Month | C2: มหาวิทยาลัยแม่โจ้ (โรงสูบน้ำศรีบุญเรือน)
C3: 9807 020005984751
C4: ค่าพลังงานไฟฟ้า 68 (kWh) | D4: ค่าพลังงานไฟฟ้า 69 (kWh)
B5: มกราคม | C5: ='2568-บิลค่าไฟฟ้า'!D25 -> 8154.29 | D5: ='2569-บิลค่าไฟฟ้า'!D25 -> 12612.1
B6: กุมภาพันธ์ | C6: ='2568-บิลค่าไฟฟ้า'!H25 -> 8962.39 | D6: ='2569-บิลค่าไฟฟ้า'!H25 -> 13455.83
B7: มีนาคม | C7: ='2568-บิลค่าไฟฟ้า'!L25 -> 18128 | D7: ='2569-บิลค่าไฟฟ้า'!L25 -> 14655.37
B8: เมษายน | C8: ='2568-บิลค่าไฟฟ้า'!P25 -> 15262.46 | D8: ='2569-บิลค่าไฟฟ้า'!P25 -> 16106.21
B9: พฤษภาคม | C9: ='2568-บิลค่าไฟฟ้า'!T25 -> 4111.01 | D9: ='2569-บิลค่าไฟฟ้า'!T25 -> 7538.21
B10: มิถุนายน | C10: ='2568-บิลค่าไฟฟ้า'!X25 -> 2062.85 | D10: ='2569-บิลค่าไฟฟ้า'!X25 -> 3234.62
B11: กรกฏาคม | C11: ='2568-บิลค่าไฟฟ้า'!AB25 -> 1682.59 | D11: ='2569-บิลค่าไฟฟ้า'!AB25 -> 1317.84
B12: สิงหาคม | C12: ='2568-บิลค่าไฟฟ้า'!AF25 -> 1774.81 | D12: ='2569-บิลค่าไฟฟ้า'!AF25 -> 1871.09
B13: กันยายน | C13: ='2568-บิลค่าไฟฟ้า'!AJ25 -> 1551.22 | D13: ='2569-บิลค่าไฟฟ้า'!AJ25 -> 0
B14: ตุลาคม | C14: ='2568-บิลค่าไฟฟ้า'!AN25 -> 1246.85 | D14: ='2569-บิลค่าไฟฟ้า'!AN25 -> 0
B15: พฤศจิกายน | C15: ='2568-บิลค่าไฟฟ้า'!AR25 -> 1529.18 | D15: ='2569-บิลค่าไฟฟ้า'!AR25 -> 0
B16: ธันวาคม | C16: ='2568-บิลค่าไฟฟ้า'!AV25 -> 4097.14 | D16: ='2569-บิลค่าไฟฟ้า'!AV25 -> 0
B28: Month | C28: มหาวิทยาลัยแม่โจ้ (โรงสูบน้ำศรีบุญเรือน)
C29: 9807 020005984751
C30: ค่าไฟฟ้า 68 (บาท) | D30: ค่าไฟฟ้า 69 (บาท)
B31: มกราคม | C31: ='2568-บิลค่าไฟฟ้า'!E25 -> 49461.17 | D31: ='2569-บิลค่าไฟฟ้า'!E25 -> 62104.42
B32: กุมภาพันธ์ | C32: ='2568-บิลค่าไฟฟ้า'!I25 -> 51869.62 | D32: ='2569-บิลค่าไฟฟ้า'!I25 -> 65986.07
B33: มีนาคม | C33: ='2568-บิลค่าไฟฟ้า'!M25 -> 91946.63 | D33: ='2569-บิลค่าไฟฟ้า'!M25 -> 70611.61
B34: เมษายน | C34: ='2568-บิลค่าไฟฟ้า'!Q25 -> 75426.95 | D34: ='2569-บิลค่าไฟฟ้า'!Q25 -> 74513.55
B35: พฤษภาคม | C35: ='2568-บิลค่าไฟฟ้า'!U25 -> 27372.92 | D35: ='2569-บิลค่าไฟฟ้า'!U25 -> 42256.8
B36: มิถุนายน | C36: ='2568-บิลค่าไฟฟ้า'!Y25 -> 19760.03 | D36: ='2569-บิลค่าไฟฟ้า'!Y25 -> 25378.42
B37: กรกฏาคม | C37: ='2568-บิลค่าไฟฟ้า'!AC25 -> 17984.41 | D37: ='2569-บิลค่าไฟฟ้า'!AC25 -> 17209.51
B38: สิงหาคม | C38: ='2568-บิลค่าไฟฟ้า'!AG25 -> 18791.65 | D38: ='2569-บิลค่าไฟฟ้า'!AG25 -> 19991.89
B39: กันยายน | C39: ='2568-บิลค่าไฟฟ้า'!AK25 -> 16994.64 | D39: ='2569-บิลค่าไฟฟ้า'!AK25 -> 0
B40: ตุลาคม | C40: ='2568-บิลค่าไฟฟ้า'!AO25 -> 17478.24 | D40: ='2569-บิลค่าไฟฟ้า'!AO25 -> 0
B41: พฤศจิกายน | C41: ='2568-บิลค่าไฟฟ้า'!AS25 -> 18648.47 | D41: ='2569-บิลค่าไฟฟ้า'!AS25 -> 0
B42: ธันวาคม | C42: ='2568-บิลค่าไฟฟ้า'!AW25 -> 27766.55 | D42: ='2569-บิลค่าไฟฟ้า'!AW25 -> 0

