Workbook
Name _____sss2: [1]DATA!#REF!
Name _____sss2: [1]DATA!#REF!
Name _____sss2: [1]DATA!#REF!
Name _____sss2: [1]DATA!#REF!
Name _____sss2: [1]DATA!#REF!
Name _____sss2: [1]DATA!#REF!
Name _____sss2: [1]DATA!#REF!
Name _____sss2: [1]DATA!#REF!
Name _____sss2: [1]DATA!#REF!
Name _____sss2: [1]DATA!#REF!
Name _____sss2: [1]DATA!#REF!
Name _____sss2: [1]DATA!#REF!
Name _____sss2: [1]DATA!#REF!
Name _____sss2: [1]DATA!#REF!
Name _____sss2: [1]DATA!#REF!
Name _____sss2: [1]DATA!#REF!
Name _____sss2: [1]DATA!#REF!
Name _____sss2: [1]DATA!#REF!
Name _____sss2: [1]DATA!#REF!
Name _____sss2: [1]DATA!#REF!
Name _____sss4: [1]RE_DATA!#REF!
Name _____sss4: [1]RE_DATA!#REF!
Name _____sss4: [1]RE_DATA!#REF!
Name _____sss4: [1]RE_DATA!#REF!
Name _____sss4: [1]RE_DATA!#REF!
Name _____sss4: [1]RE_DATA!#REF!
Name _____sss4: [1]RE_DATA!#REF!
Name _____sss4: [1]RE_DATA!#REF!
Name _____sss4: [1]RE_DATA!#REF!
Name _____sss4: [1]RE_DATA!#REF!
Name _____sss4: [1]RE_DATA!#REF!
Name _____sss4: [1]RE_DATA!#REF!
Name _____sss4: [1]RE_DATA!#REF!
Name _____sss4: [1]RE_DATA!#REF!
Name _____sss4: [1]RE_DATA!#REF!
Name _____sss4: [1]RE_DATA!#REF!
Name _____sss4: [1]RE_DATA!#REF!
Name _____sss4: [1]RE_DATA!#REF!
Name _____sss4: [1]RE_DATA!#REF!
Name _____sss4: [1]RE_DATA!#REF!
Name ____Flu40: 50
Name ___Flu40: 50
Name ___sss2: [1]DATA!#REF!
Name ___sss2: [1]DATA!#REF!
Name ___sss2: [1]DATA!#REF!
Name ___sss2: [1]DATA!#REF!
Name ___sss2: [1]DATA!#REF!
Name ___sss2: [1]DATA!#REF!
Name ___sss2: [1]DATA!#REF!
Name ___sss2: [1]DATA!#REF!
Name ___sss2: [1]DATA!#REF!
Name ___sss2: [1]DATA!#REF!
Name ___sss2: [1]DATA!#REF!
Name ___sss2: [1]DATA!#REF!
Name ___sss2: [1]DATA!#REF!
Name ___sss2: [1]DATA!#REF!
Name ___sss2: [1]DATA!#REF!
Name ___sss2: [1]DATA!#REF!
Name ___sss2: [1]DATA!#REF!
Name ___sss2: [1]DATA!#REF!

Sheet ปก 
A15: รายงาน
A16: การจัดการพลังงาน
A17: ประจำปี 2563
C32: ชื่อนิติบุคคล : | F32: มหาวิทยาลัยแม่โจ้
C33: ชื่ออาคารควบคุม : | F33: =F32 -> มหาวิทยาลัยแม่โจ้
C34: TSIC - ID : | F34: 85302-0095

Sheet คำรับรอง
B2: ใบคำรับรองการจัดทำรายงานการจัดการพลังงาน
C3: ของอาคารควบคุม | E3: ='ปก '!F33 -> มหาวิทยาลัยแม่โจ้
B5: 1. ประธานคณะทำงานด้านการจัดการพลังงาน
C6: ข้าพเจ้าในฐานะประธานคณะทำงานด้านการจัดการพลังงานของอาคารควบคุม ขอรับรองว่าได้ดำเนิน
B7: การจัดการพลังงานให้เป็นไปตามที่กฎกระทรวงกำหนดทุกประการ
F9: ลงชื่อ....................................................................
F10: (ผู้ช่วยศาสตราจารย์ ดร.ณัฐวุฒิ ดุษฎี)
F11: รองอธิการบดี
F12: วันที่............../...................../.................
B13: 2. ผู้รับผิดชอบด้านพลังงาน
C14: ข้าพเจ้าในฐานะผู้รับผิดชอบด้านพลังงานของอาคารควบคุม ขอรับรองว่าได้ดำเนินการจัดการพลังงาน
B15: ให้เป็นไปตามที่กฎกระทรวงกำหนดทุกประการ
B17: ลงชื่อ.................................................. | G17: ลงชื่อ..................................................
B18: (นายสุรเดช คิดการงาน) | G18: (นายรัฐพล ญาติมิตรหนุน)
B19: ตำแหน่งผู้รับผิดชอบด้านพลังงานอาวุโส | G19: ตำแหน่งผู้รับผิดชอบด้านพลังงานสามัญ
B20: ทะเบียนเลขที่ ผอส.04244 | G20: ทะเบียนเลขที่ ผชอ.03430
B21: วันที่............/................./.............. | G21: วันที่............/................./..............
B24: 3. เจ้าของอาคารควบคุม
B25: ข้าพเจ้าในฐานะเจ้าของอาคารควบคุม/ผู้รับมอบอำนาจ ขอรับรองว่าได้ดำเนินการจัดการพลังงานให้ | C25: ข้าพเจ้าในฐานะเจ้าของอาคารควบคุม/ผู้รับมอบอำนาจ ขอรับรองว่าได้ดำเนินการจัดการพลังงานให้
B26: เป็นไปตามที่กฎกระทรวงกำหนดทุกประการ
F28: ลงชื่อ.........................................................................
F29: (รองศาสตราจารย์ ดร.วีระพล ทองมา)
F30: อธิการบดีมหาวิทยาลัยแม่โจ้
F31: วันที่............../...................../.................

Sheet สารบัญ
B1: สารบัญ
J3: หน้า
A5: ข้อมูลเบื้องต้น | J5: 1
A6: ข้อมูลด้านการจัดการพลังงาน
A7: ขั้นตอนที่ 1 | C7: คณะทำงานด้านการจัดการพลังงาน | J7: 3
A8: ขั้นตอนที่ 2 | C8: การประเมินสถานภาพการจัดการพลังงานเบื้องต้น | J8: 15
A9: ขั้นตอนที่ 3 | C9: นโยบายอนุรักษ์พลังงาน | J9: 16
A10: ขั้นตอนที่ 4 | C10: การประเมินศักยภาพการอนุรักษ์พลังงาน | J10: 21
A11: ขั้นตอนที่ 5 | C11: การกำหนดเป้าหมายและแผนอนุรักษ์พลังงาน | J11: 50
C12: และแผนการฝึกอบรมและกิจกรรมเพื่อส่งเสริมการอนุรักษ์พลังงาน
A13: ขั้นตอนที่ 6 | C13: การดำเนินการตามแผนอนุรักษ์พลังงาน การตรวจสอบและ | J13: 63
C14: วิเคราะห์การปฏิบัติตามเป้าหมายและแผนอนุรักษ์พลังงาน
A15: ขั้นตอนที่ 7 | C15: การตรวจติดตามและประเมินการจัดการพลังงาน | J15: 95
A16: ขั้นตอนที่ 8 | C16: การทบทวน วิเคราะห์และแก้ไขข้อบกพร่องของการจัดการพลังงาน | J16: 107
A17: ภาคผนวก
B18: ภาคผนวก ก. แผนการดำเนินการมาตรการอนุรักษ์พลังงานในระยะเวลา 3 ปีข้างหน้า
B19: ภาคผนวก ข. เอกสารประกอบอื่นๆ

Sheet ข้อมูลเบื้องต้น
A1: ข้อมูลเบื้องต้น
A3: ข้อมูลทั่วไป
B4: 1 | C4: ชื่อนิติบุคคล: | F4: ='ปก '!F32:I32 -> มหาวิทยาลัยแม่โจ้
C5: ชื่ออาคารควบคุม: | F5: ='ปก '!F33:I33 -> มหาวิทยาลัยแม่โจ้
C6: TSIC - ID: | F6: ='ปก '!F34:I34 -> 85302-0095
B7: 2 | C7: ระบุกลุ่มอาคารควบคุม ดังนี้
D8: กลุ่มที่ 1 : อาคารควบคุมที่ใช้เครื่องวัดไฟฟ้าหรือติดตั้งหม้อแปลงไฟฟ้ารวมกันน้อยกว่าสามพันกิโลวัตต์หรือสามพันห้าร้อย สามสิบกิโลโวลต์แอมแปร์หรืออาคารควบคุมที่ใช้พลังงานไฟฟ้า พลังงานความร้อนจากไอน้ำ หรือ พลังงานสิ้นเปลืองอื่นๆ โดยมีปริมาณพลังงานเทียบเท่าพลังงานไฟฟ้าต่ำกว่าหกสิบล้านเมกะจูล
D11: กลุ่มที่ 2 :อาคารควบคุมที่ใช้เครื่องวัดไฟฟ้าหรือติดตั้งหม้อแปลงไฟฟ้ารวมกันตั้งแต่สามพันกิโลวัตต์หรือสามพันห้าร้อยสามสิบกิโลโวลต์แอมแปร์ขึ้นไปหรืออาคารควบคุมที่ใช้พลังงานไฟฟ้า พลังงานความร้อนจากไอน้ำ หรือพลังงานสิ้นเปลืองอื่นๆ โดยมีปริมาณพลังงานเทียบเท่าพลังงานไฟฟ้าตั้งแต่หกสิบล้านเมกะจูลขึ้นไป
B15: 3 | C15: ที่อยู่อาคาร
C16: เลขที่ | D16: 63 | G16: ถนน | H16: เชียงใหม่ - พร้าว | K16: ตำบล | L16: หนองหาร
C17: อำเภอ | D17: สันทราย | G17: จังหวัด | H17: เชียงใหม่ | K17: รหัสไปรษณีย์ | L17: 50290
C18: โทรศัพท์ | E18: 053-873224-5 | G18: โทรสาร 053-873256 | H18: 053-498862 | K18: อีเมล thanachoke@cmru.ac.th | L18: suradet215@gmail.com
B20: 4 | C20: ประเภทอาคาร
C21: สำนักงาน | F21: โรงแรม | H21: โรงพยาบาล | J21: ศูนย์การค้า
C22: สถานศึกษา | F22: อื่นๆ (ระบุ)
B23: 5 | C23: อาคารเริ่มเปิดดำเนินการ เมื่อปี พ.ศ. | H23: 2477
C24: จำนวนบุคลกร | G24: พนักงานมหาวิทยาลัย……1,666…..คน | L24: จำนวน | M24: 11 | N24: คณะ
C25: จำนวน | D25: 2 | E25: วิทยาเขต | G25: จำนวน | H25: 3 | I25: วิทยาลัย | L25: จำนวน | M25: 10 | N25: สำนัก/วิสาหกิจ
B27: 6. | C27: จำนวนอาคารทั้งหมด : | F27: 120 | G27: อาคาร (รายละเอียดจำนวนอาคาร แสดงในภาคผนวก ก.)
B29: 7. | C29: สำหรับอาคารประเภทโรงแรม
C30: จำนวนห้องพักทั้งหมด | F30: - | G30: ห้อง (รายละเอียดจำนวนห้องพักที่จำหน่ายได้ แสดงในภาคผนวก ก.)
B32: 8. | C32: สำหรับอาคารประเภทโรงพยาบาล
C33: จำนวนเตียงคนไข้ในทั้งหมด | G33: - | H33: เตียง (รายละเอียดจำนวนคนไข้ใน แสดงในภาคผนวก ก.)
B34: 9. | C34: ผู้รับผิดชอบด้านพลังงาน
B36: ลำดับที่ | D36: ชื่อ - นามสกุล | I36: คุณสมบัติ*** | N36: ทะเบียนเลขที่
B37: 1 | D37: นายสุรเดช คิดการงาน | I37: ผู้รับผิดชอบด้านพลังงานประเภทที่ 1 | N37: ผอส.04244
I38: ผู้รับผิดชอบด้านพลังงานประเภทที่ 2
B39: 2 | D39: นายรัฐพล ญาติมิตรหนุน | I39: ผู้รับผิดชอบด้านพลังงานประเภทที่ 1 | N39: ผชอ.03430
I40: ผู้รับผิดชอบด้านพลังงานประเภทที่ 2
B41: 1 | I41: ผู้รับผิดชอบด้านพลังงานประเภทที่ 1
I42: ผู้รับผิดชอบด้านพลังงานประเภทที่ 2
B45: ***คุณสมบัติผู้รับผิดชอบด้านพลังงาน
B46: ผู้รับผิดชอบด้านพลังงานสามัญ
D47: (ก) | E47: เป็นผู้ได้รับประกาศนียบัตรวิชาชีพชั้นสูงและมีประสบการณ์การทำงานในอาคารอย่างน้อยสามปีโดยมีผลงานด้านการอนุรักษ์
E48: พลังงานตามการรับรองของเจ้าของโรงงานควบคุมหรือเจ้าของอาคารควบคุม
D49: (ข) | E49: เป็นผู้ได้รับปริญญาทางวิศวกรรมศาสตร์ หรือทางวิทยาศาสตร์ โดยมีผลงานด้านการอนุรักษ์พลังงานตามการรับรองของเจ้าของอาคารควบคุม
D51: (ค) | E51: เป็นผู้สำเร็จการฝึกอบรมด้านการอนุรักษ์พลังงานหรือการฝึกอบรมที่มีวัตถุประสงค์คล้ายคลึงกันที่อธิบดีให้ความเห็นชอบ
D52: (ง) | E52: เป็นผู้สำเร็จการฝึกอบรมหลักสูตรผู้รับผิดชอบด้านพลังงานอาวุโส ที่อธิบดีให้ความเห็นชอบ
D53: (จ) | E53: เป็นผู้ที่สอบได้ตามเกณฑ์ที่กำหนดจากการจัดสอบผู้รับผิดชอบด้านพลังงาน ซึ่งจัดโดยกรมพัฒนาพลังงานทดแทนและ
E54: อนุรักษ์พลังงาน
B55: ผู้รับผิดชอบด้านพลังงานอาวุโส
D56: (ก) | E56: เป็นผู้สำเร็จการฝึกอบรมหลักสูตรผู้รับผิดชอบด้านพลังงานอาวุโส ที่อธิบดีให้ความเห็นชอบ
D57: (ข) | E57: เป็นผู้ที่สอบได้ตามเกณฑ์ที่กำหนดจากการจัดสอบผู้รับผิดชอบด้านพลังงาน ซึ่งจัดโดยกรมพัฒนาพลังงานทดแทนและอนุรักษ์พลังงาน

Sheet ขั้นตอน1
A1: ข้อมูลด้านการจัดการพลังงาน
A3: ขั้นตอนที่ 1 | C3: คณะทำงานด้านการจัดการพลังงาน
A5: 1.1 โครงสร้างคณะทำงานด้านการจัดการพลังงาน
D28: รูปที่ 1-1 ผังโครงสร้างคณะทำงานด้านการจัดการพลังงาน

Sheet 1.2คำสั่งแต่งตั้ง
A1: 1.2 การแต่งตั้งคณะทำงานด้านการจัดการพลังงาน และอำนาจหน้าทึ่ความรับผิดชอบ
A3: (ใส่เอกสารคำสั่งแต่งตั้งคณะผู้ตรวจประเมินฯ)
A29: รูปที่ 1-2 คำสั่งแต่งตั้งคณะกรรมการดำเนินงาน
A31: (ใส่เอกสารคำสั่งแต่งตั้งคณะผู้ตรวจประเมินฯ)
A58: รูปที่ 1-2 คำสั่งแต่งตั้งคณะกรรมการดำเนินงาน
A60: (ใส่เอกสารคำสั่งแต่งตั้งคณะผู้ตรวจประเมินฯ)
A87: รูปที่ 1-2 คำสั่งแต่งตั้งคณะกรรมการผู้ตรวจประเมินการจัดการพลังงานภายใน
A89: (ใส่เอกสารคำสั่งแต่งตั้งคณะผู้ตรวจประเมินฯ)
A116: รูปที่ 1-2 คำสั่งแต่งตั้งอนุกรรมการจัดการพลังงานประจำหน่วยงาน
A118: (ใส่เอกสารคำสั่งแต่งตั้งคณะผู้ตรวจประเมินฯ)
A145: รูปที่ 1-2 คำสั่งแต่งตั้งคณะอนุกรรมการจัดการพลังงานประจำหน่วยงาน
A147: (ใส่เอกสารคำสั่งแต่งตั้งคณะผู้ตรวจประเมินฯ)
A174: รูปที่ 1-2 คำสั่งแต่งตั้งอนุกรรมการจัดการพลังงานประจำหน่วยงาน

Sheet 1.3วิธีการเผยแพร่
A1: 1.3 | B1: วิธีการเผยแพร่คณะทำงานด้านการจัดการพลังงาน
B2: เพื่อให้พนักงานทุกคนรับทราบ คำสั่งแต่งตั้งคณะทำงานด้านการจัดการพลังงาน โดยอาคารได้ดำเนินการเผยแพร่และดำเนินการดังต่อไปนี้
C4: ติดประกาศ | G4: โปสเตอร์
C5: จำนวนติดประกาศ …11.. คณะ | G5: จำนวนติดประกาศ ….... คณะ
C6: จำนวนติดประกาศ …... วิทยาเขต | G6: จำนวนติดประกาศ …... วิทยาเขต
C7: จำนวนติดประกาศ …3.. วิทยาลัย | G7: จำนวนติดประกาศ …... วิทยาลัย
C8: จำนวนติดประกาศ …10.. สำนัก/วิสาหกิจ | G8: จำนวนติดประกาศ …... สำนัก
C9: เอกสารเผยแพร่ | G9: เสียงตามสาย
C10: แผ่นพับ/วารสาร .....ฉบับ | G10: สัปดาห์ละ ….. ครั้ง ช่วงเวลา…...
C11: จดหมายอิเล็กทรอนิกส์ | G11: การประชุมคณะกรรมการ
C12: จำนวนผู้ได้รับ …1,666.. คน | G12: การจัดการพลังงาน
C13: ระดับของผู้ได้รับ……. | G13: เดือนละ ….. ครั้ง
C14: อื่นๆ (ระบุ) สถานีวิทยุ FM 95.5
B15: หลักฐานหรือเอกสารต่างๆ ที่แสดงถึงการเผยแพร่คณะทำงานด้านการจัดการพลังงาน
A29: 10
B31: (ใส่เอกสารการเผยแพร่คณะทำงานฯ วิธีการที่ 1)
A43: (ก-1) ติดประกาศ
B44: (ใส่เอกสารการเผยแพร่คณะทำงานฯ วิธีการที่ 1)
A56: (ก-2) ติดประกาศ
A57: 11
B59: (ใส่เอกสารการเผยแพร่คณะทำงานฯ วิธีการที่ 1)
A71: (ก-3) ติดประกาศ
A84: (ก-4) ติดประกาศ
A85: 12
B87: (ใส่เอกสารการเผยแพร่คณะทำงานฯ วิธีการที่ 1)
A99: (ข-1) จดหมายเวียนอิเลกทรอนิคส์
B100: (ใส่เอกสารการเผยแพร่คณะทำงานฯ วิธีการที่ 1)
A113: (ข-2) จดหมายเวียนอิเลกทรอนิคส์
B115: (ใส่เอกสารการเผยแพร่คณะทำงานฯ วิธีการที่ 1)
A127: (ค) การประชุมคณะกรรมการการจัดการพลังงาน
A128: 13
B130: (ใส่เอกสารการเผยแพร่คณะทำงานฯ วิธีการที่ 1)
A141: (ง) สถานีวิทยุ FM 95.5
A142: รูปที่ 1-3 ภาพการเผยแพร่คณะทำงานด้านการจัดการพลังงาน
A143: หมายเหตุ : กรณีมีวิธีการเผยแพร่มากกว่า 2 วิธีการ อาคารสามารถเพิ่มจำนวนการแสดงเอกสาร หลักฐานรูปภาพต่างๆ เพิ่มเติม
A156: 14

Sheet ขั้นตอน2
A1: ขั้นตอนที่ 2 การประเมินสถานภาพการจัดการพลังงานเบื้องต้น
A3: ผลการประเมินสถานภาพการจัดการพลังงานเบื้องต้น
A4: ปีที่ดำเนินการประเมิน พ.ศ 2562
A6: ตารางที่ 2.1 การประเมินการจัดการพลังงานขององค์กร
A7: ระดับคะแนน | B7: นโยบายการอนุรักษ์พลังงาน | C7: การจัดองค์กร | D7: การกระตุ้นและสร้างแรงจูงใจ | E7: ระบบข้อมูลข่าวสาร | F7: ประชาสัมพันธ์ | G7: การลงทุน
A8: 4 | B8: มีนโยบายการจัดการพลังงานจากฝ่ายบริหารและถือเป็นส่วนหนึ่งของนโยบายของบริษัท | C8: มีการจัดองค์กรและเป็นโครงสร้างส่วนหนึ่งของฝ่ายบริหารกำหนดหน้าที่ความรับผิดชอบไว้ชัดเจน | D8: มีการประสานงานระหว่างผู้รับผิดชอบด้านพลังงาน และทีมงานทุก ระดับอย่าง สม่ำเสมอ | E8: กำหนดเป้าหมายที่ครอบคลุม ติดตามผล หาข้อผิดพลาดประเมินผล และควบคุมการใช้งบประมาณ | F8: ประชาสัมพันธ์คุณค่าของการประหยัดพลังงาน และผลการดำเนินงานของการจัดการพลังงาน | G8: จัดสรรงบประมาณโดยละเอียด โดยพิจารณาถึงความสำคัญของโครงการ
A10: 3 | B10: มีนโยบายและมีการสนับสนุนเป็นครั้งคราวจากฝ่ายบริหาร | C10: ผู้รับผิดชอบด้านพลังงานรายงานโดยตรงต่อคณะ กรรมการจัดการพลังงาน ซึ่งประกอบด้วยหัวหน้าฝ่ายต่างๆ | D10: คณะกรรมการอนุรักษ์พลังงานเป็นช่องทางหลักในการดำเนินงาน | E10: แจ้งผลการใช้พลังงานจากมิเตอร์ย่อยให้แต่ละฝ่ายทราบ แต่ไม่มีการแจ้งถึงผลการประหยัด | F10: ให้พนักงานรับทราบโครงการอนุรักษ์พลังงาน และให้มีการประชา สัมพันธ์อย่างสม่ำเสมอ | G10: ใช้ระยะเวลา คุ้มทุนเป็นหลักในการพิจารณาการลงทุน
A11: 2 | B11: ไม่มีการกำหนดนโยบายที่ชัดเจน โดยผู้บริหารหรือผู้รับผิดชอบด้านพลังงาน | C11: มีผู้รับผิดชอบด้านพลังงานรายงานต่อคณะกรรมการเฉพาะกิจ แต่สายงานบังคับบัญชาไม่ชัดเจน | D11: คณะกรรมการเฉพาะกิจเป็นผู้ดำเนินการ | E11: ทำรายงานติดตามประเมิน ผล โดยดูจากมิเตอร์ให้คณะ กรรมการเฉพาะกิจเข้ามาเกี่ยวข้องกับการตั้งงบประ มาณ | F11: จัดฝึกอบรมให้พนักงานรับทราบเป็นครั้งคราว | G11: ลงทุนโดยดูมาตรการที่มีระยะเวลาคุ้มทุนเร็ว
A12: 1 | B12: ไม่มีแนวทางปฏิบัติที่ทำไว้เป็นลายลักษณ์อักษร | C12: ผู้รับผิดชอบด้านพลังงานมีขอบเขตหน้าที่ความรับผิดชอบจำกัด | D12: มีการติดต่ออย่างไม่เป็นทางการระหว่างวิศวกรกับผู้ใช้พลังงาน (พนักงาน) | E12: มีการสรุปรายงานด้านค่าใช้จ่ายการใช้พลังงานเพื่อใช้กันภายในฝ่ายวิศวกรรม | F12: แจ้งให้พนักงานทราบอย่างไม่เป็นทางการเพื่อส่งเสริมการใช้พลังงานอย่างมีประสิทธิภาพ | G12: พิจารณาเฉพาะมาตรการที่ลงทุนต่ำ
A13: 0 | B13: ไม่มีนโยบายที่ ชัดเจน | C13: ไม่มีผู้รับผิดชอบด้านพลังงาน | D13: ไม่มีการติดต่อกับผู้ใช้พลังงาน | E13: ไม่มีระบบรวบรวมข้อมูลและบัญชีการใช้พลังงาน | F13: ไม่มีการสนับสนุนการประหยัดพลังงาน | G13: ไม่มีการลงทุนใดๆในการปรับปรุงประสิทธิภาพ การใช้พลังงาน
A15: หมายเหตุ: | B15: 1. ข้อมูลการประเมินสถานภาพการจัดการพลังงานเบื้องต้นประเมินจาก 11 คณะ 3 วิทยาลัย 10 สำนัก/วิสาหกิจ หรือบุคลากร
B16: จำนวน - คน จากทั้งหมด - คน คิดเป็นร้อยละ 100
A17: หมายเหตุ: | B17: 1. ข้อมูลการประเมินสถานภาพการจัดการพลังงานเบื้องต้นประเมินในภาพรวมของมหาวิทยาลัย
B18: 2. ในกรณีที่อาคารควบคุมพัฒนาระบบการจัดการพลังงานในรอบที่สอง ในขั้นตอนนี้อาคารควบคุมจะดำเนินการหรือไม่ดำเนินการก็ได้
B19: หากดำเนินการประเมินสถานภาพการจัดการพลังงานภายในองค์กรต่อเนื่องทุกๆปี จะทำให้ทราบสถานภาพการจัดการพลังงานที่มี
B20: มีการเปลี่ยนแปลงได้ดียิ่งขึ้น
B21: 3. การประเมินสถานภาพการจัดการพลังงานในภาพรวมของอาคารควบคุม หากทางอาคารมีวิธีการอื่นที่เหมาะสมกว่า ก็สามารถนำมาใช้แทน
B22: ตารางด้านบนได้
B23: 4.เส้นสีแดงเป็นเส้นเป้าหมาย - เส้นสีเขียวเป็นเส้นการประเมินสถานภาพการจัดการพลังงานเบื้องต้น
B25: 4. ข้อมูลการประเมินสถานภาพการจัดการพลังงานเบื้องต้นประเมินจาก......11......แผนก ของจำนวนทั้งหมด......11.....แผนก หรือบุคลากรจำนวน........50......คน
B26: จากทั้งหมด..........240.........คน คิดเป็นร้อยละ .....41.......

Sheet ขั้นตอน3
A1: ขั้นตอนที่ 3 นโยบายอนุรักษ์พลังงาน
A3: 3.1 นโยบายอนุรักษ์พลังงานขององค์กร
C4: เพื่อแสดงเจตจำนงและความมุ่งมั่นในการดำเนินการด้านการอนุรักษ์พลังงาน อาคารควบคุมได้กำหนด
A5: นโยบายอนุรักษ์พลังงานตามวัตถุประสงค์และเป้าหมายการอนุรักษ์พลังงาน ซึ่งสอดคล้องกับสถานภาพการใช้
A6: พลังงานและเหมาะสมกับอาคารควบคุม ดังต่อไปนี้
B7: ใส่เอกสารแสดงประกาศนโยบายอนุรักษ์พลังงาน
B29: รูปที่ 3-1 นโยบายอนุรักษ์พลังงาน
B30: ใส่เอกสารแสดงประกาศนโยบายอนุรักษ์พลังงาน
B58: รูปที่ 3-1 นโยบายอนุรักษ์พลังงาน
A59: หมายเหตุ : โปรดแนบสำเนาคำสั่งประกาศนโยบายอนุรักษ์พลังงาน

Sheet 3.2เอกสารเผยแพร่นโยบาย
A1: 3.2 การเผยแพร่นโยบายอนุรักษ์พลังงาน
A2: เพื่อให้พนักงานทุกคนรับทราบและปฏิบัติตามนโยบายอนุรักษ์พลังงานของอาคารควบคุม จึงได้ดำเนินการ
A3: เผยแพร่และดำเนินการดังต่อไปนี้
A4: วิธีการเผยแพร่นโยบายอนุรักษ์พลังงาน
C5: ติดประกาศ | G5: โปสเตอร์
C6: จำนวนติดประกาศ …11.. คณะ | G6: จำนวนติดประกาศ ….... คณะ
C7: จำนวนติดประกาศ …... วิทยาเขต | G7: จำนวนติดประกาศ …... วิทยาเขต
C8: จำนวนติดประกาศ …3.. วิทยาลัย | G8: จำนวนติดประกาศ …... วิทยาลัย
C9: จำนวนติดประกาศ …10.. สำนัก/วิสาหกิจ | G9: จำนวนติดประกาศ …... สำนัก
C10: เอกสารเผยแพร่ | G10: เสียงตามสาย
C11: แผ่นพับ/วารสาร .....ฉบับ | G11: สัปดาห์ละ ….. ครั้ง ช่วงเวลา…...
C12: จดหมายอิเล็กทรอนิกส์ | G12: การประชุมคณะกรรมการ
C13: จำนวนผู้ได้รับ …1,666.. คน | G13: การจัดการพลังงาน
C14: ระดับของผู้ได้รับ……. | G14: เดือนละ ….. ครั้ง
C15: อื่นๆ (ระบุ) สถานีวิทยุ FM 95.5
A17: หลักฐานหรือเอกสารต่างๆ ที่แสดงถึงการเผยแพร่นโยบายอนุรักษ์พลังงาน
B19: (ใส่เอกสารการเผยแพร่คณะทำงานฯ วิธีการที่ 1)
A32: (ก) ติดประกาศ
B34: (ใส่เอกสารการเผยแพร่คณะทำงานฯ วิธีการที่ 1)
A47: (ข) ติดประกาศ
B49: (ใส่เอกสารการเผยแพร่คณะทำงานฯ วิธีการที่ 1)
A62: (ค) จดหมายเวียนอิเลกทรอนิคส์
B65: (ใส่เอกสารการเผยแพร่คณะทำงานฯ วิธีการที่ 1)
A78: (ง) การประชุมคณะกรรมการการจัดการพลังงาน
B82: (ใส่เอกสารการเผยแพร่คณะทำงานฯ วิธีการที่ 1)
A93: (ง) โปสเตอร์ประชาสัมพันธ์
B96: (ใส่เอกสารการเผยแพร่คณะทำงานฯ วิธีการที่ 1)
A109: (จ) สถานีวิทยุ FM 95.5
A110: รูปที่ 3-2 ภาพการเผยแพร่นโยบายอนุรักษ์พลังงาน
A111: หมายเหตุ : กรณีมีวิธีการเผยแพร่มากกว่า 2 วิธีการ อาคารสามารถเพิ่มจำนวนการแสดงเอกสาร หลักฐานรูปภาพต่างๆ เพิ่มเติม

Sheet ขั้นตอน4 
A1: ขั้นตอนที่ 4 การประเมินศักยภาพการอนุรักษ์พลังงาน
B2: การประเมินศักยภาพการอนุรักษ์พลังงานขององค์กรแบ่งออกได้เป็น 3 ระดับ คือ
C3: (ก) การประเมินระดับองค์กร
C4: (ข) การประเมินระดับการบริการ
C5: (ค) การประเมินระดับเครื่องจักร/อุปกรณ์
B6: โดยมีแนวทางดำเนินการดังต่อไปนี้

Sheet 4.1.1 รายละเอียดการใช้อาคาร_62
A1: 4.1) การประเมินระดับองค์กร
A2: 4.1.1) ข้อมูลการใช้อาคาร | B2: ก.1 รายละเอียดการใช้งานอาคาร (สำหรับอาคารทุกประเภท)
B3: 4.1.1.1) รายละเอียดการใช้งานอาคาร (สำหรับอาคารทุกประเภท)
B4: ตารางที่ 4.1 รายละเอียดการใช้งานอาคาร ในรอบปี 2562
F6: เวลาทำงาน | H6: พื้นที่ทั้งหมดของอาคาร (ตารางเมตร)
B7: ลำดับที่ | C7: ชื่ออาคาร | D7: ปี พ.ศ. | E7: จำนวน | H7: (1) พื้นที่ใช้สอย | K7: (2) | L7: (3)=(2)+(1)
D8: ที่เปิดใช้งาน | E8: ชั้น | F8: ชั่วโมง/วัน | G8: วัน/ปี | H8: ปรับอากาศ | I8: ไม่ปรับอากาศ | J8: รวม | K8: พื้นที่จอดรถ ในตัวอาคาร | L8: รวม
B9: ส่วนกลาง
B10: 1 | C10: อาคารเทพศาสตร์สถิตย์(มิเตอร์หมุนกลับทาง) | D10: 2526 | E10: 2 | F10: 8 | G10: 250 | H10: =543+245 -> 788 | I10: =J10-H10 -> 2015.5 | J10: 2803.5 | K10: 0 | L10: =SUM(J10,K10) -> 2803.5
B11: 2 | C11: โรงประชุม (รวมอาคารห้องน้ำ) (ชูติวัตร เดิม) | D11: 2490 | E11: 1 | F11: 1 | G11: 250 | H11: 0 | I11: =J11-H11 -> 461 | J11: 461 | K11: 0 | L11: =SUM(J11,K11) -> 461
B12: 3 | C12: อาคารแผ่พืชน์ | D12: 2511 | E12: 1 | F12: 1 | G12: 250 | H12: 12 | I12: =J12-H12 -> 1892 | J12: 1904 | K12: 0 | L12: =SUM(J12,K12) -> 1904
B13: 4 | C13: อาคารวุฒากาศ | D13: 2515 | E13: 2 | F13: 1 | G13: 250 | H13: 426 | I13: =J13-H13 -> 205 | J13: 631 | K13: 0 | L13: =SUM(J13,K13) -> 631
B14: 5 | C14: อาคารเฉลิมพระเกียรติ โซน A | D14: 2537 | E14: 2 | F14: 1 | G14: 250 | H14: 5503.65 | I14: =J14-H14 -> 8353.36 | J14: 13857.01 | K14: 4791.38 | L14: =SUM(J14,K14) -> 18648.39
B15: 6 | C15: อาคารเฉลิมพระเกียรติ โซน B | D15: 2537 | E15: 4 | F15: 5 | G15: 250 | H15: 606.25 | I15: =J15-H15 -> 5253.25 | J15: 5859.5 | K15: 0 | L15: =SUM(J15,K15) -> 5859.5
B16: 7 | C16: สนามกีฬาอินทนิล (อัฒจัททร์ 2 หลัง) | D16: 2527 | E16: 2 | F16: 1 | G16: 250 | H16: 79.32 | I16: =J16-H16 -> 1742.6 | J16: 1821.92 | K16: 0 | L16: =SUM(J16,K16) -> 1821.92
B17: 8 | C17: โรงประปา 2 | D17: 2559 | E17: 1 | F17: 1 | G17: 250 | H17: 0 | I17: =J17-H17 -> 32 | J17: 32 | K17: 0 | L17: =SUM(J17,K17) -> 32
B18: 9 | C18: อาคารเรือนธรรม | D18: 2540 | E18: 2 | F18: 1 | G18: 250 | H18: 0 | I18: =J18-H18 -> 607.25 | J18: 607.25 | K18: 0 | L18: =SUM(J18,K18) -> 607.25
B19: 10 | C19: อาคารพิพิธภัณฑ์เกษตรไทย | D19: 2499 | E19: 2 | F19: 1 | G19: 250 | H19: 640 | I19: - | J19: 640 | K19: 0 | L19: =SUM(J19,K19) -> 640
B20: 11 | C20: อาคารเรียนรวมแม่โจ้ 70 ปี | D20: 2549 | E20: 5 | F20: 8 | G20: 250 | H20: =975.99+1013+658.82+49+409 -> 3105.81 | I20: =J20-H20 -> 9055.81 | J20: 12161.62 | K20: 1260.25 | L20: =SUM(J20,K20) -> 13421.87
B21: 12 | C21: อาคารเฉลิมพระเกียรติสมเด็จพระเทพรัตนราชสุดา | D21: 2536 | E21: 3 | F21: 8 | G21: 250 | H21: =7027.5+36 -> 7063.5 | I21: =J21-H21 -> 5573.75 | J21: 12637.25 | K21: 0 | L21: =SUM(J21,K21) -> 12637.25
B22: 13 | C22: อาคารเรือนกระจก | D22: 2536 | E22: 1 | F22: 5 | G22: 250 | H22: 0 | I22: =J22-H22 -> 1827 | J22: 1827 | K22: 0 | L22: =SUM(J22,K22) -> 1827
B23: 14 | C23: อาคาร 80 ปี | D23: 2559 | E23: 4 | F23: 8 | G23: 250 | H23: 1255.2 | I23: =J23-H23 -> 8512.8 | J23: 9768 | K23: 432 | L23: =SUM(J23,K23) -> 10200
B24: 15 | C24: อาคารเกษตรทฏืใหม่ | D24: 2547 | E24: 2 | F24: 1 | G24: 250 | H24: 8 | I24: =J24-H24 -> 116 | J24: 124 | K24: 0 | L24: =SUM(J24,K24) -> 124
B25: 16 | C25: อาคารต้นแบบขยายเชื้อจุลินทรัย์เพื่อการเกษตร | D25: 2547 | E25: 1 | F25: 1 | G25: 250 | H25: 0 | I25: =J25-H25 -> 42 | J25: 42 | K25: 0 | L25: =SUM(J25,K25) -> 42
B26: 17 | C26: อาคารเก็บอุปกรณ์ | D26: 2547 | E26: 1 | F26: 1 | G26: 250 | H26: 0 | I26: =J26-H26 -> 22 | J26: 22 | K26: 0 | L26: =SUM(J26,K26) -> 22
B27: 18 | C27: อาคารโรงสูบน้ำแรงดันต่ำ | D27: 2542 | E27: 1 | F27: 1 | G27: 250 | H27: 0 | I27: =J27-H27 -> 30 | J27: 30 | K27: 0 | L27: =SUM(J27,K27) -> 30
B28: 19 | C28: อาคารโรงสูบน้ำแรงดันสูง | D28: 2542 | E28: 1 | F28: 1 | G28: 250 | H28: 0 | I28: =J28-H28 -> 72 | J28: 72 | K28: 0 | L28: =SUM(J28,K28) -> 72
B29: 20 | C29: อาคารจ่ายสารเคมีและเก็บสารเคมี | D29: 2542 | E29: 1 | F29: 1 | G29: 250 | H29: 0 | I29: =J29-H29 -> 60 | J29: 60 | K29: 0 | L29: =SUM(J29,K29) -> 60
B30: 21 | C30: อาคารช่วงเกษตรศิลป์ | D30: 2496 | E30: 2 | F30: 8 | G30: 250 | H30: 954.5 | I30: =J30-H30 -> 1269.76 | J30: 2224.26 | K30: 0 | L30: =SUM(J30,K30) -> 2224.26
B31: สำนักงานมหาวิทยาลัย
B32: 22 | C32: อาคารสำนักงานมหาวิทยาลัย 1 (สำนักมาตราฐานการศึกษา เดิม) | D32: 2513 | E32: 2 | F32: 8 | G32: 250 | H32: =192+212 -> 404 | I32: =J32-H32 -> 489 | J32: 893 | K32: 0 | L32: =SUM(J32,K32) -> 893
B33: 23 | C33: อาคารสำนักงานมหาวิทยาลัย 2 (สำนักงานอธิการบดี เดิม) | D33: 2537 | E33: 5 | F33: 8 | G33: 250 | H33: =2353+196 -> 2549 | I33: =J33-H33 -> 4097 | J33: 6646 | K33: 0 | L33: =SUM(J33,K33) -> 6646
B34: 24 | C34: อาคารสำนักงานมหาวิทยาลัย 3 (อิงคศรีกสิการ เดิม) | D34: 2513 | E34: 2 | F34: 8 | G34: 250 | H34: =336+416 -> 752 | I34: =J34-H34 -> 744 | J34: 1496 | K34: 0 | L34: =SUM(J34,K34) -> 1496
B35: 25 | C35: โรงจอดรถกองกิจการนักศึกษา | D35: 2515 | E35: 1 | F35: 1 | G35: 250 | H35: 0 | I35: =J35-H35 -> 305.5 | J35: 305.5 | K35: 0 | L35: =SUM(J35,K35) -> 305.5
B36: 26 | C36: ชมรมวิทยุสมัครเล่น | D36: 2542 | E36: 1 | F36: 1 | G36: 250 | H36: 0 | I36: =J36-H36 -> 28 | J36: 28 | K36: 0 | L36: =SUM(J36,K36) -> 28
B37: 27 | C37: อาคารอำนวย ยศสุข | D37: 2553 | E37: 4 | F37: 8 | G37: 250 | H37: =555.94+1150.36+854.51+587.93 -> 3148.74 | I37: =J37-H37 -> 13113.86 | J37: 16262.6 | K37: 0 | L37: =SUM(J37,K37) -> 16262.6
B38: 28 | C38: อาคารหน่วยอาคารและสถานที่ | D38: 2540 | E38: 2 | F38: 1 | G38: 250 | H38: 48 | I38: =J38-H38 -> 780 | J38: 828 | K38: 0 | L38: =SUM(J38,K38) -> 828
B39: 29 | C39: อาคารสำนักงานประปาและสุขาภิบาล | D39: 2532 | E39: 2 | F39: 5 | G39: 250 | H39: 41.4 | I39: =J39-H39 -> 313.2 | J39: 354.6 | K39: 0 | L39: =SUM(J39,K39) -> 354.6
B40: 30 | C40: อาคารงานไฟฟ้า | D40: 2540 | E40: 2 | F40: 1 | G40: 250 | H40: 0 | I40: =J40-H40 -> 328 | J40: 328 | K40: 0 | L40: =SUM(J40,K40) -> 328
B41: 31 | C41: อาคารซ่อมบำรุงอาคารและสถานที่ | D41: 2540 | E41: 2 | F41: 1 | G41: 250 | H41: 48 | I41: =J41-H41 -> 780 | J41: 828 | K41: 0 | L41: =SUM(J41,K41) -> 828
B42: 32 | C42: อาคารยานพาหนะ | D42: 2540 | E42: 1 | F42: 1 | G42: 250 | H42: 68 | I42: =J42-H42 -> 212 | J42: 280 | K42: 0 | L42: =SUM(J42,K42) -> 280
B43: 33 | C43: อาคารโรงจอดรถ | D43: 2540 | E43: 1 | F43: 1 | G43: 250 | H43: 0 | I43: =J43-H43 -> 390 | J43: 390 | K43: 0 | L43: =SUM(J43,K43) -> 390
B44: 34 | C44: อาคารสำนักงานระบบบำบัดน้ำเสียรวม (รวมอาคารห้องน้ำ) | D44: 2547 | E44: 1 | F44: 5 | G44: 250 | H44: 102.2 | I44: =J44-H44 -> 80.8 | J44: 183 | K44: 0 | L44: =SUM(J44,K44) -> 183
B45: สระว่ายน้ำ
B46: 35 | C46: อาคารสระว่ายน้ำ | D46: 2553 | E46: 2 | F46: 5 | G46: 250 | H46: 60 | I46: =J46-H46 -> 4120.6 | J46: 4180.6 | K46: 0 | L46: =SUM(J46,K46) -> 4180.6
B47: โรงอาหาร
B48: 36 | C48: อาคารโรงอาหารเทิดกสิกร | D48: 2536 | E48: 2 | F48: 5 | G48: 250 | H48: 600 | I48: =J48-H48 -> 3725 | J48: 4325 | K48: 0 | L48: =SUM(J48,K48) -> 4325
B49: หอพักนักศึกษา
B50: 37 | C50: อาคารหอพักนักศึกษานานาชาติ | D50: 2551 | E50: 2 | F50: 5 | G50: 250 | H50: 0 | I50: =J50-H50 -> 1048.4 | J50: 1048.4 | K50: 0 | L50: =SUM(J50,K50) -> 1048.4
B51: 38 | C51: อาคารหอพักนักศึกษาชาย 2 | D51: 2511 | E51: 5 | F51: 5 | G51: 250 | H51: 28 | I51: =J51-H51 -> 5940 | J51: 5968 | K51: 0 | L51: =SUM(J51,K51) -> 5968
B52: 39 | C52: อาคารหอพักนักศึกษาชาย 3 (รวมอาคารห้องน้ำ) | D52: 2511 | E52: 2 | F52: 5 | G52: 250 | H52: 0 | I52: =J52-H52 -> 1200 | J52: 1200 | K52: 0 | L52: =SUM(J52,K52) -> 1200
B53: 40 | C53: อาคารหอพักนักศึกษาชาย 4 (รวมอาคารโรงจอดรถ ข้างหอ) | D53: 2536 | E53: 5 | F53: 5 | G53: 250 | H53: 28 | I53: =J53-H53 -> 3826 | J53: 3854 | K53: 0 | L53: =SUM(J53,K53) -> 3854
B54: 41 | C54: อาคารหอพักนักศึกษาชาย 5 (รวมอาคารห้องน้ำ) | D54: 2536 | E54: 2 | F54: 5 | G54: 250 | H54: 0 | I54: =J54-H54 -> 1160 | J54: 1160 | K54: 0 | L54: =SUM(J54,K54) -> 1160
B55: 42 | C55: อาคารหอพักนักศึกษาหญิง 6 (รวมอาคารโรงจอดรถ ข้างหอ) | D55: 2536 | E55: 5 | F55: 5 | G55: 250 | H55: 28 | I55: =J55-H55 -> 3826 | J55: 3854 | K55: 0 | L55: =SUM(J55,K55) -> 3854
B56: 43 | C56: อาคารหอพักนักศึกษาหญิง 7 | D56: 2536 | E56: 5 | F56: 5 | G56: 250 | H56: 28 | I56: =J56-H56 -> 3826 | J56: 3854 | K56: 0 | L56: =SUM(J56,K56) -> 3854
B57: 44 | C57: อาคารหอพักนักศึกษาหญิง 8 | D57: 2539 | E57: 5 | F57: 5 | G57: 250 | H57: 140 | I57: =J57-H57 -> 6511 | J57: 6651 | K57: 0 | L57: =SUM(J57,K57) -> 6651
B58: 45 | C58: อาคารหอพักนักศึกษาหญิง 9 | D58: 2540 | E58: 5 | F58: 5 | G58: 250 | H58: 208 | I58: =J58-H58 -> 6443 | J58: 6651 | K58: 0 | L58: =SUM(J58,K58) -> 6651
B59: 46 | C59: อาคารหอพักนักศึกษาหญิง 10 | D59: 2554 | E59: 7 | F59: 5 | G59: 250 | H59: 210 | I59: =J59-H59 -> 6965 | J59: 7175 | K59: 0 | L59: =SUM(J59,K59) -> 7175
B60: 47 | C60: อาคารหอพักนักศึกษาหญิง 11 | D60: 2560 | E60: 7 | F60: 5 | G60: 250 | H60: 378 | I60: =J60-H60 -> 14122 | J60: 14500 | K60: 0 | L60: =SUM(J60,K60) -> 14500
B61: คณะพัฒนาการท่องเที่ยว
B62: 48 | C62: อาคารเรียนรวมสุวรรณวาจกกสิกิจ | D62: 2520 | E62: 2 | F62: 8 | G62: 250 | H62: 1296 | I62: =J62-H62 -> 915.44 | J62: 2211.44 | K62: 0 | L62: =SUM(J62,K62) -> 2211.44
B63: 49 | C63: อาคารพัฒนาวิสัยทัศน์ | D63: 2551 | E63: 2 | F63: 5 | G63: 250 | H63: 1792 | I63: =J63-H63 -> 1671.8 | J63: 3463.8 | K63: 0 | L63: =SUM(J63,K63) -> 3463.8
B64: คณะศิลป์ศาสตร์
B65: 50 | C65: อาคารประเสริฐ ณ.นคร | D65: 2537 | E65: 6 | F65: 8 | G65: 250 | H65: =564.35+749.91+615.23+754.6+909.69 -> 3593.78 | I65: =J65-H65 -> 4045.63 | J65: 7639.41 | K65: 0 | L65: =SUM(J65,K65) -> 7639.41
B66: สำนักหอสมุด
B67: 51 | C67: อาคารวิภาต บุญศรี วังซ้าย | D67: 2524 | E67: 3 | F67: 8 | G67: 250 | H67: =2304.95+3089.95+3034.33 -> 8429.23 | I67: =J67-H67 -> 1948.32 | J67: =3827.46+3285.5+3264.59 -> 10377.55 | K67: 0 | L67: =SUM(J67,K67) -> 10377.55
B68: คณะบริหารธุรกิจ
B69: 52 | C69: อาคารพิทยาลงกรณ์ | D69: 2521 | E69: 3 | F69: 8 | G69: 250 | H69: 1707.5 | I69: =J69-H69 -> 1269.47 | J69: 2976.97 | K69: 0 | L69: =SUM(J69,K69) -> 2976.97
B70: 53 | C70: อาคาร 25 ปี คณะบริหารธุรกิจ | D70: 2539 | E70: 6 | F70: 8 | G70: 250 | H70: 2276 | I70: =J70-H70 -> 1766 | J70: 4042 | K70: 0 | L70: =SUM(J70,K70) -> 4042
B71: วิทยาลัยบริหารศาสตร์
B72: 54 | C72: อาคารเทพ พงษ์พานิช | D72: 2553 | E72: 3 | F72: 8 | G72: 250 | H72: 2727.73 | I72: =J72-H72 -> 6795.27 | J72: 9523 | L72: =SUM(J72,K72) -> 9523
B73: ศูนย์กล้วยไม้
B74: 55 | C74: อาคารเฉลิมพระเกียรติสมเด็จพระศรีนครินทราบรมราชนี | D74: 2538 | E74: 4 | F74: 8 | G74: 250 | H74: 4332.2 | I74: =J74-H74 -> 2521.36 | J74: 6853.56 | K74: 0 | L74: =SUM(J74,K74) -> 6853.56
B75: คณะวิทยาศาสตร์
B76: 56 | C76: อาคารแม่โจ้ 60 ปี | D76: 2538 | E76: 6 | F76: 8 | G76: 250 | H76: =6349.61+2373.52 -> 8723.13 | I76: =J76-H76 -> 13135.12 | J76: 21858.25 | K76: 3551 | L76: =SUM(J76,K76) -> 25409.25
B77: 57 | C77: อาคารเสาวรัจนิตยวรรธนะ | D77: 2537 | E77: 2 | F77: 8 | G77: 250 | H77: 1059.87 | I77: =J77-H77 -> 2634.35 | J77: 3694.22 | K77: 0 | L77: =SUM(J77,K77) -> 3694.22
B78: 58 | C78: อาคารจุฬาภรณ์ | D78: 2552 | E78: 5 | F78: 8 | G78: 250 | H78: 3705.38 | I78: =J78-H78 -> 5440.62 | J78: 9146 | K78: 0 | L78: =SUM(J78,K78) -> 9146
B79: คณะเศรษฐศาสตร์
B80: 59 | C80: อาคารยรรยง สิทธิชัย | D80: 2552 | E80: 4 | F80: 8 | G80: 250 | H80: =210.99+868.13+1008.35+888.35 -> 2975.82 | I80: =J80-H80 -> 1904.18 | J80: 4880 | K80: 0 | L80: =SUM(J80,K80) -> 4880
B81: คณะเทคโนโลยีสารสนเทศและการสื่อสาร
B82: 60 | C82: อาคาร 75 ปี แม่โจ้ | D82: 2553 | E82: 3 | F82: 8 | G82: 250 | H82: =488.84+144+183.06 -> 815.9 | I82: =J82-H82 -> 4746.6 | J82: 5562.5 | K82: 0 | L82: =SUM(J82,K82) -> 5562.5
B83: คณะสถาปัตยกรรมศาสตร์และการออกแบบสิ่งแวดล้อม
B84: 61 | C84: อาคารคณะสถาปัตยกรรมศาสตร์และการออกแบบสิ่งแวดล้อม | D84: 2534 | E84: 4 | F84: 8 | G84: 250 | H84: =495.49+127.09+472.32 -> 1094.9 | I84: =J84-H84 -> 4374.75 | J84: 5469.65 | K84: 0 | L84: =SUM(J84,K84) -> 5469.65
B85: 62 | C85: อาคารคณะสถาปัตยกรรมศาสตร์และการออกแบบสิ่งแวดล้อม (ใหม่) | D85: 2558 | E85: 4 | F85: 8 | G85: 250 | H85: 2172 | I85: =J85-H85 -> 2850.5 | J85: 5022.5 | K85: 0 | L85: =SUM(J85,K85) -> 5022.5
B86: คณะผลิตกรรมการเกษตร
B87: 63 | C87: อาคารรัตนโกสินทร์ 200 ปี | D87: 2525 | E87: 2 | F87: 8 | G87: 250 | H87: =276.96+467.95 -> 744.91 | I87: =J87-H87 -> 806.24 | J87: 1551.15 | K87: 0 | L87: =SUM(J87,K87) -> 1551.15
B88: 64 | C88: อาคารเรียนและปฏิบัติการรวมทางปฐพีวิทยาและฝึกอบรมทางดินและปุ๋ยชั้นสูง | D88: 2540 | E88: 4 | F88: 8 | G88: 250 | H88: =457.83+563.46+159.27+227.08 -> 1407.64 | I88: =J88-H88 -> 3438.61 | J88: 4846.25 | K88: 0 | L88: =SUM(J88,K88) -> 4846.25
B89: 65 | C89: อาคารปฏิบัติการไม้ผล | D89: 2528 | E89: 1 | F89: 5 | G89: 250 | H89: 313.28 | I89: =J89-H89 -> 166.72 | J89: 480 | K89: 0 | L89: =SUM(J89,K89) -> 480
B90: 66 | C90: โรงเรือนเพาะชำไม้ผล 1 | D90: 2528 | E90: 1 | F90: 5 | G90: 250 | H90: 38.93 | I90: =J90-H90 -> 80.07 | J90: 119 | K90: 0 | L90: =SUM(J90,K90) -> 119
B91: 67 | C91: โรงเรือนเพาะชำไม้ผล 2 | D91: 2528 | E91: 1 | F91: 5 | G91: 250 | H91: 102.57 | I91: =J91-H91 -> 317.43 | J91: 420 | K91: 0 | L91: =SUM(J91,K91) -> 420
B92: 68 | C92: อาคารเก็บพัสดุไม้ผล | D92: 2528 | E92: 1 | F92: 1 | G92: 250 | H92: 0 | I92: =J92-H92 -> 105 | J92: 105 | K92: 0 | L92: =SUM(J92,K92) -> 105
B93: 69 | C93: อาคารสำนักงานพืชไร่(พักอาจารย์) | D93: 2525 | E93: 1 | F93: 5 | G93: 250 | H93: 57.407 | I93: =J93-H93 -> 104.593 | J93: 162 | K93: 0 | L93: =SUM(J93,K93) -> 162
B94: 70 | C94: อาคารศูนย์ประสานงานโครงการธัญพืชไร่ | D94: 2543 | E94: 1 | F94: 5 | G94: 250 | H94: 74.2 | I94: =J94-H94 -> 34.8 | J94: 109 | K94: 0 | L94: =SUM(J94,K94) -> 109
B95: 71 | C95: อาคารเพาะเลี้ยงเนื้อเยื่อ ฝ่ายพัฒนาเกษตรที่สูง | D95: 2525 | E95: 1 | F95: 8 | G95: 250 | H95: 103.39 | I95: =J95-H95 -> 31.61 | J95: 135 | K95: 0 | L95: =SUM(J95,K95) -> 135
B96: 72 | C96: อาคารเพิ่มพูล | D96: 2548 | E96: 4 | F96: 8 | G96: 250 | H96: =910.81+1020.74+522.09+609.5 -> 3063.14 | I96: =J96-H96 -> 7659.86 | J96: 10723 | K96: 0 | L96: =SUM(J96,K96) -> 10723
B97: 73 | C97: อาคารปฏิบัติการและคัดเมล็ดพันธุ์พืชไร่ | D97: 2524 | E97: 1 | F97: 5 | G97: 250 | H97: 285.85 | I97: =J97-H97 -> 158.15 | J97: 444 | K97: 0 | L97: =SUM(J97,K97) -> 444
B98: 74 | C98: อาคารอบเมล็ดพันธุ์พืช (ไซโล) | D98: 2535 | E98: 1 | F98: 1 | G98: 250 | H98: 0 | I98: =J98-H98 -> 128 | J98: 128 | K98: 0 | L98: =SUM(J98,K98) -> 128
B99: 75 | C99: อาคารกำจร บุญแปง | D99: 2526 | E99: 2 | F99: 8 | G99: 250 | H99: =224.27+462 -> 686.27 | I99: =J99-H99 -> 525.91 | J99: 1212.18 | K99: 0 | L99: =SUM(J99,K99) -> 1212.18
B100: 76 | C100: อาคารเนื้อเยื่อ | D100: 2522 | E100: 2 | F100: 8 | G100: 250 | H100: =207.355+257.34 -> 464.695 | I100: =J100-H100 -> 482.305 | J100: 947 | K100: 0 | L100: =SUM(J100,K100) -> 947
B101: 77 | C101: อาคารปฏิบัติการพืชผัก | D101: 2524 | E101: 1 | F101: 5 | G101: 250 | H101: 233.25 | I101: =J101-H101 -> 142.25 | J101: 375.5 | K101: 0 | L101: =SUM(J101,K101) -> 375.5
...

Sheet 4.1.1.2พื้นที่อาคารแต่เดือน_62
B1: 4.1.1.2) การใช้ประโยชน์พื้นที่ใช้สอยที่ใช้งานจริงในแต่ละเดือน
B3: ตารางที่ 4.2 รายละเอียดการใช้ประโยชน์พื้นที่ใช้สอยที่ใช้งานจริงในแต่ละเดือน ในรอบปี 2562
B5: เดือน | C5: สำหรับอาคารทุกประเภท | F5: สำหรับอาคารประเภท | G5: สำหรับอาคารประเภท
C6: การใช้ประโยชน์พื้นที่ใช้สอยที่ใช้งานจริง | F6: โรงแรม | G6: โรงพยาบาล
C7: พื้นที่ปรับอากาศ | D7: พื้นที่ไม่ปรับอากาศ | E7: รวม | F7: จำนวนห้องพักที่จำหน่ายได้ | G7: จำนวนคนไข้นอก | H7: จำนวนคนไข้ใน
C8: (ตารางเมตร) | D8: (ตารางเมตร) | E8: (ตารางเมตร) | F8: (ห้อง-วัน) | G8: (คน) | H8: (เตียง-วัน)
B9: ม.ค. | C9: ='4.1.1 รายละเอียดการใช้อาคาร_62'!H$145 -> 97550.512 | D9: ='4.1.1 รายละเอียดการใช้อาคาร_62'!I$145 -> 253487.97 | E9: ='4.1.1 รายละเอียดการใช้อาคาร_62'!J$145 -> 351038.48
B10: ก.พ. | C10: =C9 -> 97550.512 | D10: =D9 -> 253487.97 | E10: =E9 -> 351038.48
B11: มี.ค. | C11: =C10 -> 97550.512 | D11: =D10 -> 253487.97 | E11: =E10 -> 351038.48
B12: เม.ย. | C12: =C11 -> 97550.512 | D12: =D11 -> 253487.97 | E12: =E11 -> 351038.48
B13: พ.ค. | C13: =C12 -> 97550.512 | D13: =D12 -> 253487.97 | E13: =E12 -> 351038.48
B14: มิ.ย. | C14: =C13 -> 97550.512 | D14: =D13 -> 253487.97 | E14: =E13 -> 351038.48
B15: ก.ค. | C15: =C14 -> 97550.512 | D15: =D14 -> 253487.97 | E15: =E14 -> 351038.48
B16: ส.ค. | C16: =C15 -> 97550.512 | D16: =D15 -> 253487.97 | E16: =E15 -> 351038.48
B17: ก.ย. | C17: =C16 -> 97550.512 | D17: =D16 -> 253487.97 | E17: =E16 -> 351038.48
B18: ต.ค. | C18: =C17 -> 97550.512 | D18: =D17 -> 253487.97 | E18: =E17 -> 351038.48
B19: พ.ย. | C19: =C18 -> 97550.512 | D19: =D18 -> 253487.97 | E19: =E18 -> 351038.48
B20: ธ.ค. | C20: =C19 -> 97550.512 | D20: =D19 -> 253487.97 | E20: =E19 -> 351038.48
B21: รวม

Sheet 4.1.2ข้อมูลหม้อแปลง
A1: 4.1.2) ข้อมูลระบบไฟฟ้า
B2: 4.1.2.1) ข้อมูลหม้อแปลงไฟฟ้าปี 2562
A3: ลำดับที่ | B3: หมายเลข | C3: หมายเลข | D3: ประเภท | E3: อัตรา | F3: หม้อแปลงไฟฟ้า | L3: อาคารที่ใช้งาน
B4: ผู้ใช้ไฟฟ้า | C4: เครื่องวัดไฟฟ้า | D4: ผู้ใช้ไฟฟ้า | E4: การใช้ไฟฟ้า | F4: ขนาด (kVA) | I4: จำนวน (ชุด) | M4: รวม
F5: ขนาด | G5: 1600 | H5: kVA | I5: จำนวน | J5: 1 | K5: ตัว | L5: 1.อาคารประเสริฐ ณ.นคร | M5: =G5*J5 -> 1600
F6: ขนาด | G6: 1500 | H6: kVA | I6: จำนวน | J6: 2 | K6: ตัว | L6: 1.อาคารสมเด็จพระเทพรัตนราชสุดา | M6: =G6*J6 -> 3000
L7: 2.อาคารเรียนรวมสาขาวิศวกรรมศาสตร์ | M7: =G7*J7 -> 0
F8: ขนาด | G8: 1250 | H8: kVA | I8: จำนวน | J8: 6 | K8: ตัว | L8: 1.อาคารอำนวย ยศสุข | M8: =G8*J8 -> 7500
L9: 2-3.อาคารแม่โจ้ 60 ปี(2) | M9: =G9*J9 -> 0
L10: 4.อาคารจุฬาภรณ์(2) | M10: =G10*J10 -> 0
L11: 5.อาคาร 75 ปี แม่โจ้ | M11: =G11*J11 -> 0
L12: 6.อาคาร 75 ปี แม่โจ้
F13: ขนาด | G13: 1000 | H13: kVA | I13: จำนวน | J13: 1 | K13: ตัว | L13: 1.อาคารสมเด็จพระศรีนครินทราบรมราชนี | M13: =G13*J13 -> 1000
F14: ขนาด | G14: 800 | H14: kVA | I14: จำนวน | J14: 6 | K14: ตัว | L14: 1.อาคารศูนย์การศึกษาและอบรมนานาชาติ | M14: =G14*J14 -> 4800
L15: 2.อาคารวิภาต บุญศรี วังซ้าย | M15: =G15*J15 -> 0
L16: 3.อาคารหอพักนักศึกษาหญิง 11 | M16: =G16*J16 -> 0
L17: 4-5.อาคารศูนย์กีฬากาญจนาภิเษกรัชกาลที่ 9 โซน A , B (2) | M17: =G17*J17 -> 0
L18: 6.อาคารโรงงานนำร่อง
A19: 1 | B19: 9806 - 020017405371 | C19: 27669524 | D19: 4.2.2 | E19: ปกติ | F19: ขนาด | G19: 750 | H19: kVA | I19: จำนวน | J19: 1 | K19: ตัว | L19: 1.อาคารสมิตานนท์ | M19: =G19*J19 -> 750
E20: TOD | F20: ขนาด | G20: 630 | H20: kVA | I20: จำนวน | J20: 9 | K20: ตัว | L20: 1.อาคารเทพ พงษ์พานิช | M20: =G20*J20 -> 5670
E21: TOU | L21: 2.อาคารวิภาต บุญศรี วังซ้าย | M21: =G21*J21 -> 0
L22: 3.อาคารเรียนรวมแม่โจ้ 70 ปี | M22: =G22*J22 -> 0
L23: 4.อาคารสำนักงานอธิการบดี | M23: =G23*J23 -> 0
L24: 5.อาคารหอพักนักศึกษาหญิง 10 | M24: =G24*J24 -> 0
L25: 6.อาคารคณะสถาปัตยกรรมศาสตร์และการออกแบบสิ่งแวดล้อม (ใหม่) | M25: =G25*J25 -> 0
L26: 7.อาคารเพิ่มพูน
L27: 8.อาคารปฏิบัติเทคโนโลยียางและพอลิเมอร์ | M27: =G27*J27 -> 0
L28: 9.อาคารยรรยง สิทธิชัย | M28: =G28*J28 -> 0
F29: ขนาด | G29: 500 | H29: kVA | I29: จำนวน | J29: 4 | K29: ตัว | L29: 1.อาคาร 25 ปี คณะบริหารธุรกิจ | M29: =G29*J29 -> 2000
L30: 2.อาคารเรียนรวม 80 ปี | M30: =G30*J30 -> 0
L31: 3.อาคารเทคโนโลยีการประมง
L32: 4.อาคารปฏิบัติการเทคโนโลยีการประมง
F33: ขนาด | G33: 400 | H33: kVA | I33: จำนวน | J33: 1 | K33: ตัว | L33: 1.อาคารธรรมศักดิ์มนตรี | M33: =G33*J33 -> 400
F35: ขนาด | G35: 315 | H35: kVA | I35: จำนวน | J35: 5 | K35: ตัว | L35: 1.อาคารปฏิบัติการวิศวกรรมทั่วไป | M35: =G35*J35 -> 1575
L36: 2.อาคารพิทยาลงกรณ์ | M36: =G36*J36 -> 0
L37: 3.อาคารหอพักนักศึกษาหญิง 8 | M37: =G37*J37 -> 0
L38: 4.อาคารหอพักนักศึกษาหญิง 9
L39: 5.อาคารปฏิบัติการดินและปุ๋ย
F40: ขนาด | G40: 250 | H40: kVA | I40: จำนวน | J40: 14 | K40: ตัว | L40: 1.อาคารเสาวรัจนิตยวรรธนะ | M40: =G40*J40 -> 3500
L41: 2.อาคารเรือนกระจก | M41: =G41*J41 -> 0
L42: 3.อาคารพัฒนาวิสัยทัศน์ | M42: =G42*J42 -> 0
L43: 4.อาคารเทพศาสตร์สถิตย์ | M43: =G43*J43 -> 0
L44: 5.อาคารอิงคศรีกสิการ | M44: =G44*J44 -> 0
L45: 6.คาบอยมาร์เก็ต | M45: =G45*J45 -> 0
L46: 7.อาคารโรงอาหารเทิดกสิกร
L47: 8.กาดแลง
L48: 9.โรงกรอกประปา 2
L49: 10.อาคารสมาคมศิษย์เก่า
L50: 11.สนามกีฬาอินทนิล (อัฒจัททร์มีหลังคา)
L51: 12.อาคารรัตนโกสินทร์ 200 ปี
L52: 13.อาคารคัดบรรจุผลิตผลเกษตร
L53: 14.ระบบประปา
F54: ขนาด | G54: 160 | H54: kVA | I54: จำนวน | J54: 9 | K54: ตัว | L54: 1.อาคารเนื้อเยื่อ | M54: =G54*J54 -> 1440
L55: 2.เทคโนโลยีด้านการผลิตไม้ดอกไม้ประดับ
L56: 3.ศูนย์ IT | M56: =G56*J56 -> 0
L57: 4.ลานจัตุรัส | M57: =G57*J57 -> 0
L58: 5.อาคารแฟลตชัยพฤกษ์ | M58: =G58*J58 -> 0
L59: 6.อาคารสระว่ายน้ำอุบลรัตน์ | M59: =G59*J59 -> 0
L60: 7.อาคารคณะสถาปัตยกรรมศาสตร์และการออกแบบสิ่งแวดล้อม (เก่า) | M60: =G60*J60 -> 0
L61: 8.อาคารปฏิบัติการไม้ผล | M61: =G61*J61 -> 0
L62: 9.ระบบบำบัดน้ำเสีย | M62: =G62*J62 -> 0
F63: ขนาด | G63: 100 | H63: kVA | I63: จำนวน | J63: 1 | K63: ตัว | L63: 1.อาคารช่วงเกษตรศิลป์ | M63: =G63*J63 -> 100
A65: รวม | G65: =M65 -> 33335 | J65: kVA | M65: =SUM(M5:M64) -> 33335

Sheet 4.1.2การใช้ไฟฟ้า_62
B1: 4.1.2.2) ข้อมูลปริมาณการใช้ไฟฟ้าในรอบปี 2562
A2: ตารางที่ 4.3 ข้อมูลการใช้ไฟฟ้าในรอบปี 2562
B3: อัตราการใช้ไฟฟ้า | C3: 4.1.2 | E3: หมายเลขผู้ใช้ไฟฟ้า | F3: ='4.1.2ข้อมูลหม้อแปลง'!B19 -> 9806 - 020017405371 | I3: หมายเลขเครื่องวัดไฟฟ้า | J3: ='4.1.2ข้อมูลหม้อแปลง'!C19 -> 27669524
B5: พลังไฟฟ้าสูงสุด | F5: พลังงานไฟฟ้า | H5: กิโลวาร์ | I5: ค่าไฟฟ้ารวม (บาท) | K5: Power Factor
A6: เดือน | B6: P | C6: PP/OP1 | D6: OP/OP2 | E6: ค่าใช้จ่าย | F6: ปริมาณ | G6: ค่าใช้จ่าย | J6: ค่าตัวประกอบภาระ | L6: ค่าไฟฟ้าเฉลี่ย
B7: (กิโลวัตต์) | C7: (กิโลวัตต์) | D7: (กิโลวัตต์) | E7: (บาท) | F7: (กิโลวัตต์-ชั่วโมง) | G7: (บาท) | J7: (เปอร์เซ็นต์) | L7: (บาท/กิโลวัตต์-ชั่วโมง) | M7: วัน/เดือน
A8: ม.ค. | B8: =' ข้อมูลการใช้ไฟฟ้า '!B8 -> 2152.03 | C8: =' ข้อมูลการใช้ไฟฟ้า '!C8 -> 1434.68 | D8: =' ข้อมูลการใช้ไฟฟ้า '!D8 -> 1155.72 | E8: =' ข้อมูลการใช้ไฟฟ้า '!E8 -> 159551.5 | F8: =' ข้อมูลการใช้ไฟฟ้า '!F8 -> 761180 | G8: =I8-E8 -> 2651344.9 | H8: 717.34 | I8: =' ข้อมูลการใช้ไฟฟ้า '!G8 -> 2810896.4 | J8: =+F8*100/(MAX(B8:D8)*24*M8) -> 47.540759 | K8: =MAX(B8:D8)/(SQRT((MAX(B8:D8)^2+(H8)^2))) -> 0.94868374 | L8: =+I8/F8 -> 3.6928144 | M8: 31
A9: ก.พ. | B9: =' ข้อมูลการใช้ไฟฟ้า '!B9 -> 2510.76 | C9: =' ข้อมูลการใช้ไฟฟ้า '!C9 -> 1394.86 | D9: =' ข้อมูลการใช้ไฟฟ้า '!D9 -> 1514.42 | E9: =' ข้อมูลการใช้ไฟฟ้า '!E9 -> 186147.75 | F9: =' ข้อมูลการใช้ไฟฟ้า '!F9 -> 752030.99 | G9: =I9-E9 -> 2634876.2 | H9: 956.48 | I9: =' ข้อมูลการใช้ไฟฟ้า '!G9 -> 2821023.9 | J9: =+F9*100/(MAX(B9:D9)*24*M9) -> 44.571912 | K9: =MAX(B9:D9)/(SQRT((MAX(B9:D9)^2+(H9)^2))) -> 0.93448773 | L9: =+I9/F9 -> 3.751207 | M9: 28
A10: มี.ค. | B10: =' ข้อมูลการใช้ไฟฟ้า '!B10 -> 2785.45 | C10: =' ข้อมูลการใช้ไฟฟ้า '!C10 -> 1551.89 | D10: =' ข้อมูลการใช้ไฟฟ้า '!D10 -> 1273.35 | E10: =' ข้อมูลการใช้ไฟฟ้า '!E10 -> 206513.26 | F10: =' ข้อมูลการใช้ไฟฟ้า '!F10 -> 871049.99 | G10: =I10-E10 -> 3088021.1 | H10: 994.8 | I10: =' ข้อมูลการใช้ไฟฟ้า '!G10 -> 3294534.4 | J10: =+F10*100/(MAX(B10:D10)*24*M10) -> 42.031489 | K10: =MAX(B10:D10)/(SQRT((MAX(B10:D10)^2+(H10)^2))) -> 0.94174229 | L10: =+I10/F10 -> 3.7822564 | M10: 31
A11: เม.ย. | B11: =' ข้อมูลการใช้ไฟฟ้า '!B11 -> 2902.94 | C11: =' ข้อมูลการใช้ไฟฟ้า '!C11 -> 1749.72 | D11: =' ข้อมูลการใช้ไฟฟ้า '!D11 -> 1192.99 | E11: =' ข้อมูลการใช้ไฟฟ้า '!E11 -> 215223.97 | F11: =' ข้อมูลการใช้ไฟฟ้า '!F11 -> 727722.99 | G11: =I11-E11 -> 2593266.1 | H11: 1033.92 | I11: =' ข้อมูลการใช้ไฟฟ้า '!G11 -> 2808490 | J11: =+F11*100/(MAX(B11:D11)*24*M11) -> 34.817336 | K11: =MAX(B11:D11)/(SQRT((MAX(B11:D11)^2+(H11)^2))) -> 0.94203391 | L11: =+I11/F11 -> 3.8592845 | M11: 30
A12: พ.ค. | B12: =' ข้อมูลการใช้ไฟฟ้า '!B12 -> 3345 | C12: =' ข้อมูลการใช้ไฟฟ้า '!C12 -> 2110.53 | D12: =' ข้อมูลการใช้ไฟฟ้า '!D12 -> 2986.6 | E12: =' ข้อมูลการใช้ไฟฟ้า '!E12 -> 247998.3 | F12: =' ข้อมูลการใช้ไฟฟ้า '!F12 -> 929033 | G12: =I12-E12 -> 3326789.9 | H12: 1393.75 | I12: =' ข้อมูลการใช้ไฟฟ้า '!G12 -> 3574788.2 | J12: =+F12*100/(MAX(B12:D12)*24*M12) -> 37.330352 | K12: =MAX(B12:D12)/(SQRT((MAX(B12:D12)^2+(H12)^2))) -> 0.92307692 | L12: =+I12/F12 -> 3.8478592 | M12: 31
A13: มิ.ย. | B13: =' ข้อมูลการใช้ไฟฟ้า '!B13 -> 3624.36 | C13: =' ข้อมูลการใช้ไฟฟ้า '!C13 -> 2668.48 | D13: =' ข้อมูลการใช้ไฟฟ้า '!D13 -> 1792.26 | E13: =' ข้อมูลการใช้ไฟฟ้า '!E13 -> 268710.05 | F13: =' ข้อมูลการใช้ไฟฟ้า '!F13 -> 1026370 | G13: =I13-E13 -> 3610744 | H13: 1473.64 | I13: =' ข้อมูลการใช้ไฟฟ้า '!G13 -> 3879454.1 | J13: =+F13*100/(MAX(B13:D13)*24*M13) -> 39.331465 | K13: =MAX(B13:D13)/(SQRT((MAX(B13:D13)^2+(H13)^2))) -> 0.92635569 | L13: =+I13/F13 -> 3.7797812 | M13: 30
A14: ก.ค. | B14: =' ข้อมูลการใช้ไฟฟ้า '!B14 -> 4300.82 | C14: =' ข้อมูลการใช้ไฟฟ้า '!C14 -> 2747.75 | D14: =' ข้อมูลการใช้ไฟฟ้า '!D14 -> 1951.3 | E14: =' ข้อมูลการใช้ไฟฟ้า '!E14 -> 312434.12 | F14: =' ข้อมูลการใช้ไฟฟ้า '!F14 -> 1401619 | G14: =I14-E14 -> 4938388.6 | H14: 1672.54 | I14: =' ข้อมูลการใช้ไฟฟ้า '!G14 -> 5250822.7 | J14: =+F14*100/(MAX(B14:D14)*24*M14) -> 43.803193 | K14: =MAX(B14:D14)/(SQRT((MAX(B14:D14)^2+(H14)^2))) -> 0.93200475 | L14: =+I14/F14 -> 3.7462554 | M14: 31
A15: ส.ค. | B15: =' ข้อมูลการใช้ไฟฟ้า '!B15 -> 3663.69 | C15: =' ข้อมูลการใช้ไฟฟ้า '!C15 -> 2309.72 | D15: =' ข้อมูลการใช้ไฟฟ้า '!D15 -> 1752.2 | E15: =' ข้อมูลการใช้ไฟฟ้า '!E15 -> 271625.98 | F15: =' ข้อมูลการใช้ไฟฟ้า '!F15 -> 1098193 | G15: =I15-E15 -> 3905668.3 | H15: 1353.97 | I15: =' ข้อมูลการใช้ไฟฟ้า '!G15 -> 4177294.3 | J15: =+F15*100/(MAX(B15:D15)*24*M15) -> 40.289049 | K15: =MAX(B15:D15)/(SQRT((MAX(B15:D15)^2+(H15)^2))) -> 0.9379947 | L15: =+I15/F15 -> 3.8037888 | M15: 31
A16: ก.ย. | B16: =' ข้อมูลการใช้ไฟฟ้า '!B16 -> 3584.41 | C16: =' ข้อมูลการใช้ไฟฟ้า '!C16 -> 2230.3 | D16: =' ข้อมูลการใช้ไฟฟ้า '!D16 -> 1513.42 | E16: =' ข้อมูลการใช้ไฟฟ้า '!E16 -> 265748.16 | F16: =' ข้อมูลการใช้ไฟฟ้า '!F16 -> 1070147 | G16: =I16-E16 -> 3830277.6 | H16: 1473.59 | I16: =' ข้อมูลการใช้ไฟฟ้า '!G16 -> 4096025.7 | J16: =+F16*100/(MAX(B16:D16)*24*M16) -> 41.466107 | K16: =MAX(B16:D16)/(SQRT((MAX(B16:D16)^2+(H16)^2))) -> 0.92489085 | L16: =+I16/F16 -> 3.8275356 | M16: 30
A17: ต.ค. | B17: =' ข้อมูลการใช้ไฟฟ้า '!B17 -> 3424.42 | C17: =' ข้อมูลการใช้ไฟฟ้า '!C17 -> 2070.58 | D17: =' ข้อมูลการใช้ไฟฟ้า '!D17 -> 1393.66 | E17: =' ข้อมูลการใช้ไฟฟ้า '!E17 -> 253886.5 | F17: =' ข้อมูลการใช้ไฟฟ้า '!F17 -> 1012196 | G17: =I17-E17 -> 3654176.1 | H17: 1274.2 | I17: =' ข้อมูลการใช้ไฟฟ้า '!G17 -> 3908062.6 | J17: =+F17*100/(MAX(B17:D17)*24*M17) -> 39.728728 | K17: =MAX(B17:D17)/(SQRT((MAX(B17:D17)^2+(H17)^2))) -> 0.9372221 | L17: =+I17/F17 -> 3.8609742 | M17: 31
A18: พ.ย. | B18: =' ข้อมูลการใช้ไฟฟ้า '!B18 -> 2506.64 | C18: =' ข้อมูลการใช้ไฟฟ้า '!C18 -> 1511.94 | D18: =' ข้อมูลการใช้ไฟฟ้า '!D18 -> 1352.79 | E18: =' ข้อมูลการใช้ไฟฟ้า '!E18 -> 185842.29 | F18: =' ข้อมูลการใช้ไฟฟ้า '!F18 -> 796156.99 | G18: =I18-E18 -> 2803362.5 | H18: 1034.49 | I18: =' ข้อมูลการใช้ไฟฟ้า '!G18 -> 2989204.8 | J18: =+F18*100/(MAX(B18:D18)*24*M18) -> 44.113778 | K18: =MAX(B18:D18)/(SQRT((MAX(B18:D18)^2+(H18)^2))) -> 0.92437346 | L18: =+I18/F18 -> 3.7545419 | M18: 30
A19: ธ.ค. | B19: =' ข้อมูลการใช้ไฟฟ้า '!B19 -> 2382.88 | C19: =' ข้อมูลการใช้ไฟฟ้า '!C19 -> 1429.73 | D19: =' ข้อมูลการใช้ไฟฟ้า '!D19 -> 1390.01 | E19: =' ข้อมูลการใช้ไฟฟ้า '!E19 -> 176666.72 | F19: =' ข้อมูลการใช้ไฟฟ้า '!F19 -> 635037 | G19: =I19-E19 -> 2137852.5 | H19: 834.01 | I19: =' ข้อมูลการใช้ไฟฟ้า '!G19 -> 2314519.2 | J19: =+F19*100/(MAX(B19:D19)*24*M19) -> 35.819863 | K19: =MAX(B19:D19)/(SQRT((MAX(B19:D19)^2+(H19)^2))) -> 0.94385811 | L19: =+I19/F19 -> 3.6446997 | M19: 31
A20: รวม | E20: =SUM(E8:E19) -> 2750348.6 | F20: =SUM(F8:F19) -> 11080736 | G20: =SUM(G8:G19) -> 39174768 | H20: =SUM(H8:H19) -> 14212.73 | I20: =SUM(I8:I19) -> 41925116
A21: เฉลี่ย | E21: =AVERAGE(E8:E19) -> 229195.72 | F21: =AVERAGE(F8:F19) -> 923394.66 | G21: =AVERAGE(G8:G19) -> 3264564 | H21: =AVERAGE(H8:H19) -> 1184.3942 | I21: =AVERAGE(I8:I19) -> 3493759.7 | J21: =AVERAGE(J8:J19) -> 40.903669 | K21: =AVERAGE(K8:K19) -> 0.93472702 | L21: =AVERAGE(L8:L19) -> 3.7792499
A22: หมายเหตุ: | B22: กรณีอัตรา ปกติ ให้กรอกค่าพลังงานไฟฟ้าสูงสุด (On Peak) ในช่อง P | I22: หมายเหตุ : ระบบไฟฟ้าเป็น Substation 115kV
B23: กรณีอัตรา TOD: P หมายถึง On Peak / PP หมายถึง Partial Peak / OP หมายถึง Off Peak
B24: กรณีอัตรา TOU: P หมายถึง Peak / OP1 หมายถึง Off Peak1 / OP2 หมายถึง Off Peak2
B25: กรณีอาคารมีเครื่องวัดไฟฟ้ามากกว่า 1 เครื่อง ให้เพิ่มจำนวนตารางแสดงข้อมูลการใช้ไฟฟ้าตามจำนวนของเครื่องวัดไฟฟ้า
B26: ค่าตัวประกอบภาระ (เปอร์เซ็นต์) = ปริมาณพลังงานไฟฟ้า (กิโลวัตต์-ชั่วโมง)
C27: ค่าพลังไฟฟ้าสูงสุด (กิโลวัตต์) x 24 (ชม./วัน) X จำนวนวันในแต่ละเดือน (วัน)
B28: Power Factor (PF) = ค่าพลังไฟฟ้าสูงสุด (กิโลวัตต์)
D29: ( kW2 ) + (KVAR2 )

Sheet 4.1.3การใช้เชื้อเพลิง_62
A1: 4.1.3) ข้อมูลการใช้เชื้อเพลิงและพลังงานหมุนเวียนในรอบปี 2562
A2: ตารางที่ 4.4 ข้อมูลการใช้เชื้อเพลิงและพลังงานหมุนเวียนในรอบปี 2563
A4: ชนิด | B4: หน่วย/ | C4: ปริมาณการใช้ | P4: ค่าความร้อนเฉลี่ย | Q4: ปริมาณพลังงานรวม | R4: ต้นทุน | S4: ต้นทุน | V4: ปริมาณการใช้
A5: พลังงานที่ใช้ | B5: มูลค่า | C5: ม.ค. | D5: ก.พ. | E5: มี.ค. | F5: เม.ย. | G5: พ.ค. | H5: มิ.ย. | I5: ก.ค. | J5: ส.ค. | K5: ก.ย. | L5: ต.ค. | M5: พ.ย. | N5: ธ.ค. | O5: รวม | P5: (เมกะจูล/หน่วย) | Q5: (เมกะจูล) | R5: (บาท/หน่วย) | S5: (บาท/MJ) | V5: ม.ค. | W5: ก.พ. | X5: มี.ค. | Y5: เม.ย. | Z5: พ.ค. | AA5: มิ.ย. | AB5: ก.ค. | AC5: ส.ค. | AD5: ก.ย. | AE5: ต.ค. | AF5: พ.ย. | AG5: ธ.ค. | AH5: รวม
A6: น้ำมันเตา | B6: ลิตร | O6: =SUM(C6:N6) -> 0 | P6: 39.77 | Q6: =O6*P6 -> 0 | R6: =O7/O6 -> #DIV/0! | S6: =O7/Q6 -> #DIV/0! | U6: ปี2562 | V6: =(C6*$P$6)+(C8*$P$8)+($C$10*$P$10)+(C12*$P$12)+(C14*$P$14)+(C16*$P$16) -> 0 | W6: =(D6*$P$6)+(D8*$P$8)+($D$10*$P$10)+(D12*$P$12)+(D14*$P$14)+(D16*$P$16) -> 0 | X6: =(E6*$P$6)+(E8*$P$8)+($E$10*$P$10)+(E12*$P$12)+(E14*$P$14)+(E16*$P$16) -> 0 | Y6: =(F6*$P$6)+(F8*$P$8)+($F$10*$P$10)+(F12*$P$12)+(F14*$P$14)+(F16*$P$16) -> 0 | Z6: =(G6*$P$6)+(G8*$P$8)+($G$10*$P$10)+(G12*$P$12)+(G14*$P$14)+(G16*$P$16) -> 0 | AA6: =(H6*$P$6)+(H8*$P$8)+($H$10*$P$10)+(H12*$P$12)+(H14*$P$14)+(H16*$P$16) -> 0 | AB6: =(I6*$P$6)+(I8*$P$8)+($I$10*$P$10)+(I12*$P$12)+(I14*$P$14)+(I16*$P$16) -> 0 | AC6: =(J6*$P$6)+(J8*$P$8)+($J$10*$P$10)+(J12*$P$12)+(J14*$P$14)+(J16*$P$16) -> 0 | AD6: =(K6*$P$6)+(K8*$P$8)+($K$10*$P$10)+(K12*$P$12)+(K14*$P$14)+(K16*$P$16) -> 0 | AE6: =(L6*$P$6)+(L8*$P$8)+($L$10*$P$10)+(L12*$P$12)+(L14*$P$14)+(L16*$P$16) -> 0 | AF6: =(M6*$P$6)+(M8*$P$8)+($M$10*$P$10)+(M12*$P$12)+(M14*$P$14)+(M16*$P$16) -> 0 | AG6: =(N6*$P$6)+(N8*$P$8)+($N$10*$P$10)+(N12*$P$12)+(N14*$P$14)+(N16*$P$16) -> 0 | AH6: =SUM(V6:AG6) -> 0
A7: (ชนิด.........) | B7: บาท | O7: =SUM(C7:N7) -> 0
A8: น้ำมันดีเซล | B8: ลิตร | O8: =SUM(C8:N8) -> 0 | P8: 36.42 | Q8: =O8*P8 -> 0 | R8: =O9/O8 -> #DIV/0! | S8: =O9/Q8 -> #DIV/0!
B9: บาท | O9: =SUM(C9:N9) -> 0
A10: ก๊าซปิโตรเลียมเหลว | B10: กิโลกรัม | O10: =SUM(C10:N10) -> 0 | P10: 50.23 | Q10: =O10*P10 -> 0 | R10: =O11/O10 -> #DIV/0! | S10: =O11/Q10 -> #DIV/0!
B11: บาท | O11: =SUM(C11:N11) -> 0
A12: ก๊าซธรรมชาติ | B12: ล้านบีทียู | O12: =SUM(C12:N12) -> 0 | P12: 1055 | Q12: =O12*P12 -> 0 | R12: =O13/O12 -> #DIV/0! | S12: =O13/Q12 -> #DIV/0!
B13: บาท | O13: =SUM(C13:N13) -> 0
A14: ถ่านหิน | B14: ตัน | O14: =SUM(C14:N14) -> 0 | P14: 26370 | Q14: =O14*P14 -> 0 | R14: =O15/O14 -> #DIV/0! | S14: =O15/Q14 -> #DIV/0!
A15: (ชนิด.....) | B15: บาท | O15: =SUM(C15:N15) -> 0
A16: ไอน้ำ | B16: ตัน | O16: =SUM(C16:N16) -> 0 | Q16: =O16*P16 -> 0 | R16: =O17/O16 -> #DIV/0! | S16: =O17/Q16 -> #DIV/0!
A17: (.....บาร์/.......๐C) | B17: บาท | O17: =SUM(C17:N17) -> 0
A18: อื่นๆ (ระบุ) | B18: หน่วย (ระบุ) | O18: =SUM(C18:N18) -> 0 | Q18: =O18*P18 -> 0 | R18: =O19/O18 -> #DIV/0! | S18: =O19/Q18 -> #DIV/0!
B19: บาท | O19: =SUM(C19:N19) -> 0
A20: รวมการใช้พลังงานความร้อนจากเชื้อเพลิง | Q20: =Q6+Q8+Q10 -> 0
A21: พลังงานหมุนเวียน | B21: หน่วย (ลบ. ม.) | O21: =SUM(C21:N21) -> 0 | Q21: =O21*P21 -> 0 | R21: =O22/O21 -> #DIV/0! | S21: =O22/Q21 -> #DIV/0!
B22: บาท | O22: =SUM(C22:N22) -> 0
A23: รวมการใช้พลังงานหมุนเวียน | Q23: 0
A24: รวมปริมาณพลังงานความร้อนทั้งหมด | Q24: =Q23+Q20 -> 0
A25: หมายเหตุ : | B25: ในกรณีไม่มีค่าความร้อนสูงจากผู้จำหน่าย ให้อ้างอิงค่าความร้อนเฉลี่ยตามที่กรมพัฒนาพลังงานทดแทนและอนุรักษ์พลังงานกำหนด
A26: No. | B26: Fuel | D26: Heating Value
A27: 01 | B27: น้ำมันเตา | D27: = 39.77 เมกะจูล/ลิตร
A28: 02 | B28: น้ำมันเตา 600 (A) | D28: = 38.18 เมกะจูล/ลิตร
A29: 03 | B29: น้ำมันเตา1500 (C) | D29: = 41.28 เมกะจูล/ลิตร
A30: 04 | B30: น้ำมันเตา 2000 (D) | D30: = ….. เมกะจูล/ลิตร
A31: 05 | B31: น้ำมันดีเซล | D31: = 36.42 เมกะจูล/ลิตร
A32: 06 | B32: น้ำมันเบนซิน | D32: = 31.48 เมกะจูล/ลิตร
A33: 07 | B33: น้ำมันก๊าด | D33: = 34.53 เมกะจูล/ลิตร
A34: 08 | B34: ก๊าซปิโตรเลียมเหลว | D34: = 26.62 เมกะจูล/ลิตร
A35: 09 | B35: ( LPG ) | D35: = 50.23 เมกะจูล/กิโลกรัม
A36: 10 | B36: ก๊าซธรรมชาติ | D36: = 1,055 เมกะจูล/ล้านบีทียู
A37: 11 | B37: ถ่านหินนำเข้า | D37: = 26,370 เมกะจูล/ตัน
... A50: 24 | B50: ซังข้าวโพด | D50: = 1,6220 เมกะจูล/ตัน
A51: หมายเหตุ | B51: ค่า Heating Value และหน่วยของเชื้อเพลิงที่ใช้จะต้องเป็นไปตามที่ พพ. กำหนดใน บพร.1 ตามตัวอย่างด้านบน และหากมีเชื้อเพลิงนอกเหนือจากนี้ที่ปรึกษาฯ จะต้องแจ้งจุฬาฯ ให้รับทราบ และเพิ่มเติมในฐานข้อมูลต่อไป ในส่วนเชื้อเพลิงน้ำมันเตา ต้องระบุชนิดให้ชัดเจนตามการใช

Sheet 4.1.4เชื้อเพลิงผลิตไฟฟ้า_62
A1: 4.1.4) ข้อมูลปริมาณการใช้เชื้อเพลิงในการผลิตไฟฟ้าในรอบปี 2562
C2: ผลิตกระแสไฟฟ้าอย่างเดียว | G2: ผลิตไฟฟ้าสำรองหรือกรณีฉุกเฉิน
A4: ตารางที่ 4.5 ข้อมูลการใช้เชื้อเพลิงในการผลิตไฟฟ้าในรอบปี 2563
A6: เดือน | B6: กำลังผลิตติดตั้ง (กิโลวัตต์) | C6: ปริมาณการใช้เชื้อเพลิงหลัก | F6: ชั่วโมง การเดินเครื่อง (ชั่วโมง) | G6: ปริมาณพลังงานไฟฟ้าที่ผลิตได้ (กิโลวัตต์ - ชั่วโมง) | I6: หมายเหตุ
C9: ชนิด | D9: ปริมาณ | E9: หน่วย
A10: ม.ค.
A11: ก.พ.
A12: มี.ค.
A13: เม.ย.
A14: พ.ค.
A15: มิ.ย.
A16: ก.ค.
A17: ส.ค.
A18: ก.ย.
A19: ต.ค.
A20: พ.ย.
A21: ธ.ค.
A22: รวม

Sheet 4.1.5สัดส่วนการใช้ไฟฟ้า_62
A1: 4.1.5) ข้อมูลสัดส่วนการใช้พลังงานไฟฟ้าในรอบปี 2562
A3: ตารางที่ 4.6 สัดส่วนการใช้พลังงานไฟฟ้าแยกตามระบบปี 2562
A5: ระบบ | B5: การใช้พลังงานไฟฟ้า | D5: วิธีการ
B6: กิโลวัตต์-ชั่วโมง/ปี | C6: ร้อยละ | D6: ประเมิน | E6: ตรวจวัด
A7: ปรับอากาศแบบรวมศูนย์ | B7: =ข้อมูลไฟฟ้าเครื่องจักร!X11 -> 102826 | C7: =B7/B$11*100 -> 0.92797085 | G7: =B7 -> 102826
A8: ปรับอากาศแบบแยกส่วน | B8: =ข้อมูลไฟฟ้าเครื่องจักร!X12 -> 5322003.8 | C8: =B8/B$11*100 -> 48.029335 | G8: =B8 -> 5322003.8
A9: แสงสว่าง | B9: =ข้อมูลไฟฟ้าเครื่องจักร!X13 -> 1509093.4 | C9: =B9/B$11*100 -> 13.619072 | G9: =B9 -> 1509093.4
A10: อื่นๆ | B10: =B11-SUM(B7:B9) -> 4146812.8 | C10: =B10/B$11*100 -> 37.423623 | G10: =B10 -> 4146812.8
A11: รวม | B11: ='4.1.2การใช้ไฟฟ้า_62'!F20 -> 11080736 | C11: =SUM(C7:C10) -> 100 | G11: =SUM(G7:G10) -> 11080736

Sheet 4.1.6สัดส่วนเชื้อเพลิง_62
A1: 4.1.6) ข้อมูลสัดส่วนการใช้พลังงานความร้อนในรอบปี 2562
A3: ตารางที่ 4.7 สัดส่วนการใช้พลังงานเชื้อเพลิงแยกตามระบบปี 2562
A5: ระบบ | B5: อุปกรณ์ | C5: การใช้พลังงานเชื้อเพลิง | F5: วิธีการ
C6: ชนิดเชื้อเพลิง | D6: เมกะจูล/ปี | E6: ร้อยละ | F6: ประเมิน | G6: ตรวจวัด | N6: ปี 2553
A7: หม้อไอน้ำ | M7: ไฟฟ้า | N7: ='[8]สัดส่วนไฟฟ้า 60'!B11*3.6 -> 0 | T7: ปี 2562
A8: หม้อต้มน้ำมันร้อน | M8: ความร้อน | N8: =D13 -> 0 | S8: ไฟฟ้า | T8: ='4.1.2การใช้ไฟฟ้า_62'!F20*3.6 -> 39890649
S9: ความร้อน | T9: =D13 -> 0
N10: ปี 2554
M11: ไฟฟ้า | N11: ='[8]สัดส่วนไฟฟ้า 60'!#REF!*3.6 -> #REF! | T11: ปี 2561
M12: ความร้อน | N12: =#REF! -> #REF! | S12: ไฟฟ้า | T12: ='[8]6.3.2) ไฟฟ้าปี 61'!F20*3.6 -> 0
A13: รวม | D13: ='[8]เชื้อเพลิง 60'!Q24 -> 0 | E13: =SUM(E7:E12) -> 0 | S13: ความร้อน | T13: ='[8]6.3.6) สัดส่วนเชื้อเพลิง 61'!D13 -> 0

Sheet 4.2.1 SEC(พื้นที่)_62
A1: 4.2 การประเมินระดับการบริการ
B2: 4.2.1 ค่าการใช้พลังงานจำเพาะของพื้นที่ใช้สอย
A4: ตารางที่ 4.8 ปริมาณการใช้พลังงานต่อหน่วยพื้นที่ใช้สอยที่ใช้งานจริงในรอบปี 2562
A6: เดือน | B6: พื้นที่ใช้สอยที่ใช้งานจริง (ตารางเมตร) | C6: ปริมาณพลังงานที่ใช้ | F6: ค่าการใช้พลังงานจำเพาะ (SEC) | L6: เดือน | M6: พื้นที่ใช้สอยที่ใช้งานจริง (ตารางเมตร) | N6: ปริมาณพลังงานที่ใช้ | Q6: ค่าการใช้พลังงานจำเพาะ (SEC)
C7: ไฟฟ้า | E7: ความร้อน | F7: (เมกะจูล/ตารางเมตร) | N7: ไฟฟ้า | P7: ความร้อน | Q7: (เมกะจูล/ตารางเมตร)
C8: (กิโลวัตต์-ชั่วโมง) | E8: (เมกะจูล) | N8: (กิโลวัตต์-ชั่วโมง) | P8: (เมกะจูล) | W8: 2562 | X8: 2563
A9: 22647 | B9: ='4.1.1.2พื้นที่อาคารแต่เดือน_62'!E9 -> 351038.48 | C9: ='4.1.2การใช้ไฟฟ้า_62'!F8 -> 761180 | E9: =C9*3.6 -> 2740248 | F9: =E9/B9 -> 7.8061186 | L9: 22647 | M9: =B9 -> 351038.48 | N9: =' ข้อมูลการใช้ไฟฟ้า '!F8 -> 761180 | P9: =N9*3.6 -> 2740248 | Q9: =P9/M9 -> 7.8061186 | V9: ม.ค. | W9: =Q9 -> 7.8061186 | X9: =F9 -> 7.8061186
A10: 22678 | B10: ='4.1.1.2พื้นที่อาคารแต่เดือน_62'!E10 -> 351038.48 | C10: ='4.1.2การใช้ไฟฟ้า_62'!F9 -> 752030.99 | E10: =C10*3.6 -> 2707311.6 | F10: =E10/B10 -> 7.7122929 | L10: 22678 | M10: =B10 -> 351038.48 | N10: =' ข้อมูลการใช้ไฟฟ้า '!F9 -> 752030.99 | P10: =N10*3.6 -> 2707311.6 | Q10: =P10/M10 -> 7.7122929 | V10: ก.พ. | W10: =Q10 -> 7.7122929 | X10: =F10 -> 7.7122929
A11: 22706 | B11: ='4.1.1.2พื้นที่อาคารแต่เดือน_62'!E11 -> 351038.48 | C11: ='4.1.2การใช้ไฟฟ้า_62'!F10 -> 871049.99 | E11: =C11*3.6 -> 3135780 | F11: =E11/B11 -> 8.9328667 | L11: 22706 | M11: =B11 -> 351038.48 | N11: =' ข้อมูลการใช้ไฟฟ้า '!F10 -> 871049.99 | P11: =N11*3.6 -> 3135780 | Q11: =P11/M11 -> 8.9328667 | V11: มี.ค. | W11: =Q11 -> 8.9328667 | X11: =F11 -> 8.9328667
A12: 22737 | B12: ='4.1.1.2พื้นที่อาคารแต่เดือน_62'!E12 -> 351038.48 | C12: ='4.1.2การใช้ไฟฟ้า_62'!F11 -> 727722.99 | E12: =C12*3.6 -> 2619802.8 | F12: =E12/B12 -> 7.4630074 | L12: 22737 | M12: =B12 -> 351038.48 | N12: =' ข้อมูลการใช้ไฟฟ้า '!F11 -> 727722.99 | P12: =N12*3.6 -> 2619802.8 | Q12: =P12/M12 -> 7.4630074 | V12: เม.ย. | W12: =Q12 -> 7.4630074 | X12: =F12 -> 7.4630074
A13: 22767 | B13: ='4.1.1.2พื้นที่อาคารแต่เดือน_62'!E13 -> 351038.48 | C13: ='4.1.2การใช้ไฟฟ้า_62'!F12 -> 929033 | E13: =C13*3.6 -> 3344518.8 | F13: =E13/B13 -> 9.5274991 | L13: 22767 | M13: =B13 -> 351038.48 | N13: =' ข้อมูลการใช้ไฟฟ้า '!F12 -> 929033 | P13: =N13*3.6 -> 3344518.8 | Q13: =P13/M13 -> 9.5274991 | V13: พ.ค. | W13: =Q13 -> 9.5274991 | X13: =F13 -> 9.5274991
A14: 22798 | B14: ='4.1.1.2พื้นที่อาคารแต่เดือน_62'!E14 -> 351038.48 | C14: ='4.1.2การใช้ไฟฟ้า_62'!F13 -> 1026370 | E14: =C14*3.6 -> 3694932 | F14: =E14/B14 -> 10.525718 | L14: 22798 | M14: =B14 -> 351038.48 | N14: =' ข้อมูลการใช้ไฟฟ้า '!F13 -> 1026370 | P14: =N14*3.6 -> 3694932 | Q14: =P14/M14 -> 10.525718 | V14: มิ.ย. | W14: =Q14 -> 10.525718 | X14: =F14 -> 10.525718
A15: 22828 | B15: ='4.1.1.2พื้นที่อาคารแต่เดือน_62'!E15 -> 351038.48 | C15: ='4.1.2การใช้ไฟฟ้า_62'!F14 -> 1401619 | E15: =C15*3.6 -> 5045828.4 | F15: =E15/B15 -> 14.374004 | L15: 22828 | M15: =B15 -> 351038.48 | N15: =' ข้อมูลการใช้ไฟฟ้า '!F14 -> 1401619 | P15: =N15*3.6 -> 5045828.4 | Q15: =P15/M15 -> 14.374004 | V15: ก.ค. | W15: =Q15 -> 14.374004 | X15: =F15 -> 14.374004
A16: 22859 | B16: ='4.1.1.2พื้นที่อาคารแต่เดือน_62'!E16 -> 351038.48 | C16: ='4.1.2การใช้ไฟฟ้า_62'!F15 -> 1098193 | E16: =C16*3.6 -> 3953494.8 | F16: =E16/B16 -> 11.262283 | L16: 22859 | M16: =B16 -> 351038.48 | N16: =' ข้อมูลการใช้ไฟฟ้า '!F15 -> 1098193 | P16: =N16*3.6 -> 3953494.8 | Q16: =P16/M16 -> 11.262283 | V16: ส.ค. | W16: =Q16 -> 11.262283 | X16: =F16 -> 11.262283
A17: 22890 | B17: ='4.1.1.2พื้นที่อาคารแต่เดือน_62'!E17 -> 351038.48 | C17: ='4.1.2การใช้ไฟฟ้า_62'!F16 -> 1070147 | E17: =C17*3.6 -> 3852529.2 | F17: =E17/B17 -> 10.974664 | L17: 22890 | M17: =B17 -> 351038.48 | N17: =' ข้อมูลการใช้ไฟฟ้า '!F16 -> 1070147 | P17: =N17*3.6 -> 3852529.2 | Q17: =P17/M17 -> 10.974664 | V17: ก.ย. | W17: =Q17 -> 10.974664 | X17: =F17 -> 10.974664
A18: 22920 | B18: ='4.1.1.2พื้นที่อาคารแต่เดือน_62'!E18 -> 351038.48 | C18: ='4.1.2การใช้ไฟฟ้า_62'!F17 -> 1012196 | E18: =C18*3.6 -> 3643905.6 | F18: =E18/B18 -> 10.380359 | L18: 22920 | M18: =B18 -> 351038.48 | N18: =' ข้อมูลการใช้ไฟฟ้า '!F17 -> 1012196 | P18: =N18*3.6 -> 3643905.6 | Q18: =P18/M18 -> 10.380359 | V18: ต.ค. | W18: =Q18 -> 10.380359 | X18: =F18 -> 10.380359
A19: 22951 | B19: ='4.1.1.2พื้นที่อาคารแต่เดือน_62'!E19 -> 351038.48 | C19: ='4.1.2การใช้ไฟฟ้า_62'!F18 -> 796156.99 | E19: =C19*3.6 -> 2866165.2 | F19: =E19/B19 -> 8.1648176 | L19: 22951 | M19: =B19 -> 351038.48 | N19: =' ข้อมูลการใช้ไฟฟ้า '!F18 -> 796156.99 | P19: =N19*3.6 -> 2866165.2 | Q19: =P19/M19 -> 8.1648176 | V19: พ.ย. | W19: =Q19 -> 8.1648176 | X19: =F19 -> 8.1648176
A20: 22981 | B20: ='4.1.1.2พื้นที่อาคารแต่เดือน_62'!E20 -> 351038.48 | C20: ='4.1.2การใช้ไฟฟ้า_62'!F19 -> 635037 | E20: =C20*3.6 -> 2286133.2 | F20: =E20/B20 -> 6.512486 | L20: 22981 | M20: =B20 -> 351038.48 | N20: =' ข้อมูลการใช้ไฟฟ้า '!F19 -> 635037 | P20: =N20*3.6 -> 2286133.2 | Q20: =P20/M20 -> 6.512486 | V20: ธ.ค. | W20: =Q20 -> 6.512486 | X20: =F20 -> 6.512486
A21: รวม | B21: - | C21: =SUM(C9:D20) -> 11080736 | E21: =SUM(E9:E20) -> 39890649 | F21: - | L21: รวม | M21: - | N21: =SUM(N9:O20) -> 11080736 | P21: =SUM(P9:P20) -> 39890649 | Q21: -
A22: เฉลี่ย | B22: =AVERAGE(B9:B20) -> 351038.48 | C22: =AVERAGE(C9:C20) -> 923394.66 | E22: =AVERAGE(E9:E20) -> 3324220.8 | F22: =AVERAGE(F9:I20) -> 9.4696763 | L22: เฉลี่ย | M22: =AVERAGE(M9:M20) -> 351038.48 | N22: =AVERAGE(N9:N20) -> 923394.66 | P22: =AVERAGE(P9:P20) -> 3324220.8 | Q22: =AVERAGE(Q9:T20) -> 9.4696763
A24: หมายเหตุ: | B24: ค่าการใช้พลังงานจำเพาะ (SEC) =ปริมาณพลังงานไฟฟ้า (กิโลวัตต์-ชั่วโมง) x 3.6 (เมกะจูล/กิโลวัตต์-ชั่วโมง)+ปริมาณพลังงานความร้อน (เมกะจูล)
F25: พื้นที่ใช้สอยที่ใช้งานจริง (ตารางเมตร)

Sheet เปรียบเทียบข้อมูลอาคาร
A2: เปรียบเทียบข้อมูลการใช้พลังงานหรือดัชนีการใช้พลังงานเทียบกับค่าเป้าหมายภายในอาคาร
A3: หรือเปรียบเทียบข้อมูลการใช้พลังงานกับอาคารอื่น (ถ้ามี)
F5: SEC ปี 2563 | H5: MJ/หน่วย
F6: SEC เป้าหมาย | H6: MJ/หน่วย
F8: ค่าต่ำที่สุด | H8: MJ/หน่วย
F9: ค่าเฉลี่ย | H9: MJ/หน่วย
A14: รูปที่ 4-1 กราฟแสดงข้อมูลเปรียบเทียบข้อมูลการใช้พลังงานหรือดัชนีการใช้พลังงาน
A15: เทียบกับค่าเป้าหมายภายในอาคารหรือเปรียบเทียบข้อมูล (ถ้ามี)

Sheet 4.3ประเมินระดับเครื่องจักร
A1: 4.3 การประเมินระดับเครื่องจักร/อุปกรณ์หลัก
A2: การค้นหาการใช้พลังงานที่มีนัยสำคัญในเครื่องจักร/อุปกรณ์หลัก อาคารควบคุมได้ดำเนินการโดยการตรวจวัดหา
A3: ข้อมูลปริมาณการใช้พลังงาน ชั่วโมงการทำงาน และวิเคราะห์หาค่าประสิทธิภาพและการสูญเสียพลังงานในแต่ละเครื่องจักร/
A4: อุปกรณ์หลักที่มีการใช้ในอาคารควบคุม ซึ่งมีผลสรุปได้ดังนี้

Sheet 4.3.1ประเมินระดับเครื่องจักร
A1: 4.3.1 การประเมินศักยภาพของเครื่องจักร/อุปกรณ์ที่มีนัยสำคัญ เพื่อนำไปค้นหามาตรการอนุรักษ์พลังงาน
B2: การค้นหาการใช้พลังงานที่มีนัยสำคัญในเครื่องจักร/อุปกรณ์หลัก อาคารควบคุมได้ดำเนินการโดยการ
A3: ตรวจวัดหาข้อมูลปริมาณการใช้พลังงาน ชั่วโมงการทำงาน และวิเคราะห์หาค่าประสิทธิภาพและการสูญเสียพลังงาน
A4: ในแต่ละเครื่องจักร/อุปกรณ์หลักที่มีการใช้ในอาคารควบคุม ซึ่งมีผลสรุปได้ดังนี้
A5: แบบประเมินการใช้พลังงานในเครื่องจักร/อุปกรณ์หลัก
A7: งานอนุรักษ์พลังงานและสิ่งแวดล้อม | I7: วันที่ 25 / 01 / 2021
A9: เครื่องจักร/อุปกรณ์หลัก | B9: ประเภทพลังงาน | C9: (1) ปริมาณการใช้พลังงาน | H9: (2) ชั่วโมงการใช้งาน | M9: (3) ศักยภาพการปรับปรุง | R9: คะแนนรวม (1) x (2) x (3) | S9: ลำดับความสำคัญ
C11: น้อยที่สุด (1 คะแนน) | D11: น้อย (2 คะแนน) | E11: ปานกลาง (3 คะแนน) | F11: มาก (4 คะแนน) | G11: มากที่สุด (5 คะแนน) | H11: น้อยที่สุด (1 คะแนน) | I11: น้อย (2 คะแนน) | J11: ปานกลาง (3 คะแนน) | K11: มาก (4 คะแนน) | L11: มากที่สุด (5 คะแนน) | M11: น้อยที่สุด (1 คะแนน) | N11: น้อย (2 คะแนน) | O11: ปานกลาง (3 คะแนน) | P11: มาก (4 คะแนน) | Q11: มากที่สุด (5 คะแนน)
A12: เครื่องปรับอากาศ | B12: ไฟฟ้า | G12: 1 | L12: 1 | P12: 1 | R12: =(C12*1+D12*2+E12*3+F12*4+G12*5)+(H12*1+I12*2+J12*3+K12*4+L12*5)+(M12*1+N12*2+O12*3+P12*4+Q12*5) -> 14 | S12: 1
A13: หลอดไฟฟ้า | B13: ไฟฟ้า | F13: 1 | K13: 1 | O13: 1 | R13: =(C13*1+D13*2+E13*3+F13*4+G13*5)+(H13*1+I13*2+J13*3+K13*4+L13*5)+(M13*1+N13*2+O13*3+P13*4+Q13*5) -> 11 | S13: 2
A14: มอเตอร์ / ปั๊มน้ำ | B14: ไฟฟ้า | E14: 1 | J14: 1 | O14: 1 | R14: =(C14*1+D14*2+E14*3+F14*4+G14*5)+(H14*1+I14*2+J14*3+K14*4+L14*5)+(M14*1+N14*2+O14*3+P14*4+Q14*5) -> 9 | S14: 3
A15: เครื่องทำน้ำเย็น | B15: ไฟฟ้า | D15: 1 | I15: 1 | N15: 1 | R15: =(C15*1+D15*2+E15*3+F15*4+G15*5)+(H15*1+I15*2+J15*3+K15*4+L15*5)+(M15*1+N15*2+O15*3+P15*4+Q15*5) -> 6 | S15: 4
A18: หมายเหตุ | B18: 1. เครื่องจักร/อุปกรณ์หลัก ที่มีคะแนนรวมมาก ถือว่ามีความสำคัญในการนำไปกำหนดเป็นมาตรการอนุรักษ์พลังงาน
B19: 2. กรณีมีหลายแผนกให้เพิ่มตารางตามจำนวนแผนกที่มีการใช้พลังงาน
B20: 3. แนวทางนี้เป็นข้อแนะนำเท่านั้น ท่านสามารถใช้วิธีการอื่นในการประเมินที่มีค่านี้ได้ เช่น การตรวจวัด การใช้งานจริง

Sheet ข้อมูลไฟฟ้าเครื่องจักร
A1: ตารางที่ 4.11 แบบบันทึกข้อมูลการใช้พลังงานไฟฟ้าที่มีนัยสำคัญของเครื่องจักร/อุปกรณ์หลัก ปี 2563 | U1: เครื่องปรับอากาศ | Y1: แสงสว่าง | Z1: OTTV | AA1: RTTV
U2: ค่ามาตรฐาน | Y2: ค่ามาตรฐาน | Z2: ค่ามาตรฐาน | AA2: ค่ามาตรฐาน
A3: ระบบที่ใช้พลังงาน | B3: ชื่อเครื่องจักร/อุปกรณ์หลัก | C3: พิกัด | E3: จำนวน | F3: อายุการใช้งาน (ปี) | G3: ชั่วโมง ใช้งาน เฉลี่ย/ปี | H3: ปริมาณการใช้ พลังงานไฟฟ้า (กิโลวัตต์-ชั่วโมง/ปี) | I3: สัดส่วนการ ใช้พลังงาน ในระบบ | J3: ค่าประสิทธิภาพหรือสมรรถนะ | N3: การสูญเสียพลังงานไฟฟ้า (กิโลวัตต์-ชั่วโมง/ปี) | O3: หมายเหตุ | U3: Chiller | V3: 1.44 | W3: kW/ton | Y3: W/m2 | Z3: W/m2 | AA3: W/m2
C4: ขนาด | D4: หน่วย | J4: ค่าพิกัด | K4: หน่วย | L4: ใช้งานจริง | M4: หน่วย | Q4: รวมAIR | R4: =SUM(E6:E106) -> 2880 | U4: > = 2538 - ใหม่ | V4: 1.4 | W4: kW/ton | Y4: 15 | Z4: 55 | AA4: 25
Q5: kW-เฉลี่ย | R5: BTU/TOR | S5: หมายเหตุ | U5: < 2538 - เก่า | V5: 1.61 | W5: kW/ton
A6: ระบบปรับอากาศ | B6: Chiller | C6: 320 | D6: ton | E6: 2 | F6: 7 | G6: 500 | H6: =(C6)*L6*E6*G6*40/100 -> 96000 | I6: =H6/' ข้อมูลการใช้ไฟฟ้า '!$F$20*100 -> 0.86636845 | J6: 0.98 | K6: kW/tr | L6: 0.75 | M6: kW/tr | Q6: 310.25 | R6: =C6 -> 320
A7: ระบบปรับอากาศ | B7: AHU | C7: 842000 | D7: Btu/hr | E7: 8 | F7: 7 | G7: 500 | H7: =(C7/12000)*L7*E7*G7*40/100 -> 6736 | I7: =H7/' ข้อมูลการใช้ไฟฟ้า '!$F$20*100 -> 0.060790186 | J7: 0.06 | K7: kW/tr | L7: =J7 -> 0.06 | M7: kW/tr | Q7: 55.8 | R7: =C7/12000 -> 70.166667 | U7: เครื่องปรับที่ไม่เกิน 75000 Btu
A8: ระบบปรับอากาศ | B8: Water Pump | C8: 7.5 | D8: kW | E8: 2 | F8: 7 | G8: 500 | H8: =C8*L8*E8*G8*40/100 -> 90 | I8: =H8/' ข้อมูลการใช้ไฟฟ้า '!$F$20*100 -> 0.00081222042 | J8: 0.03 | K8: kW | L8: =J8 -> 0.03 | M8: kW | Q8: 26.42 | U8: บำรุงรักษา | V8: =SUM(E20:E106) -> 2828 | W8: เครื่อง
A9: ระบบปรับอากาศ | B9: เครื่องปรับอากาศ | C9: 480000 | D9: Btu/hr | E9: 1 | F9: 5 | G9: 1250 | H9: =(C9/12000)*L9*E9*G9*45/100 -> 25959.375 | I9: =H9/' ข้อมูลการใช้ไฟฟ้า '!$F$20*100 -> 0.23427483 | J9: 1.25 | K9: kW/tr | L9: =Q9/R9 -> 1.15375 | M9: kW/tr | Q9: 46.15 | R9: =C9/12000 -> 40
A10: ระบบปรับอากาศ | B10: เครื่องปรับอากาศ | C10: 374300 | D10: Btu/hr | E10: 1 | F10: 12 | G10: 1250 | H10: =(C10/12000)*L10*E10*G10*45/100 -> 20778.75 | I10: =H10/' ข้อมูลการใช้ไฟฟ้า '!$F$20*100 -> 0.18752139 | J10: 1.25 | K10: kW/tr | L10: =Q10/R10 -> 1.1842907 | M10: kW/tr | Q10: 36.94 | R10: =C10/12000 -> 31.191667
A11: ระบบปรับอากาศ | B11: เครื่องปรับอากาศ | C11: 300000 | D11: Btu/hr | E11: 3 | F11: 13 - 27 | G11: 1250 | H11: =(C11/12000)*L11*E11*G11*45/100 -> 53679.375 | I11: =H11/' ข้อมูลการใช้ไฟฟ้า '!$F$20*100 -> 0.48443872 | J11: 1.25 | K11: kW/tr | L11: =Q11/R11 -> 1.2724 | M11: kW/tr | Q11: 31.81 | R11: =C11/12000 -> 25 | U11: ปรับอากาศแบบรวมศูนย์ | X11: =SUM(H6:H8) -> 102826 | Y11: =SUM(I6:I8) -> 0.92797085
A12: ระบบปรับอากาศ | B12: เครื่องปรับอากาศ | C12: 240000 | D12: Btu/hr | E12: 2 | F12: 13 | G12: 1250 | H12: =(C12/12000)*L12*E12*G12*45/100 -> 27596.25 | I12: =H12/' ข้อมูลการใช้ไฟฟ้า '!$F$20*100 -> 0.24904709 | J12: 1.25 | K12: kW/tr | L12: =Q12/R12 -> 1.2265 | M12: kW/tr | Q12: 24.53 | R12: =C12/12000 -> 20 | U12: *ปรับอากาศแบบแยกส่วน | X12: =SUM(H9:H106) -> 5322003.8 | Y12: =SUM(I10:I106) -> 47.79506
A13: ระบบปรับอากาศ | B13: เครื่องปรับอากาศ | C13: 175000 | D13: Btu/hr | E13: 1 | F13: 7 | G13: 1250 | H13: =(C13/12000)*L13*E13*G13*45/100 -> 10501.875 | I13: =H13/' ข้อมูลการใช้ไฟฟ้า '!$F$20*100 -> 0.09477597 | J13: 1.25 | K13: kW/tr | L13: =Q13/R13 -> 1.2802286 | M13: kW/tr | Q13: 18.67 | R13: =C13/12000 -> 14.583333 | U13: แสงสว่าง | X13: =SUM(H107:H165) -> 1509093.4 | Y13: =SUM(I107:I165) -> 13.619072
A14: ระบบปรับอากาศ | B14: เครื่องปรับอากาศ | C14: 150000 | D14: Btu/hr | E14: 8 | F14: 11 - 27 | G14: 1250 | H14: =(C14/12000)*L14*E14*G14*45/100 -> 75825 | I14: =H14/' ข้อมูลการใช้ไฟฟ้า '!$F$20*100 -> 0.6842957 | J14: 1.25 | K14: kW/tr | L14: =Q14/R14 -> 1.348 | M14: kW/tr | Q14: 16.85 | R14: =C14/12000 -> 12.5 | U14: รวม | X14: =SUM(X11:X13) -> 6933923.1 | Y14: =SUM(Y11:Y13) -> 62.342102
A15: ระบบปรับอากาศ | B15: เครื่องปรับอากาศ | C15: 130000 | D15: Btu/hr | E15: 3 | F15: 12 - 26 | G15: 1250 | H15: =(C15/12000)*L15*E15*G15*45/100 -> 22983.75 | I15: =H15/' ข้อมูลการใช้ไฟฟ้า '!$F$20*100 -> 0.20742079 | J15: 1.25 | K15: kW/tr | L15: =Q15/R15 -> 1.2572308 | M15: kW/tr | Q15: 13.62 | R15: =C15/12000 -> 10.833333
A16: ระบบปรับอากาศ | B16: เครื่องปรับอากาศ | C16: 125000 | D16: Btu/hr | E16: 4 | F16: 20 | G16: 1250 | H16: =(C16/12000)*L16*E16*G16*45/100 -> 28912.5 | I16: =H16/' ข้อมูลการใช้ไฟฟ้า '!$F$20*100 -> 0.26092581 | J16: 1.25 | K16: kW/tr | L16: =Q16/R16 -> 1.2336 | M16: kW/tr | Q16: 12.85 | R16: =C16/12000 -> 10.416667
A17: ระบบปรับอากาศ | B17: เครื่องปรับอากาศ | C17: 120000 | D17: Btu/hr | E17: 8 | F17: 18 | G17: 1250 | H17: =(C17/12000)*L17*E17*G17*45/100 -> 57015 | I17: =H17/' ข้อมูลการใช้ไฟฟ้า '!$F$20*100 -> 0.51454164 | J17: 1.25 | K17: kW/tr | L17: =Q17/R17 -> 1.267 | M17: kW/tr | Q17: 12.67 | R17: =C17/12000 -> 10
A18: ระบบปรับอากาศ | B18: เครื่องปรับอากาศ | C18: 101500 | D18: Btu/hr | E18: 2 | F18: 8 | G18: 1250 | H18: =(C18/12000)*L18*E18*G18*45/100 -> 12195 | I18: =H18/' ข้อมูลการใช้ไฟฟ้า '!$F$20*100 -> 0.11005587 | J18: 1.25 | K18: kW/tr | L18: =Q18/R18 -> 1.2815764 | M18: kW/tr | Q18: 10.84 | R18: =C18/12000 -> 8.4583333
A19: ระบบปรับอากาศ | B19: เครื่องปรับอากาศ | C19: 100000 | D19: Btu/hr | E19: 7 | F19: 5 - 10 | G19: 1250 | H19: =(C19/12000)*L19*E19*G19*45/100 -> 41461.875 | I19: =H19/' ข้อมูลการใช้ไฟฟ้า '!$F$20*100 -> 0.37417979 | J19: 1.25 | K19: kW/tr | L19: =Q19/R19 -> 1.2636 | M19: kW/tr | Q19: 10.53 | R19: =C19/12000 -> 8.3333333
A20: ระบบปรับอากาศ | B20: เครื่องปรับอากาศ | C20: 75000 | D20: Btu/hr | E20: 25 | F20: 11 - 27 | G20: 1250 | H20: =(C20/12000)*L20*E20*G20*45/100 -> 108562.5 | I20: =H20/' ข้อมูลการใช้ไฟฟ้า '!$F$20*100 -> 0.97974088 | J20: 1.25 | K20: kW/tr | L20: =Q20/R20 -> 1.2352 | M20: kW/tr | Q20: 7.72 | R20: =C20/12000 -> 6.25
A21: ระบบปรับอากาศ | B21: เครื่องปรับอากาศ | C21: 65000 | D21: Btu/hr | E21: 2 | F21: 12 | G21: 1250 | H21: =(C21/12000)*L21*E21*G21*45/100 -> 7458.75 | I21: =H21/' ข้อมูลการใช้ไฟฟ้า '!$F$20*100 -> 0.067312767 | J21: 1.25 | K21: kW/tr | L21: =Q21/R21 -> 1.224 | M21: kW/tr | Q21: 6.63 | R21: =C21/12000 -> 5.4166667
A22: ระบบปรับอากาศ | B22: เครื่องปรับอากาศ | C22: 62000 | D22: Btu/hr | E22: 24 | F22: 16 | G22: 1250 | H22: =(C22/12000)*L22*E22*G22*45/100 -> 84780 | I22: =H22/' ข้อมูลการใช้ไฟฟ้า '!$F$20*100 -> 0.76511163 | J22: 1.25 | K22: kW/tr | L22: =Q22/R22 -> 1.2154839 | M22: kW/tr | Q22: 6.28 | R22: =C22/12000 -> 5.1666667
A23: ระบบปรับอากาศ | B23: เครื่องปรับอากาศ | C23: 60000 | D23: Btu/hr | E23: 114 | F23: 1 - 27 | G23: 1250 | H23: =(C23/12000)*L23*E23*G23*45/100 -> 421301.25 | I23: =H23/' ข้อมูลการใช้ไฟฟ้า '!$F$20*100 -> 3.8021053 | J23: 1.25 | K23: kW/tr | L23: =Q23/R23 -> 1.314 | M23: kW/tr | Q23: 6.57 | R23: =C23/12000 -> 5
A24: ระบบปรับอากาศ | B24: เครื่องปรับอากาศ | C24: 58000 | D24: Btu/hr | E24: 2 | F24: 26 | G24: 1250 | H24: =(C24/12000)*L24*E24*G24*45/100 -> 6783.75 | I24: =H24/' ข้อมูลการใช้ไฟฟ้า '!$F$20*100 -> 0.061221114 | J24: 1.25 | K24: kW/tr | L24: =Q24/R24 -> 1.2475862 | M24: kW/tr | Q24: 6.03 | R24: =C24/12000 -> 4.8333333
A25: ระบบปรับอากาศ | B25: เครื่องปรับอากาศ | C25: 56000 | D25: Btu/hr | E25: 9 | F25: 12 - 18 | G25: 1250 | H25: =(C25/12000)*L25*E25*G25*45/100 -> 28906.875 | I25: =H25/' ข้อมูลการใช้ไฟฟ้า '!$F$20*100 -> 0.26087505 | J25: 1.25 | K25: kW/tr | L25: =Q25/R25 -> 1.2235714 | M25: kW/tr | Q25: 5.71 | R25: =C25/12000 -> 4.6666667
A26: ระบบปรับอากาศ | B26: เครื่องปรับอากาศ | C26: 53000 | D26: Btu/hr | E26: 3 | F26: 9 | G26: 1250 | H26: =(C26/12000)*L26*E26*G26*45/100 -> 9315 | I26: =H26/' ข้อมูลการใช้ไฟฟ้า '!$F$20*100 -> 0.084064813 | J26: 1.25 | K26: kW/tr | L26: =Q26/R26 -> 1.2498113 | M26: kW/tr | Q26: 5.52 | R26: =C26/12000 -> 4.4166667
A27: ระบบปรับอากาศ | B27: เครื่องปรับอากาศ | C27: 52000 | D27: Btu/hr | E27: 2 | F27: 19 | G27: 1250 | H27: =(C27/12000)*L27*E27*G27*45/100 -> 6108.75 | I27: =H27/' ข้อมูลการใช้ไฟฟ้า '!$F$20*100 -> 0.055129461 | J27: 1.25 | K27: kW/tr | L27: =Q27/R27 -> 1.2530769 | M27: kW/tr | Q27: 5.43 | R27: =C27/12000 -> 4.3333333
A28: ระบบปรับอากาศ | B28: เครื่องปรับอากาศ | C28: 50000 | D28: Btu/hr | E28: 12 | F28: 4 | G28: 1250 | H28: =(C28/12000)*L28*E28*G28*45/100 -> 32535 | I28: =H28/' ข้อมูลการใช้ไฟฟ้า '!$F$20*100 -> 0.29361768 | J28: 1.25 | K28: kW/tr | L28: =Q28/R28 -> 1.1568 | M28: kW/tr | Q28: 4.82 | R28: =C28/12000 -> 4.1666667
A29: ระบบปรับอากาศ | B29: เครื่องปรับอากาศ | C29: 48000 | D29: Btu/hr | E29: 63 | F29: 3 - 28 | G29: 1250 | H29: =(C29/12000)*L29*E29*G29*45/100 -> 170808.75 | I29: =H29/' ข้อมูลการใช้ไฟฟ้า '!$F$20*100 -> 1.5414928 | J29: 1.25 | K29: kW/tr | L29: =Q29/R29 -> 1.205 | M29: kW/tr | Q29: 4.82 | R29: =C29/12000 -> 4
A30: ระบบปรับอากาศ | B30: เครื่องปรับอากาศ | C30: 46000 | D30: Btu/hr | E30: 3 | F30: 19 - 20 | G30: 1250 | H30: =(C30/12000)*L30*E30*G30*45/100 -> 8015.625 | I30: =H30/' ข้อมูลการใช้ไฟฟ้า '!$F$20*100 -> 0.072338381 | J30: 1.25 | K30: kW/tr | L30: =Q30/R30 -> 1.2391304 | M30: kW/tr | Q30: 4.75 | R30: =C30/12000 -> 3.8333333
A31: ระบบปรับอากาศ | B31: เครื่องปรับอากาศ | C31: 45000 | D31: Btu/hr | E31: 36 | F31: 5 - 26 | G31: 1250 | H31: =(C31/12000)*L31*E31*G31*45/100 -> 93352.5 | I31: =H31/' ข้อมูลการใช้ไฟฟ้า '!$F$20*100 -> 0.84247563 | J31: 1.25 | K31: kW/tr | L31: =Q31/R31 -> 1.2293333 | M31: kW/tr | Q31: 4.61 | R31: =C31/12000 -> 3.75
A32: ระบบปรับอากาศ | B32: เครื่องปรับอากาศ | C32: 44200 | D32: Btu/hr | E32: 3 | F32: 14 - 17 | G32: 1250 | H32: =(C32/12000)*L32*E32*G32*45/100 -> 7644.375 | I32: =H32/' ข้อมูลการใช้ไฟฟ้า '!$F$20*100 -> 0.068987972 | J32: 1.25 | K32: kW/tr | L32: =Q32/R32 -> 1.2298643 | M32: kW/tr | Q32: 4.53 | R32: =C32/12000 -> 3.6833333
A33: ระบบปรับอากาศ | B33: เครื่องปรับอากาศ | C33: 44000 | D33: Btu/hr | E33: 51 | F33: 3 - 29 | G33: 1250 | H33: =(C33/12000)*L33*E33*G33*45/100 -> 127659.38 | I33: =H33/' ข้อมูลการใช้ไฟฟ้า '!$F$20*100 -> 1.1520839 | J33: 1.25 | K33: kW/tr | L33: =Q33/R33 -> 1.2136364 | M33: kW/tr | Q33: 4.45 | R33: =C33/12000 -> 3.6666667
A34: ระบบปรับอากาศ | B34: เครื่องปรับอากาศ | C34: 42000 | D34: Btu/hr | E34: 164 | F34: 3 - 27 | G34: 1250 | H34: =(C34/12000)*L34*E34*G34*45/100 -> 392985 | I34: =H34/' ข้อมูลการใช้ไฟฟ้า '!$F$20*100 -> 3.5465605 | J34: 1.25 | K34: kW/tr | L34: =Q34/R34 -> 1.2171429 | M34: kW/tr | Q34: 4.26 | R34: =C34/12000 -> 3.5
A35: ระบบปรับอากาศ | B35: เครื่องปรับอากาศ | C35: 40900 | D35: Btu/hr | E35: 5 | F35: 5 | G35: 1250 | H35: =(C35/12000)*L35*E35*G35*45/100 -> 10546.875 | I35: =H35/' ข้อมูลการใช้ไฟฟ้า '!$F$20*100 -> 0.09518208 | J35: 1.25 | K35: kW/tr | L35: =Q35/R35 -> 1.1002445 | M35: kW/tr | Q35: 3.75 | R35: =C35/12000 -> 3.4083333
A36: ระบบปรับอากาศ | B36: เครื่องปรับอากาศ | C36: 40800 | D36: Btu/hr | E36: 53 | F36: 5 | G36: 1250 | H36: =(C36/12000)*L36*E36*G36*45/100 -> 107921.25 | I36: =H36/' ข้อมูลการใช้ไฟฟ้า '!$F$20*100 -> 0.97395381 | J36: 1.25 | K36: kW/tr | L36: =Q36/R36 -> 1.0647059 | M36: kW/tr | Q36: 3.62 | R36: =C36/12000 -> 3.4
A37: ระบบปรับอากาศ | B37: เครื่องปรับอากาศ | C37: 40400 | D37: Btu/hr | E37: 2 | F37: 5 | G37: 1250 | H37: =(C37/12000)*L37*E37*G37*45/100 -> 4038.75 | I37: =H37/' ข้อมูลการใช้ไฟฟ้า '!$F$20*100 -> 0.036448391 | J37: 1.25 | K37: kW/tr | L37: =Q37/R37 -> 1.0663366 | M37: kW/tr | Q37: 3.59 | R37: =C37/12000 -> 3.3666667
A38: ระบบปรับอากาศ | B38: เครื่องปรับอากาศ | C38: 40304.14 | D38: Btu/hr | E38: 12 | F38: 5 | G38: 1250 | H38: =(C38/12000)*L38*E38*G38*45/100 -> 23152.5 | I38: =H38/' ข้อมูลการใช้ไฟฟ้า '!$F$20*100 -> 0.2089437 | J38: 1.25 | K38: kW/tr | L38: =Q38/R38 -> 1.021235 | M38: kW/tr | Q38: 3.43 | R38: =C38/12000 -> 3.3586783
A39: ระบบปรับอากาศ | B39: เครื่องปรับอากาศ | C39: 40000 | D39: Btu/hr | E39: 102 | F39: 4 - 26 | G39: 1250 | H39: =(C39/12000)*L39*E39*G39*45/100 -> 224910 | I39: =H39/' ข้อมูลการใช้ไฟฟ้า '!$F$20*100 -> 2.0297388 | J39: 1.25 | K39: kW/tr | L39: =Q39/R39 -> 1.176 | M39: kW/tr | Q39: 3.92 | R39: =C39/12000 -> 3.3333333
A40: ระบบปรับอากาศ | B40: เครื่องปรับอากาศ | C40: 39000 | D40: Btu/hr | E40: 4 | F40: 5 | G40: 1250 | H40: =(C40/12000)*L40*E40*G40*45/100 -> 7762.5 | I40: =H40/' ข้อมูลการใช้ไฟฟ้า '!$F$20*100 -> 0.070054011 | J40: 1.25 | K40: kW/tr | L40: =Q40/R40 -> 1.0615385 | M40: kW/tr | Q40: 3.45 | R40: =C40/12000 -> 3.25
A41: ระบบปรับอากาศ | B41: เครื่องปรับอากาศ | C41: 38000 | D41: Btu/hr | E41: 47 | F41: 3 - 28 | G41: 1250 | H41: =(C41/12000)*L41*E41*G41*45/100 -> 98347.5 | I41: =H41/' ข้อมูลการใช้ไฟฟ้า '!$F$20*100 -> 0.88755386 | J41: 1.25 | K41: kW/tr | L41: =Q41/R41 -> 1.1747368 | M41: kW/tr | Q41: 3.72 | R41: =C41/12000 -> 3.1666667
A42: ระบบปรับอากาศ | B42: เครื่องปรับอากาศ | C42: 37000 | D42: Btu/hr | E42: 51 | F42: 3 - 17 | G42: 1250 | H42: =(C42/12000)*L42*E42*G42*45/100 -> 104422.5 | I42: =H42/' ข้อมูลการใช้ไฟฟ้า '!$F$20*100 -> 0.94237874 | J42: 1.25 | K42: kW/tr | L42: =Q42/R42 -> 1.1805405 | M42: kW/tr | Q42: 3.64 | R42: =C42/12000 -> 3.0833333
A43: ระบบปรับอากาศ | B43: เครื่องปรับอากาศ | C43: 36800 | D43: Btu/hr | E43: 5 | F43: 9 | G43: 1250 | H43: =(C43/12000)*L43*E43*G43*45/100 -> 10153.125 | I43: =H43/' ข้อมูลการใช้ไฟฟ้า '!$F$20*100 -> 0.091628616 | J43: 1.25 | K43: kW/tr | L43: =Q43/R43 -> 1.1771739 | M43: kW/tr | Q43: 3.61 | R43: =C43/12000 -> 3.0666667
A44: ระบบปรับอากาศ | B44: เครื่องปรับอากาศ | C44: 36739 | D44: Btu/hr | E44: 16 | F44: 5 | G44: 1250 | H44: =(C44/12000)*L44*E44*G44*45/100 -> 30780 | I44: =H44/' ข้อมูลการใช้ไฟฟ้า '!$F$20*100 -> 0.27777938 | J44: 1.25 | K44: kW/tr | L44: =Q44/R44 -> 1.1170691 | M44: kW/tr | Q44: 3.42 | R44: =C44/12000 -> 3.0615833
A45: ระบบปรับอากาศ | B45: เครื่องปรับอากาศ | C45: 36170 | D45: Btu/hr | E45: 104 | F45: 2 | G45: 1250 | H45: =(C45/12000)*L45*E45*G45*45/100 -> 194805 | I45: =H45/' ข้อมูลการใช้ไฟฟ้า '!$F$20*100 -> 1.7580511 | J45: 1.25 | K45: kW/tr | L45: =Q45/R45 -> 1.104783 | M45: kW/tr | Q45: 3.33 | R45: =C45/12000 -> 3.0141667
A46: ระบบปรับอากาศ | B46: เครื่องปรับอากาศ | C46: 36167 | D46: Btu/hr | E46: 3 | F46: 8 | G46: 1250 | H46: =(C46/12000)*L46*E46*G46*45/100 -> 5585.625 | I46: =H46/' ข้อมูลการใช้ไฟฟ้า '!$F$20*100 -> 0.05040843 | J46: 1.25 | K46: kW/tr | L46: =Q46/R46 -> 1.0982387 | M46: kW/tr | Q46: 3.31 | R46: =C46/12000 -> 3.0139167
A47: ระบบปรับอากาศ | B47: เครื่องปรับอากาศ | C47: 36065 | D47: Btu/hr | E47: 6 | F47: 3 | G47: 1250 | H47: =(C47/12000)*L47*E47*G47*45/100 -> 10968.75 | I47: =H47/' ข้อมูลการใช้ไฟฟ้า '!$F$20*100 -> 0.098989364 | J47: 2.25 | K47: kW/tr | L47: =Q47/R47 -> 1.0813808 | M47: kW/tr | Q47: 3.25 | R47: =C47/12000 -> 3.0054167
A48: ระบบปรับอากาศ | B48: เครื่องปรับอากาศ | C48: 36000 | D48: Btu/hr | E48: 169 | F48: 4 - 28 | G48: 1250 | H48: =(C48/12000)*L48*E48*G48*45/100 -> 338422.5 | I48: =H48/' ข้อมูลการใช้ไฟฟ้า '!$F$20*100 -> 3.0541518 | J48: 1.25 | K48: kW/tr | L48: =Q48/R48 -> 1.1866667 | M48: kW/tr | Q48: 3.56 | R48: =C48/12000 -> 3
A49: ระบบปรับอากาศ | B49: เครื่องปรับอากาศ | C49: 35000 | D49: Btu/hr | E49: 1 | F49: 17 | G49: 1250 | H49: =(C49/12000)*L49*E49*G49*45/100 -> 2036.25 | I49: =H49/' ข้อมูลการใช้ไฟฟ้า '!$F$20*100 -> 0.018376487 | J49: 1.25 | K49: kW/tr | L49: =Q49/R49 -> 1.2411429 | M49: kW/tr | Q49: 3.62 | R49: =C49/12000 -> 2.9166667
A50: ระบบปรับอากาศ | B50: เครื่องปรับอากาศ | C50: 34212 | D50: Btu/hr | E50: 2 | F50: 13 | G50: 1250 | H50: =(C50/12000)*L50*E50*G50*45/100 -> 4005 | I50: =H50/' ข้อมูลการใช้ไฟฟ้า '!$F$20*100 -> 0.036143809 | J50: 1.25 | K50: kW/tr | L50: =Q50/R50 -> 1.2486847 | M50: kW/tr | Q50: 3.56 | R50: =C50/12000 -> 2.851
A51: ระบบปรับอากาศ | B51: เครื่องปรับอากาศ | C51: 34000 | D51: Btu/hr | E51: 25 | F51: 5 - 17 | G51: 1250 | H51: =(C51/12000)*L51*E51*G51*45/100 -> 49359.375 | I51: =H51/' ข้อมูลการใช้ไฟฟ้า '!$F$20*100 -> 0.44545214 | J51: 1.25 | K51: kW/tr | L51: =Q51/R51 -> 1.2388235 | M51: kW/tr | Q51: 3.51 | R51: =C51/12000 -> 2.8333333
A52: ระบบปรับอากาศ | B52: เครื่องปรับอากาศ | C52: 33000 | D52: Btu/hr | E52: 118 | F52: 6 - 27 | G52: 1250 | H52: =(C52/12000)*L52*E52*G52*45/100 -> 227002.5 | I52: =H52/' ข้อมูลการใช้ไฟฟ้า '!$F$20*100 -> 2.048623 | J52: 1.25 | K52: kW/tr | L52: =Q52/R52 -> 1.2436364 | M52: kW/tr | Q52: 3.42 | R52: =C52/12000 -> 2.75
A53: ระบบปรับอากาศ | B53: เครื่องปรับอากาศ | C53: 32000 | D53: Btu/hr | E53: 47 | F53: 4 - 37 | G53: 1250 | H53: =(C53/12000)*L53*E53*G53*45/100 -> 88565.625 | I53: =H53/' ข้อมูลการใช้ไฟฟ้า '!$F$20*100 -> 0.79927566 | J53: 1.25 | K53: kW/tr | L53: =Q53/R53 -> 1.25625 | M53: kW/tr | Q53: 3.35 | R53: =C53/12000 -> 2.6666667
A54: ระบบปรับอากาศ | B54: เครื่องปรับอากาศ | C54: 30471 | D54: Btu/hr | E54: 6 | F54: 5 | G54: 1250 | H54: =(C54/12000)*L54*E54*G54*45/100 -> 10192.5 | I54: =H54/' ข้อมูลการใช้ไฟฟ้า '!$F$20*100 -> 0.091983962 | J54: 1.25 | K54: kW/tr | L54: =Q54/R54 -> 1.1893276 | M54: kW/tr | Q54: 3.02 | R54: =C54/12000 -> 2.53925
A55: ระบบปรับอากาศ | B55: เครื่องปรับอากาศ | C55: 30440.7 | D55: Btu/hr | E55: 12 | F55: 5 | G55: 1250 | H55: =(C55/12000)*L55*E55*G55*45/100 -> 19642.5 | I55: =H55/' ข้อมูลการใช้ไฟฟ้า '!$F$20*100 -> 0.17726711 | J55: 1.25 | K55: kW/tr | L55: =Q55/R55 -> 1.1471484 | M55: kW/tr | Q55: 2.91 | R55: =C55/12000 -> 2.536725
A56: ระบบปรับอากาศ | B56: เครื่องปรับอากาศ | C56: 30070 | D56: Btu/hr | E56: 198 | F56: 3 | G56: 1250 | H56: =(C56/12000)*L56*E56*G56*45/100 -> 306281.25 | I56: =H56/' ข้อมูลการใช้ไฟฟ้า '!$F$20*100 -> 2.7640876 | J56: 1.25 | K56: kW/tr | L56: =Q56/R56 -> 1.0974393 | M56: kW/tr | Q56: 2.75 | R56: =C56/12000 -> 2.5058333
A57: ระบบปรับอากาศ | B57: เครื่องปรับอากาศ | C57: 30000 | D57: Btu/hr | E57: 165 | F57: 3 - 19 | G57: 1250 | H57: =(C57/12000)*L57*E57*G57*45/100 -> 297928.12 | I57: =H57/' ข้อมูลการใช้ไฟฟ้า '!$F$20*100 -> 2.6887034 | J57: 1.25 | K57: kW/tr | L57: =Q57/R57 -> 1.284 | M57: kW/tr | Q57: 3.21 | R57: =C57/12000 -> 2.5
A58: ระบบปรับอากาศ | B58: เครื่องปรับอากาศ | C58: 28000 | D58: Btu/hr | E58: 15 | F58: 17 - 33 | G58: 1250 | H58: =(C58/12000)*L58*E58*G58*45/100 -> 25143.75 | I58: =H58/' ข้อมูลการใช้ไฟฟ้า '!$F$20*100 -> 0.22691408 | J58: 1.25 | K58: kW/tr | L58: =Q58/R58 -> 1.2771429 | M58: kW/tr | Q58: 2.98 | R58: =C58/12000 -> 2.3333333
A59: ระบบปรับอากาศ | B59: เครื่องปรับอากาศ | C59: 27000 | D59: Btu/hr | E59: 1 | F59: 23 | G59: 1250 | H59: =(C59/12000)*L59*E59*G59*45/100 -> 1608.75 | I59: =H59/' ข้อมูลการใช้ไฟฟ้า '!$F$20*100 -> 0.01451844 | J59: 1.25 | K59: kW/tr | L59: =Q59/R59 -> 1.2711111 | M59: kW/tr | Q59: 2.86 | R59: =C59/12000 -> 2.25
A60: ระบบปรับอากาศ | B60: เครื่องปรับอากาศ | C60: 26000 | D60: Btu/hr | E60: 74 | F60: 4 - 24 | G60: 1250 | H60: =(C60/12000)*L60*E60*G60*45/100 -> 114885 | I60: =H60/' ข้อมูลการใช้ไฟฟ้า '!$F$20*100 -> 1.0367994 | J60: 1.25 | K60: kW/tr | L60: =Q60/R60 -> 1.2738462 | M60: kW/tr | Q60: 2.76 | R60: =C60/12000 -> 2.1666667
A61: ระบบปรับอากาศ | B61: เครื่องปรับอากาศ | C61: 25900 | D61: Btu/hr | E61: 2 | F61: 5 | G61: 1250 | H61: =(C61/12000)*L61*E61*G61*45/100 -> 2756.25 | I61: =H61/' ข้อมูลการใช้ไฟฟ้า '!$F$20*100 -> 0.02487425 | J61: 1.25 | K61: kW/tr | L61: =Q61/R61 -> 1.1351351 | M61: kW/tr | Q61: 2.45 | R61: =C61/12000 -> 2.1583333
A62: ระบบปรับอากาศ | B62: เครื่องปรับอากาศ | C62: 25696.8 | D62: Btu/hr | E62: 18 | F62: 7 - 11 | G62: 1250 | H62: =(C62/12000)*L62*E62*G62*45/100 -> 26426.25 | I62: =H62/' ข้อมูลการใช้ไฟฟ้า '!$F$20*100 -> 0.23848822 | J62: 1.25 | K62: kW/tr | L62: =Q62/R62 -> 1.2188288 | M62: kW/tr | Q62: 2.61 | R62: =C62/12000 -> 2.1414
A63: ระบบปรับอากาศ | B63: เครื่องปรับอากาศ | C63: 25425 | D63: Btu/hr | E63: 11 | F63: 8 | G63: 1250 | H63: =(C63/12000)*L63*E63*G63*45/100 -> 15654.375 | I63: =H63/' ข้อมูลการใช้ไฟฟ้า '!$F$20*100 -> 0.14127559 | J63: 1.25 | K63: kW/tr | L63: =Q63/R63 -> 1.1941003 | M63: kW/tr | Q63: 2.53 | R63: =C63/12000 -> 2.11875
A64: ระบบปรับอากาศ | B64: เครื่องปรับอากาศ | C64: 25262.45 | D64: Btu/hr | E64: 13 | F64: 13 | G64: 1250 | H64: =(C64/12000)*L64*E64*G64*45/100 -> 19378.125 | I64: =H64/' ข้อมูลการใช้ไฟฟ้า '!$F$20*100 -> 0.17488121 | J64: 1.25 | K64: kW/tr | L64: =Q64/R64 -> 1.2587853 | M64: kW/tr | Q64: 2.65 | R64: =C64/12000 -> 2.1052042
A65: ระบบปรับอากาศ | B65: เครื่องปรับอากาศ | C65: 25000 | D65: Btu/hr | E65: 188 | F65: 3 - 31 | G65: 1250 | H65: =(C65/12000)*L65*E65*G65*45/100 -> 272835 | I65: =H65/' ข้อมูลการใช้ไฟฟ้า '!$F$20*100 -> 2.4622462 | J65: 1.25 | K65: kW/tr | L65: =Q65/R65 -> 1.2384 | M65: kW/tr | Q65: 2.58 | R65: =C65/12000 -> 2.0833333
A66: ระบบปรับอากาศ | B66: เครื่องปรับอากาศ | C66: 24460 | D66: Btu/hr | E66: 26 | F66: 4 | G66: 1250 | H66: =(C66/12000)*L66*E66*G66*45/100 -> 34368.75 | I66: =H66/' ข้อมูลการใช้ไฟฟ้า '!$F$20*100 -> 0.31016667 | J66: 1.25 | K66: kW/tr | L66: =Q66/R66 -> 1.1529027 | M66: kW/tr | Q66: 2.35 | R66: =C66/12000 -> 2.0383333
A67: ระบบปรับอากาศ | B67: เครื่องปรับอากาศ | C67: 24400 | D67: Btu/hr | E67: 1 | F67: 9 | G67: 1250 | H67: =(C67/12000)*L67*E67*G67*45/100 -> 1366.875 | I67: =H67/' ข้อมูลการใช้ไฟฟ้า '!$F$20*100 -> 0.012335598 | J67: 1.25 | K67: kW/tr | L67: =Q67/R67 -> 1.195082 | M67: kW/tr | Q67: 2.43 | R67: =C67/12000 -> 2.0333333
A68: ระบบปรับอากาศ | B68: เครื่องปรับอากาศ | C68: 24010 | D68: Btu/hr | E68: 14 | F68: 3 | G68: 1250 | H68: =(C68/12000)*L68*E68*G68*45/100 -> 17640 | I68: =H68/' ข้อมูลการใช้ไฟฟ้า '!$F$20*100 -> 0.1591952 | J68: 1.25 | K68: kW/tr | L68: =Q68/R68 -> 1.1195335 | M68: kW/tr | Q68: 2.24 | R68: =C68/12000 -> 2.0008333
A69: ระบบปรับอากาศ | B69: เครื่องปรับอากาศ | C69: 24000 | D69: Btu/hr | E69: 50 | F69: 3 - 27 | G69: 1250 | H69: =(C69/12000)*L69*E69*G69*45/100 -> 68343.75 | I69: =H69/' ข้อมูลการใช้ไฟฟ้า '!$F$20*100 -> 0.61677988 | J69: 1.25 | K69: kW/tr | L69: =Q69/R69 -> 1.215 | M69: kW/tr | Q69: 2.43 | R69: =C69/12000 -> 2
A70: ระบบปรับอากาศ | B70: เครื่องปรับอากาศ | C70: 23000 | D70: Btu/hr | E70: 2 | F70: 9 | G70: 1250 | H70: =(C70/12000)*L70*E70*G70*45/100 -> 2666.25 | I70: =H70/' ข้อมูลการใช้ไฟฟ้า '!$F$20*100 -> 0.02406203 | J70: 1.25 | K70: kW/tr | L70: =Q70/R70 -> 1.2365217 | M70: kW/tr | Q70: 2.37 | R70: =C70/12000 -> 1.9166667
A71: ระบบปรับอากาศ | B71: เครื่องปรับอากาศ | C71: 22000 | D71: Btu/hr | E71: 7 | F71: 9 - 25 | G71: 1250 | H71: =(C71/12000)*L71*E71*G71*45/100 -> 8859.375 | I71: =H71/' ข้อมูลการใช้ไฟฟ้า '!$F$20*100 -> 0.079952947 | J71: 1.25 | K71: kW/tr | L71: =Q71/R71 -> 1.2272727 | M71: kW/tr | Q71: 2.25 | R71: =C71/12000 -> 1.8333333
A72: ระบบปรับอากาศ | B72: เครื่องปรับอากาศ | C72: 21000 | D72: Btu/hr | E72: 2 | F72: 28 | G72: 1250 | H72: =(C72/12000)*L72*E72*G72*45/100 -> 2767.5 | I72: =H72/' ข้อมูลการใช้ไฟฟ้า '!$F$20*100 -> 0.024975778 | J72: 1.25 | K72: kW/tr | L72: =Q72/R72 -> 1.4057143 | M72: kW/tr | Q72: 2.46 | R72: =C72/12000 -> 1.75
A73: ระบบปรับอากาศ | B73: เครื่องปรับอากาศ | C73: 20000 | D73: Btu/hr | E73: 63 | F73: 8 - 29 | G73: 1250 | H73: =(C73/12000)*L73*E73*G73*45/100 -> 80088.75 | I73: =H73/' ข้อมูลการใช้ไฟฟ้า '!$F$20*100 -> 0.72277465 | J73: 1.25 | K73: kW/tr | L73: =Q73/R73 -> 1.356 | M73: kW/tr | Q73: 2.26 | R73: =C73/12000 -> 1.6666667
A74: ระบบปรับอากาศ | B74: เครื่องปรับอากาศ | C74: 19037 | D74: Btu/hr | E74: 2 | F74: 13 | G74: 1250 | H74: =(C74/12000)*L74*E74*G74*45/100 -> 2418.75 | I74: =H74/' ข้อมูลการใช้ไฟฟ้า '!$F$20*100 -> 0.021828424 | J74: 1.25 | K74: kW/tr | L74: =Q74/R74 -> 1.3552556 | M74: kW/tr | Q74: 2.15 | R74: =C74/12000 -> 1.5864167
A75: ระบบปรับอากาศ | B75: เครื่องปรับอากาศ | C75: 19000 | D75: Btu/hr | E75: 41 | F75: 5 - 27 | G75: 1250 | H75: =(C75/12000)*L75*E75*G75*45/100 -> 48892.5 | I75: =H75/' ข้อมูลการใช้ไฟฟ้า '!$F$20*100 -> 0.44123874 | J75: 1.25 | K75: kW/tr | L75: =Q75/R75 -> 1.3389474 | M75: kW/tr | Q75: 2.12 | R75: =C75/12000 -> 1.5833333
A76: ระบบปรับอากาศ | B76: เครื่องปรับอากาศ | C76: 18559 | D76: Btu/hr | E76: 2 | F76: 11 | G76: 1250 | H76: =(C76/12000)*L76*E76*G76*45/100 -> 2193.75 | I76: =H76/' ข้อมูลการใช้ไฟฟ้า '!$F$20*100 -> 0.019797873 | J76: 1.25 | K76: kW/tr | L76: =Q76/R76 -> 1.2608438 | M76: kW/tr | Q76: 1.95 | R76: =C76/12000 -> 1.5465833
A77: ระบบปรับอากาศ | B77: เครื่องปรับอากาศ | C77: 18010 | D77: Btu/hr | E77: 10 | F77: 3 | G77: 1250 | H77: =(C77/12000)*L77*E77*G77*45/100 -> 8606.25 | I77: =H77/' ข้อมูลการใช้ไฟฟ้า '!$F$20*100 -> 0.077668578 | J77: 1.25 | K77: kW/tr | L77: =Q77/R77 -> 1.0194336 | M77: kW/tr | Q77: 1.53 | R77: =C77/12000 -> 1.5008333
A78: ระบบปรับอากาศ | B78: เครื่องปรับอากาศ | C78: 18000 | D78: Btu/hr | E78: 108 | F78: 3 - 48 | G78: 1250 | H78: =(C78/12000)*L78*E78*G78*45/100 -> 119070 | I78: =H78/' ข้อมูลการใช้ไฟฟ้า '!$F$20*100 -> 1.0745676 | J78: 1.25 | K78: kW/tr | L78: =Q78/R78 -> 1.3066667 | M78: kW/tr | Q78: 1.96 | R78: =C78/12000 -> 1.5
A79: ระบบปรับอากาศ | B79: เครื่องปรับอากาศ | C79: 17992 | D79: Btu/hr | E79: 2 | F79: 3 | G79: 1250 | H79: =(C79/12000)*L79*E79*G79*45/100 -> 1721.25 | I79: =H79/' ข้อมูลการใช้ไฟฟ้า '!$F$20*100 -> 0.015533716 | J79: 1.25 | K79: kW/tr | L79: =Q79/R79 -> 1.0204535 | M79: kW/tr | Q79: 1.53 | R79: =C79/12000 -> 1.4993333
A80: ระบบปรับอากาศ | B80: เครื่องปรับอากาศ | C80: 17742 | D80: Btu/hr | E80: 2 | F80: 3 | G80: 1250 | H80: =(C80/12000)*L80*E80*G80*45/100 -> 1620 | I80: =H80/' ข้อมูลการใช้ไฟฟ้า '!$F$20*100 -> 0.014619968 | J80: 1.25 | K80: kW/tr | L80: =Q80/R80 -> 0.97396009 | M80: kW/tr | Q80: 1.44 | R80: =C80/12000 -> 1.4785
A81: ระบบปรับอากาศ | B81: เครื่องปรับอากาศ | C81: 17000 | D81: Btu/hr | E81: 7 | F81: 12 - 25 | G81: 1250 | H81: =(C81/12000)*L81*E81*G81*45/100 -> 7323.75 | I81: =H81/' ข้อมูลการใช้ไฟฟ้า '!$F$20*100 -> 0.066094437 | J81: 1.25 | K81: kW/tr | L81: =Q81/R81 -> 1.3129412 | M81: kW/tr | Q81: 1.86 | R81: =C81/12000 -> 1.4166667
A82: ระบบปรับอากาศ | B82: เครื่องปรับอากาศ | C82: 16500 | D82: Btu/hr | E82: 1 | F82: 22 | G82: 1250 | H82: =(C82/12000)*L82*E82*G82*45/100 -> 1018.125 | I82: =H82/' ข้อมูลการใช้ไฟฟ้า '!$F$20*100 -> 0.0091882435 | J82: 1.25 | K82: kW/tr | L82: =Q82/R82 -> 1.3163636 | M82: kW/tr | Q82: 1.81 | R82: =C82/12000 -> 1.375
A83: ระบบปรับอากาศ | B83: เครื่องปรับอากาศ | C83: 16000 | D83: Btu/hr | E83: 30 | F83: 11 - 27 | G83: 1250 | H83: =(C83/12000)*L83*E83*G83*45/100 -> 29531.25 | I83: =H83/' ข้อมูลการใช้ไฟฟ้า '!$F$20*100 -> 0.26650982 | J83: 1.25 | K83: kW/tr | L83: =Q83/R83 -> 1.3125 | M83: kW/tr | Q83: 1.75 | R83: =C83/12000 -> 1.3333333
A84: ระบบปรับอากาศ | B84: เครื่องปรับอากาศ | C84: 15000 | D84: Btu/hr | E84: 17 | F84: 5 - 25 | G84: 1250 | H84: =(C84/12000)*L84*E84*G84*45/100 -> 16065 | I84: =H84/' ข้อมูลการใช้ไฟฟ้า '!$F$20*100 -> 0.14498134 | J84: 1.25 | K84: kW/tr | L84: =Q84/R84 -> 1.344 | M84: kW/tr | Q84: 1.68 | R84: =C84/12000 -> 1.25
A85: ระบบปรับอากาศ | B85: เครื่องปรับอากาศ | C85: 14000 | D85: Btu/hr | E85: 11 | F85: 12 | G85: 1250 | H85: =(C85/12000)*L85*E85*G85*45/100 -> 9157.5 | I85: =H85/' ข้อมูลการใช้ไฟฟ้า '!$F$20*100 -> 0.082643428 | J85: 1.25 | K85: kW/tr | L85: =Q85/R85 -> 1.2685714 | M85: kW/tr | Q85: 1.48 | R85: =C85/12000 -> 1.1666667
A86: ระบบปรับอากาศ | B86: เครื่องปรับอากาศ | C86: 13489.34 | D86: Btu/hr | E86: 1 | F86: 13 | G86: 1250 | H86: =(C86/12000)*L86*E86*G86*45/100 -> 815.625 | I86: =H86/' ข้อมูลการใช้ไฟฟ้า '!$F$20*100 -> 0.0073607475 | J86: 1.25 | K86: kW/tr | L86: =Q86/R86 -> 1.2899074 | M86: kW/tr | Q86: 1.45 | R86: =C86/12000 -> 1.1241117
A87: ระบบปรับอากาศ | B87: เครื่องปรับอากาศ | C87: 13200 | D87: Btu/hr | E87: 1 | F87: 5 | G87: 1250 | H87: =(C87/12000)*L87*E87*G87*45/100 -> 686.25 | I87: =H87/' ข้อมูลการใช้ไฟฟ้า '!$F$20*100 -> 0.0061931807 | J87: 1.25 | K87: kW/tr | L87: =Q87/R87 -> 1.1090909 | M87: kW/tr | Q87: 1.22 | R87: =C87/12000 -> 1.1
A88: ระบบปรับอากาศ | B88: เครื่องปรับอากาศ | C88: 13100 | D88: Btu/hr | E88: 3 | F88: 13 | G88: 1250 | H88: =(C88/12000)*L88*E88*G88*45/100 -> 2328.75 | I88: =H88/' ข้อมูลการใช้ไฟฟ้า '!$F$20*100 -> 0.021016203 | J88: 1.25 | K88: kW/tr | L88: =Q88/R88 -> 1.2641221 | M88: kW/tr | Q88: 1.38 | R88: =C88/12000 -> 1.0916667
A89: ระบบปรับอากาศ | B89: เครื่องปรับอากาศ | C89: 13040 | D89: Btu/hr | E89: 7 | F89: 3 | G89: 1250 | H89: =(C89/12000)*L89*E89*G89*45/100 -> 4921.875 | I89: =H89/' ข้อมูลการใช้ไฟฟ้า '!$F$20*100 -> 0.044418304 | J89: 1.25 | K89: kW/tr | L89: =Q89/R89 -> 1.1503067 | M89: kW/tr | Q89: 1.25 | R89: =C89/12000 -> 1.0866667
A90: ระบบปรับอากาศ | B90: เครื่องปรับอากาศ | C90: 13000 | D90: Btu/hr | E90: 65 | F90: 9 - 33 | G90: 1250 | H90: =(C90/12000)*L90*E90*G90*45/100 -> 53015.625 | I90: =H90/' ข้อมูลการใช้ไฟฟ้า '!$F$20*100 -> 0.47844859 | J90: 1.25 | K90: kW/tr | L90: =Q90/R90 -> 1.3384615 | M90: kW/tr | Q90: 1.45 | R90: =C90/12000 -> 1.0833333
A91: ระบบปรับอากาศ | B91: เครื่องปรับอากาศ | C91: 12993 | D91: Btu/hr | E91: 2 | F91: 17 | G91: 1250 | H91: =(C91/12000)*L91*E91*G91*45/100 -> 1485 | I91: =H91/' ข้อมูลการใช้ไฟฟ้า '!$F$20*100 -> 0.013401637 | J91: 1.25 | K91: kW/tr | L91: =Q91/R91 -> 1.219118 | M91: kW/tr | Q91: 1.32 | R91: =C91/12000 -> 1.08275
A92: ระบบปรับอากาศ | B92: เครื่องปรับอากาศ | C92: 12800 | D92: Btu/hr | E92: 13 | F92: 13 | G92: 1250 | H92: =(C92/12000)*L92*E92*G92*45/100 -> 9725.625 | I92: =H92/' ข้อมูลการใช้ไฟฟ้า '!$F$20*100 -> 0.087770569 | J92: 1.25 | K92: kW/tr | L92: =Q92/R92 -> 1.246875 | M92: kW/tr | Q92: 1.33 | R92: =C92/12000 -> 1.0666667
A93: ระบบปรับอากาศ | B93: เครื่องปรับอากาศ | C93: 12700 | D93: Btu/hr | E93: 33 | F93: 10 - 11 | G93: 1250 | H93: =(C93/12000)*L93*E93*G93*45/100 -> 23945.625 | I93: =H93/' ข้อมูลการใช้ไฟฟ้า '!$F$20*100 -> 0.2161014 | J93: 1.25 | K93: kW/tr | L93: =Q93/R93 -> 1.2188976 | M93: kW/tr | Q93: 1.29 | R93: =C93/12000 -> 1.0583333
A94: ระบบปรับอากาศ | B94: เครื่องปรับอากาศ | C94: 12582 | D94: Btu/hr | E94: 1 | F94: 5 | G94: 1250 | H94: =(C94/12000)*L94*E94*G94*45/100 -> 703.125 | I94: =H94/' ข้อมูลการใช้ไฟฟ้า '!$F$20*100 -> 0.006345472 | J94: 1.25 | K94: kW/tr | L94: =Q94/R94 -> 1.1921793 | M94: kW/tr | Q94: 1.25 | R94: =C94/12000 -> 1.0485
A95: ระบบปรับอากาศ | B95: เครื่องปรับอากาศ | C95: 12500 | D95: Btu/hr | E95: 6 | F95: 10 - 24 | G95: 1250 | H95: =(C95/12000)*L95*E95*G95*45/100 -> 4083.75 | I95: =H95/' ข้อมูลการใช้ไฟฟ้า '!$F$20*100 -> 0.036854501 | J95: 1.25 | K95: kW/tr | L95: =Q95/R95 -> 1.1616 | M95: kW/tr | Q95: 1.21 | R95: =C95/12000 -> 1.0416667
A96: ระบบปรับอากาศ | B96: เครื่องปรับอากาศ | C96: 12487 | D96: Btu/hr | E96: 1 | F96: 3 | G96: 1250 | H96: =(C96/12000)*L96*E96*G96*45/100 -> 630 | I96: =H96/' ข้อมูลการใช้ไฟฟ้า '!$F$20*100 -> 0.0056855429 | J96: 1.25 | K96: kW/tr | L96: =Q96/R96 -> 1.0763194 | M96: kW/tr | Q96: 1.12 | R96: =C96/12000 -> 1.0405833
A97: ระบบปรับอากาศ | B97: เครื่องปรับอากาศ | C97: 12314 | D97: Btu/hr | E97: 1 | F97: 8 | G97: 1250 | H97: =(C97/12000)*L97*E97*G97*45/100 -> 742.5 | I97: =H97/' ข้อมูลการใช้ไฟฟ้า '!$F$20*100 -> 0.0067008185 | J97: 1.25 | K97: kW/tr | L97: =Q97/R97 -> 1.2863408 | M97: kW/tr | Q97: 1.32 | R97: =C97/12000 -> 1.0261667
A98: ระบบปรับอากาศ | B98: เครื่องปรับอากาศ | C98: 12264 | D98: Btu/hr | E98: 8 | F98: 7 | G98: 1250 | H98: =(C98/12000)*L98*E98*G98*45/100 -> 5625 | I98: =H98/' ข้อมูลการใช้ไฟฟ้า '!$F$20*100 -> 0.050763776 | J98: 1.25 | K98: kW/tr | L98: =Q98/R98 -> 1.223092 | M98: kW/tr | Q98: 1.25 | R98: =C98/12000 -> 1.022
A99: ระบบปรับอากาศ | B99: เครื่องปรับอากาศ | C99: 12000 | D99: Btu/hr | E99: 194 | F99: 3 - 42 | G99: 1250 | H99: =(C99/12000)*L99*E99*G99*45/100 -> 139680 | I99: =H99/' ข้อมูลการใช้ไฟฟ้า '!$F$20*100 -> 1.2605661 | J99: 1.25 | K99: kW/tr | L99: =Q99/R99 -> 1.28 | M99: kW/tr | Q99: 1.28 | R99: =C99/12000 -> 1
A100: ระบบปรับอากาศ | B100: เครื่องปรับอากาศ | C100: 11000 | D100: Btu/hr | E100: 1 | F100: 18 | G100: 1250 | H100: =(C100/12000)*L100*E100*G100*45/100 -> 691.875 | I100: =H100/' ข้อมูลการใช้ไฟฟ้า '!$F$20*100 -> 0.0062439445 | J100: 1.25 | K100: kW/tr | L100: =Q100/R100 -> 1.3418182 | M100: kW/tr | Q100: 1.23 | R100: =C100/12000 -> 0.91666667
...

Sheet ข้อมูลความร้อนเครื่องจักร
A1: ตารางที่ 4.12 แบบบันทึกข้อมูลการใช้พลังงานความร้อนมีนัยสำคัญของเครื่องจักร/อุปกรณ์หลัก ปี 2563
A3: ระบบที่ใช้พลังงาน | B3: ชื่อเครื่องจักร/อุปกรณ์หลัก | C3: พิกัด | E3: จำนวน | F3: อายุการใช้งาน (ปี) | G3: ชั่วโมง ใช้งาน เฉลี่ย/ปี | H3: การใช้เชื้อเพลิง | J3: ปริมาณการ ใช้พลังงานความร้อน (เมกะจูล/ปี) | K3: สัดส่วนการ ใช้พลังงาน ในระบบ | L3: ค่าประสิทธิภาพหรือสมรรถนะ | P3: การสูญเสียพลังงานความร้อน (เมกะจูล/ปี) | Q3: หมายเหตุ
C4: ขนาด | D4: หน่วย | H4: ชนิด | I4: หน่วย | L4: ค่าพิกัด | M4: หน่วย | N4: ใช้งานจริง | O4: หน่วย
A6: หม้อไอน้ำ
A9: หม้อต้มน้ำมันร้อน
A20: หมายเหตุ : ให้ดำเนินการบันทึกเฉพาะเครื่องจักร/อุปกรณ์หลักที่มีนัยสำคัญ

Sheet ขั้นตอนที่ 5
A1: ขั้นตอนที่ 5 | B1: การกำหนดเป้าหมายและแผนอนุรักษ์พลังงาน และแผนการฝึกอบรมและกิจกรรมเพื่อ
B2: ส่งเสริมการอนุรักษ์พลังงาน
A3: อาคารควบคุมได้กำหนดเป้าหมายและแผนอนุรักษ์พลังงาน โดยมีรายละเอียดการดำเนินการดังต่อไปนี้
A5: 5.1 การกำหนดเป้าหมายและแผนอนุรักษ์พลังงาน กรณีมี 1 บริการ
A6: เป้าหมายการอนุรักษ์พลังงาน กรณีมี 1 บริการ
A7: การกำหนดเป้าหมาย | G7: ค่าเป้าหมาย
B8: ร้อยละที่ลดลงของปริมาณพลังงานที่ใช้เดิม | G8: 10
B9: ระดับของค่าการใช้พลังงานต่อหน่วยบริการ | G9: ='SEC (ทุกกรณี)'!F22*1.05 -> 9.9431602
A11: เป้าหมายการอนุรักษ์พลังงาน กรณีมีหลายบริการ
A12: การกำหนดเป้าหมาย | G12: ค่าเป้าหมาย
B13: ร้อยละที่ลดลงของปริมาณพลังงานที่ใช้เดิม
B14: ระดับของค่าการใช้พลังงานต่อหน่วยบริการ
B15: ระดับของค่าการใช้พลังงานต่อหน่วยบริการ
B16: ระดับของค่าการใช้พลังงานต่อหน่วยบริการ
A17: หมายเหตุ : ในการกำหนดเป้าหมายการอนุรักษ์พลังงาน ให้เลือกดำเนินการอย่างใดอย่างหนึ่ง

Sheet มาตรการและเป้าหมายปี_63
A1: ตารางที่ 5.1 มาตรการและเป้าหมายในการดำเนินการอนุรักษ์พลังงาน ในรอบปี 2563
A3: ลำดับ ที่ | B3: มาตรการ | E3: เป้าหมายการประหยัด | L3: ร้อยละ ผลประหยัด | M3: เงินลงทุน (บาท) | N3: ระยะ เวลา คืนทุน (ปี)
E4: ไฟฟ้า | H4: เชื้อเพลิง
E5: กิโลวัตต์ | F5: กิโลวัตต์-ชั่วโมง/ปี | G5: บาท/ปี | H5: ชนิด | I5: ปริมาณ (หน่วย/ปี) | J5: หน่วยเชื้อเพลิง | K5: บาท/ปี
A6: ด้านไฟฟ้า
A7: 1 | B7: ='มาตรการไฟฟ้า '!E6 -> บำรุงรักษาเครื่องปรับอากาศแบบแยกส่วน | F7: ='มาตรการไฟฟ้า '!K16 -> 303091.42 | G7: ='มาตรการไฟฟ้า '!L16 -> 1145458.2 | L7: =F7*100/'4.1.2การใช้ไฟฟ้า_62'!F20 -> 2.7353005 | M7: ='มาตรการไฟฟ้า '!K17 -> 1088172 | N7: =M7/G7 -> 0.94998838
A8: 2 | B8: ='มาตรการไฟฟ้า '!E66 -> ลดชั่วโมงการใช้งานเครื่องปรับอากาศ | F8: ='มาตรการไฟฟ้า '!K77 -> 850720.5 | G8: ='มาตรการไฟฟ้า '!L77 -> 3215085.3 | L8: =F8*100/'4.1.2การใช้ไฟฟ้า_62'!F20 -> 7.6774729 | M8: ='มาตรการไฟฟ้า '!K78 -> 0 | N8: 0
A9: 3 | B9: ='มาตรการไฟฟ้า '!E130 -> เปลี่ยนหลอด T8 (36W) เป็นหลอด LED (18W) | F9: ='มาตรการไฟฟ้า '!K139 -> 0 | G9: ='มาตรการไฟฟ้า '!L139 -> 0 | L9: =F9*100/' ข้อมูลการใช้ไฟฟ้า '!$F$20 -> 0 | M9: ='มาตรการไฟฟ้า '!K142 -> 0 | N9: =M9/G9 -> #DIV/0!
A10: 4 | B10: ='มาตรการไฟฟ้า '!E191 -> เปลี่ยนหลอด T8 (18W) เป็นหลอด LED (9W) | F10: ='มาตรการไฟฟ้า '!K199 -> 0 | G10: ='มาตรการไฟฟ้า '!L199 -> 0 | L10: =F10*100/' ข้อมูลการใช้ไฟฟ้า '!$F$20 -> 0 | M10: ='มาตรการไฟฟ้า '!K202 -> 0 | N10: =M10/G10 -> #DIV/0!
A11: 5 | B11: ='มาตรการไฟฟ้า '!E251 -> เครื่องปรับอากาศประสิทธิภาพสูง Inverter | F11: ='มาตรการไฟฟ้า '!K260 -> 2160 | G11: ='มาตรการไฟฟ้า '!L260 -> 8164.8 | L11: =F11*100/' ข้อมูลการใช้ไฟฟ้า '!$F$20 -> 0.01949329 | M11: ='มาตรการไฟฟ้า '!K263 -> 0 | N11: =M11/G11 -> 0
B18: รวมด้านไฟฟ้า | F18: =SUM(F7:F16) -> 1155971.9 | G18: =SUM(G7:G16) -> 4368708.4 | L18: =SUM(L7:L16) -> 10.432267 | M18: =SUM(M7:M16) -> 1088172 | N18: =M18/G18 -> 0.24908323
A19: ด้านความร้อน
A20: 1
A21: 2
A22: 3
A23: 4
A24: 5
B25: รวมด้านความร้อน
A26: หมายเหตุ: | B26: 1. ร้อยละผลประหยัด คิดเทียบจากข้อมูลการใช้พลังงานรวมในปีที่ผ่านมา
B27: 2. อัตราค่าไฟฟ้าเฉลี่ย | C27: ='4.1.2การใช้ไฟฟ้า_62'!L21 -> 3.7792499 | D27: บาท/กิโลวัตต์-ชั่วโมง (ปี 2562)
B28: 3. อัตราค่าเชื้อเพลิง | C28: - | D28: บาท/(ระบุหน่วย) (ปี 2562)

Sheet แผนไฟฟ้า
A1: ตารางที่ 5.2 แผนอนุรักษ์พลังงานด้านไฟฟ้า ประจำปี 2563
A3: ลำดับ ที่ | B3: มาตรการ | C3: วัตถุประสงค์ | D3: ระยะเวลา | F3: เงินลงทุน (บาท) | G3: ผู้รับผิดชอบ
D4: เริ่มต้น | E4: สิ้นสุด
D5: (เดือน/ปี) | E5: (เดือน/ปี)
A6: 1 | B6: =มาตรการและเป้าหมายปี_63!B7:D7 -> บำรุงรักษาเครื่องปรับอากาศแบบแยกส่วน | C6: ='มาตรการไฟฟ้า '!E11 -> เพื่อให้เครื่องปรับอากาศทำงานอย่างมีประสิทธิภาพ และยืดอายุการใช้งาน | D6: มกราคม 63 | E6: ธันวาคม 63 | F6: ='มาตรการไฟฟ้า '!K17 -> 1088172 | G6: ='มาตรการไฟฟ้า '!E7 -> นายสุรเดช คิดการงาน
A7: 2 | B7: =มาตรการและเป้าหมายปี_63!B8:D8 -> ลดชั่วโมงการใช้งานเครื่องปรับอากาศ | C7: เพื่อลดชั่วโมงทำงานเครื่องปรับอากาศ ใช้งานเครื่องปรับอากาศเท่าที่จำเป็น และยืดอายุการใช้งาน | D7: มกราคม 63 | E7: ธันวาคม 63 | F7: - | G7: ='มาตรการไฟฟ้า '!E67 -> นายรัฐพล ญาติมิตรหนุน
A8: 3 | B8: =มาตรการและเป้าหมายปี_63!B9:D9 -> เปลี่ยนหลอด T8 (36W) เป็นหลอด LED (18W) | C8: ='มาตรการไฟฟ้า '!E135 -> เพื่อเพิ่มประสิทธิภาพการใช้พลังงานในระบบแสงสว่าง | D8: เมษายน 61 | E8: กันยายน 61 | F8: ='มาตรการไฟฟ้า '!K142 -> 0 | G8: ='มาตรการไฟฟ้า '!E131 -> 0
A9: 4 | B9: =มาตรการและเป้าหมายปี_63!B10:D10 -> เปลี่ยนหลอด T8 (18W) เป็นหลอด LED (9W) | C9: ='มาตรการไฟฟ้า '!E196 -> เพื่อเพิ่มประสิทธิภาพการใช้พลังงานในระบบแสงสว่าง | D9: เมษายน 61 | E9: กันยายน 61 | F9: ='มาตรการไฟฟ้า '!K202 -> 0 | G9: ='มาตรการไฟฟ้า '!E192 -> 0
A10: 5 | B10: ='มาตรการไฟฟ้า '!E251 -> เครื่องปรับอากาศประสิทธิภาพสูง Inverter | C10: ='มาตรการไฟฟ้า '!E256 -> เพื่อให้เครื่องปรับอากาศทำงานอย่างมีประสิทธิภาพ และยืดอายุการใช้งาน | D10: เมษายน 61 | E10: กันยายน 61 | F10: ='มาตรการไฟฟ้า '!K263 -> 0 | G10: ='มาตรการไฟฟ้า '!E252 -> 0
A17: หมายเหตุ : ผู้รับผิดชอบ หมายถึง บุคคลที่รับผิดชอบมาตรการ

Sheet แผนความร้อน
A1: ตารางที่ 5.3 แผนอนุรักษ์พลังงานด้านความร้อน ประจำปี 2563
A3: ลำดับ ที่ | B3: มาตรการ | C3: วัตถุประสงค์ | D3: ระยะเวลา | F3: เงินลงทุน (บาท) | G3: ผู้รับผิดชอบ
D4: เริ่มต้น | E4: สิ้นสุด
D5: (เดือน/ปี) | E5: (เดือน/ปี)
A15: หมายเหตุ : ผู้รับผิดชอบ หมายถึง บุคคลที่รับผิดชอบมาตรการ

Sheet มาตรการไฟฟ้า 
A2: รายละเอียดมาตรการอนุรักษ์พลังงาน
A3: (สำหรับมาตรการด้านไฟฟ้า)
A5: 1) | B5: มาตรการลำดับที่ | D5: : | E5: 1
A6: 2) | B6: ชื่อมาตรการ | D6: : | E6: บำรุงรักษาเครื่องปรับอากาศแบบแยกส่วน
A7: 3) | B7: ผู้รับผิดชอบมาตรการ | D7: : | E7: =ข้อมูลเบื้องต้น!D37 -> นายสุรเดช คิดการงาน | J7: ตำแหน่ง | K7: =ข้อมูลเบื้องต้น!N37 -> ผอส.04244
A8: 4) | B8: อุปกรณ์ที่ปรับปรุง | D8: : | E8: เครื่องปรับอากาศแบบแยกส่วน
A9: 5) | B9: จำนวนอุปกรณ์ที่ปรับปรุง | D9: : | E9: =L37 -> 1572 | F9: เครื่อง
A10: 6) | B10: สถานที่ปรับปรุง | D10: : | E10: มหาวิทยาลัยแม่โจ้
A11: 7) | B11: สาเหตุการปรับปรุง | D11: : | E11: เพื่อให้เครื่องปรับอากาศทำงานอย่างมีประสิทธิภาพ และยืดอายุการใช้งาน
J13: กิโลวัตต์ | K13: กิโลวัตต์-ชั่วโมง/ปี | L13: บาท/ปี
A14: 8) | B14: ระดับการใช้พลังงานอ้างอิงก่อนการปรับปรุง | J14: 0 | K14: =L46 -> 6061828.5 | L14: =L46*L43 -> 22909164
A15: 9) | B15: ระดับการใช้พลังงานเป้าหมายหลังการปรับปรุง | J15: 0 | K15: =L46-L47 -> 5758737.1 | L15: =(L46-L47)*L43 -> 21763706
A16: 10) | B16: ผลประหยัด | J16: 0 | K16: =+K14-K15 -> 303091.42 | L16: =+L14-L15 -> 1145458.2
A17: 11) | B17: เงินลงทุนทั้งหมด | K17: 1088172 | L17: บาท
A18: 12) | B18: ระยะเวลาคืนทุน | K18: =+K17/L16 -> 0.94998838 | L18: ปี
A19: 13) | B19: รายละเอียดการดำเนินการปรับปรุง:
B20: ตรวจเช็คทำความสะอาด บำรุงรักษาเครื่องปรับอากาศแบบแยกส่วนตามระยะเวลา ซึ่งดำเนินการโดย จ้างเหมา
B21: จ้างเหมา
A32: 14) | B32: วิธีการตรวจสอบผลการประหยัดหลังปรับปรุง
B33: ประเมินผลประหยัดโดยการคำนวณ
A34: 15) | B34: แสดงวิธีการคำนวณประกอบ
B36: รายการข้อมูลประกอบการคำนวณ | J36: หน่วย | K36: ตัวย่อ | L36: ปริมาณ
B37: จำนวนเครื่องปรับอากาศ | J37: เครื่อง | K37: n | L37: 1572
B38: กำลังไฟฟ้าต่อเครื่อง | J38: kW | K38: W | L38: 3.39
B39: ชั่วโมงใช้งานต่อวัน | J39: ชั่วโมง | K39: h | L39: 6.5
B40: แฟกเตอร์การทำงาน | J40: % | K40: F | L40: 70
B41: วันที่ใช้งานต่อปี | J41: วัน | K41: D | L41: 250
B42: ผลประหยัดภายหลังการบำรุงรักษา | J42: % | K42: S | L42: 5
B43: อัตราค่าไฟฟ้าโดยเฉลี่ยต่อหน่วย | J43: บาท | K43: B | L43: ='4.1.2การใช้ไฟฟ้า_62'!L21 -> 3.7792499
B45: การคำนวณ | J45: หน่วย | K45: ตัวย่อ | L45: ปริมาณ
B46: พลังงานที่ใช้ก่อนปรับปรุง; n x W x h x D x (F/100) | J46: kWh/y | K46: Ei | L46: =L37*L38*L39*L40*L41/100 -> 6061828.5
B47: พลังงานที่สามารถประหยัดได้; (S x Ei)/100 | J47: kWh/y | K47: Es | L47: =L46*L42/100 -> 303091.42
B48: คิดเป็นเงินที่ประหยัดได้; (Es x B) | J48: บาท/ปี | K48: Bs | L48: =L43*L47 -> 1145458.2
A62: รายละเอียดมาตรการอนุรักษ์พลังงาน
A63: (สำหรับมาตรการด้านไฟฟ้า)
A65: 1) | B65: มาตรการลำดับที่ | D65: : | E65: 2
A66: 2) | B66: ชื่อมาตรการ | D66: : | E66: ลดชั่วโมงการใช้งานเครื่องปรับอากาศ
A67: 3) | B67: ผู้รับผิดชอบมาตรการ | D67: : | E67: =ข้อมูลเบื้องต้น!D39 -> นายรัฐพล ญาติมิตรหนุน | J67: ตำแหน่ง | K67: =ข้อมูลเบื้องต้น!N39 -> ผชอ.03430
A68: 4) | B68: อุปกรณ์ที่ปรับปรุง | D68: : | E68: เครื่องปรับอากาศแบบแยกส่วน
A69: 5) | B69: จำนวนอุปกรณ์ที่ปรับปรุง | D69: : | E69: =L100 -> 2868 | F69: เครื่อง
A70: 6) | B70: สถานที่ปรับปรุง | D70: : | E70: อาคารเรียนและสำนักงาน
A71: 7) | B71: สาเหตุการปรับปรุง | D71: : | E71: เพื่อลดชั่วโมงทำงานเครื่องปรับอากาศ ใช้งานเครื่องปรับอากาศเท่าที่จำเป็น
E72: และยืดอายุการใช้งาน
J74: กิโลวัตต์ | K74: กิโลวัตต์-ชั่วโมง/ปี | L74: บาท/ปี
A75: 8) | B75: ระดับการใช้พลังงานอ้างอิงก่อนการปรับปรุง | J75: 0 | K75: =L109 -> 11059367 | L75: =L109*L106 -> 41796109
A76: 9) | B76: ระดับการใช้พลังงานเป้าหมายหลังการปรับปรุง | J76: 0 | K76: =L109-L111 -> 10208646 | L76: =(L109-L111)*L106 -> 38581024
A77: 10) | B77: ผลประหยัด | J77: 0 | K77: =+K75-K76 -> 850720.5 | L77: =+L75-L76 -> 3215085.3
A78: 11) | B78: เงินลงทุนทั้งหมด | K78: 0 | L78: บาท
A79: 12) | B79: ระยะเวลาคืนทุน | K79: =+K78/L77 -> 0 | L79: ปี
A80: 13) | B80: รายละเอียดการดำเนินการปรับปรุง:
B81: ให้แต่ละแผนกที่มีศักยภาพลดชั่วโมงการใช้งานเครื่องปรับอากาศ โดยไม่กระทบต่อการให้บริการ ดำเนินการ
B82: ลดชั่วโมงใช้งานเครื่องปรับอากาศ โดยมีรายละเอียดการดำเนินงาน คือ
B83: 1. เวลา เปิด-ปิด เครื่องปรับอากาศ ก่อนปรับปรุง คือ 9:00-12:00 น. และ 13:00-16.30 น.
B84: 2. เวลา เปิด-ปิด เครื่องปรับอากาศ หลังปรับปรุง คือ 9:00-12:00 น. และ 13:00-16.00 น.
A94: 14) | B94: วิธีการตรวจสอบผลการประหยัดหลังปรับปรุง
B95: ประเมินผลประหยัดโดยการคำนวณ
A97: 15) | B97: แสดงวิธีการคำนวณประกอบ
B99: รายการข้อมูลประกอบการคำนวณ | J99: หน่วย | K99: ตัวย่อ | L99: ปริมาณ
B100: จำนวนเครื่องปรับอากาศ | J100: เครื่อง | K100: n | L100: 2868
B101: กำลังไฟฟ้าต่อเครื่อง | J101: kW | K101: W | L101: 3.39
B102: ชั่วโมงใช้งานต่อวัน | J102: ชั่วโมง | K102: h1 | L102: 6.5
B103: แฟกเตอร์การทำงาน | J103: % | K103: F | L103: 70
B104: วันที่ใช้งานต่อปี | J104: วัน | K104: D | L104: 250
B105: ชั่วโมงใช้งานต่อวันที่ลดลง | J105: ชั่วโมง | K105: h2 | L105: 0.5
B106: อัตราค่าไฟฟ้าโดยเฉลี่ยต่อหน่วย | J106: บาท | K106: B | L106: ='4.1.2การใช้ไฟฟ้า_62'!L21 -> 3.7792499
B108: การคำนวณ | J108: หน่วย | K108: ตัวย่อ | L108: ปริมาณ
B109: พลังงานที่ใช้ก่อนปรับปรุง; n x W x h x D x (F/100) | J109: kWh/y | K109: Ei | L109: =L100*L101*L102*L103*L104/100 -> 11059367
B110: พลังงานที่ใช้หลังปรับปรุง; n x W x (h1-h2) x D x (F/100) | J110: kWh/y | K110: Eo | L110: =L100*L101*(L102-L105)*L104*L103/100 -> 10208646
B111: พลังงานที่สามารถประหยัดได้; ( Ei-Eo) | J111: kWh/y | K111: Es | L111: =L109-L110 -> 850720.5
B112: คิดเป็นเงินที่ประหยัดได้; (Es x B) | J112: บาท/ปี | K112: Bs | L112: =L106*L111 -> 3215085.3
A126: รายละเอียดมาตรการอนุรักษ์พลังงาน
A127: (สำหรับมาตรการด้านไฟฟ้า)
A129: 1) | B129: มาตรการลำดับที่ | D129: : | E129: 3
A130: 2) | B130: ชื่อมาตรการ | D130: : | E130: เปลี่ยนหลอด T8 (36W) เป็นหลอด LED (18W)
A131: 3) | B131: ผู้รับผิดชอบมาตรการ | D131: : | E131: =ข้อมูลเบื้องต้น!D41 -> 0 | J131: ตำแหน่ง | K131: =ข้อมูลเบื้องต้น!N41 -> 0
A132: 4) | B132: อุปกรณ์ที่ปรับปรุง | D132: : | E132: หลอดไฟ
A133: 5) | B133: จำนวนอุปกรณ์ที่ปรับปรุง | D133: : | E133: =L162 -> 0 | F133: หลอด
A134: 6) | B134: สถานที่ปรับปรุง | D134: : | E134: อาคารเรียนและสำนักงาน
A135: 7) | B135: สาเหตุการปรับปรุง | D135: : | E135: เพื่อเพิ่มประสิทธิภาพการใช้พลังงานในระบบแสงสว่าง
J138: กิโลวัตต์ | K138: กิโลวัตต์-ชั่วโมง/ปี | L138: บาท/ปี
A139: 8) | B139: เป้าหมายเชิงปริมาณ | J139: =+J140-J141 -> 0 | K139: =+K140-K141 -> 0 | L139: =+L140-L141 -> 0
A140: 9) | B140: ระดับการใช้พลังงานอ้างอิงก่อนการปรับปรุง | J140: 0 | K140: =L172 -> 0 | L140: =L172*L$169 -> 0
A141: 10) | B141: ระดับการใช้พลังงานเป้าหมายหลังการปรับปรุง | J141: 0 | K141: =L173 -> 0 | L141: =L173*L$169 -> 0
A142: 11) | B142: เงินลงทุนทั้งหมด | K142: 0 | L142: บาท
A143: 12) | B143: ระยะเวลาคืนทุน | K143: =+K142/L139 -> #DIV/0! | L143: ปี
A144: 13) | B144: รายละเอียดการดำเนินการปรับปรุง:
B145: เปลี่ยนหลอด T8 (36W) ที่มีชั่วโมงการทำงานโดยเฉลี่ย 10 ชั่วโมง
A157: 14) | B157: วิธีการตรวจสอบผลการประหยัดหลังปรับปรุง
B158: ประเมินผลประหยัดโดยการคำนวณ
A159: 15) | B159: แสดงวิธีการคำนวณประกอบ
B161: รายการข้อมูลประกอบการคำนวณ | J161: หน่วย | K161: ตัวย่อ | L161: ปริมาณ
B162: จำนวนหลอด T8 | J162: หลอด | K162: n | L162: 0
B163: กำลังวัตต์หลอด T8 | J163: วัตต์ | K163: W1 | L163: 36
B164: กำลังวัตต์บัลลาสต์แบบธรรมดา | J164: วัตต์ | K164: W2 | L164: 10
B165: กำลังวัตต์หลอด LED | J165: วัตต์ | K165: W3 | L165: 18
B166: กำลังวัตต์บัลลาสต์อิเลคทรอนิคส์ | J166: วัตต์ | K166: W4 | L166: 0
B167: ชั่วโมงใช้งานต่อวัน | J167: ชั่วโมง | K167: h | L167: 8
B168: วันที่ใช้งานต่อปี | J168: วัน | K168: D | L168: 250
B169: อัตราค่าไฟฟ้าโดยเฉลี่ยต่อหน่วย | J169: บาท | K169: B | L169: =' ข้อมูลการใช้ไฟฟ้า '!I21 -> 3.7792499
B171: การคำนวณ | J171: หน่วย | K171: ตัวย่อ | L171: ปริมาณ
...

Sheet มาตรการความร้อน
A1: รายละเอียดมาตรการอนุรักษ์พลังงาน
A2: (สำหรับมาตรการด้านความร้อน)
A4: 1) | B4: มาตรการลำดับที่:
A5: 2) | B5: ชื่อมาตรการ:
A6: 3) | B6: ผู้รับผิดชอบมาตรการ: | J6: ตำแหน่ง
A7: 4) | B7: อุปกรณ์ที่ปรับปรุง:
A8: 5) | B8: จำนวนอุปกรณ์ที่ปรับปรุง:
A9: 6) | B9: สถานที่ปรับปรุง:
A10: 7) | B10: สาเหตุการปรับปรุง:
K14: ลิตร/ปี | L14: เมกะจูล/ปี | M14: บาท/ปี
A15: 8) | B15: ระดับการใช้พลังงานอ้างอิงก่อนการปรับปรุง
A16: 9) | B16: ระดับการใช้พลังงานเป้าหมายหลังการปรับปรุง
A17: 10) | B17: ผลประหยัด
A18: 11) | B18: เงินลงทุนทั้งหมด | M18: บาท
A19: 12) | B19: ระยะเวลาคืนทุน | M19: ปี
A20: 13) | B20: รายละเอียดการดำเนินการปรับปรุง:
A26: 14) | B26: วิธีการตรวจสอบผลการประหยัดหลังปรับปรุง
A31: 15) | B31: แสดงวิธีการคำนวณประกอบ

Sheet 5.2แผนการฝึกอบรม
A1: 5.2 แผนการฝึกอบรม และกิจกรรมเพื่อส่งเสริมการอนุรักษ์พลังงาน
A2: ตารางที่ 5.4 แผนการฝึกอบรมการอนุรักษ์พลังงาน ประจำปี 2563
A4: ลำดับที่ | B4: หลักสูตร/กิจกรรม | C4: กลุ่มผู้เข้าอบรม | D4: เดือน | P4: ผู้รับผิดชอบ
D5: ม.ค. | E5: ก.พ. | F5: มี.ค. | G5: เม.ย. | H5: พ.ค. | I5: มิ.ย. | J5: ก.ค. | K5: ส.ค. | L5: ก.ย. | M5: ต.ค. | N5: พ.ย. | O5: ธ.ค.
A6: 1 | B6: โครงการฝึกอบรมสำนักงานสีเขียว หัวข้อ "การใช้พลังงาน ทรัพยากรอย่างมีประสิทธิภาพ และการจัดการมลพิษของเสีย" | C6: บุคคลากร , นักศึกษา | J6: P | P6: ดร.มุจลินทร์ ผลจันทร์
A7: 2 | B7: โครงการอบรมเพิ่มสมรรถนะทางวิชาชีพทางด้านวิศวกรรมพลังงานเพื่อขอรับใบอนุญาต | C7: บุคคลากร , นักศึกษา | L7: P | P7: ผศ. ดร.ธเนศ ไชยชนะ
A15: หมายเหตุ : ผู้รับผิดชอบ หมายถึง บุคคลที่รับผิดชอบหลักสูตร/กิจกรรม
A17: 59
A18: ตารางที่ 5.5 แผนการส่งเสริมการอนุรักษ์พลังงาน ประจำปี 2563
A20: ลำดับที่ | B20: หลักสูตร/กิจกรรม | C20: กลุ่มผู้เข้าอบรม | D20: เดือน | P20: ผู้รับผิดชอบ
D21: ม.ค. | E21: ก.พ. | F21: มี.ค. | G21: เม.ย. | H21: พ.ค. | I21: มิ.ย. | J21: ก.ค. | K21: ส.ค. | L21: ก.ย. | M21: ต.ค. | N21: พ.ย. | O21: ธ.ค.
A22: 1 | B22: สถานีวิทยุ FM 95.5 | C22: ทุกคน | D22: P | E22: P | F22: P | G22: P | H22: P | I22: P | J22: P | K22: P | L22: P | M22: P | N22: P | O22: P | P22: น.ส.พวงพยอม เสนาวารี
A32: หมายเหตุ : ผู้รับผิดชอบ หมายถึง บุคคลที่รับผิดชอบหลักสูตร/กิจกรรม
A40: 60

Sheet 5.3เพิ่มเติมเผยแพร่ฝึกอบรม
A1: 5.3 การเผยแพร่แผนฝึกอบรมและกิจกรรมเพื่อส่งเสริมการอนุรักษ์พลังงาน
A2: เพื่อให้พนักงานทุกคนรับทราบและเข้าร่วมดำเนินการตามแผนฝึกอบรมและกิจกรรมเพื่อส่งเสริมการอนุรักษ์พลังงานขององค์กร โดยอาคารได้ดำเนินการเผยแพร่และดำเนินการดังต่อไปนี้
A4: วิธีการเผยแพร่แผนฝึกอบรมและกิจกรรมเพื่อส่งเสริมการอนุรักษ์พลังงาน
C5: ติดประกาศ | G5: โปสเตอร์
C6: จำนวนติดประกาศ …11.. คณะ | G6: จำนวนติดประกาศ ….... คณะ
C7: จำนวนติดประกาศ …... วิทยาเขต | G7: จำนวนติดประกาศ …... วิทยาเขต
C8: จำนวนติดประกาศ …3.. วิทยาลัย | G8: จำนวนติดประกาศ …... วิทยาลัย
C9: จำนวนติดประกาศ …10.. สำนัก/วิสาหกิจ | G9: จำนวนติดประกาศ ….... สำนัก/วิสาหกิจ
C10: เอกสารเผยแพร่ | G10: เสียงตามสาย
C11: แผ่นพับ/วารสาร .....ฉบับ | G11: สัปดาห์ละ ….. ครั้ง ช่วงเวลา…...
C12: จดหมายอิเล็กทรอนิกส์ | G12: การประชุมแลกเปลี่ยนเรียนรู้
C13: จำนวนผู้ได้รับ …1,666.. คน | G13: คณะกรรมการการจัดการพลังงาน
C14: ระดับของผู้ได้รับ…….
C15: อื่นๆ (ระบุ) การปิดเปิดการใช้ไฟฟ้าและลิฟท์
C16: อื่นๆ (ระบุ) สถานีวิทยุ FM 95.5
A18: หลักฐานหรือเอกสารต่างๆ ที่แสดงถึงการเผยแพร่แผนฝึกอบรม
B20: (ใส่เอกสารการเผยแพร่คณะทำงานฯ วิธีการที่ 1)
A31: (ก) ติดประกาศ
B36: (ใส่เอกสารการเผยแพร่คณะทำงานฯ วิธีการที่ 1)
A47: (ข) จดหมายอิเล็กทรอนิกส์
B50: (ใส่เอกสารการเผยแพร่คณะทำงานฯ วิธีการที่ 1)
A61: (ค) โปสเตอร์
B66: (ใส่เอกสารการเผยแพร่คณะทำงานฯ วิธีการที่ 1)
A76: (ก) โครงการอบรมเพิ่มสมรรถนะทางวิชาชีพทางด้านวิศวกรรมพลังงานเพื่อขอรับใบอนุญาต
B78: (ใส่เอกสารการเผยแพร่คณะทำงานฯ วิธีการที่ 1)
B88: (ข) โครงการฝึกอบรมสำนักงานสีเขียว หัวข้อ "การใช้พลังงาน ทรัพยากรอย่างมีประสิทธิภาพ และการจัดการมลพิษของเสีย"
B90: (ใส่เอกสารการเผยแพร่คณะทำงานฯ วิธีการที่ 1)
A101: (ก) โครงการให้ความรู้อาสาสมัครการดูแล บำรุงรักษาเครื่องปรับอากาศในสำนักงานอธิการบดีเบื้องต้น
B104: (ใส่เอกสารการเผยแพร่คณะทำงานฯ วิธีการที่ 1)
A115: (ค) สถานีวิทยุ FM 95.5
A116: รูปที่ 5-1 ภาพการเผยแพร่แผนฝึกอบรมและกิจกรรมส่งเสริมการอนุรักษ์พลังงาน
A117: หมายเหตุ : กรณีมีวิธีการเผยแพร่มากกว่า 2 วิธีการ อาคารสามารถเพิ่มจำนวนการแสดงเอกสาร หลักฐานรูปภาพต่างๆ เพิ่มเติม

Sheet ขั้นตอนที่ 6
A1: ขั้นตอนที่ 6 การดำเนินการตามแผนอนุรักษ์พลังงาน การตรวจสอบและวิเคราะห์การ
B2: การปฏิบัติตามเป้าหมายและแผนอนุรักษ์พลังงาน และแผนการฝึกอบรม
B3: และกิจกรรมเพื่อส่งเสริมการอนุรักษ์พลังงาน
A4: 6.1 ผลการติดตามการดำเนินการของมาตรการอนุรักษ์พลังงาน
B5: คณะทำงานด้านการจัดการพลังงานได้ดำเนินการติดตามความก้าวหน้าของการปฏิบัติตามมาตรการและแผน
A6: อนุรักษ์พลังงนที่กำหนดไว้ โดยผลการดำเนินการสรุปได้ดังต่อไปนี้
A8: ตารางที่ 6.1 สรุปผลการติดตามการดำเนินการตามแผนอนุรักษ์พลังงาน
A10: ลำดับที่ | B10: มาตรการ | C10: สถานภาพการดำเนินการ | F10: หมายเหตุ
A11: 1 | B11: =มาตรการและเป้าหมายปี_63!B7 -> บำรุงรักษาเครื่องปรับอากาศแบบแยกส่วน | C11: ดำเนินการตามแผน
C12: ไม่ได้ดำเนินการ เนื่องจาก
C15: ล่าช้า เนื่องจาก
A19: 2 | B19: =มาตรการและเป้าหมายปี_63!B8 -> ลดชั่วโมงการใช้งานเครื่องปรับอากาศ | C19: ดำเนินการตามแผน
C20: ไม่ได้ดำเนินการ เนื่องจาก
C23: ล่าช้า เนื่องจาก
A27: 3 | B27: =แผนไฟฟ้า!B8 -> เปลี่ยนหลอด T8 (36W) เป็นหลอด LED (18W) | C27: ดำเนินการตามแผน
C28: ไม่ได้ดำเนินการ เนื่องจาก
C31: ล่าช้า เนื่องจาก
A35: 4 | B35: =แผนไฟฟ้า!B9 -> เปลี่ยนหลอด T8 (18W) เป็นหลอด LED (9W) | C35: ดำเนินการตามแผน
C36: ไม่ได้ดำเนินการ เนื่องจาก
C39: ล่าช้า เนื่องจาก
A43: 5 | B43: =แผนไฟฟ้า!B10 -> เครื่องปรับอากาศประสิทธิภาพสูง Inverter | C43: ดำเนินการตามแผน
C44: ไม่ได้ดำเนินการ เนื่องจาก
C47: ล่าช้า เนื่องจาก
A51: 5 | B51: =แผนไฟฟ้า!B11 -> 0 | C51: ดำเนินการตามแผน
C52: ไม่ได้ดำเนินการ เนื่องจาก
C55: ล่าช้า เนื่องจาก
A60: 7 | B60: =แผนไฟฟ้า!B12 -> 0 | C60: ดำเนินการตามแผน
C61: ไม่ได้ดำเนินการ เนื่องจาก
C64: ล่าช้า เนื่องจาก
A69: 8 | B69: =แผนไฟฟ้า!B13 -> 0 | C69: ดำเนินการตามแผน
C70: ไม่ได้ดำเนินการ เนื่องจาก
C73: ล่าช้า เนื่องจาก

Sheet ผลมาตรการปี_62
A1: การตรวจสอบการปฏิบัติตามเป้าหมายการอนุรักษ์พลังงาน
B2: ตารางที่ 6.2 สรุปผลการตรวจสอบการปฏิบัติตามเป้าหมายการอนุรักษ์พลังงาน
B3: การติดตามการดำเนินการ | D3: แผนการอนุรักษ์พลังงาน ตามเป้าหมาย | G3: ผลการอนุรักษ์พลังงาน ที่เกิดขึ้นจริง
C5: ร้อยละที่ลดลงของปริมาณพลังงาน | D5: ='ขั้นตอนที่ 5'!G8 -> 10 | G5: =('ผลการตรวจสอบ-วิเคราะห์ไฟฟ้า1'!K12+'ผลการตรวจสอบ-วิเคราะห์ไฟฟ้า1'!K32+'ผลการตรวจสอบ-วิเคราะห์ไฟฟ้า1'!K52+'ผลการตรวจสอบ-วิเคราะห์ไฟฟ้า1'!K70+'ผลการตรวจสอบ-วิเคราะห์ไฟฟ้า1'!K89)*100/' ข้อมูลการใช้ไฟฟ้า '!F46 -> 11.868107
C6: ที่ใช้เดิม
C7: ระดับของค่าการใช้พลังงานต่อ | D7: =+'ขั้นตอนที่ 5'!G9 -> 9.9431602 | G7: ='SEC (ทุกกรณี)'!O22 -> 8.3240054
C8: หน่วยบริการที่ 1
C9: ระดับของค่าการใช้พลังงานต่อ
C10: หน่วยบริการที่ 2
C11: ระดับของค่าการใช้พลังงานต่อ
C12: หน่วยบริการที่ 3

Sheet ผลการตรวจสอบ-วิเคราะห์ไฟฟ้า1
B2: ตารางที่ 6.3 ผลการตรวจสอบและวิเคราะห์การปฏิบัติตามเป้าหมายและแผนอนุรักษ์พลังงาน
B3: สำหรับมาตรการด้านไฟฟ้า
B5: ชื่อมาตรการ: | C5: =มาตรการและเป้าหมายปี_63!B7 -> บำรุงรักษาเครื่องปรับอากาศแบบแยกส่วน
B6: มาตรการลำดับที่: | C6: 1 | D6: จากจำนวนทั้งหมด: | E6: 2 | F6: มาตรการ
B8: ระยะเวลาดำเนินการ | D8: สถานภาพ การดำเนินการ | E8: เงินลงทุน | G8: ผลการอนุรักษ์พลังงาน
G9: ตามเป้าหมาย | J9: ที่เกิดขึ้นจริง
B10: ตามแผน | C10: ที่เกิดขึ้นจริง | E10: ตามแผน | F10: ลงทุนจริง | G10: ไฟฟ้า | J10: ไฟฟ้า
B11: ดำเนินการ | E11: (บาท) | F11: (บาท) | G11: กิโลวัตต์ | H11: กิโลวัตต์-ชั่วโมง/ปี | I11: บาท/ปี | J11: กิโลวัตต์ | K11: กิโลวัตต์-ชั่วโมง/ปี | L11: บาท/ปี
B12: ม.ค.-ธ.ค. 63 | C12: ม.ค.-ธ.ค. 63 | D12: ดำเนินการ ตามแผน | E12: =มาตรการและเป้าหมายปี_63!M7 -> 1088172 | F12: 361095 | H12: =มาตรการและเป้าหมายปี_63!F7 -> 303091.42 | I12: =มาตรการและเป้าหมายปี_63!G7 -> 1145458.2 | K12: =H12 -> 303091.42 | L12: =I12 -> 1145458.2
D13: ไม่ได้ดำเนินการ
D14: ล่าช้า
B15: หมายเหตุ: ระบุมาตรการเรียงตามลำดับ โดยกรอก 1 แผ่น ต่อ 1 มาตรการ
B17: ปัญหาและอุปสรรคที่เกิดขึ้นระหว่างดำเนินการ :
B20: ความคิดเห็นและข้อเสนอแนะ :
B22: ตารางที่ 6.4 ผลการตรวจสอบและวิเคราะห์การปฏิบัติตามเป้าหมายและแผนอนุรักษ์พลังงาน (ต่อ)
B23: สำหรับมาตรการด้านไฟฟ้า
B25: ชื่อมาตรการ: | C25: =มาตรการและเป้าหมายปี_63!B8 -> ลดชั่วโมงการใช้งานเครื่องปรับอากาศ
B26: มาตรการลำดับที่: | C26: 2 | D26: จากจำนวนทั้งหมด: | E26: 2 | F26: มาตรการ
B28: ระยะเวลาดำเนินการ | D28: สถานภาพ การดำเนินการ | E28: เงินลงทุน | G28: ผลการอนุรักษ์พลังงาน
G29: ตามเป้าหมาย | J29: ที่เกิดขึ้นจริง
B30: ตามแผน | C30: ที่เกิดขึ้นจริง | E30: ตามแผน | F30: ลงทุนจริง | G30: ไฟฟ้า | J30: ไฟฟ้า
B31: ดำเนินการ | E31: (บาท) | F31: (บาท) | G31: กิโลวัตต์ | H31: กิโลวัตต์-ชั่วโมง/ปี | I31: บาท/ปี | J31: กิโลวัตต์ | K31: กิโลวัตต์-ชั่วโมง/ปี | L31: บาท/ปี
B32: ม.ค.-ธ.ค. 63 | C32: ม.ค.-ธ.ค. 63 | D32: ดำเนินการ ตามแผน | E32: - | F32: - | H32: =มาตรการและเป้าหมายปี_63!F8 -> 850720.5 | I32: =มาตรการและเป้าหมายปี_63!G8 -> 3215085.3 | K32: =H32 -> 850720.5 | L32: =I32 -> 3215085.3
D33: ไม่ได้ดำเนินการ
D34: ล่าช้า
B35: หมายเหตุ: ระบุมาตรการเรียงตามลำดับ โดยกรอก 1 แผ่น ต่อ 1 มาตรการ
B37: ปัญหาและอุปสรรคที่เกิดขึ้นระหว่างดำเนินการ :
B40: ความคิดเห็นและข้อเสนอแนะ :
B42: ตารางที่ 6.10 ผลการตรวจสอบและวิเคราะห์การปฏิบัติตามเป้าหมายและแผนอนุรักษ์พลังงาน (ต่อ)
B43: สำหรับมาตรการด้านไฟฟ้า
B45: ชื่อมาตรการ: | C45: =มาตรการและเป้าหมายปี_63!B9 -> เปลี่ยนหลอด T8 (36W) เป็นหลอด LED (18W)
B46: มาตรการลำดับที่: | C46: 3 | D46: จากจำนวนทั้งหมด: | E46: 5 | F46: มาตรการ
B48: ระยะเวลาดำเนินการ | D48: สถานภาพ การดำเนินการ | E48: เงินลงทุน | G48: ผลการอนุรักษ์พลังงาน
G49: ตามเป้าหมาย | J49: ที่เกิดขึ้นจริง
B50: ตามแผน | C50: ที่เกิดขึ้นจริง | E50: ตามแผน | F50: ลงทุนจริง | G50: ไฟฟ้า | J50: ไฟฟ้า
B51: ดำเนินการ | E51: (บาท) | F51: (บาท) | G51: กิโลวัตต์ | H51: กิโลวัตต์-ชั่วโมง/ปี | I51: บาท/ปี | J51: กิโลวัตต์ | K51: กิโลวัตต์-ชั่วโมง/ปี | L51: บาท/ปี
B52: เม.ย. 61-ก.ย. 61 | C52: เม.ย. 61-ก.ย. 61 | D52: แล้วเสร็จ | E52: =มาตรการและเป้าหมายปี_63!M9 -> 0 | F52: =E52 -> 0 | H52: =มาตรการและเป้าหมายปี_63!F9 -> 0 | I52: =มาตรการและเป้าหมายปี_63!G9 -> 0 | K52: =H52 -> 0 | L52: =I52 -> 0
B53: หมายเหตุ: ระบุมาตรการเรียงตามลำดับ โดยกรอก 1 แผ่น ต่อ 1 มาตรการ
B54: ปัญหาและอุปสรรคที่เกิดขึ้นระหว่างดำเนินการ :
B57: ความคิดเห็นและข้อเสนอแนะ :
B60: ตารางที่ 6.10 ผลการตรวจสอบและวิเคราะห์การปฏิบัติตามเป้าหมายและแผนอนุรักษ์พลังงาน (ต่อ)
B61: สำหรับมาตรการด้านไฟฟ้า
B63: ชื่อมาตรการ: | C63: =มาตรการและเป้าหมายปี_63!B10 -> เปลี่ยนหลอด T8 (18W) เป็นหลอด LED (9W)
B64: มาตรการลำดับที่: | C64: 4 | D64: จากจำนวนทั้งหมด: | E64: 5 | F64: มาตรการ
B66: ระยะเวลาดำเนินการ | D66: สถานภาพ การดำเนินการ | E66: เงินลงทุน | G66: ผลการอนุรักษ์พลังงาน
G67: ตามเป้าหมาย | J67: ที่เกิดขึ้นจริง
B68: ตามแผน | C68: ที่เกิดขึ้นจริง | E68: ตามแผน | F68: ลงทุนจริง | G68: ไฟฟ้า | J68: ไฟฟ้า
B69: ดำเนินการ | E69: (บาท) | F69: (บาท) | G69: กิโลวัตต์ | H69: กิโลวัตต์-ชั่วโมง/ปี | I69: บาท/ปี | J69: กิโลวัตต์ | K69: กิโลวัตต์-ชั่วโมง/ปี | L69: บาท/ปี
B70: เม.ย. 61-ก.ย. 61 | C70: เม.ย. 61-ก.ย. 61 | D70: =D52 -> แล้วเสร็จ | E70: =มาตรการและเป้าหมายปี_63!M10 -> 0 | F70: =E70 -> 0 | H70: =มาตรการและเป้าหมายปี_63!F10 -> 0 | I70: =มาตรการและเป้าหมายปี_63!G10 -> 0 | K70: =H70 -> 0 | L70: =I70 -> 0
B71: หมายเหตุ: ระบุมาตรการเรียงตามลำดับ โดยกรอก 1 แผ่น ต่อ 1 มาตรการ
B73: ปัญหาและอุปสรรคที่เกิดขึ้นระหว่างดำเนินการ :
B76: ความคิดเห็นและข้อเสนอแนะ :
B79: ตารางที่ 6.10 ผลการตรวจสอบและวิเคราะห์การปฏิบัติตามเป้าหมายและแผนอนุรักษ์พลังงาน
B80: สำหรับมาตรการด้านไฟฟ้า
B82: ชื่อมาตรการ: | C82: =มาตรการและเป้าหมายปี_63!B11 -> เครื่องปรับอากาศประสิทธิภาพสูง Inverter
B83: มาตรการลำดับที่: | C83: 5 | D83: จากจำนวนทั้งหมด: | E83: 5 | F83: มาตรการ
B85: ระยะเวลาดำเนินการ | D85: สถานภาพ การดำเนินการ | E85: เงินลงทุน | G85: ผลการอนุรักษ์พลังงาน
G86: ตามเป้าหมาย | J86: ที่เกิดขึ้นจริง
B87: ตามแผน | C87: ที่เกิดขึ้นจริง | E87: ตามแผน | F87: ลงทุนจริง | G87: ไฟฟ้า | J87: ไฟฟ้า
B88: ดำเนินการ | E88: (บาท) | F88: (บาท) | G88: กิโลวัตต์ | H88: กิโลวัตต์-ชั่วโมง/ปี | I88: บาท/ปี | J88: กิโลวัตต์ | K88: กิโลวัตต์-ชั่วโมง/ปี | L88: บาท/ปี
B89: เม.ย. 61-ก.ย. 61 | C89: เม.ย. 61-ก.ย. 61 | D89: =D70 -> แล้วเสร็จ | E89: =มาตรการและเป้าหมายปี_63!M11 -> 0 | F89: =E89 -> 0 | H89: =มาตรการและเป้าหมายปี_63!F11 -> 2160 | I89: =มาตรการและเป้าหมายปี_63!G11 -> 8164.8 | K89: =H89 -> 2160 | L89: =I89 -> 8164.8
B90: หมายเหตุ: ระบุมาตรการเรียงตามลำดับ โดยกรอก 1 แผ่น ต่อ 1 มาตรการ
B92: ปัญหาและอุปสรรคที่เกิดขึ้นระหว่างดำเนินการ :
B95: ความคิดเห็นและข้อเสนอแนะ :

Sheet ภาพ+คำนวณผลไฟฟ้า 1
B1: รายละเอียดผลการดำเนินการที่เกิดขึ้นจริง
B2: (สำหรับมาตรการด้านไฟฟ้า)
B3: ='ผลการตรวจสอบ-วิเคราะห์ไฟฟ้า1'!B5 -> ชื่อมาตรการ: | D3: ='ผลการตรวจสอบ-วิเคราะห์ไฟฟ้า1'!C5 -> บำรุงรักษาเครื่องปรับอากาศแบบแยกส่วน
B4: ='ผลการตรวจสอบ-วิเคราะห์ไฟฟ้า1'!B6 -> มาตรการลำดับที่: | D4: ='ผลการตรวจสอบ-วิเคราะห์ไฟฟ้า1'!C6 -> 1
C5: ภาพหลังดำเนินการปรับปรุง
B27: รูปที่ 6-1 หลังดำเนินการปรับปรุง
A29: แสดงวิธีการคำนวณผลอนุรักษ์พลังงานที่เกิดขึ้นจริง (มาตรการด้านไฟฟ้า)
B31: ='มาตรการไฟฟ้า '!B36:I36 -> รายการข้อมูลประกอบการคำนวณ | E31: ='มาตรการไฟฟ้า '!J36 -> หน่วย | F31: ='มาตรการไฟฟ้า '!K36 -> ตัวย่อ | G31: ='มาตรการไฟฟ้า '!L36 -> ปริมาณ
B32: ='มาตรการไฟฟ้า '!B37:I37 -> จำนวนเครื่องปรับอากาศ | E32: ='มาตรการไฟฟ้า '!J37 -> เครื่อง | F32: ='มาตรการไฟฟ้า '!K37 -> n | G32: ='มาตรการไฟฟ้า '!L37 -> 1572
B33: ='มาตรการไฟฟ้า '!B38:I38 -> กำลังไฟฟ้าต่อเครื่อง | E33: ='มาตรการไฟฟ้า '!J38 -> kW | F33: ='มาตรการไฟฟ้า '!K38 -> W | G33: ='มาตรการไฟฟ้า '!L38 -> 3.39
B34: ='มาตรการไฟฟ้า '!B39:I39 -> ชั่วโมงใช้งานต่อวัน | E34: ='มาตรการไฟฟ้า '!J39 -> ชั่วโมง | F34: ='มาตรการไฟฟ้า '!K39 -> h | G34: ='มาตรการไฟฟ้า '!L39 -> 6.5
B35: ='มาตรการไฟฟ้า '!B40:I40 -> แฟกเตอร์การทำงาน | E35: ='มาตรการไฟฟ้า '!J40 -> % | F35: ='มาตรการไฟฟ้า '!K40 -> F | G35: ='มาตรการไฟฟ้า '!L40 -> 70
B36: ='มาตรการไฟฟ้า '!B41:I41 -> วันที่ใช้งานต่อปี | E36: ='มาตรการไฟฟ้า '!J41 -> วัน | F36: ='มาตรการไฟฟ้า '!K41 -> D | G36: ='มาตรการไฟฟ้า '!L41 -> 250
B37: ='มาตรการไฟฟ้า '!B42:I42 -> ผลประหยัดภายหลังการบำรุงรักษา | E37: ='มาตรการไฟฟ้า '!J42 -> % | F37: ='มาตรการไฟฟ้า '!K42 -> S | G37: ='มาตรการไฟฟ้า '!L42 -> 5
B38: ='มาตรการไฟฟ้า '!B43:I43 -> อัตราค่าไฟฟ้าโดยเฉลี่ยต่อหน่วย | E38: ='มาตรการไฟฟ้า '!J43 -> บาท | F38: ='มาตรการไฟฟ้า '!K43 -> B | G38: ='มาตรการไฟฟ้า '!L43 -> 3.7792499
B41: ='มาตรการไฟฟ้า '!B45:I45 -> การคำนวณ | F41: ='มาตรการไฟฟ้า '!J45 -> หน่วย | G41: ='มาตรการไฟฟ้า '!K45 -> ตัวย่อ | H41: ='มาตรการไฟฟ้า '!L45 -> ปริมาณ
B42: ='มาตรการไฟฟ้า '!B46:I46 -> พลังงานที่ใช้ก่อนปรับปรุง; n x W x h x D x (F/100) | F42: ='มาตรการไฟฟ้า '!J46 -> kWh/y | G42: ='มาตรการไฟฟ้า '!K46 -> Ei | H42: ='มาตรการไฟฟ้า '!L46 -> 6061828.5
B43: ='มาตรการไฟฟ้า '!B47:I47 -> พลังงานที่สามารถประหยัดได้; (S x Ei)/100 | F43: ='มาตรการไฟฟ้า '!J47 -> kWh/y | G43: ='มาตรการไฟฟ้า '!K47 -> Es | H43: ='มาตรการไฟฟ้า '!L47 -> 303091.42
B44: ='มาตรการไฟฟ้า '!B48:I48 -> คิดเป็นเงินที่ประหยัดได้; (Es x B) | F44: ='มาตรการไฟฟ้า '!J48 -> บาท/ปี | G44: ='มาตรการไฟฟ้า '!K48 -> Bs | H44: ='มาตรการไฟฟ้า '!L48 -> 1145458.2

Sheet ภาพ+คำนวณผลไฟฟ้า 2
B1: รายละเอียดผลการดำเนินการที่เกิดขึ้นจริง
B2: (สำหรับมาตรการด้านไฟฟ้า)
B3: ='ผลการตรวจสอบ-วิเคราะห์ไฟฟ้า1'!B5 -> ชื่อมาตรการ: | D3: ='ผลการตรวจสอบ-วิเคราะห์ไฟฟ้า1'!C25 -> ลดชั่วโมงการใช้งานเครื่องปรับอากาศ
B4: ='ผลการตรวจสอบ-วิเคราะห์ไฟฟ้า1'!B6 -> มาตรการลำดับที่: | D4: ='ผลการตรวจสอบ-วิเคราะห์ไฟฟ้า1'!C26 -> 2
C5: ภาพหลังดำเนินการปรับปรุง
B28: รูปที่ 6-1 หลังดำเนินการปรับปรุง
A30: แสดงวิธีการคำนวณผลอนุรักษ์พลังงานที่เกิดขึ้นจริง (มาตรการด้านไฟฟ้า)
B32: ='มาตรการไฟฟ้า '!B99:I99 -> รายการข้อมูลประกอบการคำนวณ | E32: ='มาตรการไฟฟ้า '!J99 -> หน่วย | F32: ='มาตรการไฟฟ้า '!K99 -> ตัวย่อ | G32: ='มาตรการไฟฟ้า '!L99 -> ปริมาณ
B33: ='มาตรการไฟฟ้า '!B100:I100 -> จำนวนเครื่องปรับอากาศ | E33: ='มาตรการไฟฟ้า '!J100 -> เครื่อง | F33: ='มาตรการไฟฟ้า '!K100 -> n | G33: ='มาตรการไฟฟ้า '!L100 -> 2868
B34: ='มาตรการไฟฟ้า '!B101:I101 -> กำลังไฟฟ้าต่อเครื่อง | E34: ='มาตรการไฟฟ้า '!J101 -> kW | F34: ='มาตรการไฟฟ้า '!K101 -> W | G34: ='มาตรการไฟฟ้า '!L101 -> 3.39
B35: ='มาตรการไฟฟ้า '!B102:I102 -> ชั่วโมงใช้งานต่อวัน | E35: ='มาตรการไฟฟ้า '!J102 -> ชั่วโมง | F35: ='มาตรการไฟฟ้า '!K102 -> h1 | G35: ='มาตรการไฟฟ้า '!L102 -> 6.5
B36: ='มาตรการไฟฟ้า '!B103:I103 -> แฟกเตอร์การทำงาน | E36: ='มาตรการไฟฟ้า '!J103 -> % | F36: ='มาตรการไฟฟ้า '!K103 -> F | G36: ='มาตรการไฟฟ้า '!L103 -> 70
B37: ='มาตรการไฟฟ้า '!B104:I104 -> วันที่ใช้งานต่อปี | E37: ='มาตรการไฟฟ้า '!J104 -> วัน | F37: ='มาตรการไฟฟ้า '!K104 -> D | G37: ='มาตรการไฟฟ้า '!L104 -> 250
B38: ='มาตรการไฟฟ้า '!B105:I105 -> ชั่วโมงใช้งานต่อวันที่ลดลง | E38: ='มาตรการไฟฟ้า '!J105 -> ชั่วโมง | F38: ='มาตรการไฟฟ้า '!K105 -> h2 | G38: ='มาตรการไฟฟ้า '!L105 -> 0.5
B39: ='มาตรการไฟฟ้า '!B106:I106 -> อัตราค่าไฟฟ้าโดยเฉลี่ยต่อหน่วย | E39: ='มาตรการไฟฟ้า '!J106 -> บาท | F39: ='มาตรการไฟฟ้า '!K106 -> B | G39: ='มาตรการไฟฟ้า '!L106 -> 3.7792499
B42: ='มาตรการไฟฟ้า '!B108:I108 -> การคำนวณ | F42: ='มาตรการไฟฟ้า '!J108 -> หน่วย | G42: ='มาตรการไฟฟ้า '!K108 -> ตัวย่อ | H42: ='มาตรการไฟฟ้า '!L108 -> ปริมาณ
B43: ='มาตรการไฟฟ้า '!B109:I109 -> พลังงานที่ใช้ก่อนปรับปรุง; n x W x h x D x (F/100) | F43: ='มาตรการไฟฟ้า '!J109 -> kWh/y | G43: ='มาตรการไฟฟ้า '!K109 -> Ei | H43: ='มาตรการไฟฟ้า '!L109 -> 11059367
B44: ='มาตรการไฟฟ้า '!B110:I110 -> พลังงานที่ใช้หลังปรับปรุง; n x W x (h1-h2) x D x (F/100) | F44: ='มาตรการไฟฟ้า '!J110 -> kWh/y | G44: ='มาตรการไฟฟ้า '!K110 -> Eo | H44: ='มาตรการไฟฟ้า '!L110 -> 10208646
B45: ='มาตรการไฟฟ้า '!B111:I111 -> พลังงานที่สามารถประหยัดได้; ( Ei-Eo) | F45: ='มาตรการไฟฟ้า '!J111 -> kWh/y | G45: ='มาตรการไฟฟ้า '!K111 -> Es | H45: ='มาตรการไฟฟ้า '!L111 -> 850720.5
B46: ='มาตรการไฟฟ้า '!B112:I112 -> คิดเป็นเงินที่ประหยัดได้; (Es x B) | F46: ='มาตรการไฟฟ้า '!J112 -> บาท/ปี | G46: ='มาตรการไฟฟ้า '!K112 -> Bs | H46: ='มาตรการไฟฟ้า '!L112 -> 3215085.3

Sheet ผลการตรวจสอบ-วิเคราะห์ความร้อน
A2: ตารางที่ 6.3 ผลการตรวจสอบและวิเคราะห์การปฏิบัติตามเป้าหมายและแผนอนุรักษ์พลังงาน
A3: สำหรับมาตรการด้านความร้อน
A5: ชื่อมาตรการ:
A6: มาตรการลำดับที่: | C6: จากจำนวนทั้งหมด: | E6: มาตรการ
A8: ระยะเวลาดำเนินการ | C8: สถานภาพ การดำเนินการ | D8: เงินลงทุน | F8: ผลการอนุรักษ์พลังงาน
F9: ตามเป้าหมาย | J9: ที่เกิดขึ้นจริง
A10: ตามแผน | B10: ที่เกิดขึ้นจริง | D10: ตามแผน | E10: ลงทุนจริง | F10: เชื้อเพลิง | J10: เชื้อเพลิง
A11: ดำเนินการ | D11: (บาท) | E11: (บาท) | F11: ชนิด | G11: ปริมาณ | H11: หน่วย(ระบุ) | I11: บาท/ปี | J11: ชนิด | K11: ปริมาณ | L11: หน่วย(ระบุ) | M11: บาท/ปี
C12: ดำเนินการ ตามแผน
C13: ไม่ได้ดำเนินการ
C14: ล่าช้า
A15: หมายเหตุ: ระบุมาตรการเรียงตามลำดับ โดยกรอก 1 แผ่น ต่อ 1 มาตรการ
A17: ปัญหาและอุปสรรคที่เกิดขึ้นระหว่างดำเนินการ :
A19: ความคิดเห็นและข้อเสนอแนะ :

Sheet มาตรการความร้อน (2)
A1: รายละเอียดผลการดำเนินการที่เกิดขึ้นจริง
A2: (สำหรับมาตรการด้านความร้อน)
A4: 1) | B4: มาตรการลำดับที่:
A5: 2) | B5: ชื่อมาตรการ:
A6: 3) | B6: ผู้รับผิดชอบมาตรการ: | J6: ตำแหน่ง
A7: 4) | B7: อุปกรณ์ที่ปรับปรุง:
A8: 5) | B8: จำนวนอุปกรณ์ที่ปรับปรุง:
A9: 6) | B9: สถานที่ปรับปรุง:
A10: 7) | B10: สาเหตุการปรับปรุง:
K14: ลิตร/ปี | L14: เมกะจูล/ปี | M14: บาท/ปี
A15: 8) | B15: ระดับการใช้พลังงานอ้างอิงก่อนการปรับปรุง
A16: 9) | B16: ระดับการใช้พลังงานเป้าหมายหลังการปรับปรุง
A17: 10) | B17: ผลประหยัด
A18: 11) | B18: เงินลงทุนทั้งหมด | M18: บาท
A19: 12) | B19: ระยะเวลาคืนทุน | M19: ปี
A20: 13) | B20: รายละเอียดการดำเนินการปรับปรุง:
A26: 14) | B26: วิธีการตรวจสอบผลการประหยัดหลังปรับปรุง
A31: 15) | B31: แสดงวิธีการคำนวณประกอบ

Sheet 6.2ผลการติดตามแผนฝีกอบรม 
A1: 6.2 ผลการติดตามการดำเนินงานของแผนการฝึกอบรมและกิจกรรมเพื่อส่งเสริมการอนุรักษ์พลังงาน
A3: ตารางที่ 6.5 สรุปสถานภาพการดำเนินงานตามหลักสูตรการฝึกอบรม
A5: ลำดับ ที่ | B5: ชื่อหลักสูตรการฝึกอบรม | C5: สถานภาพการดำเนินการ | F5: จำนวน ผู้เข้าอบรม | G5: หมายเหตุ
A6: 1 | B6: โครงการอบรมเพิ่มสมรรถนะทางวิชาชีพทางด้านวิศวกรรมพลังงานเพื่อขอรับใบอนุญาต | C6: ดำเนินการตามแผน | F6: 70
C7: ไม่ได้ดำเนินการ เนื่องจาก
C10: ล่าช้า เนื่องจาก
A14: 2 | B14: โครงการฝึกอบรมสำนักงานสีเขียว หัวข้อ "การใช้พลังงาน ทรัพยากรอย่างมีประสิทธิภาพ และการจัดการมลพิษของเสีย" | C14: ดำเนินการตามแผน | F14: 30
C15: ไม่ได้ดำเนินการ เนื่องจาก
C18: ล่าช้า เนื่องจาก
B30: ภาพ/หลักฐานแสดงการฝึกอบรม
B43: รูปที่ 6-5 ภาพแสดงการฝึกอบรม โครงการอบรมเพิ่มสมรรถนะทางวิชาชีพทางด้านวิศวกรรมพลังงานเพื่อขอรับใบอนุญาต
B58: รูปที่ 6-5.1 ภาพแสดงการฝึกอบรม โครงการฝึกอบรมสำนักงานสีเขียว หัวข้อ "การใช้พลังงาน ทรัพยากรอย่างมีประสิทธิภาพ และการจัดการมลพิษของเสีย"
B72: รูปที่ 6-5.2 ภาพแสดงการฝึกอบรม

Sheet ผลการติดตามแผนกิจกรรม
A2: ตารางที่ 6.6 สรุปสถานภาพการดำเนินงานตามกิจกรรมเพื่อส่งเสริมการอนุรักษ์พลังงาน
A4: ลำดับ ที่ | B4: ชื่อกิจกรรม เพื่อส่งเสริม การอนุรักษ์พลังงาน | C4: สถานภาพการดำเนินการ | F4: จำนวน ผู้เข้ากิจกรรม | G4: หมายเหตุ
A5: 1 | B5: สถานีวิทยุ FM 95.5 เรื่องการประหยัดพลังงาน | C5: ดำเนินการตามแผน | F5: 1000
C6: ไม่ได้ดำเนินการ เนื่องจาก
C9: ล่าช้า เนื่องจาก
B14: ภาพ/หลักฐานแสดงกิจกรรมเพื่อส่งเสริมการอนุรักษ์พลังงาน
B28: รูปที่ 6-6 สถานีวิทยุ FM 95.5 เรื่องการประหยัดพลังงาน

Sheet 6.3.1 ข้อมูลการใช้อาคาร_63
A1: 6.3 ข้อมูลทางด้านพลังงานในรอบปี 2563
A2: 6.3.1) ข้อมูลการใช้อาคารในรอบปี 2563
B3: 6.3.1.1) รายละเอียดการใช้งานอาคาร (สำหรับอาคารทุกประเภท)
B4: ตารางที่ 6.7 รายละเอียดการใช้งานอาคาร ในรอบปี 2563
F6: เวลาทำงาน | H6: พื้นที่ทั้งหมดของอาคาร (ตารางเมตร)
B7: ลำดับที่ | C7: ชื่ออาคาร | D7: ปี พ.ศ. | E7: จำนวน | H7: (1) พื้นที่ใช้สอย | K7: (2) | L7: (3)=(2)+(1)
D8: ที่เปิดใช้งาน | E8: ชั้น | F8: ชั่วโมง/วัน | G8: วัน/ปี | H8: ปรับอากาศ | I8: ไม่ปรับอากาศ | J8: รวม | K8: พื้นที่จอดรถ ในตัวอาคาร | L8: รวม
B9: ='4.1.1 รายละเอียดการใช้อาคาร_62'!B9 -> ส่วนกลาง
B10: ='4.1.1 รายละเอียดการใช้อาคาร_62'!B10 -> 1 | C10: ='4.1.1 รายละเอียดการใช้อาคาร_62'!C10 -> อาคารเทพศาสตร์สถิตย์(มิเตอร์หมุนกลับทาง) | D10: ='4.1.1 รายละเอียดการใช้อาคาร_62'!D10 -> 2526 | E10: ='4.1.1 รายละเอียดการใช้อาคาร_62'!E10 -> 2 | F10: ='4.1.1 รายละเอียดการใช้อาคาร_62'!F10 -> 8 | G10: ='4.1.1 รายละเอียดการใช้อาคาร_62'!G10 -> 250 | H10: ='4.1.1 รายละเอียดการใช้อาคาร_62'!H10 -> 788 | I10: ='4.1.1 รายละเอียดการใช้อาคาร_62'!I10 -> 2015.5 | ... L10: ='4.1.1 รายละเอียดการใช้อาคาร_62'!L10 -> 2803.5
B11: ='4.1.1 รายละเอียดการใช้อาคาร_62'!B11 -> 2 | C11: ='4.1.1 รายละเอียดการใช้อาคาร_62'!C11 -> โรงประชุม (รวมอาคารห้องน้ำ) (ชูติวัตร เดิม) | D11: ='4.1.1 รายละเอียดการใช้อาคาร_62'!D11 -> 2490 | E11: ='4.1.1 รายละเอียดการใช้อาคาร_62'!E11 -> 1 | F11: ='4.1.1 รายละเอียดการใช้อาคาร_62'!F11 -> 1 | G11: ='4.1.1 รายละเอียดการใช้อาคาร_62'!G11 -> 250 | H11: ='4.1.1 รายละเอียดการใช้อาคาร_62'!H11 -> 0 | I11: ='4.1.1 รายละเอียดการใช้อาคาร_62'!I11 -> 461 | ... L11: ='4.1.1 รายละเอียดการใช้อาคาร_62'!L11 -> 461
B12: ='4.1.1 รายละเอียดการใช้อาคาร_62'!B12 -> 3 | C12: ='4.1.1 รายละเอียดการใช้อาคาร_62'!C12 -> อาคารแผ่พืชน์ | D12: ='4.1.1 รายละเอียดการใช้อาคาร_62'!D12 -> 2511 | E12: ='4.1.1 รายละเอียดการใช้อาคาร_62'!E12 -> 1 | F12: ='4.1.1 รายละเอียดการใช้อาคาร_62'!F12 -> 1 | G12: ='4.1.1 รายละเอียดการใช้อาคาร_62'!G12 -> 250 | H12: ='4.1.1 รายละเอียดการใช้อาคาร_62'!H12 -> 12 | I12: ='4.1.1 รายละเอียดการใช้อาคาร_62'!I12 -> 1892 | ... L12: ='4.1.1 รายละเอียดการใช้อาคาร_62'!L12 -> 1904
B13: ='4.1.1 รายละเอียดการใช้อาคาร_62'!B13 -> 4 | C13: ='4.1.1 รายละเอียดการใช้อาคาร_62'!C13 -> อาคารวุฒากาศ | D13: ='4.1.1 รายละเอียดการใช้อาคาร_62'!D13 -> 2515 | E13: ='4.1.1 รายละเอียดการใช้อาคาร_62'!E13 -> 2 | F13: ='4.1.1 รายละเอียดการใช้อาคาร_62'!F13 -> 1 | G13: ='4.1.1 รายละเอียดการใช้อาคาร_62'!G13 -> 250 | H13: ='4.1.1 รายละเอียดการใช้อาคาร_62'!H13 -> 426 | I13: ='4.1.1 รายละเอียดการใช้อาคาร_62'!I13 -> 205 | ... L13: ='4.1.1 รายละเอียดการใช้อาคาร_62'!L13 -> 631
B14: ='4.1.1 รายละเอียดการใช้อาคาร_62'!B14 -> 5 | C14: ='4.1.1 รายละเอียดการใช้อาคาร_62'!C14 -> อาคารเฉลิมพระเกียรติ โซน A | D14: ='4.1.1 รายละเอียดการใช้อาคาร_62'!D14 -> 2537 | E14: ='4.1.1 รายละเอียดการใช้อาคาร_62'!E14 -> 2 | F14: ='4.1.1 รายละเอียดการใช้อาคาร_62'!F14 -> 1 | G14: ='4.1.1 รายละเอียดการใช้อาคาร_62'!G14 -> 250 | H14: ='4.1.1 รายละเอียดการใช้อาคาร_62'!H14 -> 5503.65 | I14: ='4.1.1 รายละเอียดการใช้อาคาร_62'!I14 -> 8353.36 | ... L14: ='4.1.1 รายละเอียดการใช้อาคาร_62'!L14 -> 18648.39
B15: ='4.1.1 รายละเอียดการใช้อาคาร_62'!B15 -> 6 | C15: ='4.1.1 รายละเอียดการใช้อาคาร_62'!C15 -> อาคารเฉลิมพระเกียรติ โซน B | D15: ='4.1.1 รายละเอียดการใช้อาคาร_62'!D15 -> 2537 | E15: ='4.1.1 รายละเอียดการใช้อาคาร_62'!E15 -> 4 | F15: ='4.1.1 รายละเอียดการใช้อาคาร_62'!F15 -> 5 | G15: ='4.1.1 รายละเอียดการใช้อาคาร_62'!G15 -> 250 | H15: ='4.1.1 รายละเอียดการใช้อาคาร_62'!H15 -> 606.25 | I15: ='4.1.1 รายละเอียดการใช้อาคาร_62'!I15 -> 5253.25 | ... L15: ='4.1.1 รายละเอียดการใช้อาคาร_62'!L15 -> 5859.5
B16: ='4.1.1 รายละเอียดการใช้อาคาร_62'!B16 -> 7 | C16: ='4.1.1 รายละเอียดการใช้อาคาร_62'!C16 -> สนามกีฬาอินทนิล (อัฒจัททร์ 2 หลัง) | D16: ='4.1.1 รายละเอียดการใช้อาคาร_62'!D16 -> 2527 | E16: ='4.1.1 รายละเอียดการใช้อาคาร_62'!E16 -> 2 | F16: ='4.1.1 รายละเอียดการใช้อาคาร_62'!F16 -> 1 | G16: ='4.1.1 รายละเอียดการใช้อาคาร_62'!G16 -> 250 | H16: ='4.1.1 รายละเอียดการใช้อาคาร_62'!H16 -> 79.32 | I16: ='4.1.1 รายละเอียดการใช้อาคาร_62'!I16 -> 1742.6 | ... L16: ='4.1.1 รายละเอียดการใช้อาคาร_62'!L16 -> 1821.92
B17: ='4.1.1 รายละเอียดการใช้อาคาร_62'!B17 -> 8 | C17: ='4.1.1 รายละเอียดการใช้อาคาร_62'!C17 -> โรงประปา 2 | D17: ='4.1.1 รายละเอียดการใช้อาคาร_62'!D17 -> 2559 | E17: ='4.1.1 รายละเอียดการใช้อาคาร_62'!E17 -> 1 | F17: ='4.1.1 รายละเอียดการใช้อาคาร_62'!F17 -> 1 | G17: ='4.1.1 รายละเอียดการใช้อาคาร_62'!G17 -> 250 | H17: ='4.1.1 รายละเอียดการใช้อาคาร_62'!H17 -> 0 | I17: ='4.1.1 รายละเอียดการใช้อาคาร_62'!I17 -> 32 | ... L17: ='4.1.1 รายละเอียดการใช้อาคาร_62'!L17 -> 32
B18: ='4.1.1 รายละเอียดการใช้อาคาร_62'!B18 -> 9 | C18: ='4.1.1 รายละเอียดการใช้อาคาร_62'!C18 -> อาคารเรือนธรรม | D18: ='4.1.1 รายละเอียดการใช้อาคาร_62'!D18 -> 2540 | E18: ='4.1.1 รายละเอียดการใช้อาคาร_62'!E18 -> 2 | F18: ='4.1.1 รายละเอียดการใช้อาคาร_62'!F18 -> 1 | G18: ='4.1.1 รายละเอียดการใช้อาคาร_62'!G18 -> 250 | H18: ='4.1.1 รายละเอียดการใช้อาคาร_62'!H18 -> 0 | I18: ='4.1.1 รายละเอียดการใช้อาคาร_62'!I18 -> 607.25 | ... L18: ='4.1.1 รายละเอียดการใช้อาคาร_62'!L18 -> 607.25
B19: ='4.1.1 รายละเอียดการใช้อาคาร_62'!B19 -> 10 | C19: ='4.1.1 รายละเอียดการใช้อาคาร_62'!C19 -> อาคารพิพิธภัณฑ์เกษตรไทย | D19: ='4.1.1 รายละเอียดการใช้อาคาร_62'!D19 -> 2499 | E19: ='4.1.1 รายละเอียดการใช้อาคาร_62'!E19 -> 2 | F19: ='4.1.1 รายละเอียดการใช้อาคาร_62'!F19 -> 1 | G19: ='4.1.1 รายละเอียดการใช้อาคาร_62'!G19 -> 250 | H19: ='4.1.1 รายละเอียดการใช้อาคาร_62'!H19 -> 640 | I19: ='4.1.1 รายละเอียดการใช้อาคาร_62'!I19 -> - | ... L19: ='4.1.1 รายละเอียดการใช้อาคาร_62'!L19 -> 640
B20: ='4.1.1 รายละเอียดการใช้อาคาร_62'!B20 -> 11 | C20: ='4.1.1 รายละเอียดการใช้อาคาร_62'!C20 -> อาคารเรียนรวมแม่โจ้ 70 ปี | D20: ='4.1.1 รายละเอียดการใช้อาคาร_62'!D20 -> 2549 | E20: ='4.1.1 รายละเอียดการใช้อาคาร_62'!E20 -> 5 | F20: ='4.1.1 รายละเอียดการใช้อาคาร_62'!F20 -> 8 | G20: ='4.1.1 รายละเอียดการใช้อาคาร_62'!G20 -> 250 | H20: ='4.1.1 รายละเอียดการใช้อาคาร_62'!H20 -> 3105.81 | I20: ='4.1.1 รายละเอียดการใช้อาคาร_62'!I20 -> 9055.81 | ... L20: ='4.1.1 รายละเอียดการใช้อาคาร_62'!L20 -> 13421.87
B21: ='4.1.1 รายละเอียดการใช้อาคาร_62'!B21 -> 12 | C21: ='4.1.1 รายละเอียดการใช้อาคาร_62'!C21 -> อาคารเฉลิมพระเกียรติสมเด็จพระเทพรัตนราชสุดา | D21: ='4.1.1 รายละเอียดการใช้อาคาร_62'!D21 -> 2536 | E21: ='4.1.1 รายละเอียดการใช้อาคาร_62'!E21 -> 3 | F21: ='4.1.1 รายละเอียดการใช้อาคาร_62'!F21 -> 8 | G21: ='4.1.1 รายละเอียดการใช้อาคาร_62'!G21 -> 250 | H21: ='4.1.1 รายละเอียดการใช้อาคาร_62'!H21 -> 7063.5 | I21: ='4.1.1 รายละเอียดการใช้อาคาร_62'!I21 -> 5573.75 | ... L21: ='4.1.1 รายละเอียดการใช้อาคาร_62'!L21 -> 12637.25
... B30: ='4.1.1 รายละเอียดการใช้อาคาร_62'!B30 -> 21 | C30: ='4.1.1 รายละเอียดการใช้อาคาร_62'!C30 -> อาคารช่วงเกษตรศิลป์ | D30: ='4.1.1 รายละเอียดการใช้อาคาร_62'!D30 -> 2496 | E30: ='4.1.1 รายละเอียดการใช้อาคาร_62'!E30 -> 2 | F30: ='4.1.1 รายละเอียดการใช้อาคาร_62'!F30 -> 8 | G30: ='4.1.1 รายละเอียดการใช้อาคาร_62'!G30 -> 250 | H30: ='4.1.1 รายละเอียดการใช้อาคาร_62'!H30 -> 954.5 | I30: ='4.1.1 รายละเอียดการใช้อาคาร_62'!I30 -> 1269.76 | ... L30: ='4.1.1 รายละเอียดการใช้อาคาร_62'!L30 -> 2224.26
B31: ='4.1.1 รายละเอียดการใช้อาคาร_62'!B31 -> สำนักงานมหาวิทยาลัย
B32: ='4.1.1 รายละเอียดการใช้อาคาร_62'!B32 -> 22 | C32: ='4.1.1 รายละเอียดการใช้อาคาร_62'!C32 -> อาคารสำนักงานมหาวิทยาลัย 1 (สำนักมาตราฐานการศึกษา เดิม) | D32: ='4.1.1 รายละเอียดการใช้อาคาร_62'!D32 -> 2513 | E32: ='4.1.1 รายละเอียดการใช้อาคาร_62'!E32 -> 2 | F32: ='4.1.1 รายละเอียดการใช้อาคาร_62'!F32 -> 8 | G32: ='4.1.1 รายละเอียดการใช้อาคาร_62'!G32 -> 250 | H32: ='4.1.1 รายละเอียดการใช้อาคาร_62'!H32 -> 404 | I32: ='4.1.1 รายละเอียดการใช้อาคาร_62'!I32 -> 489 | ... L32: ='4.1.1 รายละเอียดการใช้อาคาร_62'!L32 -> 893
B33: ='4.1.1 รายละเอียดการใช้อาคาร_62'!B33 -> 23 | C33: ='4.1.1 รายละเอียดการใช้อาคาร_62'!C33 -> อาคารสำนักงานมหาวิทยาลัย 2 (สำนักงานอธิการบดี เดิม) | D33: ='4.1.1 รายละเอียดการใช้อาคาร_62'!D33 -> 2537 | E33: ='4.1.1 รายละเอียดการใช้อาคาร_62'!E33 -> 5 | F33: ='4.1.1 รายละเอียดการใช้อาคาร_62'!F33 -> 8 | G33: ='4.1.1 รายละเอียดการใช้อาคาร_62'!G33 -> 250 | H33: ='4.1.1 รายละเอียดการใช้อาคาร_62'!H33 -> 2549 | I33: ='4.1.1 รายละเอียดการใช้อาคาร_62'!I33 -> 4097 | ... L33: ='4.1.1 รายละเอียดการใช้อาคาร_62'!L33 -> 6646
B34: ='4.1.1 รายละเอียดการใช้อาคาร_62'!B34 -> 24 | C34: ='4.1.1 รายละเอียดการใช้อาคาร_62'!C34 -> อาคารสำนักงานมหาวิทยาลัย 3 (อิงคศรีกสิการ เดิม) | D34: ='4.1.1 รายละเอียดการใช้อาคาร_62'!D34 -> 2513 | E34: ='4.1.1 รายละเอียดการใช้อาคาร_62'!E34 -> 2 | F34: ='4.1.1 รายละเอียดการใช้อาคาร_62'!F34 -> 8 | G34: ='4.1.1 รายละเอียดการใช้อาคาร_62'!G34 -> 250 | H34: ='4.1.1 รายละเอียดการใช้อาคาร_62'!H34 -> 752 | I34: ='4.1.1 รายละเอียดการใช้อาคาร_62'!I34 -> 744 | ... L34: ='4.1.1 รายละเอียดการใช้อาคาร_62'!L34 -> 1496
B35: ='4.1.1 รายละเอียดการใช้อาคาร_62'!B35 -> 25 | C35: ='4.1.1 รายละเอียดการใช้อาคาร_62'!C35 -> โรงจอดรถกองกิจการนักศึกษา | D35: ='4.1.1 รายละเอียดการใช้อาคาร_62'!D35 -> 2515 | E35: ='4.1.1 รายละเอียดการใช้อาคาร_62'!E35 -> 1 | F35: ='4.1.1 รายละเอียดการใช้อาคาร_62'!F35 -> 1 | G35: ='4.1.1 รายละเอียดการใช้อาคาร_62'!G35 -> 250 | H35: ='4.1.1 รายละเอียดการใช้อาคาร_62'!H35 -> 0 | I35: ='4.1.1 รายละเอียดการใช้อาคาร_62'!I35 -> 305.5 | ... L35: ='4.1.1 รายละเอียดการใช้อาคาร_62'!L35 -> 305.5
B36: ='4.1.1 รายละเอียดการใช้อาคาร_62'!B36 -> 26 | C36: ='4.1.1 รายละเอียดการใช้อาคาร_62'!C36 -> ชมรมวิทยุสมัครเล่น | D36: ='4.1.1 รายละเอียดการใช้อาคาร_62'!D36 -> 2542 | E36: ='4.1.1 รายละเอียดการใช้อาคาร_62'!E36 -> 1 | F36: ='4.1.1 รายละเอียดการใช้อาคาร_62'!F36 -> 1 | G36: ='4.1.1 รายละเอียดการใช้อาคาร_62'!G36 -> 250 | H36: ='4.1.1 รายละเอียดการใช้อาคาร_62'!H36 -> 0 | I36: ='4.1.1 รายละเอียดการใช้อาคาร_62'!I36 -> 28 | ... L36: ='4.1.1 รายละเอียดการใช้อาคาร_62'!L36 -> 28
B37: ='4.1.1 รายละเอียดการใช้อาคาร_62'!B37 -> 27 | C37: ='4.1.1 รายละเอียดการใช้อาคาร_62'!C37 -> อาคารอำนวย ยศสุข | D37: ='4.1.1 รายละเอียดการใช้อาคาร_62'!D37 -> 2553 | E37: ='4.1.1 รายละเอียดการใช้อาคาร_62'!E37 -> 4 | F37: ='4.1.1 รายละเอียดการใช้อาคาร_62'!F37 -> 8 | G37: ='4.1.1 รายละเอียดการใช้อาคาร_62'!G37 -> 250 | H37: ='4.1.1 รายละเอียดการใช้อาคาร_62'!H37 -> 3148.74 | I37: ='4.1.1 รายละเอียดการใช้อาคาร_62'!I37 -> 13113.86 | ... L37: ='4.1.1 รายละเอียดการใช้อาคาร_62'!L37 -> 16262.6
B38: ='4.1.1 รายละเอียดการใช้อาคาร_62'!B38 -> 28 | C38: ='4.1.1 รายละเอียดการใช้อาคาร_62'!C38 -> อาคารหน่วยอาคารและสถานที่ | D38: ='4.1.1 รายละเอียดการใช้อาคาร_62'!D38 -> 2540 | E38: ='4.1.1 รายละเอียดการใช้อาคาร_62'!E38 -> 2 | F38: ='4.1.1 รายละเอียดการใช้อาคาร_62'!F38 -> 1 | G38: ='4.1.1 รายละเอียดการใช้อาคาร_62'!G38 -> 250 | H38: ='4.1.1 รายละเอียดการใช้อาคาร_62'!H38 -> 48 | I38: ='4.1.1 รายละเอียดการใช้อาคาร_62'!I38 -> 780 | ... L38: ='4.1.1 รายละเอียดการใช้อาคาร_62'!L38 -> 828
B39: ='4.1.1 รายละเอียดการใช้อาคาร_62'!B39 -> 29 | C39: ='4.1.1 รายละเอียดการใช้อาคาร_62'!C39 -> อาคารสำนักงานประปาและสุขาภิบาล | D39: ='4.1.1 รายละเอียดการใช้อาคาร_62'!D39 -> 2532 | E39: ='4.1.1 รายละเอียดการใช้อาคาร_62'!E39 -> 2 | F39: ='4.1.1 รายละเอียดการใช้อาคาร_62'!F39 -> 5 | G39: ='4.1.1 รายละเอียดการใช้อาคาร_62'!G39 -> 250 | H39: ='4.1.1 รายละเอียดการใช้อาคาร_62'!H39 -> 41.4 | I39: ='4.1.1 รายละเอียดการใช้อาคาร_62'!I39 -> 313.2 | ... L39: ='4.1.1 รายละเอียดการใช้อาคาร_62'!L39 -> 354.6
B40: ='4.1.1 รายละเอียดการใช้อาคาร_62'!B40 -> 30 | C40: ='4.1.1 รายละเอียดการใช้อาคาร_62'!C40 -> อาคารงานไฟฟ้า | D40: ='4.1.1 รายละเอียดการใช้อาคาร_62'!D40 -> 2540 | E40: ='4.1.1 รายละเอียดการใช้อาคาร_62'!E40 -> 2 | F40: ='4.1.1 รายละเอียดการใช้อาคาร_62'!F40 -> 1 | G40: ='4.1.1 รายละเอียดการใช้อาคาร_62'!G40 -> 250 | H40: ='4.1.1 รายละเอียดการใช้อาคาร_62'!H40 -> 0 | I40: ='4.1.1 รายละเอียดการใช้อาคาร_62'!I40 -> 328 | ... L40: ='4.1.1 รายละเอียดการใช้อาคาร_62'!L40 -> 328
B41: ='4.1.1 รายละเอียดการใช้อาคาร_62'!B41 -> 31 | C41: ='4.1.1 รายละเอียดการใช้อาคาร_62'!C41 -> อาคารซ่อมบำรุงอาคารและสถานที่ | D41: ='4.1.1 รายละเอียดการใช้อาคาร_62'!D41 -> 2540 | E41: ='4.1.1 รายละเอียดการใช้อาคาร_62'!E41 -> 2 | F41: ='4.1.1 รายละเอียดการใช้อาคาร_62'!F41 -> 1 | G41: ='4.1.1 รายละเอียดการใช้อาคาร_62'!G41 -> 250 | H41: ='4.1.1 รายละเอียดการใช้อาคาร_62'!H41 -> 48 | I41: ='4.1.1 รายละเอียดการใช้อาคาร_62'!I41 -> 780 | ... L41: ='4.1.1 รายละเอียดการใช้อาคาร_62'!L41 -> 828
B42: ='4.1.1 รายละเอียดการใช้อาคาร_62'!B42 -> 32 | C42: ='4.1.1 รายละเอียดการใช้อาคาร_62'!C42 -> อาคารยานพาหนะ | D42: ='4.1.1 รายละเอียดการใช้อาคาร_62'!D42 -> 2540 | E42: ='4.1.1 รายละเอียดการใช้อาคาร_62'!E42 -> 1 | F42: ='4.1.1 รายละเอียดการใช้อาคาร_62'!F42 -> 1 | G42: ='4.1.1 รายละเอียดการใช้อาคาร_62'!G42 -> 250 | H42: ='4.1.1 รายละเอียดการใช้อาคาร_62'!H42 -> 68 | I42: ='4.1.1 รายละเอียดการใช้อาคาร_62'!I42 -> 212 | ... L42: ='4.1.1 รายละเอียดการใช้อาคาร_62'!L42 -> 280
B43: ='4.1.1 รายละเอียดการใช้อาคาร_62'!B43 -> 33 | C43: ='4.1.1 รายละเอียดการใช้อาคาร_62'!C43 -> อาคารโรงจอดรถ | D43: ='4.1.1 รายละเอียดการใช้อาคาร_62'!D43 -> 2540 | E43: ='4.1.1 รายละเอียดการใช้อาคาร_62'!E43 -> 1 | F43: ='4.1.1 รายละเอียดการใช้อาคาร_62'!F43 -> 1 | G43: ='4.1.1 รายละเอียดการใช้อาคาร_62'!G43 -> 250 | H43: ='4.1.1 รายละเอียดการใช้อาคาร_62'!H43 -> 0 | I43: ='4.1.1 รายละเอียดการใช้อาคาร_62'!I43 -> 390 | ... L43: ='4.1.1 รายละเอียดการใช้อาคาร_62'!L43 -> 390
B44: ='4.1.1 รายละเอียดการใช้อาคาร_62'!B44 -> 34 | C44: ='4.1.1 รายละเอียดการใช้อาคาร_62'!C44 -> อาคารสำนักงานระบบบำบัดน้ำเสียรวม (รวมอาคารห้องน้ำ) | D44: ='4.1.1 รายละเอียดการใช้อาคาร_62'!D44 -> 2547 | E44: ='4.1.1 รายละเอียดการใช้อาคาร_62'!E44 -> 1 | F44: ='4.1.1 รายละเอียดการใช้อาคาร_62'!F44 -> 5 | G44: ='4.1.1 รายละเอียดการใช้อาคาร_62'!G44 -> 250 | H44: ='4.1.1 รายละเอียดการใช้อาคาร_62'!H44 -> 102.2 | I44: ='4.1.1 รายละเอียดการใช้อาคาร_62'!I44 -> 80.8 | ... L44: ='4.1.1 รายละเอียดการใช้อาคาร_62'!L44 -> 183
B45: ='4.1.1 รายละเอียดการใช้อาคาร_62'!B45 -> สระว่ายน้ำ
B46: ='4.1.1 รายละเอียดการใช้อาคาร_62'!B46 -> 35 | C46: ='4.1.1 รายละเอียดการใช้อาคาร_62'!C46 -> อาคารสระว่ายน้ำ | D46: ='4.1.1 รายละเอียดการใช้อาคาร_62'!D46 -> 2553 | E46: ='4.1.1 รายละเอียดการใช้อาคาร_62'!E46 -> 2 | F46: ='4.1.1 รายละเอียดการใช้อาคาร_62'!F46 -> 5 | G46: ='4.1.1 รายละเอียดการใช้อาคาร_62'!G46 -> 250 | H46: ='4.1.1 รายละเอียดการใช้อาคาร_62'!H46 -> 60 | I46: ='4.1.1 รายละเอียดการใช้อาคาร_62'!I46 -> 4120.6 | ... L46: ='4.1.1 รายละเอียดการใช้อาคาร_62'!L46 -> 4180.6
B47: ='4.1.1 รายละเอียดการใช้อาคาร_62'!B47 -> โรงอาหาร
B48: ='4.1.1 รายละเอียดการใช้อาคาร_62'!B48 -> 36 | C48: ='4.1.1 รายละเอียดการใช้อาคาร_62'!C48 -> อาคารโรงอาหารเทิดกสิกร | D48: ='4.1.1 รายละเอียดการใช้อาคาร_62'!D48 -> 2536 | E48: ='4.1.1 รายละเอียดการใช้อาคาร_62'!E48 -> 2 | F48: ='4.1.1 รายละเอียดการใช้อาคาร_62'!F48 -> 5 | G48: ='4.1.1 รายละเอียดการใช้อาคาร_62'!G48 -> 250 | H48: ='4.1.1 รายละเอียดการใช้อาคาร_62'!H48 -> 600 | I48: ='4.1.1 รายละเอียดการใช้อาคาร_62'!I48 -> 3725 | ... L48: ='4.1.1 รายละเอียดการใช้อาคาร_62'!L48 -> 4325
B49: ='4.1.1 รายละเอียดการใช้อาคาร_62'!B49 -> หอพักนักศึกษา
B50: ='4.1.1 รายละเอียดการใช้อาคาร_62'!B50 -> 37 | C50: ='4.1.1 รายละเอียดการใช้อาคาร_62'!C50 -> อาคารหอพักนักศึกษานานาชาติ | D50: ='4.1.1 รายละเอียดการใช้อาคาร_62'!D50 -> 2551 | E50: ='4.1.1 รายละเอียดการใช้อาคาร_62'!E50 -> 2 | F50: ='4.1.1 รายละเอียดการใช้อาคาร_62'!F50 -> 5 | G50: ='4.1.1 รายละเอียดการใช้อาคาร_62'!G50 -> 250 | H50: ='4.1.1 รายละเอียดการใช้อาคาร_62'!H50 -> 0 | I50: ='4.1.1 รายละเอียดการใช้อาคาร_62'!I50 -> 1048.4 | ... L50: ='4.1.1 รายละเอียดการใช้อาคาร_62'!L50 -> 1048.4
B51: ='4.1.1 รายละเอียดการใช้อาคาร_62'!B51 -> 38 | C51: ='4.1.1 รายละเอียดการใช้อาคาร_62'!C51 -> อาคารหอพักนักศึกษาชาย 2 | D51: ='4.1.1 รายละเอียดการใช้อาคาร_62'!D51 -> 2511 | E51: ='4.1.1 รายละเอียดการใช้อาคาร_62'!E51 -> 5 | F51: ='4.1.1 รายละเอียดการใช้อาคาร_62'!F51 -> 5 | G51: ='4.1.1 รายละเอียดการใช้อาคาร_62'!G51 -> 250 | H51: ='4.1.1 รายละเอียดการใช้อาคาร_62'!H51 -> 28 | I51: ='4.1.1 รายละเอียดการใช้อาคาร_62'!I51 -> 5940 | ... L51: ='4.1.1 รายละเอียดการใช้อาคาร_62'!L51 -> 5968
B52: ='4.1.1 รายละเอียดการใช้อาคาร_62'!B52 -> 39 | C52: ='4.1.1 รายละเอียดการใช้อาคาร_62'!C52 -> อาคารหอพักนักศึกษาชาย 3 (รวมอาคารห้องน้ำ) | D52: ='4.1.1 รายละเอียดการใช้อาคาร_62'!D52 -> 2511 | E52: ='4.1.1 รายละเอียดการใช้อาคาร_62'!E52 -> 2 | F52: ='4.1.1 รายละเอียดการใช้อาคาร_62'!F52 -> 5 | G52: ='4.1.1 รายละเอียดการใช้อาคาร_62'!G52 -> 250 | H52: ='4.1.1 รายละเอียดการใช้อาคาร_62'!H52 -> 0 | I52: ='4.1.1 รายละเอียดการใช้อาคาร_62'!I52 -> 1200 | ... L52: ='4.1.1 รายละเอียดการใช้อาคาร_62'!L52 -> 1200
B53: ='4.1.1 รายละเอียดการใช้อาคาร_62'!B53 -> 40 | C53: ='4.1.1 รายละเอียดการใช้อาคาร_62'!C53 -> อาคารหอพักนักศึกษาชาย 4 (รวมอาคารโรงจอดรถ ข้างหอ) | D53: ='4.1.1 รายละเอียดการใช้อาคาร_62'!D53 -> 2536 | E53: ='4.1.1 รายละเอียดการใช้อาคาร_62'!E53 -> 5 | F53: ='4.1.1 รายละเอียดการใช้อาคาร_62'!F53 -> 5 | G53: ='4.1.1 รายละเอียดการใช้อาคาร_62'!G53 -> 250 | H53: ='4.1.1 รายละเอียดการใช้อาคาร_62'!H53 -> 28 | I53: ='4.1.1 รายละเอียดการใช้อาคาร_62'!I53 -> 3826 | ... L53: ='4.1.1 รายละเอียดการใช้อาคาร_62'!L53 -> 3854
B54: ='4.1.1 รายละเอียดการใช้อาคาร_62'!B54 -> 41 | C54: ='4.1.1 รายละเอียดการใช้อาคาร_62'!C54 -> อาคารหอพักนักศึกษาชาย 5 (รวมอาคารห้องน้ำ) | D54: ='4.1.1 รายละเอียดการใช้อาคาร_62'!D54 -> 2536 | E54: ='4.1.1 รายละเอียดการใช้อาคาร_62'!E54 -> 2 | F54: ='4.1.1 รายละเอียดการใช้อาคาร_62'!F54 -> 5 | G54: ='4.1.1 รายละเอียดการใช้อาคาร_62'!G54 -> 250 | H54: ='4.1.1 รายละเอียดการใช้อาคาร_62'!H54 -> 0 | I54: ='4.1.1 รายละเอียดการใช้อาคาร_62'!I54 -> 1160 | ... L54: ='4.1.1 รายละเอียดการใช้อาคาร_62'!L54 -> 1160
B55: ='4.1.1 รายละเอียดการใช้อาคาร_62'!B55 -> 42 | C55: ='4.1.1 รายละเอียดการใช้อาคาร_62'!C55 -> อาคารหอพักนักศึกษาหญิง 6 (รวมอาคารโรงจอดรถ ข้างหอ) | D55: ='4.1.1 รายละเอียดการใช้อาคาร_62'!D55 -> 2536 | E55: ='4.1.1 รายละเอียดการใช้อาคาร_62'!E55 -> 5 | F55: ='4.1.1 รายละเอียดการใช้อาคาร_62'!F55 -> 5 | G55: ='4.1.1 รายละเอียดการใช้อาคาร_62'!G55 -> 250 | H55: ='4.1.1 รายละเอียดการใช้อาคาร_62'!H55 -> 28 | I55: ='4.1.1 รายละเอียดการใช้อาคาร_62'!I55 -> 3826 | ... L55: ='4.1.1 รายละเอียดการใช้อาคาร_62'!L55 -> 3854
B56: ='4.1.1 รายละเอียดการใช้อาคาร_62'!B56 -> 43 | C56: ='4.1.1 รายละเอียดการใช้อาคาร_62'!C56 -> อาคารหอพักนักศึกษาหญิง 7 | D56: ='4.1.1 รายละเอียดการใช้อาคาร_62'!D56 -> 2536 | E56: ='4.1.1 รายละเอียดการใช้อาคาร_62'!E56 -> 5 | F56: ='4.1.1 รายละเอียดการใช้อาคาร_62'!F56 -> 5 | G56: ='4.1.1 รายละเอียดการใช้อาคาร_62'!G56 -> 250 | H56: ='4.1.1 รายละเอียดการใช้อาคาร_62'!H56 -> 28 | I56: ='4.1.1 รายละเอียดการใช้อาคาร_62'!I56 -> 3826 | ... L56: ='4.1.1 รายละเอียดการใช้อาคาร_62'!L56 -> 3854
B57: ='4.1.1 รายละเอียดการใช้อาคาร_62'!B57 -> 44 | C57: ='4.1.1 รายละเอียดการใช้อาคาร_62'!C57 -> อาคารหอพักนักศึกษาหญิง 8 | D57: ='4.1.1 รายละเอียดการใช้อาคาร_62'!D57 -> 2539 | E57: ='4.1.1 รายละเอียดการใช้อาคาร_62'!E57 -> 5 | F57: ='4.1.1 รายละเอียดการใช้อาคาร_62'!F57 -> 5 | G57: ='4.1.1 รายละเอียดการใช้อาคาร_62'!G57 -> 250 | H57: ='4.1.1 รายละเอียดการใช้อาคาร_62'!H57 -> 140 | I57: ='4.1.1 รายละเอียดการใช้อาคาร_62'!I57 -> 6511 | ... L57: ='4.1.1 รายละเอียดการใช้อาคาร_62'!L57 -> 6651
B58: ='4.1.1 รายละเอียดการใช้อาคาร_62'!B58 -> 45 | C58: ='4.1.1 รายละเอียดการใช้อาคาร_62'!C58 -> อาคารหอพักนักศึกษาหญิง 9 | D58: ='4.1.1 รายละเอียดการใช้อาคาร_62'!D58 -> 2540 | E58: ='4.1.1 รายละเอียดการใช้อาคาร_62'!E58 -> 5 | F58: ='4.1.1 รายละเอียดการใช้อาคาร_62'!F58 -> 5 | G58: ='4.1.1 รายละเอียดการใช้อาคาร_62'!G58 -> 250 | H58: ='4.1.1 รายละเอียดการใช้อาคาร_62'!H58 -> 208 | I58: ='4.1.1 รายละเอียดการใช้อาคาร_62'!I58 -> 6443 | ... L58: ='4.1.1 รายละเอียดการใช้อาคาร_62'!L58 -> 6651
B59: ='4.1.1 รายละเอียดการใช้อาคาร_62'!B59 -> 46 | C59: ='4.1.1 รายละเอียดการใช้อาคาร_62'!C59 -> อาคารหอพักนักศึกษาหญิง 10 | D59: ='4.1.1 รายละเอียดการใช้อาคาร_62'!D59 -> 2554 | E59: ='4.1.1 รายละเอียดการใช้อาคาร_62'!E59 -> 7 | F59: ='4.1.1 รายละเอียดการใช้อาคาร_62'!F59 -> 5 | G59: ='4.1.1 รายละเอียดการใช้อาคาร_62'!G59 -> 250 | H59: ='4.1.1 รายละเอียดการใช้อาคาร_62'!H59 -> 210 | I59: ='4.1.1 รายละเอียดการใช้อาคาร_62'!I59 -> 6965 | ... L59: ='4.1.1 รายละเอียดการใช้อาคาร_62'!L59 -> 7175
B60: ='4.1.1 รายละเอียดการใช้อาคาร_62'!B60 -> 47 | C60: ='4.1.1 รายละเอียดการใช้อาคาร_62'!C60 -> อาคารหอพักนักศึกษาหญิง 11 | D60: ='4.1.1 รายละเอียดการใช้อาคาร_62'!D60 -> 2560 | E60: ='4.1.1 รายละเอียดการใช้อาคาร_62'!E60 -> 7 | F60: ='4.1.1 รายละเอียดการใช้อาคาร_62'!F60 -> 5 | G60: ='4.1.1 รายละเอียดการใช้อาคาร_62'!G60 -> 250 | H60: ='4.1.1 รายละเอียดการใช้อาคาร_62'!H60 -> 378 | I60: ='4.1.1 รายละเอียดการใช้อาคาร_62'!I60 -> 14122 | ... L60: ='4.1.1 รายละเอียดการใช้อาคาร_62'!L60 -> 14500
B61: ='4.1.1 รายละเอียดการใช้อาคาร_62'!B61 -> คณะพัฒนาการท่องเที่ยว
B62: ='4.1.1 รายละเอียดการใช้อาคาร_62'!B62 -> 48 | C62: ='4.1.1 รายละเอียดการใช้อาคาร_62'!C62 -> อาคารเรียนรวมสุวรรณวาจกกสิกิจ | D62: ='4.1.1 รายละเอียดการใช้อาคาร_62'!D62 -> 2520 | E62: ='4.1.1 รายละเอียดการใช้อาคาร_62'!E62 -> 2 | F62: ='4.1.1 รายละเอียดการใช้อาคาร_62'!F62 -> 8 | G62: ='4.1.1 รายละเอียดการใช้อาคาร_62'!G62 -> 250 | H62: ='4.1.1 รายละเอียดการใช้อาคาร_62'!H62 -> 1296 | I62: ='4.1.1 รายละเอียดการใช้อาคาร_62'!I62 -> 915.44 | ... L62: ='4.1.1 รายละเอียดการใช้อาคาร_62'!L62 -> 2211.44
B63: ='4.1.1 รายละเอียดการใช้อาคาร_62'!B63 -> 49 | C63: ='4.1.1 รายละเอียดการใช้อาคาร_62'!C63 -> อาคารพัฒนาวิสัยทัศน์ | D63: ='4.1.1 รายละเอียดการใช้อาคาร_62'!D63 -> 2551 | E63: ='4.1.1 รายละเอียดการใช้อาคาร_62'!E63 -> 2 | F63: ='4.1.1 รายละเอียดการใช้อาคาร_62'!F63 -> 5 | G63: ='4.1.1 รายละเอียดการใช้อาคาร_62'!G63 -> 250 | H63: ='4.1.1 รายละเอียดการใช้อาคาร_62'!H63 -> 1792 | I63: ='4.1.1 รายละเอียดการใช้อาคาร_62'!I63 -> 1671.8 | ... L63: ='4.1.1 รายละเอียดการใช้อาคาร_62'!L63 -> 3463.8
B64: ='4.1.1 รายละเอียดการใช้อาคาร_62'!B64 -> คณะศิลป์ศาสตร์
B65: ='4.1.1 รายละเอียดการใช้อาคาร_62'!B65 -> 50 | C65: ='4.1.1 รายละเอียดการใช้อาคาร_62'!C65 -> อาคารประเสริฐ ณ.นคร | D65: ='4.1.1 รายละเอียดการใช้อาคาร_62'!D65 -> 2537 | E65: ='4.1.1 รายละเอียดการใช้อาคาร_62'!E65 -> 6 | F65: ='4.1.1 รายละเอียดการใช้อาคาร_62'!F65 -> 8 | G65: ='4.1.1 รายละเอียดการใช้อาคาร_62'!G65 -> 250 | H65: ='4.1.1 รายละเอียดการใช้อาคาร_62'!H65 -> 3593.78 | I65: ='4.1.1 รายละเอียดการใช้อาคาร_62'!I65 -> 4045.63 | ... L65: ='4.1.1 รายละเอียดการใช้อาคาร_62'!L65 -> 7639.41
B66: ='4.1.1 รายละเอียดการใช้อาคาร_62'!B66 -> สำนักหอสมุด
B67: ='4.1.1 รายละเอียดการใช้อาคาร_62'!B67 -> 51 | C67: ='4.1.1 รายละเอียดการใช้อาคาร_62'!C67 -> อาคารวิภาต บุญศรี วังซ้าย | D67: ='4.1.1 รายละเอียดการใช้อาคาร_62'!D67 -> 2524 | E67: ='4.1.1 รายละเอียดการใช้อาคาร_62'!E67 -> 3 | F67: ='4.1.1 รายละเอียดการใช้อาคาร_62'!F67 -> 8 | G67: ='4.1.1 รายละเอียดการใช้อาคาร_62'!G67 -> 250 | H67: ='4.1.1 รายละเอียดการใช้อาคาร_62'!H67 -> 8429.23 | I67: ='4.1.1 รายละเอียดการใช้อาคาร_62'!I67 -> 1948.32 | ... L67: ='4.1.1 รายละเอียดการใช้อาคาร_62'!L67 -> 10377.55
B68: ='4.1.1 รายละเอียดการใช้อาคาร_62'!B68 -> คณะบริหารธุรกิจ
B69: ='4.1.1 รายละเอียดการใช้อาคาร_62'!B69 -> 52 | C69: ='4.1.1 รายละเอียดการใช้อาคาร_62'!C69 -> อาคารพิทยาลงกรณ์ | D69: ='4.1.1 รายละเอียดการใช้อาคาร_62'!D69 -> 2521 | E69: ='4.1.1 รายละเอียดการใช้อาคาร_62'!E69 -> 3 | F69: ='4.1.1 รายละเอียดการใช้อาคาร_62'!F69 -> 8 | G69: ='4.1.1 รายละเอียดการใช้อาคาร_62'!G69 -> 250 | H69: ='4.1.1 รายละเอียดการใช้อาคาร_62'!H69 -> 1707.5 | I69: ='4.1.1 รายละเอียดการใช้อาคาร_62'!I69 -> 1269.47 | ... L69: ='4.1.1 รายละเอียดการใช้อาคาร_62'!L69 -> 2976.97
B70: ='4.1.1 รายละเอียดการใช้อาคาร_62'!B70 -> 53 | C70: ='4.1.1 รายละเอียดการใช้อาคาร_62'!C70 -> อาคาร 25 ปี คณะบริหารธุรกิจ | D70: ='4.1.1 รายละเอียดการใช้อาคาร_62'!D70 -> 2539 | E70: ='4.1.1 รายละเอียดการใช้อาคาร_62'!E70 -> 6 | F70: ='4.1.1 รายละเอียดการใช้อาคาร_62'!F70 -> 8 | G70: ='4.1.1 รายละเอียดการใช้อาคาร_62'!G70 -> 250 | H70: ='4.1.1 รายละเอียดการใช้อาคาร_62'!H70 -> 2276 | I70: ='4.1.1 รายละเอียดการใช้อาคาร_62'!I70 -> 1766 | ... L70: ='4.1.1 รายละเอียดการใช้อาคาร_62'!L70 -> 4042
B71: ='4.1.1 รายละเอียดการใช้อาคาร_62'!B71 -> วิทยาลัยบริหารศาสตร์
B72: ='4.1.1 รายละเอียดการใช้อาคาร_62'!B72 -> 54 | C72: ='4.1.1 รายละเอียดการใช้อาคาร_62'!C72 -> อาคารเทพ พงษ์พานิช | D72: ='4.1.1 รายละเอียดการใช้อาคาร_62'!D72 -> 2553 | E72: ='4.1.1 รายละเอียดการใช้อาคาร_62'!E72 -> 3 | F72: ='4.1.1 รายละเอียดการใช้อาคาร_62'!F72 -> 8 | G72: ='4.1.1 รายละเอียดการใช้อาคาร_62'!G72 -> 250 | H72: ='4.1.1 รายละเอียดการใช้อาคาร_62'!H72 -> 2727.73 | I72: ='4.1.1 รายละเอียดการใช้อาคาร_62'!I72 -> 6795.27 | ... L72: ='4.1.1 รายละเอียดการใช้อาคาร_62'!L72 -> 9523
B73: ='4.1.1 รายละเอียดการใช้อาคาร_62'!B73 -> ศูนย์กล้วยไม้
B74: ='4.1.1 รายละเอียดการใช้อาคาร_62'!B74 -> 55 | C74: ='4.1.1 รายละเอียดการใช้อาคาร_62'!C74 -> อาคารเฉลิมพระเกียรติสมเด็จพระศรีนครินทราบรมราชนี | D74: ='4.1.1 รายละเอียดการใช้อาคาร_62'!D74 -> 2538 | E74: ='4.1.1 รายละเอียดการใช้อาคาร_62'!E74 -> 4 | F74: ='4.1.1 รายละเอียดการใช้อาคาร_62'!F74 -> 8 | G74: ='4.1.1 รายละเอียดการใช้อาคาร_62'!G74 -> 250 | H74: ='4.1.1 รายละเอียดการใช้อาคาร_62'!H74 -> 4332.2 | I74: ='4.1.1 รายละเอียดการใช้อาคาร_62'!I74 -> 2521.36 | ... L74: ='4.1.1 รายละเอียดการใช้อาคาร_62'!L74 -> 6853.56
B75: ='4.1.1 รายละเอียดการใช้อาคาร_62'!B75 -> คณะวิทยาศาสตร์
B76: ='4.1.1 รายละเอียดการใช้อาคาร_62'!B76 -> 56 | C76: ='4.1.1 รายละเอียดการใช้อาคาร_62'!C76 -> อาคารแม่โจ้ 60 ปี | D76: ='4.1.1 รายละเอียดการใช้อาคาร_62'!D76 -> 2538 | E76: ='4.1.1 รายละเอียดการใช้อาคาร_62'!E76 -> 6 | F76: ='4.1.1 รายละเอียดการใช้อาคาร_62'!F76 -> 8 | G76: ='4.1.1 รายละเอียดการใช้อาคาร_62'!G76 -> 250 | H76: ='4.1.1 รายละเอียดการใช้อาคาร_62'!H76 -> 8723.13 | I76: ='4.1.1 รายละเอียดการใช้อาคาร_62'!I76 -> 13135.12 | ... L76: ='4.1.1 รายละเอียดการใช้อาคาร_62'!L76 -> 25409.25
B77: ='4.1.1 รายละเอียดการใช้อาคาร_62'!B77 -> 57 | C77: ='4.1.1 รายละเอียดการใช้อาคาร_62'!C77 -> อาคารเสาวรัจนิตยวรรธนะ | D77: ='4.1.1 รายละเอียดการใช้อาคาร_62'!D77 -> 2537 | E77: ='4.1.1 รายละเอียดการใช้อาคาร_62'!E77 -> 2 | F77: ='4.1.1 รายละเอียดการใช้อาคาร_62'!F77 -> 8 | G77: ='4.1.1 รายละเอียดการใช้อาคาร_62'!G77 -> 250 | H77: ='4.1.1 รายละเอียดการใช้อาคาร_62'!H77 -> 1059.87 | I77: ='4.1.1 รายละเอียดการใช้อาคาร_62'!I77 -> 2634.35 | ... L77: ='4.1.1 รายละเอียดการใช้อาคาร_62'!L77 -> 3694.22
B78: ='4.1.1 รายละเอียดการใช้อาคาร_62'!B78 -> 58 | C78: ='4.1.1 รายละเอียดการใช้อาคาร_62'!C78 -> อาคารจุฬาภรณ์ | D78: ='4.1.1 รายละเอียดการใช้อาคาร_62'!D78 -> 2552 | E78: ='4.1.1 รายละเอียดการใช้อาคาร_62'!E78 -> 5 | F78: ='4.1.1 รายละเอียดการใช้อาคาร_62'!F78 -> 8 | G78: ='4.1.1 รายละเอียดการใช้อาคาร_62'!G78 -> 250 | H78: ='4.1.1 รายละเอียดการใช้อาคาร_62'!H78 -> 3705.38 | I78: ='4.1.1 รายละเอียดการใช้อาคาร_62'!I78 -> 5440.62 | ... L78: ='4.1.1 รายละเอียดการใช้อาคาร_62'!L78 -> 9146
B79: ='4.1.1 รายละเอียดการใช้อาคาร_62'!B79 -> คณะเศรษฐศาสตร์
B80: ='4.1.1 รายละเอียดการใช้อาคาร_62'!B80 -> 59 | C80: ='4.1.1 รายละเอียดการใช้อาคาร_62'!C80 -> อาคารยรรยง สิทธิชัย | D80: ='4.1.1 รายละเอียดการใช้อาคาร_62'!D80 -> 2552 | E80: ='4.1.1 รายละเอียดการใช้อาคาร_62'!E80 -> 4 | F80: ='4.1.1 รายละเอียดการใช้อาคาร_62'!F80 -> 8 | G80: ='4.1.1 รายละเอียดการใช้อาคาร_62'!G80 -> 250 | H80: ='4.1.1 รายละเอียดการใช้อาคาร_62'!H80 -> 2975.82 | I80: ='4.1.1 รายละเอียดการใช้อาคาร_62'!I80 -> 1904.18 | ... L80: ='4.1.1 รายละเอียดการใช้อาคาร_62'!L80 -> 4880
B81: ='4.1.1 รายละเอียดการใช้อาคาร_62'!B81 -> คณะเทคโนโลยีสารสนเทศและการสื่อสาร
B82: ='4.1.1 รายละเอียดการใช้อาคาร_62'!B82 -> 60 | C82: ='4.1.1 รายละเอียดการใช้อาคาร_62'!C82 -> อาคาร 75 ปี แม่โจ้ | D82: ='4.1.1 รายละเอียดการใช้อาคาร_62'!D82 -> 2553 | E82: ='4.1.1 รายละเอียดการใช้อาคาร_62'!E82 -> 3 | F82: ='4.1.1 รายละเอียดการใช้อาคาร_62'!F82 -> 8 | G82: ='4.1.1 รายละเอียดการใช้อาคาร_62'!G82 -> 250 | H82: ='4.1.1 รายละเอียดการใช้อาคาร_62'!H82 -> 815.9 | I82: ='4.1.1 รายละเอียดการใช้อาคาร_62'!I82 -> 4746.6 | ... L82: ='4.1.1 รายละเอียดการใช้อาคาร_62'!L82 -> 5562.5
B83: ='4.1.1 รายละเอียดการใช้อาคาร_62'!B83 -> คณะสถาปัตยกรรมศาสตร์และการออกแบบสิ่งแวดล้อม
B84: ='4.1.1 รายละเอียดการใช้อาคาร_62'!B84 -> 61 | C84: ='4.1.1 รายละเอียดการใช้อาคาร_62'!C84 -> อาคารคณะสถาปัตยกรรมศาสตร์และการออกแบบสิ่งแวดล้อม | D84: ='4.1.1 รายละเอียดการใช้อาคาร_62'!D84 -> 2534 | E84: ='4.1.1 รายละเอียดการใช้อาคาร_62'!E84 -> 4 | F84: ='4.1.1 รายละเอียดการใช้อาคาร_62'!F84 -> 8 | G84: ='4.1.1 รายละเอียดการใช้อาคาร_62'!G84 -> 250 | H84: ='4.1.1 รายละเอียดการใช้อาคาร_62'!H84 -> 1094.9 | I84: ='4.1.1 รายละเอียดการใช้อาคาร_62'!I84 -> 4374.75 | ... L84: ='4.1.1 รายละเอียดการใช้อาคาร_62'!L84 -> 5469.65
B85: ='4.1.1 รายละเอียดการใช้อาคาร_62'!B85 -> 62 | C85: ='4.1.1 รายละเอียดการใช้อาคาร_62'!C85 -> อาคารคณะสถาปัตยกรรมศาสตร์และการออกแบบสิ่งแวดล้อม (ใหม่) | D85: ='4.1.1 รายละเอียดการใช้อาคาร_62'!D85 -> 2558 | E85: ='4.1.1 รายละเอียดการใช้อาคาร_62'!E85 -> 4 | F85: ='4.1.1 รายละเอียดการใช้อาคาร_62'!F85 -> 8 | G85: ='4.1.1 รายละเอียดการใช้อาคาร_62'!G85 -> 250 | H85: ='4.1.1 รายละเอียดการใช้อาคาร_62'!H85 -> 2172 | I85: ='4.1.1 รายละเอียดการใช้อาคาร_62'!I85 -> 2850.5 | ... L85: ='4.1.1 รายละเอียดการใช้อาคาร_62'!L85 -> 5022.5
B86: ='4.1.1 รายละเอียดการใช้อาคาร_62'!B86 -> คณะผลิตกรรมการเกษตร
B87: ='4.1.1 รายละเอียดการใช้อาคาร_62'!B87 -> 63 | C87: ='4.1.1 รายละเอียดการใช้อาคาร_62'!C87 -> อาคารรัตนโกสินทร์ 200 ปี | D87: ='4.1.1 รายละเอียดการใช้อาคาร_62'!D87 -> 2525 | E87: ='4.1.1 รายละเอียดการใช้อาคาร_62'!E87 -> 2 | F87: ='4.1.1 รายละเอียดการใช้อาคาร_62'!F87 -> 8 | G87: ='4.1.1 รายละเอียดการใช้อาคาร_62'!G87 -> 250 | H87: ='4.1.1 รายละเอียดการใช้อาคาร_62'!H87 -> 744.91 | I87: ='4.1.1 รายละเอียดการใช้อาคาร_62'!I87 -> 806.24 | ... L87: ='4.1.1 รายละเอียดการใช้อาคาร_62'!L87 -> 1551.15
B88: ='4.1.1 รายละเอียดการใช้อาคาร_62'!B88 -> 64 | C88: ='4.1.1 รายละเอียดการใช้อาคาร_62'!C88 -> อาคารเรียนและปฏิบัติการรวมทางปฐพีวิทยาและฝึกอบรมทางดินและปุ๋ยชั้นสูง | D88: ='4.1.1 รายละเอียดการใช้อาคาร_62'!D88 -> 2540 | E88: ='4.1.1 รายละเอียดการใช้อาคาร_62'!E88 -> 4 | F88: ='4.1.1 รายละเอียดการใช้อาคาร_62'!F88 -> 8 | G88: ='4.1.1 รายละเอียดการใช้อาคาร_62'!G88 -> 250 | H88: ='4.1.1 รายละเอียดการใช้อาคาร_62'!H88 -> 1407.64 | I88: ='4.1.1 รายละเอียดการใช้อาคาร_62'!I88 -> 3438.61 | ... L88: ='4.1.1 รายละเอียดการใช้อาคาร_62'!L88 -> 4846.25
B89: ='4.1.1 รายละเอียดการใช้อาคาร_62'!B89 -> 65 | C89: ='4.1.1 รายละเอียดการใช้อาคาร_62'!C89 -> อาคารปฏิบัติการไม้ผล | D89: ='4.1.1 รายละเอียดการใช้อาคาร_62'!D89 -> 2528 | E89: ='4.1.1 รายละเอียดการใช้อาคาร_62'!E89 -> 1 | F89: ='4.1.1 รายละเอียดการใช้อาคาร_62'!F89 -> 5 | G89: ='4.1.1 รายละเอียดการใช้อาคาร_62'!G89 -> 250 | H89: ='4.1.1 รายละเอียดการใช้อาคาร_62'!H89 -> 313.28 | I89: ='4.1.1 รายละเอียดการใช้อาคาร_62'!I89 -> 166.72 | ... L89: ='4.1.1 รายละเอียดการใช้อาคาร_62'!L89 -> 480
B90: ='4.1.1 รายละเอียดการใช้อาคาร_62'!B90 -> 66 | C90: ='4.1.1 รายละเอียดการใช้อาคาร_62'!C90 -> โรงเรือนเพาะชำไม้ผล 1 | D90: ='4.1.1 รายละเอียดการใช้อาคาร_62'!D90 -> 2528 | E90: ='4.1.1 รายละเอียดการใช้อาคาร_62'!E90 -> 1 | F90: ='4.1.1 รายละเอียดการใช้อาคาร_62'!F90 -> 5 | G90: ='4.1.1 รายละเอียดการใช้อาคาร_62'!G90 -> 250 | H90: ='4.1.1 รายละเอียดการใช้อาคาร_62'!H90 -> 38.93 | I90: ='4.1.1 รายละเอียดการใช้อาคาร_62'!I90 -> 80.07 | ... L90: ='4.1.1 รายละเอียดการใช้อาคาร_62'!L90 -> 119
B91: ='4.1.1 รายละเอียดการใช้อาคาร_62'!B91 -> 67 | C91: ='4.1.1 รายละเอียดการใช้อาคาร_62'!C91 -> โรงเรือนเพาะชำไม้ผล 2 | D91: ='4.1.1 รายละเอียดการใช้อาคาร_62'!D91 -> 2528 | E91: ='4.1.1 รายละเอียดการใช้อาคาร_62'!E91 -> 1 | F91: ='4.1.1 รายละเอียดการใช้อาคาร_62'!F91 -> 5 | G91: ='4.1.1 รายละเอียดการใช้อาคาร_62'!G91 -> 250 | H91: ='4.1.1 รายละเอียดการใช้อาคาร_62'!H91 -> 102.57 | I91: ='4.1.1 รายละเอียดการใช้อาคาร_62'!I91 -> 317.43 | ... L91: ='4.1.1 รายละเอียดการใช้อาคาร_62'!L91 -> 420
B92: ='4.1.1 รายละเอียดการใช้อาคาร_62'!B92 -> 68 | C92: ='4.1.1 รายละเอียดการใช้อาคาร_62'!C92 -> อาคารเก็บพัสดุไม้ผล | D92: ='4.1.1 รายละเอียดการใช้อาคาร_62'!D92 -> 2528 | E92: ='4.1.1 รายละเอียดการใช้อาคาร_62'!E92 -> 1 | F92: ='4.1.1 รายละเอียดการใช้อาคาร_62'!F92 -> 1 | G92: ='4.1.1 รายละเอียดการใช้อาคาร_62'!G92 -> 250 | H92: ='4.1.1 รายละเอียดการใช้อาคาร_62'!H92 -> 0 | I92: ='4.1.1 รายละเอียดการใช้อาคาร_62'!I92 -> 105 | ... L92: ='4.1.1 รายละเอียดการใช้อาคาร_62'!L92 -> 105
B93: ='4.1.1 รายละเอียดการใช้อาคาร_62'!B93 -> 69 | C93: ='4.1.1 รายละเอียดการใช้อาคาร_62'!C93 -> อาคารสำนักงานพืชไร่(พักอาจารย์) | D93: ='4.1.1 รายละเอียดการใช้อาคาร_62'!D93 -> 2525 | E93: ='4.1.1 รายละเอียดการใช้อาคาร_62'!E93 -> 1 | F93: ='4.1.1 รายละเอียดการใช้อาคาร_62'!F93 -> 5 | G93: ='4.1.1 รายละเอียดการใช้อาคาร_62'!G93 -> 250 | H93: ='4.1.1 รายละเอียดการใช้อาคาร_62'!H93 -> 57.407 | I93: ='4.1.1 รายละเอียดการใช้อาคาร_62'!I93 -> 104.593 | ... L93: ='4.1.1 รายละเอียดการใช้อาคาร_62'!L93 -> 162
B94: ='4.1.1 รายละเอียดการใช้อาคาร_62'!B94 -> 70 | C94: ='4.1.1 รายละเอียดการใช้อาคาร_62'!C94 -> อาคารศูนย์ประสานงานโครงการธัญพืชไร่ | D94: ='4.1.1 รายละเอียดการใช้อาคาร_62'!D94 -> 2543 | E94: ='4.1.1 รายละเอียดการใช้อาคาร_62'!E94 -> 1 | F94: ='4.1.1 รายละเอียดการใช้อาคาร_62'!F94 -> 5 | G94: ='4.1.1 รายละเอียดการใช้อาคาร_62'!G94 -> 250 | H94: ='4.1.1 รายละเอียดการใช้อาคาร_62'!H94 -> 74.2 | I94: ='4.1.1 รายละเอียดการใช้อาคาร_62'!I94 -> 34.8 | ... L94: ='4.1.1 รายละเอียดการใช้อาคาร_62'!L94 -> 109
B95: ='4.1.1 รายละเอียดการใช้อาคาร_62'!B95 -> 71 | C95: ='4.1.1 รายละเอียดการใช้อาคาร_62'!C95 -> อาคารเพาะเลี้ยงเนื้อเยื่อ ฝ่ายพัฒนาเกษตรที่สูง | D95: ='4.1.1 รายละเอียดการใช้อาคาร_62'!D95 -> 2525 | E95: ='4.1.1 รายละเอียดการใช้อาคาร_62'!E95 -> 1 | F95: ='4.1.1 รายละเอียดการใช้อาคาร_62'!F95 -> 8 | G95: ='4.1.1 รายละเอียดการใช้อาคาร_62'!G95 -> 250 | H95: ='4.1.1 รายละเอียดการใช้อาคาร_62'!H95 -> 103.39 | I95: ='4.1.1 รายละเอียดการใช้อาคาร_62'!I95 -> 31.61 | ... L95: ='4.1.1 รายละเอียดการใช้อาคาร_62'!L95 -> 135
B96: ='4.1.1 รายละเอียดการใช้อาคาร_62'!B96 -> 72 | C96: ='4.1.1 รายละเอียดการใช้อาคาร_62'!C96 -> อาคารเพิ่มพูล | D96: ='4.1.1 รายละเอียดการใช้อาคาร_62'!D96 -> 2548 | E96: ='4.1.1 รายละเอียดการใช้อาคาร_62'!E96 -> 4 | F96: ='4.1.1 รายละเอียดการใช้อาคาร_62'!F96 -> 8 | G96: ='4.1.1 รายละเอียดการใช้อาคาร_62'!G96 -> 250 | H96: ='4.1.1 รายละเอียดการใช้อาคาร_62'!H96 -> 3063.14 | I96: ='4.1.1 รายละเอียดการใช้อาคาร_62'!I96 -> 7659.86 | ... L96: ='4.1.1 รายละเอียดการใช้อาคาร_62'!L96 -> 10723
B97: ='4.1.1 รายละเอียดการใช้อาคาร_62'!B97 -> 73 | C97: ='4.1.1 รายละเอียดการใช้อาคาร_62'!C97 -> อาคารปฏิบัติการและคัดเมล็ดพันธุ์พืชไร่ | D97: ='4.1.1 รายละเอียดการใช้อาคาร_62'!D97 -> 2524 | E97: ='4.1.1 รายละเอียดการใช้อาคาร_62'!E97 -> 1 | F97: ='4.1.1 รายละเอียดการใช้อาคาร_62'!F97 -> 5 | G97: ='4.1.1 รายละเอียดการใช้อาคาร_62'!G97 -> 250 | H97: ='4.1.1 รายละเอียดการใช้อาคาร_62'!H97 -> 285.85 | I97: ='4.1.1 รายละเอียดการใช้อาคาร_62'!I97 -> 158.15 | ... L97: ='4.1.1 รายละเอียดการใช้อาคาร_62'!L97 -> 444
B98: ='4.1.1 รายละเอียดการใช้อาคาร_62'!B98 -> 74 | C98: ='4.1.1 รายละเอียดการใช้อาคาร_62'!C98 -> อาคารอบเมล็ดพันธุ์พืช (ไซโล) | D98: ='4.1.1 รายละเอียดการใช้อาคาร_62'!D98 -> 2535 | E98: ='4.1.1 รายละเอียดการใช้อาคาร_62'!E98 -> 1 | F98: ='4.1.1 รายละเอียดการใช้อาคาร_62'!F98 -> 1 | G98: ='4.1.1 รายละเอียดการใช้อาคาร_62'!G98 -> 250 | H98: ='4.1.1 รายละเอียดการใช้อาคาร_62'!H98 -> 0 | I98: ='4.1.1 รายละเอียดการใช้อาคาร_62'!I98 -> 128 | ... L98: ='4.1.1 รายละเอียดการใช้อาคาร_62'!L98 -> 128
... B116: ='4.1.1 รายละเอียดการใช้อาคาร_62'!B116 -> 92 | C116: ='4.1.1 รายละเอียดการใช้อาคาร_62'!C116 -> อาคารปฏิบัติการโรคพืช | D116: ='4.1.1 รายละเอียดการใช้อาคาร_62'!D116 -> 2545 | E116: ='4.1.1 รายละเอียดการใช้อาคาร_62'!E116 -> 1 | F116: ='4.1.1 รายละเอียดการใช้อาคาร_62'!F116 -> 1 | G116: ='4.1.1 รายละเอียดการใช้อาคาร_62'!G116 -> 250 | H116: ='4.1.1 รายละเอียดการใช้อาคาร_62'!H116 -> 76.95 | I116: ='4.1.1 รายละเอียดการใช้อาคาร_62'!I116 -> 275.05 | ... L116: ='4.1.1 รายละเอียดการใช้อาคาร_62'!L116 -> 352
B117: ='4.1.1 รายละเอียดการใช้อาคาร_62'!B117 -> สำนักวิจัยและส่งเสริมการเกษตร
B118: ='4.1.1 รายละเอียดการใช้อาคาร_62'!B118 -> 93 | C118: ='4.1.1 รายละเอียดการใช้อาคาร_62'!C118 -> อาคารธรรมศักดิ์มนตรี | D118: ='4.1.1 รายละเอียดการใช้อาคาร_62'!D118 -> 2526 | E118: ='4.1.1 รายละเอียดการใช้อาคาร_62'!E118 -> 3 | F118: ='4.1.1 รายละเอียดการใช้อาคาร_62'!F118 -> 8 | G118: ='4.1.1 รายละเอียดการใช้อาคาร_62'!G118 -> 250 | H118: ='4.1.1 รายละเอียดการใช้อาคาร_62'!H118 -> 871.3 | I118: ='4.1.1 รายละเอียดการใช้อาคาร_62'!I118 -> 930.2 | ... L118: ='4.1.1 รายละเอียดการใช้อาคาร_62'!L118 -> 1801.5
B119: ='4.1.1 รายละเอียดการใช้อาคาร_62'!B119 -> 94 | C119: ='4.1.1 รายละเอียดการใช้อาคาร_62'!C119 -> อาคารหอพักธรรมศักดิ์มนตรี | D119: ='4.1.1 รายละเอียดการใช้อาคาร_62'!D119 -> 2526 | E119: ='4.1.1 รายละเอียดการใช้อาคาร_62'!E119 -> 3 | F119: ='4.1.1 รายละเอียดการใช้อาคาร_62'!F119 -> 1 | G119: ='4.1.1 รายละเอียดการใช้อาคาร_62'!G119 -> 250 | H119: ='4.1.1 รายละเอียดการใช้อาคาร_62'!H119 -> 168 | I119: ='4.1.1 รายละเอียดการใช้อาคาร_62'!I119 -> 1280 | ... L119: ='4.1.1 รายละเอียดการใช้อาคาร_62'!L119 -> 1448
B120: ='4.1.1 รายละเอียดการใช้อาคาร_62'!B120 -> 95 | C120: ='4.1.1 รายละเอียดการใช้อาคาร_62'!C120 -> อาคารโรงอาหารสำนักวิจัยฯ | D120: ='4.1.1 รายละเอียดการใช้อาคาร_62'!D120 -> 2526 | E120: ='4.1.1 รายละเอียดการใช้อาคาร_62'!E120 -> 1 | F120: ='4.1.1 รายละเอียดการใช้อาคาร_62'!F120 -> 1 | G120: ='4.1.1 รายละเอียดการใช้อาคาร_62'!G120 -> 250 | H120: ='4.1.1 รายละเอียดการใช้อาคาร_62'!H120 -> 0 | I120: ='4.1.1 รายละเอียดการใช้อาคาร_62'!I120 -> 248 | ... L120: ='4.1.1 รายละเอียดการใช้อาคาร_62'!L120 -> 248
B121: ='4.1.1 รายละเอียดการใช้อาคาร_62'!B121 -> 96 | C121: ='4.1.1 รายละเอียดการใช้อาคาร_62'!C121 -> อาคารมงคลชัยสิทธิ์ | D121: ='4.1.1 รายละเอียดการใช้อาคาร_62'!D121 -> 2537 | E121: ='4.1.1 รายละเอียดการใช้อาคาร_62'!E121 -> 2 | F121: ='4.1.1 รายละเอียดการใช้อาคาร_62'!F121 -> 5 | G121: ='4.1.1 รายละเอียดการใช้อาคาร_62'!G121 -> 250 | H121: ='4.1.1 รายละเอียดการใช้อาคาร_62'!H121 -> 365.8 | I121: ='4.1.1 รายละเอียดการใช้อาคาร_62'!I121 -> 655.2 | ... L121: ='4.1.1 รายละเอียดการใช้อาคาร_62'!L121 -> 1021
B122: ='4.1.1 รายละเอียดการใช้อาคาร_62'!B122 -> ศูนย์วิจัยพลังงาน
B123: ='4.1.1 รายละเอียดการใช้อาคาร_62'!B123 -> 97 | C123: ='4.1.1 รายละเอียดการใช้อาคาร_62'!C123 -> อาคารศูนย์วิจัยพลังงาน 1 | D123: ='4.1.1 รายละเอียดการใช้อาคาร_62'!D123 -> 2547 | E123: ='4.1.1 รายละเอียดการใช้อาคาร_62'!E123 -> 1 | F123: ='4.1.1 รายละเอียดการใช้อาคาร_62'!F123 -> 8 | G123: ='4.1.1 รายละเอียดการใช้อาคาร_62'!G123 -> 250 | H123: ='4.1.1 รายละเอียดการใช้อาคาร_62'!H123 -> 170 | I123: ='4.1.1 รายละเอียดการใช้อาคาร_62'!I123 -> 72 | ... L123: ='4.1.1 รายละเอียดการใช้อาคาร_62'!L123 -> 242
B124: ='4.1.1 รายละเอียดการใช้อาคาร_62'!B124 -> 98 | C124: ='4.1.1 รายละเอียดการใช้อาคาร_62'!C124 -> อาคารศูนย์วิจัยพลังงาน 2 | D124: ='4.1.1 รายละเอียดการใช้อาคาร_62'!D124 -> 2547 | E124: ='4.1.1 รายละเอียดการใช้อาคาร_62'!E124 -> 1 | F124: ='4.1.1 รายละเอียดการใช้อาคาร_62'!F124 -> 5 | G124: ='4.1.1 รายละเอียดการใช้อาคาร_62'!G124 -> 250 | H124: ='4.1.1 รายละเอียดการใช้อาคาร_62'!H124 -> 108 | I124: ='4.1.1 รายละเอียดการใช้อาคาร_62'!I124 -> 11 | ... L124: ='4.1.1 รายละเอียดการใช้อาคาร_62'!L124 -> 119
B125: ='4.1.1 รายละเอียดการใช้อาคาร_62'!B125 -> ศูนย์อาคารที่พัก
B126: ='4.1.1 รายละเอียดการใช้อาคาร_62'!B126 -> 99 | C126: ='4.1.1 รายละเอียดการใช้อาคาร_62'!C126 -> อาคารศูนย์การศึกษาและอบรมนานาชาติ | D126: ='4.1.1 รายละเอียดการใช้อาคาร_62'!D126 -> 2540 | E126: ='4.1.1 รายละเอียดการใช้อาคาร_62'!E126 -> 4 | F126: ='4.1.1 รายละเอียดการใช้อาคาร_62'!F126 -> 5 | G126: ='4.1.1 รายละเอียดการใช้อาคาร_62'!G126 -> 250 | H126: ='4.1.1 รายละเอียดการใช้อาคาร_62'!H126 -> 3589.85 | I126: ='4.1.1 รายละเอียดการใช้อาคาร_62'!I126 -> 3538.66 | ... L126: ='4.1.1 รายละเอียดการใช้อาคาร_62'!L126 -> 7128.51
...

Sheet 6.3.1.2พื้นที่ใช้สอยรายเดือน_63
B1: 6.3.1.2) การใช้ประโยชน์พื้นที่ใช้สอยที่ใช้งานจริงในแต่ละเดือน
B3: ตารางที่ 6.8 รายละเอียดการใช้ประโยชน์พื้นที่ใช้สอยที่ใช้งานจริงในแต่ละเดือน ในรอบปี 2563
B5: เดือน | C5: สำหรับอาคารทุกประเภท | F5: สำหรับอาคารประเภท | G5: สำหรับอาคารประเภท
C6: การใช้ประโยชน์พื้นที่ใช้สอยที่ใช้งานจริง | F6: โรงแรม | G6: โรงพยาบาล
C7: พื้นที่ปรับอากาศ | D7: พื้นที่ไม่ปรับอากาศ | E7: รวม | F7: จำนวนห้องพักที่จำหน่ายได้ | G7: จำนวนคนไข้นอก | H7: จำนวนคนไข้ใน
C8: (ตารางเมตร) | D8: (ตารางเมตร) | E8: (ตารางเมตร) | F8: (ห้อง-วัน) | G8: (คน) | H8: (เตียง-วัน)
B9: ม.ค. | C9: ='4.1.1 รายละเอียดการใช้อาคาร_62'!H$145 -> 97550.512 | D9: ='4.1.1 รายละเอียดการใช้อาคาร_62'!I$145 -> 253487.97 | E9: ='4.1.1 รายละเอียดการใช้อาคาร_62'!J$145 -> 351038.48
B10: ก.พ. | C10: =C9 -> 97550.512 | D10: =D9 -> 253487.97 | E10: =E9 -> 351038.48
B11: มี.ค. | C11: =C10 -> 97550.512 | D11: =D10 -> 253487.97 | E11: =E10 -> 351038.48
B12: เม.ย. | C12: =C11 -> 97550.512 | D12: =D11 -> 253487.97 | E12: =E11 -> 351038.48
B13: พ.ค. | C13: =C12 -> 97550.512 | D13: =D12 -> 253487.97 | E13: =E12 -> 351038.48
B14: มิ.ย. | C14: =C13 -> 97550.512 | D14: =D13 -> 253487.97 | E14: =E13 -> 351038.48
B15: ก.ค. | C15: =C14 -> 97550.512 | D15: =D14 -> 253487.97 | E15: =E14 -> 351038.48
B16: ส.ค. | C16: =C15 -> 97550.512 | D16: =D15 -> 253487.97 | E16: =E15 -> 351038.48
B17: ก.ย. | C17: =C16 -> 97550.512 | D17: =D16 -> 253487.97 | E17: =E16 -> 351038.48
B18: ต.ค. | C18: =C17 -> 97550.512 | D18: =D17 -> 253487.97 | E18: =E17 -> 351038.48
B19: พ.ย. | C19: =C18 -> 97550.512 | D19: =D18 -> 253487.97 | E19: =E18 -> 351038.48
B20: ธ.ค. | C20: =C19 -> 97550.512 | D20: =D19 -> 253487.97 | E20: =E19 -> 351038.48
B21: รวม

Sheet 6.3.3ปริมาณการใช้ไฟฟ้า_63 
B1: 6.3.2) ข้อมูลปริมาณการใช้ไฟฟ้าในรอบปี 2563
A2: ตารางที่ 6.9 ข้อมูลการใช้ไฟฟ้าในรอบปี 2563
B3: อัตราการใช้ไฟฟ้า | C3: 4.1.2 | E3: หมายเลขผู้ใช้ไฟฟ้า | F3: ='4.1.2ข้อมูลหม้อแปลง'!B19 -> 9806 - 020017405371 | I3: หมายเลขเครื่องวัดไฟฟ้า | J3: ='4.1.2ข้อมูลหม้อแปลง'!C19 -> 27669524
B5: พลังไฟฟ้าสูงสุด | F5: พลังงานไฟฟ้า | H5: กิโลวาร์ | I5: ค่าไฟฟ้ารวม (บาท) | K5: Power Factor
A6: เดือน | B6: P | C6: PP/OP1 | D6: OP/OP2 | E6: ค่าใช้จ่าย | F6: ปริมาณ | G6: ค่าใช้จ่าย | J6: ค่าตัวประกอบภาระ | L6: ค่าไฟฟ้าเฉลี่ย
B7: (กิโลวัตต์) | C7: (กิโลวัตต์) | D7: (กิโลวัตต์) | E7: (บาท) | F7: (กิโลวัตต์-ชั่วโมง) | G7: (บาท) | J7: (เปอร์เซ็นต์) | L7: (บาท/กิโลวัตต์-ชั่วโมง) | M7: วัน/เดือน
A8: ม.ค. | B8: =' ข้อมูลการใช้ไฟฟ้า '!B34 -> 2345.53 | C8: =' ข้อมูลการใช้ไฟฟ้า '!C34 -> 1510.68 | D8: =' ข้อมูลการใช้ไฟฟ้า '!D34 -> 1152.89 | E8: =' ข้อมูลการใช้ไฟฟ้า '!E34 -> 173897.59 | F8: =' ข้อมูลการใช้ไฟฟ้า '!F34 -> 715982 | G8: =I8-E8 -> 2527533.8 | H8: ='4.1.2การใช้ไฟฟ้า_62'!H8 -> 717.34 | I8: =' ข้อมูลการใช้ไฟฟ้า '!G34 -> 2701431.4 | J8: =+F8*100/(MAX(B8:D8)*24*M8) -> 41.02874 | K8: =MAX(B8:D8)/(SQRT((MAX(B8:D8)^2+(H8)^2))) -> 0.95627745 | L8: =+I8/F8 -> 3.7730437 | M8: 31
A9: ก.พ. | B9: =' ข้อมูลการใช้ไฟฟ้า '!B35 -> 2705.44 | C9: =' ข้อมูลการใช้ไฟฟ้า '!C35 -> 1432.29 | D9: =' ข้อมูลการใช้ไฟฟ้า '!D35 -> 1193.58 | E9: =' ข้อมูลการใช้ไฟฟ้า '!E35 -> 200581.32 | F9: =' ข้อมูลการใช้ไฟฟ้า '!F35 -> 767073 | G9: =I9-E9 -> 2690056.4 | H9: ='4.1.2การใช้ไฟฟ้า_62'!H9 -> 956.48 | I9: =' ข้อมูลการใช้ไฟฟ้า '!G35 -> 2890637.7 | J9: =+F9*100/(MAX(B9:D9)*24*M9) -> 42.191942 | K9: =MAX(B9:D9)/(SQRT((MAX(B9:D9)^2+(H9)^2))) -> 0.94281315 | L9: =+I9/F9 -> 3.7683997 | M9: 28
A10: มี.ค. | B10: =' ข้อมูลการใช้ไฟฟ้า '!B36 -> 3064.81 | C10: =' ข้อมูลการใช้ไฟฟ้า '!C36 -> 1711.52 | D10: =' ข้อมูลการใช้ไฟฟ้า '!D36 -> 1233.89 | E10: =' ข้อมูลการใช้ไฟฟ้า '!E36 -> 227225.01 | F10: =' ข้อมูลการใช้ไฟฟ้า '!F36 -> 841032 | G10: =I10-E10 -> 2090987.5 | H10: ='4.1.2การใช้ไฟฟ้า_62'!H10 -> 994.8 | I10: =' ข้อมูลการใช้ไฟฟ้า '!G36 -> 2318212.5 | J10: =+F10*100/(MAX(B10:D10)*24*M10) -> 36.883831 | K10: =MAX(B10:D10)/(SQRT((MAX(B10:D10)^2+(H10)^2))) -> 0.95114924 | L10: =+I10/F10 -> 2.7563904 | M10: 31
A11: เม.ย. | B11: =' ข้อมูลการใช้ไฟฟ้า '!B37 -> 2505.21 | C11: =' ข้อมูลการใช้ไฟฟ้า '!C37 -> 1431.55 | D11: =' ข้อมูลการใช้ไฟฟ้า '!D37 -> 2067.79 | E11: =' ข้อมูลการใช้ไฟฟ้า '!E37 -> 182202.02 | F11: =' ข้อมูลการใช้ไฟฟ้า '!F37 -> 679934 | G11: =I11-E11 -> 2343605.3 | H11: ='4.1.2การใช้ไฟฟ้า_62'!H11 -> 1033.92 | I11: =' ข้อมูลการใช้ไฟฟ้า '!G37 -> 2525807.3 | J11: =+F11*100/(MAX(B11:D11)*24*M11) -> 37.695554 | K11: =MAX(B11:D11)/(SQRT((MAX(B11:D11)^2+(H11)^2))) -> 0.92437084 | L11: =+I11/F11 -> 3.7147831 | M11: 30
A12: พ.ค. | B12: =' ข้อมูลการใช้ไฟฟ้า '!B38 -> 2823.4 | C12: =' ข้อมูลการใช้ไฟฟ้า '!C38 -> 1749.71 | D12: =' ข้อมูลการใช้ไฟฟ้า '!D38 -> 1789.48 | E12: =' ข้อมูลการใช้ไฟฟ้า '!E38 -> 209242.36 | F12: =' ข้อมูลการใช้ไฟฟ้า '!F38 -> 757308.99 | G12: =I12-E12 -> 2560172 | H12: ='4.1.2การใช้ไฟฟ้า_62'!H12 -> 1393.75 | I12: =' ข้อมูลการใช้ไฟฟ้า '!G38 -> 2769414.3 | J12: =+F12*100/(MAX(B12:D12)*24*M12) -> 36.051868 | K12: =MAX(B12:D12)/(SQRT((MAX(B12:D12)^2+(H12)^2))) -> 0.89669589 | L12: =+I12/F12 -> 3.6569146 | M12: 31
A13: มิ.ย. | B13: =' ข้อมูลการใช้ไฟฟ้า '!B39 -> 2661.81 | C13: =' ข้อมูลการใช้ไฟฟ้า '!C39 -> 1748.05 | D13: =' ข้อมูลการใช้ไฟฟ้า '!D39 -> 1032.94 | E13: =' ข้อมูลการใช้ไฟฟ้า '!E39 -> 194125.95 | F13: =' ข้อมูลการใช้ไฟฟ้า '!F39 -> 742413 | G13: =I13-E13 -> 2587073.8 | H13: ='4.1.2การใช้ไฟฟ้า_62'!H13 -> 1473.64 | I13: =' ข้อมูลการใช้ไฟฟ้า '!G39 -> 2781199.7 | J13: =+F13*100/(MAX(B13:D13)*24*M13) -> 38.737895 | K13: =MAX(B13:D13)/(SQRT((MAX(B13:D13)^2+(H13)^2))) -> 0.87487398 | L13: =+I13/F13 -> 3.7461625 | M13: 30
A14: ก.ค. | B14: =' ข้อมูลการใช้ไฟฟ้า '!B40 -> 3000 | C14: =' ข้อมูลการใช้ไฟฟ้า '!C40 -> 2000 | D14: =' ข้อมูลการใช้ไฟฟ้า '!D40 -> 960 | E14: =' ข้อมูลการใช้ไฟฟ้า '!E40 -> 218892.42 | F14: =' ข้อมูลการใช้ไฟฟ้า '!F40 -> 766320 | G14: =I14-E14 -> 2717691.8 | H14: ='4.1.2การใช้ไฟฟ้า_62'!H14 -> 1672.54 | I14: =' ข้อมูลการใช้ไฟฟ้า '!G40 -> 2936584.2 | J14: =+F14*100/(MAX(B14:D14)*24*M14) -> 34.333333 | K14: =MAX(B14:D14)/(SQRT((MAX(B14:D14)^2+(H14)^2))) -> 0.87343036 | L14: =+I14/F14 -> 3.83206 | M14: 31
A15: ส.ค. | B15: =' ข้อมูลการใช้ไฟฟ้า '!B41 -> 3561.46 | C15: =' ข้อมูลการใช้ไฟฟ้า '!C41 -> 2532.6 | D15: =' ข้อมูลการใช้ไฟฟ้า '!D41 -> 1741.16 | E15: =' ข้อมูลการใช้ไฟฟ้า '!E41 -> 264046.64 | F15: =' ข้อมูลการใช้ไฟฟ้า '!F41 -> 996418 | G15: =I15-E15 -> 3481290.5 | H15: ='4.1.2การใช้ไฟฟ้า_62'!H15 -> 1353.97 | I15: =' ข้อมูลการใช้ไฟฟ้า '!G41 -> 3745337.2 | J15: =+F15*100/(MAX(B15:D15)*24*M15) -> 37.604564 | K15: =MAX(B15:D15)/(SQRT((MAX(B15:D15)^2+(H15)^2))) -> 0.93472996 | L15: =+I15/F15 -> 3.7588012 | M15: 31
A16: ก.ย. | B16: =' ข้อมูลการใช้ไฟฟ้า '!B42 -> 3978.27 | C16: =' ข้อมูลการใช้ไฟฟ้า '!C42 -> 2665.44 | D16: =' ข้อมูลการใช้ไฟฟ้า '!D42 -> 1471.96 | E16: =' ข้อมูลการใช้ไฟฟ้า '!E42 -> 289138.27 | F16: =' ข้อมูลการใช้ไฟฟ้า '!F42 -> 1023359 | G16: =I16-E16 -> 3622743.5 | H16: ='4.1.2การใช้ไฟฟ้า_62'!H16 -> 1473.59 | I16: =' ข้อมูลการใช้ไฟฟ้า '!G42 -> 3911881.7 | J16: =+F16*100/(MAX(B16:D16)*24*M16) -> 35.727387 | K16: =MAX(B16:D16)/(SQRT((MAX(B16:D16)^2+(H16)^2))) -> 0.93773673 | L16: =+I16/F16 -> 3.8225899 | M16: 30
A17: ต.ค. | B17: =' ข้อมูลการใช้ไฟฟ้า '!B43 -> 3738.29 | C17: =' ข้อมูลการใช้ไฟฟ้า '!C43 -> 2505.45 | D17: =' ข้อมูลการใช้ไฟฟ้า '!D43 -> 1431.69 | E17: =' ข้อมูลการใช้ไฟฟ้า '!E43 -> 277156.82 | F17: =' ข้อมูลการใช้ไฟฟ้า '!F43 -> 971160 | G17: =I17-E17 -> 3388394.4 | H17: ='4.1.2การใช้ไฟฟ้า_62'!H17 -> 1274.2 | I17: =' ข้อมูลการใช้ไฟฟ้า '!G43 -> 3665551.2 | J17: =+F17*100/(MAX(B17:D17)*24*M17) -> 34.917638 | K17: =MAX(B17:D17)/(SQRT((MAX(B17:D17)^2+(H17)^2))) -> 0.94652697 | L17: =+I17/F17 -> 3.7744051 | M17: 31
A18: พ.ย. | B18: =' ข้อมูลการใช้ไฟฟ้า '!B44 -> 2622.38 | C18: =' ข้อมูลการใช้ไฟฟ้า '!C44 -> 1708.52 | D18: =' ข้อมูลการใช้ไฟฟ้า '!D44 -> 1311.19 | E18: =' ข้อมูลการใช้ไฟฟ้า '!E44 -> 194423.25 | F18: =' ข้อมูลการใช้ไฟฟ้า '!F44 -> 776381.99 | G18: =I18-E18 -> 2670326.3 | H18: ='4.1.2การใช้ไฟฟ้า_62'!H18 -> 1034.49 | I18: =' ข้อมูลการใช้ไฟฟ้า '!G44 -> 2864749.6 | J18: =+F18*100/(MAX(B18:D18)*24*M18) -> 41.119453 | K18: =MAX(B18:D18)/(SQRT((MAX(B18:D18)^2+(H18)^2))) -> 0.93023516 | L18: =+I18/F18 -> 3.6898712 | M18: 30
A19: ธ.ค. | B19: =' ข้อมูลการใช้ไฟฟ้า '!B45 -> 2301.57 | C19: =' ข้อมูลการใช้ไฟฟ้า '!C45 -> 1626.97 | D19: =' ข้อมูลการใช้ไฟฟ้า '!D45 -> 1150.78 | E19: =' ข้อมูลการใช้ไฟฟ้า '!E45 -> 170638.4 | F19: =' ข้อมูลการใช้ไฟฟ้า '!F45 -> 702772 | G19: =I19-E19 -> 2399973.1 | H19: ='4.1.2การใช้ไฟฟ้า_62'!H19 -> 834.01 | I19: =' ข้อมูลการใช้ไฟฟ้า '!G45 -> 2570611.5 | J19: =+F19*100/(MAX(B19:D19)*24*M19) -> 41.040943 | K19: =MAX(B19:D19)/(SQRT((MAX(B19:D19)^2+(H19)^2))) -> 0.94017652 | L19: =+I19/F19 -> 3.6578171 | M19: 31
A20: รวม | E20: =SUM(E8:E19) -> 2601570 | F20: =SUM(F8:F19) -> 9740154 | G20: =SUM(G8:G19) -> 33079848 | H20: =SUM(H8:H19) -> 14212.73 | I20: =SUM(I8:I19) -> 35681418
A21: เฉลี่ย | E21: =AVERAGE(E8:E19) -> 216797.5 | F21: =AVERAGE(F8:F19) -> 811679.5 | G21: =AVERAGE(G8:G19) -> 2756654 | H21: =AVERAGE(H8:H19) -> 1184.3942 | I21: =AVERAGE(I8:I19) -> 2973451.5 | J21: =AVERAGE(J8:J19) -> 38.111096 | K21: =AVERAGE(K8:K19) -> 0.92575135 | L21: =AVERAGE(L8:L19) -> 3.6626032
A22: หมายเหตุ: | B22: กรณีอัตรา ปกติ ให้กรอกค่าพลังงานไฟฟ้าสูงสุด (On Peak) ในช่อง P | I22: หมายเหตุ : ระบบไฟฟ้าเป็น Substation 115kV
B23: กรณีอัตรา TOD: P หมายถึง On Peak / PP หมายถึง Partial Peak / OP หมายถึง Off Peak
B24: กรณีอัตรา TOU: P หมายถึง Peak / OP1 หมายถึง Off Peak1 / OP2 หมายถึง Off Peak2
B25: กรณีอาคารมีเครื่องวัดไฟฟ้ามากกว่า 1 เครื่อง ให้เพิ่มจำนวนตารางแสดงข้อมูลการใช้ไฟฟ้าตามจำนวนของเครื่องวัดไฟฟ้า
B26: ค่าตัวประกอบภาระ (เปอร์เซ็นต์) = ปริมาณพลังงานไฟฟ้า (กิโลวัตต์-ชั่วโมง)
C27: ค่าพลังไฟฟ้าสูงสุด (กิโลวัตต์) x 24 (ชม./วัน) X จำนวนวันในแต่ละเดือน (วัน)
B28: Power Factor (PF) = ค่าพลังไฟฟ้าสูงสุด (กิโลวัตต์)
D29: ( kW2 ) + (KVAR2 )

Sheet 6.3.3การใช้เชื้อเพลิง_63
A1: 6.3.3) ข้อมูลการใช้เชื้อเพลิงและพลังงานหมุนเวียนในรอบปี 2563
A2: ตารางที่ 6.10 ข้อมูลการใช้เชื้อเพลิงและพลังงานหมุนเวียนในรอบปี 2563
A3: ชนิด | B3: หน่วย/ | C3: ปริมาณการใช้ | P3: ค่าความร้อนเฉลี่ย | Q3: ปริมาณพลังงานรวม | R3: ต้นทุน | S3: ต้นทุน | V3: ปริมาณการใช้
A4: พลังงานที่ใช้ | B4: มูลค่า | C4: ม.ค. | D4: ก.พ. | E4: มี.ค. | F4: เม.ย. | G4: พ.ค. | H4: มิ.ย. | I4: ก.ค. | J4: ส.ค. | K4: ก.ย. | L4: ต.ค. | M4: พ.ย. | N4: ธ.ค. | O4: รวม | P4: (เมกะจูล/หน่วย) | Q4: (เมกะจูล) | R4: (บาท/หน่วย) | S4: (บาท/MJ) | V4: ม.ค. | W4: ก.พ. | X4: มี.ค. | Y4: เม.ย. | Z4: พ.ค. | AA4: มิ.ย. | AB4: ก.ค. | AC4: ส.ค. | AD4: ก.ย. | AE4: ต.ค. | AF4: พ.ย. | AG4: ธ.ค. | AH4: รวม
A5: น้ำมันเตา | B5: ลิตร | O5: =SUM(C5:N5) -> 0 | P5: 39.77 | Q5: =O5*P5 -> 0 | R5: =O6/O5 -> #DIV/0! | S5: =O6/Q5 -> #DIV/0! | U5: ปี2562 | V5: =(C5*$P$5)+(C7*$P$7)+($C$9*$P$9)+(C11*$P$11)+(C13*$P$13)+(C15*$P$15) -> 0 | W5: =(D5*$P$5)+(D7*$P$7)+($D$9*$P$9)+(D11*$P$11)+(D13*$P$13)+(D15*$P$15) -> 0 | X5: =(E5*$P$5)+(E7*$P$7)+($E$9*$P$9)+(E11*$P$11)+(E13*$P$13)+(E15*$P$15) -> 0 | Y5: =(F5*$P$5)+(F7*$P$7)+($F$9*$P$9)+(F11*$P$11)+(F13*$P$13)+(F15*$P$15) -> 0 | Z5: =(G5*$P$5)+(G7*$P$7)+($G$9*$P$9)+(G11*$P$11)+(G13*$P$13)+(G15*$P$15) -> 0 | AA5: =(H5*$P$5)+(H7*$P$7)+($H$9*$P$9)+(H11*$P$11)+(H13*$P$13)+(H15*$P$15) -> 0 | AB5: =(I5*$P$5)+(I7*$P$7)+($I$9*$P$9)+(I11*$P$11)+(I13*$P$13)+(I15*$P$15) -> 0 | AC5: =(J5*$P$5)+(J7*$P$7)+($J$9*$P$9)+(J11*$P$11)+(J13*$P$13)+(J15*$P$15) -> 0 | AD5: =(K5*$P$5)+(K7*$P$7)+($K$9*$P$9)+(K11*$P$11)+(K13*$P$13)+(K15*$P$15) -> 0 | AE5: =(L5*$P$5)+(L7*$P$7)+($L$9*$P$9)+(L11*$P$11)+(L13*$P$13)+(L15*$P$15) -> 0 | AF5: =(M5*$P$5)+(M7*$P$7)+($M$9*$P$9)+(M11*$P$11)+(M13*$P$13)+(M15*$P$15) -> 0 | AG5: =(N5*$P$5)+(N7*$P$7)+($N$9*$P$9)+(N11*$P$11)+(N13*$P$13)+(N15*$P$15) -> 0 | AH5: =SUM(V5:AG5) -> 0
A6: (ชนิด.........) | B6: บาท | O6: =SUM(C6:N6) -> 0
A7: น้ำมันดีเซล | B7: ลิตร | O7: =SUM(C7:N7) -> 0 | P7: 36.42 | Q7: =O7*P7 -> 0 | R7: =O8/O7 -> #DIV/0! | S7: =O8/Q7 -> #DIV/0!
B8: บาท | O8: =SUM(C8:N8) -> 0
A9: ก๊าซปิโตรเลียมเหลว | B9: กิโลกรัม | O9: =SUM(C9:N9) -> 0 | P9: 50.23 | Q9: =O9*P9 -> 0 | R9: =O10/O9 -> #DIV/0! | S9: =O10/Q9 -> #DIV/0!
B10: บาท | O10: =SUM(C10:N10) -> 0
A11: ก๊าซธรรมชาติ | B11: ล้านบีทียู | O11: =SUM(C11:N11) -> 0 | P11: 1055 | Q11: =O11*P11 -> 0 | R11: =O12/O11 -> #DIV/0! | S11: =O12/Q11 -> #DIV/0!
B12: บาท | O12: =SUM(C12:N12) -> 0
A13: ถ่านหิน | B13: ตัน | O13: =SUM(C13:N13) -> 0 | P13: 26370 | Q13: =O13*P13 -> 0 | R13: =O14/O13 -> #DIV/0! | S13: =O14/Q13 -> #DIV/0!
A14: (ชนิด.....) | B14: บาท | O14: =SUM(C14:N14) -> 0
A15: ไอน้ำ | B15: ตัน | O15: =SUM(C15:N15) -> 0 | Q15: =O15*P15 -> 0 | R15: =O16/O15 -> #DIV/0! | S15: =O16/Q15 -> #DIV/0!
A16: (.....บาร์/.......๐C) | B16: บาท | O16: =SUM(C16:N16) -> 0
A17: อื่นๆ (ระบุ) | B17: หน่วย (ระบุ) | O17: =SUM(C17:N17) -> 0 | Q17: =O17*P17 -> 0 | R17: =O18/O17 -> #DIV/0! | S17: =O18/Q17 -> #DIV/0!
B18: บาท | O18: =SUM(C18:N18) -> 0
A19: รวมการใช้พลังงานความร้อนจากเชื้อเพลิง | Q19: =Q5+Q7+Q9 -> 0
A20: พลังงานหมุนเวียน | B20: หน่วย (ลบ. ม.) | O20: =SUM(C20:N20) -> 0 | Q20: =O20*P20 -> 0 | R20: =O21/O20 -> #DIV/0! | S20: =O21/Q20 -> #DIV/0!
B21: บาท | O21: =SUM(C21:N21) -> 0
A22: รวมการใช้พลังงานหมุนเวียน | Q22: 0
A23: รวมปริมาณพลังงานความร้อนทั้งหมด | Q23: =Q22+Q19 -> 0
A24: หมายเหตุ : | B24: ในกรณีไม่มีค่าความร้อนสูงจากผู้จำหน่าย ให้อ้างอิงค่าความร้อนเฉลี่ยตามที่กรมพัฒนาพลังงานทดแทนและอนุรักษ์พลังงานกำหนด
A25: No. | B25: Fuel | D25: Heating Value
A26: 01 | B26: น้ำมันเตา | D26: = 39.77 เมกะจูล/ลิตร
A27: 02 | B27: น้ำมันเตา 600 (A) | D27: = 38.18 เมกะจูล/ลิตร
A28: 03 | B28: น้ำมันเตา1500 (C) | D28: = 41.28 เมกะจูล/ลิตร
A29: 04 | B29: น้ำมันเตา 2000 (D) | D29: = ….. เมกะจูล/ลิตร
A30: 05 | B30: น้ำมันดีเซล | D30: = 36.42 เมกะจูล/ลิตร
A31: 06 | B31: น้ำมันเบนซิน | D31: = 31.48 เมกะจูล/ลิตร
A32: 07 | B32: น้ำมันก๊าด | D32: = 34.53 เมกะจูล/ลิตร
A33: 08 | B33: ก๊าซปิโตรเลียมเหลว | D33: = 26.62 เมกะจูล/ลิตร
A34: 09 | B34: ( LPG ) | D34: = 50.23 เมกะจูล/กิโลกรัม
A35: 10 | B35: ก๊าซธรรมชาติ | D35: = 1,055 เมกะจูล/ล้านบีทียู
A36: 11 | B36: ถ่านหินนำเข้า | D36: = 26,370 เมกะจูล/ตัน
... A49: 24 | B49: ซังข้าวโพด | D49: = 1,6220 เมกะจูล/ตัน
A50: หมายเหตุ | B50: ค่า Heating Value และหน่วยของเชื้อเพลิงที่ใช้จะต้องเป็นไปตามที่ พพ. กำหนดใน บพร.1 ตามตัวอย่างด้านบน และหากมีเชื้อเพลิงนอกเหนือจากนี้ที่ปรึกษาฯ จะต้องแจ้งจุฬาฯ ให้รับทราบ และเพิ่มเติมในฐานข้อมูลต่อไป ในส่วนเชื้อเพลิงน้ำมันเตา ต้องระบุชนิดให้ชัดเจนตามการใช

Sheet กราฟพลังงาน62_63
B1: กราฟแสดงการเปรียบเทียบข้อมูลการใช้พลังงาน
B16: รูปที่ 6-5 กราฟแสดงข้อมูลเปรียบเทียบการใช้พลังงานไฟฟ้า (kWh) รายเดือน ปี 2562 และปี 2563
B32: รูปที่ 6-6 กราฟแสดงข้อมูลเปรียบเทียบการใช้พลังงานความร้อนจากเชื้อเพลิงรายเดือน ปี 2562 และปี 2563

Sheet 6.3.4เชื้อเพลิงผลิตไฟฟ้า_63
A1: 6.3.4) ข้อมูลปริมาณการใช้เชื้อเพลิงในการผลิตไฟฟ้าในรอบปี 2563
C2: ผลิตกระแสไฟฟ้าอย่างเดียว | G2: ผลิตไฟฟ้าสำรองหรือกรณีฉุกเฉิน
A4: ตารางที่ 6.11 ข้อมูลการใช้เชื้อเพลิงในการผลิตไฟฟ้าในรอบปี 2563
A6: เดือน | B6: กำลังผลิตติดตั้ง (กิโลวัตต์) | C6: ปริมาณการใช้เชื้อเพลิงหลัก | F6: ชั่วโมง การเดินเครื่อง (ชั่วโมง) | G6: ปริมาณพลังงานไฟฟ้าที่ผลิตได้ (กิโลวัตต์ - ชั่วโมง) | I6: หมายเหตุ
C9: ชนิด | D9: ปริมาณ | E9: หน่วย
A10: ม.ค.
A11: ก.พ.
A12: มี.ค.
A13: เม.ย.
A14: พ.ค.
A15: มิ.ย.
A16: ก.ค.
A17: ส.ค.
A18: ก.ย.
A19: ต.ค.
A20: พ.ย.
A21: ธ.ค.
A22: รวม

Sheet กราฟพลังงานผลิตไฟฟ้า
B2: การใช้พลังงานเชื้อเพลิงผลิตไฟฟ้า
N5: ปี 2562 | O5: ปี 2563
M6: ม.ค. | N6: ='[8]เชื้อเพลิงเพื่อผลิตไฟฟ้า 60'!D10*36.42 -> 0 | O6: ='[8]6.3.4) เชื้อเพลิงผลิตไฟฟ้า 61'!D10*36.42 -> 0
M7: ก.พ. | N7: ='[8]เชื้อเพลิงเพื่อผลิตไฟฟ้า 60'!D11*36.42 -> 0 | O7: ='[8]6.3.4) เชื้อเพลิงผลิตไฟฟ้า 61'!D11*36.42 -> 0
M8: มี.ค. | N8: ='[8]เชื้อเพลิงเพื่อผลิตไฟฟ้า 60'!D12*36.42 -> 0 | O8: ='[8]6.3.4) เชื้อเพลิงผลิตไฟฟ้า 61'!D12*36.42 -> 0
M9: เม.ย. | N9: ='[8]เชื้อเพลิงเพื่อผลิตไฟฟ้า 60'!D13*36.42 -> 0 | O9: ='[8]6.3.4) เชื้อเพลิงผลิตไฟฟ้า 61'!D13*36.42 -> 0
M10: พ.ค. | N10: ='[8]เชื้อเพลิงเพื่อผลิตไฟฟ้า 60'!D14*36.42 -> 0 | O10: ='[8]6.3.4) เชื้อเพลิงผลิตไฟฟ้า 61'!D14*36.42 -> 0
M11: มิ.ย. | N11: ='[8]เชื้อเพลิงเพื่อผลิตไฟฟ้า 60'!D15*36.42 -> 0 | O11: ='[8]6.3.4) เชื้อเพลิงผลิตไฟฟ้า 61'!D15*36.42 -> 0
M12: ก.ค. | N12: ='[8]เชื้อเพลิงเพื่อผลิตไฟฟ้า 60'!D16*36.42 -> 0 | O12: ='[8]6.3.4) เชื้อเพลิงผลิตไฟฟ้า 61'!D16*36.42 -> 0
M13: ส.ค. | N13: ='[8]เชื้อเพลิงเพื่อผลิตไฟฟ้า 60'!D17*36.42 -> 0 | O13: ='[8]6.3.4) เชื้อเพลิงผลิตไฟฟ้า 61'!D17*36.42 -> 0
B14: รูปที่ 6-7 กราฟแสดงข้อมูลเปรียบเทียบการใช้พลังงานเชื้อเพลิงผลิตไฟฟ้ารายเดือน ปี 2562 และ 2563 | M14: ก.ย. | N14: ='[8]เชื้อเพลิงเพื่อผลิตไฟฟ้า 60'!D18*36.42 -> 0 | O14: ='[8]6.3.4) เชื้อเพลิงผลิตไฟฟ้า 61'!D18*36.42 -> 0
M15: ต.ค. | N15: ='[8]เชื้อเพลิงเพื่อผลิตไฟฟ้า 60'!D19*36.42 -> 0 | O15: ='[8]6.3.4) เชื้อเพลิงผลิตไฟฟ้า 61'!D19*36.42 -> 0
M16: พ.ย. | N16: ='[8]เชื้อเพลิงเพื่อผลิตไฟฟ้า 60'!D20*36.42 -> 0 | O16: ='[8]6.3.4) เชื้อเพลิงผลิตไฟฟ้า 61'!D20*36.42 -> 0
M17: ธ.ค. | N17: ='[8]เชื้อเพลิงเพื่อผลิตไฟฟ้า 60'!D21*36.42 -> 0 | O17: ='[8]6.3.4) เชื้อเพลิงผลิตไฟฟ้า 61'!D21*36.42 -> 0

Sheet 6.3.5สัดส่วนการใช้ไฟฟ้า_63
A1: 6.3.5) ข้อมูลสัดส่วนการใช้พลังงานไฟฟ้าในรอบปี 2563
A3: ตารางที่ 6.12 สัดส่วนการใช้พลังงานไฟฟ้าแยกตามระบบปี 2563
A5: ระบบ | B5: การใช้พลังงานไฟฟ้า | D5: วิธีการ
B6: กิโลวัตต์-ชั่วโมง/ปี | C6: ร้อยละ | D6: ประเมิน | E6: ตรวจวัด
A7: ปรับอากาศแบบรวมศูนย์ | B7: ='4.1.5สัดส่วนการใช้ไฟฟ้า_62'!B7 -> 102826 | C7: ='4.1.5สัดส่วนการใช้ไฟฟ้า_62'!C7 -> 0.92797085 | G7: =B7 -> 102826
A8: ปรับอากาศแบบแยกส่วน | B8: ='4.1.5สัดส่วนการใช้ไฟฟ้า_62'!B8 -> 5322003.8 | C8: ='4.1.5สัดส่วนการใช้ไฟฟ้า_62'!C8 -> 48.029335 | G8: =B8 -> 5322003.8
A9: แสงสว่าง | B9: ='4.1.5สัดส่วนการใช้ไฟฟ้า_62'!B9 -> 1509093.4 | C9: ='4.1.5สัดส่วนการใช้ไฟฟ้า_62'!C9 -> 13.619072 | G9: =B9 -> 1509093.4
A10: อื่นๆ | B10: ='4.1.5สัดส่วนการใช้ไฟฟ้า_62'!B10 -> 4146812.8 | C10: ='4.1.5สัดส่วนการใช้ไฟฟ้า_62'!C10 -> 37.423623 | G10: =B10 -> 4146812.8
A11: รวม | B11: ='4.1.5สัดส่วนการใช้ไฟฟ้า_62'!B11 -> 11080736 | C11: ='4.1.5สัดส่วนการใช้ไฟฟ้า_62'!C11 -> 100 | G11: =SUM(G7:G10) -> 11080736

Sheet 6.3.6สัดส่วนเชื้อเพลิง_63
A1: 6.3.6) ข้อมูลสัดส่วนการใช้พลังงานความร้อนในรอบปี 2563
A3: ตารางที่ 6.13 สัดส่วนการใช้พลังงานเชื้อเพลิงแยกตามระบบปี 2563
A5: ระบบ | B5: อุปกรณ์ | C5: การใช้พลังงานเชื้อเพลิง | F5: วิธีการ
C6: ชนิดเชื้อเพลิง | D6: เมกะจูล/ปี | E6: ร้อยละ | F6: ประเมิน | G6: ตรวจวัด | N6: ปี 2553
A7: หม้อไอน้ำ | M7: ไฟฟ้า | N7: ='[8]สัดส่วนไฟฟ้า 60'!B11*3.6 -> 0 | T7: ปี 2563
A8: หม้อต้มน้ำมันร้อน | M8: ความร้อน | N8: =D13 -> 0 | S8: ไฟฟ้า | T8: ='4.1.2การใช้ไฟฟ้า_62'!F20*3.6 -> 39890649
S9: ความร้อน | T9: =D13 -> 0
N10: ปี 2554
M11: ไฟฟ้า | N11: ='[8]สัดส่วนไฟฟ้า 60'!#REF!*3.6 -> #REF! | T11: ปี 2562
M12: ความร้อน | N12: =#REF! -> #REF! | S12: ไฟฟ้า | T12: ='[8]6.3.2) ไฟฟ้าปี 61'!F20*3.6 -> 0
A13: รวม | D13: ='[8]เชื้อเพลิง 60'!Q24 -> 0 | E13: =SUM(E7:E12) -> 0 | S13: ความร้อน | T13: ='[8]6.3.6) สัดส่วนเชื้อเพลิง 61'!D13 -> 0

Sheet สัดส่วนการใช้ไฟฟ้า  1
A7: ให้ใส่กราฟวงกลม (Pie Chart)
A8: แสดงสัดส่วนการใช้พลังงานไฟฟ้าและความร้อน
A13: สัดส่วนการใช้พลังงาน ปี 2562
A26: สัดส่วนการใช้พลังงาน ปี 2563
A27: รูปที่ 6-8 กราฟแสดงข้อมูลเปรียบเทียบสัดส่วนการใช้พลังงาน ปี 2562 และ 2563

Sheet สัดส่วนการใช้ไฟฟ้า 2 
A1: สัดส่วนการใช้พลังงานไฟฟ้า
A14: รูปที่ 6-9 กราฟแสดงข้อมูลเปรียบเทียบสัดส่วนการใช้พลังงานไฟฟ้า (kWh) ปี 2562 และ 2563
A16: สัดส่วนการใช้พลังงานความร้อน
A28: รูปที่ 6-10 กราฟแสดงข้อมูลเปรียบเทียบสัดส่วนการใช้พลังงานความร้อน ปี 2562 และ 2563

Sheet SEC (ทุกกรณี)
A1: 6.3.7) เปรียบเทียบค่าการใช้พลังงานจำเพาะ (SEC)
B2: 6.3.7.1 ค่าการใช้พลังงานจำเพาะของพื้นที่ใช้สอย (ทุกกรณี)
A4: ตารางที่ 6.14 ปริมาณการใช้พลังงานต่อหน่วยพื้นที่ใช้สอยที่ใช้งานจริงในรอบปี 2562 และปี 2563
A6: เดือน | B6: พื้นที่ใช้สอยที่ใช้งานจริง (ตารางเมตร) | C6: ปริมาณพลังงานที่ใช้ | F6: ค่าการใช้พลังงานจำเพาะ (SEC) | J6: เดือน | K6: พื้นที่ใช้สอยที่ใช้งานจริง (ตารางเมตร) | L6: ปริมาณพลังงานที่ใช้ | O6: ค่าการใช้พลังงานจำเพาะ (SEC)
C7: ไฟฟ้า | E7: ความร้อน | F7: (เมกะจูล/ตารางเมตร) | L7: ไฟฟ้า | N7: ความร้อน | O7: (เมกะจูล/ตารางเมตร)
C8: (กิโลวัตต์-ชั่วโมง) | E8: (เมกะจูล) | L8: (กิโลวัตต์-ชั่วโมง) | N8: (เมกะจูล) | U8: 2562 | V8: 2563
A9: 22647 | B9: ='4.2.1 SEC(พื้นที่)_62'!B9 -> 351038.48 | C9: =' ข้อมูลการใช้ไฟฟ้า '!F8 -> 761180 | E9: =C9*3.6 -> 2740248 | F9: =E9/B9 -> 7.8061186 | J9: 23012 | K9: =B9 -> 351038.48 | L9: =' ข้อมูลการใช้ไฟฟ้า '!F34 -> 715982 | N9: =L9*3.6 -> 2577535.2 | O9: =N9/K9 -> 7.3426002 | T9: ม.ค. | U9: =F9 -> 7.8061186 | V9: =O9 -> 7.3426002
A10: 22678 | B10: ='4.2.1 SEC(พื้นที่)_62'!B10 -> 351038.48 | C10: =' ข้อมูลการใช้ไฟฟ้า '!F9 -> 752030.99 | E10: =C10*3.6 -> 2707311.6 | F10: =E10/B10 -> 7.7122929 | J10: 23043 | K10: =B10 -> 351038.48 | L10: =' ข้อมูลการใช้ไฟฟ้า '!F35 -> 767073 | N10: =L10*3.6 -> 2761462.8 | O10: =N10/K10 -> 7.866553 | T10: ก.พ. | U10: =F10 -> 7.7122929 | V10: =O10 -> 7.866553
A11: 22706 | B11: ='4.2.1 SEC(พื้นที่)_62'!B11 -> 351038.48 | C11: =' ข้อมูลการใช้ไฟฟ้า '!F10 -> 871049.99 | E11: =C11*3.6 -> 3135780 | F11: =E11/B11 -> 8.9328667 | J11: 23071 | K11: =B11 -> 351038.48 | L11: =' ข้อมูลการใช้ไฟฟ้า '!F36 -> 841032 | N11: =L11*3.6 -> 3027715.2 | O11: =N11/K11 -> 8.6250237 | T11: มี.ค. | U11: =F11 -> 8.9328667 | V11: =O11 -> 8.6250237
A12: 22737 | B12: ='4.2.1 SEC(พื้นที่)_62'!B12 -> 351038.48 | C12: =' ข้อมูลการใช้ไฟฟ้า '!F11 -> 727722.99 | E12: =C12*3.6 -> 2619802.8 | F12: =E12/B12 -> 7.4630074 | J12: 23102 | K12: =B12 -> 351038.48 | L12: =' ข้อมูลการใช้ไฟฟ้า '!F37 -> 679934 | N12: =L12*3.6 -> 2447762.4 | O12: =N12/K12 -> 6.9729176 | T12: เม.ย. | U12: =F12 -> 7.4630074 | V12: =O12 -> 6.9729176
A13: 22767 | B13: ='4.2.1 SEC(พื้นที่)_62'!B13 -> 351038.48 | C13: =' ข้อมูลการใช้ไฟฟ้า '!F12 -> 929033 | E13: =C13*3.6 -> 3344518.8 | F13: =E13/B13 -> 9.5274991 | J13: 23132 | K13: =B13 -> 351038.48 | L13: =' ข้อมูลการใช้ไฟฟ้า '!F38 -> 757308.99 | N13: =L13*3.6 -> 2726312.4 | O13: =N13/K13 -> 7.7664203 | T13: พ.ค. | U13: =F13 -> 9.5274991 | V13: =O13 -> 7.7664203
A14: 22798 | B14: ='4.2.1 SEC(พื้นที่)_62'!B14 -> 351038.48 | C14: =' ข้อมูลการใช้ไฟฟ้า '!F13 -> 1026370 | E14: =C14*3.6 -> 3694932 | F14: =E14/B14 -> 10.525718 | J14: 23163 | K14: =B14 -> 351038.48 | L14: =' ข้อมูลการใช้ไฟฟ้า '!F39 -> 742413 | N14: =L14*3.6 -> 2672686.8 | O14: =N14/K14 -> 7.6136576 | T14: มิ.ย. | U14: =F14 -> 10.525718 | V14: =O14 -> 7.6136576
A15: 22828 | B15: ='4.2.1 SEC(พื้นที่)_62'!B15 -> 351038.48 | C15: =' ข้อมูลการใช้ไฟฟ้า '!F14 -> 1401619 | E15: =C15*3.6 -> 5045828.4 | F15: =E15/B15 -> 14.374004 | J15: 23193 | K15: =B15 -> 351038.48 | L15: =' ข้อมูลการใช้ไฟฟ้า '!F40 -> 766320 | N15: =L15*3.6 -> 2758752 | O15: =N15/K15 -> 7.8588307 | T15: ก.ค. | U15: =F15 -> 14.374004 | V15: =O15 -> 7.8588307
A16: 22859 | B16: ='4.2.1 SEC(พื้นที่)_62'!B16 -> 351038.48 | C16: =' ข้อมูลการใช้ไฟฟ้า '!F15 -> 1098193 | E16: =C16*3.6 -> 3953494.8 | F16: =E16/B16 -> 11.262283 | J16: 23224 | K16: =B16 -> 351038.48 | L16: =' ข้อมูลการใช้ไฟฟ้า '!F41 -> 996418 | N16: =L16*3.6 -> 3587104.8 | O16: =N16/K16 -> 10.218552 | T16: ส.ค. | U16: =F16 -> 11.262283 | V16: =O16 -> 10.218552
A17: 22890 | B17: ='4.2.1 SEC(พื้นที่)_62'!B17 -> 351038.48 | C17: =' ข้อมูลการใช้ไฟฟ้า '!F16 -> 1070147 | E17: =C17*3.6 -> 3852529.2 | F17: =E17/B17 -> 10.974664 | J17: 23255 | K17: =B17 -> 351038.48 | L17: =' ข้อมูลการใช้ไฟฟ้า '!F42 -> 1023359 | N17: =L17*3.6 -> 3684092.4 | O17: =N17/K17 -> 10.494839 | T17: ก.ย. | U17: =F17 -> 10.974664 | V17: =O17 -> 10.494839
A18: 22920 | B18: ='4.2.1 SEC(พื้นที่)_62'!B18 -> 351038.48 | C18: =' ข้อมูลการใช้ไฟฟ้า '!F17 -> 1012196 | E18: =C18*3.6 -> 3643905.6 | F18: =E18/B18 -> 10.380359 | J18: 23285 | K18: =B18 -> 351038.48 | L18: =' ข้อมูลการใช้ไฟฟ้า '!F43 -> 971160 | N18: =L18*3.6 -> 3496176 | O18: =N18/K18 -> 9.9595235 | T18: ต.ค. | U18: =F18 -> 10.380359 | V18: =O18 -> 9.9595235
A19: 22951 | B19: ='4.2.1 SEC(พื้นที่)_62'!B19 -> 351038.48 | C19: =' ข้อมูลการใช้ไฟฟ้า '!F18 -> 796156.99 | E19: =C19*3.6 -> 2866165.2 | F19: =E19/B19 -> 8.1648176 | J19: 23316 | K19: =B19 -> 351038.48 | L19: =' ข้อมูลการใช้ไฟฟ้า '!F44 -> 776381.99 | N19: =L19*3.6 -> 2794975.2 | O19: =N19/K19 -> 7.9620193 | T19: พ.ย. | U19: =F19 -> 8.1648176 | V19: =O19 -> 7.9620193
A20: 22981 | B20: ='4.2.1 SEC(พื้นที่)_62'!B20 -> 351038.48 | C20: =' ข้อมูลการใช้ไฟฟ้า '!F19 -> 635037 | E20: =C20*3.6 -> 2286133.2 | F20: =E20/B20 -> 6.512486 | J20: 23346 | K20: =B20 -> 351038.48 | L20: =' ข้อมูลการใช้ไฟฟ้า '!F45 -> 702772 | N20: =L20*3.6 -> 2529979.2 | O20: =N20/K20 -> 7.2071278 | T20: ธ.ค. | U20: =F20 -> 6.512486 | V20: =O20 -> 7.2071278
A21: รวม | B21: - | C21: =SUM(C9:D20) -> 11080736 | E21: =SUM(E9:E20) -> 39890649 | F21: - | J21: รวม | K21: - | L21: =SUM(L9:M20) -> 9740154 | N21: =SUM(N9:N20) -> 35064554 | O21: -
A22: เฉลี่ย | B22: =AVERAGE(B9:B20) -> 351038.48 | C22: =AVERAGE(C9:C20) -> 923394.66 | E22: =AVERAGE(E9:E20) -> 3324220.8 | F22: =AVERAGE(F9:I20) -> 9.4696763 | J22: เฉลี่ย | K22: =AVERAGE(K9:K20) -> 351038.48 | L22: =AVERAGE(L9:L20) -> 811679.5 | N22: =AVERAGE(N9:N20) -> 2922046.2 | O22: =AVERAGE(O9:R20) -> 8.3240054
A24: หมายเหตุ: | B24: ค่าการใช้พลังงานจำเพาะ (SEC) =ปริมาณพลังงานไฟฟ้า (กิโลวัตต์-ชั่วโมง) x 3.6 (เมกะจูล/กิโลวัตต์-ชั่วโมง)+ปริมาณพลังงานความร้อน (เมกะจูล)
F25: พื้นที่ใช้สอยที่ใช้งานจริง (ตารางเมตร)

Sheet SEC (ทุกกรณี) (2)
B15: รูปที่ 6-11 ค่าการใช้พลังงานจำเพาะ (SEC : MJ/m2) ในรอบปี 2562 และปี 2563

Sheet  ข้อมูลการใช้ไฟฟ้า 
B1: ข้อมูลการใช้ไฟฟ้า
A2: ตารางที่ ข.1 ข้อมูลการใช้ไฟฟ้าในรอบปี 2562
B3: อัตราการใช้ไฟฟ้า | C3: 4.1.2 | E3: หมายเลขผู้ใช้ไฟฟ้า | F3: 9806 - 020004562842 | G3: หมายเลขเครื่องวัดไฟฟ้า | H3: 23058209
B5: พลังไฟฟ้าสูงสุด | F5: พลังงานไฟฟ้า | L5: =F3 -> 9806 - 020004562842
A6: เดือน | B6: P | C6: PP/OP1 | D6: OP/OP2 | E6: ค่าใช้จ่าย | F6: ปริมาณ | G6: ค่าไฟฟ้ารวม | H6: ค่าตัวประกอบภาระ | I6: ค่าไฟฟ้าเฉลี่ย
B7: (กิโลวัตต์) | C7: (กิโลวัตต์) | D7: (กิโลวัตต์) | E7: (บาท) | F7: (กิโลวัตต์-ชั่วโมง) | G7: (บาท) | H7: (เปอร์เซ็นต์) | I7: (บาท/กิโลวัตต์-ชั่วโมง) | J7: วัน/เดือน | L7: ปี | M7: 2562 | N7: 2563
A8: ม.ค. | B8: 2152.03 | C8: 1434.68 | D8: 1155.72 | E8: 159551.5 | F8: 761180 | G8: 2810896.4 | H8: =F8*100/(B8*24*J8) -> 47.540759 | I8: =G8/F8 -> 3.6928144 | J8: 31 | L8: ม.ค. | M8: =F8 -> 761180 | N8: =F34 -> 715982
A9: ก.พ. | B9: 2510.76 | C9: 1394.86 | D9: 1514.42 | E9: 186147.75 | F9: 752030.99 | G9: 2821023.9 | H9: =F9*100/(B9*24*J9) -> 44.571912 | I9: =G9/F9 -> 3.751207 | J9: 28 | L9: ก.พ. | M9: =F9 -> 752030.99 | N9: =F35 -> 767073
A10: มี.ค. | B10: 2785.45 | C10: 1551.89 | D10: 1273.35 | E10: 206513.26 | F10: 871049.99 | G10: 3294534.4 | H10: =F10*100/(B10*24*J10) -> 42.031489 | I10: =G10/F10 -> 3.7822564 | J10: 31 | L10: มี.ค. | M10: =F10 -> 871049.99 | N10: =F36 -> 841032
A11: เม.ย. | B11: 2902.94 | C11: 1749.72 | D11: 1192.99 | E11: 215223.97 | F11: 727722.99 | G11: 2808490 | H11: =F11*100/(B11*24*J11) -> 34.817336 | I11: =G11/F11 -> 3.8592845 | J11: 30 | L11: เม.ย. | M11: =F11 -> 727722.99 | N11: =F37 -> 679934
A12: พ.ค. | B12: 3345 | C12: 2110.53 | D12: 2986.6 | E12: 247998.3 | F12: 929033 | G12: 3574788.2 | H12: =F12*100/(B12*24*J12) -> 37.330352 | I12: =G12/F12 -> 3.8478592 | J12: 31 | L12: พ.ค. | M12: =F12 -> 929033 | N12: =F38 -> 757308.99
A13: มิ.ย. | B13: 3624.36 | C13: 2668.48 | D13: 1792.26 | E13: 268710.05 | F13: 1026370 | G13: 3879454.1 | H13: =F13*100/(B13*24*J13) -> 39.331465 | I13: =G13/F13 -> 3.7797812 | J13: 30 | L13: มิ.ย. | M13: =F13 -> 1026370 | N13: =F39 -> 742413
A14: ก.ค. | B14: 4300.82 | C14: 2747.75 | D14: 1951.3 | E14: 312434.12 | F14: 1401619 | G14: 5250822.7 | H14: =F14*100/(B14*24*J14) -> 43.803193 | I14: =G14/F14 -> 3.7462554 | J14: 31 | L14: ก.ค. | M14: =F14 -> 1401619 | N14: =F40 -> 766320
A15: ส.ค. | B15: 3663.69 | C15: 2309.72 | D15: 1752.2 | E15: 271625.98 | F15: 1098193 | G15: 4177294.3 | H15: =F15*100/(B15*24*J15) -> 40.289049 | I15: =G15/F15 -> 3.8037888 | J15: 31 | L15: ส.ค. | M15: =F15 -> 1098193 | N15: =F41 -> 996418
A16: ก.ย. | B16: 3584.41 | C16: 2230.3 | D16: 1513.42 | E16: 265748.16 | F16: 1070147 | G16: 4096025.7 | H16: =F16*100/(B16*24*J16) -> 41.466107 | I16: =G16/F16 -> 3.8275356 | J16: 30 | L16: ก.ย. | M16: =F16 -> 1070147 | N16: =F42 -> 1023359
A17: ต.ค. | B17: 3424.42 | C17: 2070.58 | D17: 1393.66 | E17: 253886.5 | F17: 1012196 | G17: 3908062.6 | H17: =F17*100/(B17*24*J17) -> 39.728728 | I17: =G17/F17 -> 3.8609742 | J17: 31 | L17: ต.ค. | M17: =F17 -> 1012196 | N17: =F43 -> 971160
A18: พ.ย. | B18: 2506.64 | C18: 1511.94 | D18: 1352.79 | E18: 185842.29 | F18: 796156.99 | G18: 2989204.8 | H18: =F18*100/(B18*24*J18) -> 44.113778 | I18: =G18/F18 -> 3.7545419 | J18: 30 | L18: พ.ย. | M18: =F18 -> 796156.99 | N18: =F44 -> 776381.99
A19: ธ.ค. | B19: 2382.88 | C19: 1429.73 | D19: 1390.01 | E19: 176666.72 | F19: 635037 | G19: 2314519.2 | H19: =F19*100/(B19*24*J19) -> 35.819863 | I19: =G19/F19 -> 3.6446997 | J19: 31 | L19: ธ.ค. | M19: =F19 -> 635037 | N19: =F45 -> 702772
A20: รวม | E20: =SUM(E8:E19) -> 2750348.6 | F20: =SUM(F8:F19) -> 11080736 | G20: =SUM(G8:G19) -> 41925116
A21: เฉลี่ย | E21: =AVERAGE(E8:E19) -> 229195.72 | F21: =AVERAGE(F8:F19) -> 923394.66 | G21: =AVERAGE(G8:G19) -> 3493759.7 | H21: =AVERAGE(H8:H19) -> 40.903669 | I21: =AVERAGE(I8:I19) -> 3.7792499
A22: หมายเหตุ: | B22: กรณีอัตรา ปกติ ให้กรอกค่าพลังงานไฟฟ้าสูงสุด (On Peak) ในช่อง P | G22: หมายเหตุ : ระบบไฟฟ้าเป็น Substation 115kV
B23: กรณีอัตรา TOD: P หมายถึง On Peak / PP หมายถึง Partial Peak / OP หมายถึง Off Peak
B24: กรณีอัตรา TOU: P หมายถึง Peak / OP1 หมายถึง Off Peak1 / OP2 หมายถึง Off Peak2
B25: กรณีอาคารมีเครื่องวัดไฟฟ้ามากกว่า 1 เครื่อง ให้เพิ่มจำนวนตารางแสดงข้อมูลการใช้ไฟฟ้าตามจำนวนของเครื่องวัดไฟฟ้า
B26: ค่าตัวประกอบภาระ (เปอร์เซ็นต์) = ปริมาณพลังงานไฟฟ้า (กิโลวัตต์-ชั่วโมง)
C27: ค่าพลังไฟฟ้าสูงสุด (กิโลวัตต์) x 24 (ชม./วัน) X จำนวนวันในแต่ละเดือน (วัน)
A29: ตารางที่ ข.2 ข้อมูลการใช้ไฟฟ้าในรอบปี 2563
B30: อัตราการใช้ไฟฟ้า | C30: =C3 -> 4.1.2 | E30: หมายเลขผู้ใช้ไฟฟ้า | F30: =F3 -> 9806 - 020004562842 | G30: หมายเลขเครื่องวัดไฟฟ้า | H30: =H3 -> 23058209
B31: พลังไฟฟ้าสูงสุด | F31: พลังงานไฟฟ้า
A32: เดือน | B32: P | C32: PP/OP1 | D32: OP/OP2 | E32: ค่าใช้จ่าย | F32: ปริมาณ | G32: ค่าไฟฟ้ารวม | H32: ค่าตัวประกอบภาระ | I32: ค่าไฟฟ้าเฉลี่ย
B33: (กิโลวัตต์) | C33: (กิโลวัตต์) | D33: (กิโลวัตต์) | E33: (บาท) | F33: (กิโลวัตต์-ชั่วโมง) | G33: (บาท) | H33: (เปอร์เซ็นต์) | I33: (บาท/กิโลวัตต์-ชั่วโมง) | J33: วัน/เดือน
A34: ม.ค. | B34: 2345.53 | C34: 1510.68 | D34: 1152.89 | E34: 173897.59 | F34: 715982 | G34: 2701431.4 | H34: =F34*100/(B34*24*J34) -> 41.02874 | I34: =G34/F34 -> 3.7730437 | J34: 31
A35: ก.พ. | B35: 2705.44 | C35: 1432.29 | D35: 1193.58 | E35: 200581.32 | F35: 767073 | G35: 2890637.7 | H35: =F35*100/(B35*24*J35) -> 42.191942 | I35: =G35/F35 -> 3.7683997 | J35: 28
A36: มี.ค. | B36: 3064.81 | C36: 1711.52 | D36: 1233.89 | E36: 227225.01 | F36: 841032 | G36: 2318212.5 | H36: =F36*100/(B36*24*J36) -> 36.883831 | I36: =G36/F36 -> 2.7563904 | J36: 31
A37: เม.ย. | B37: 2505.21 | C37: 1431.55 | D37: 2067.79 | E37: 182202.02 | F37: 679934 | G37: 2525807.3 | H37: =F37*100/(B37*24*J37) -> 37.695554 | I37: =G37/F37 -> 3.7147831 | J37: 30
A38: พ.ค. | B38: 2823.4 | C38: 1749.71 | D38: 1789.48 | E38: 209242.36 | F38: 757308.99 | G38: 2769414.3 | H38: =F38*100/(B38*24*J38) -> 36.051868 | I38: =G38/F38 -> 3.6569146 | J38: 31
A39: มิ.ย. | B39: 2661.81 | C39: 1748.05 | D39: 1032.94 | E39: 194125.95 | F39: 742413 | G39: 2781199.7 | H39: =F39*100/(B39*24*J39) -> 38.737895 | I39: =G39/F39 -> 3.7461625 | J39: 30
A40: ก.ค. | B40: 3000 | C40: 2000 | D40: 960 | E40: 218892.42 | F40: 766320 | G40: 2936584.2 | H40: =F40*100/(B40*24*J40) -> 34.333333 | I40: =G40/F40 -> 3.83206 | J40: 31
A41: ส.ค. | B41: 3561.46 | C41: 2532.6 | D41: 1741.16 | E41: 264046.64 | F41: 996418 | G41: 3745337.2 | H41: =F41*100/(B41*24*J41) -> 37.604564 | I41: =G41/F41 -> 3.7588012 | J41: 31
A42: ก.ย. | B42: 3978.27 | C42: 2665.44 | D42: 1471.96 | E42: 289138.27 | F42: 1023359 | G42: 3911881.7 | H42: =F42*100/(B42*24*J42) -> 35.727387 | I42: =G42/F42 -> 3.8225899 | J42: 30
A43: ต.ค. | B43: 3738.29 | C43: 2505.45 | D43: 1431.69 | E43: 277156.82 | F43: 971160 | G43: 3665551.2 | H43: =F43*100/(B43*24*J43) -> 34.917638 | I43: =G43/F43 -> 3.7744051 | J43: 31
A44: พ.ย. | B44: 2622.38 | C44: 1708.52 | D44: 1311.19 | E44: 194423.25 | F44: 776381.99 | G44: 2864749.6 | H44: =F44*100/(B44*24*J44) -> 41.119453 | I44: =G44/F44 -> 3.6898712 | J44: 30
A45: ธ.ค. | B45: 2301.57 | C45: 1626.97 | D45: 1150.78 | E45: 170638.4 | F45: 702772 | G45: 2570611.5 | H45: =F45*100/(B45*24*J45) -> 41.040943 | I45: =G45/F45 -> 3.6578171 | J45: 31
A46: รวม | E46: =SUM(E34:E45) -> 2601570 | F46: =SUM(F34:F45) -> 9740154 | G46: =SUM(G34:G45) -> 35681418
A47: เฉลี่ย | E47: =AVERAGE(E34:E45) -> 216797.5 | F47: =AVERAGE(F34:F45) -> 811679.5 | G47: =AVERAGE(G34:G45) -> 2973451.5 | H47: =AVERAGE(H34:H45) -> 38.111096 | I47: =AVERAGE(I34:I45) -> 3.6626032
A48: หมายเหตุ: | B48: กรณีอัตรา ปกติ ให้กรอกค่าพลังงานไฟฟ้าสูงสุด (On Peak) ในช่อง P | G48: หมายเหตุ : ระบบไฟฟ้าเป็น Substation 115kV
B49: กรณีอัตรา TOD: P หมายถึง On Peak / PP หมายถึง Partial Peak / OP หมายถึง Off Peak
B50: กรณีอัตรา TOU: P หมายถึง Peak / OP1 หมายถึง Off Peak1 / OP2 หมายถึง Off Peak2
B51: กรณีอาคารมีเครื่องวัดไฟฟ้ามากกว่า 1 เครื่อง ให้เพิ่มจำนวนตารางแสดงข้อมูลการใช้ไฟฟ้าตามจำนวนของเครื่องวัดไฟฟ้า
B52: ค่าตัวประกอบภาระ (เปอร์เซ็นต์) = ปริมาณพลังงานไฟฟ้า (กิโลวัตต์-ชั่วโมง)
C53: ค่าพลังไฟฟ้าสูงสุด (กิโลวัตต์) x 24 (ชม./วัน) X จำนวนวันในแต่ละเดือน (วัน)

Sheet สัดส่วนการใช้พลังงานไฟฟ้า
A1: สัดส่วนการใช้พลังงานไฟฟ้า
A3: ตารางที่ จ.1 สัดส่วนการใช้พลังงานไฟฟ้าแยกตามระบบปี 2562
A5: ระบบ | B5: การใช้พลังงานไฟฟ้า | D5: วิธีการ | I5: ระบบ | J5: กิโลวัตต์-ชั่วโมง/ปี | L5: ร้อยละ
B6: กิโลวัตต์-ชั่วโมง/ปี | C6: ร้อยละ | D6: ประเมิน | E6: ตรวจวัด | J6: 2561 | K6: 2562 | L6: 2561 | M6: 2562
A7: ปรับอากาศแบบรวมศูนย์ | B7: 102826 | C7: =(B7/B$11)*100 -> 0.92797085 | D7: ü | I7: ชนิดแบบรวมศูนย์ | J7: =B7 -> 102826 | K7: =B18 -> 102826 | L7: =C7 -> 0.92797085 | M7: =C18 -> 1.0556917
A8: *ปรับอากาศแบบแยกส่วน | B8: 8361864 | C8: =(B8/B$11)*100 -> 75.463074 | D8: ü | I8: ชนิดแบบแยกส่วน | J8: =B8 -> 8361864 | K8: =B19 -> 5322003.8 | L8: =C8 -> 75.463074 | M8: =C19 -> 54.639832
A9: แสงสว่าง | B9: 2613411.6 | C9: =(B9/B$11)*100 -> 23.58518 | D9: ü | I9: แสงสว่าง | J9: =B9 -> 2613411.6 | K9: =B20 -> 1509093.4 | L9: =C9 -> 23.58518 | M9: =C20 -> 15.493527
A10: อื่นๆ | B10: =B11-SUM(B7:B9) -> 2634.3975 | C10: =(B10/B$11)*100 -> 0.023774572 | D10: ü | I10: อื่นๆ | J10: =B10 -> 2634.3975 | K10: =B21 -> 2806230.8 | L10: =C10 -> 0.023774572 | M10: =C21 -> 28.81095
A11: รวม | B11: =' ข้อมูลการใช้ไฟฟ้า '!$F$20 -> 11080736 | C11: =SUM(C7:C10) -> 100 | I11: รวม | J11: =SUM(J7:J10) -> 11080736 | K11: =SUM(K7:K10) -> 9740154 | L11: =C11 -> 100 | M11: =C22 -> 100
A12: หมายเหตุ : *เฉพาะเครื่องปรับอากาศแบบแยกส่วน
A14: ตารางที่ จ.2 สัดส่วนการใช้พลังงานไฟฟ้าแยกตามระบบปี 2563
A16: ระบบ | B16: การใช้พลังงานไฟฟ้า | D16: วิธีการ
B17: กิโลวัตต์-ชั่วโมง/ปี | C17: ร้อยละ | D17: ประเมิน | E17: ตรวจวัด
A18: ปรับอากาศแบบรวมศูนย์ | B18: =ข้อมูลไฟฟ้าเครื่องจักร!X11 -> 102826 | C18: =(B18/B$22)*100 -> 1.0556917 | D18: ü
A19: *ปรับอากาศแบบแยกส่วน | B19: =ข้อมูลไฟฟ้าเครื่องจักร!X12 -> 5322003.8 | C19: =(B19/B$22)*100 -> 54.639832 | D19: ü
A20: แสงสว่าง | B20: =ข้อมูลไฟฟ้าเครื่องจักร!X13 -> 1509093.4 | C20: =(B20/B$22)*100 -> 15.493527 | D20: ü
A21: อื่นๆ | B21: =B22-SUM(B18:B20) -> 2806230.8 | C21: =(B21/B$22)*100 -> 28.81095 | D21: ü
A22: รวม | B22: =' ข้อมูลการใช้ไฟฟ้า '!F46 -> 9740154 | C22: =SUM(C18:C21) -> 100
A23: หมายเหตุ : *เฉพาะเครื่องปรับอากาศแบบแยกส่วน
I26: ระบบ | J26: กิโลวัตต์-ชั่วโมง/ปี | L26: ร้อยละ
J27: 2562 | K27: 2563 | L27: 2562 | M27: 2563
I28: ไฟฟ้า | J28: =B11 -> 11080736 | K28: =B22 -> 9740154 | L28: 1 | M28: 1
I29: ความร้อน | J29: 0 | K29: 0 | L29: =C30 -> 0 | M29: =C41 -> 0
I30: รวม | J30: =SUM(J28:J29) -> 11080736 | K30: =SUM(K28:K29) -> 9740154 | L30: =C33 -> 0 | M30: =C44 -> 0

Sheet ขั้นตอน7
A1: ขั้นตอนที่ 7 การตรวจติดตามและประเมินการจัดการพลังงาน
A3: 7.1 คณะผู้ตรวจประเมินการจัดการพลังงานภายในองค์กร
B4: การแต่งตั้งคณะผู้ตรวจประเมินการจัดการพลังงานภายในองค์กร
A6: (ใส่เอกสารคำสั่งแต่งตั้งคณะผู้ตรวจประเมินฯ)
A32: รูปที่ 7-1 คำสั่งแต่งตั้งคณะผู้ตรวจประเมินการจัดการพลังงานภายในองค์กร
A34: (ใส่เอกสารคำสั่งแต่งตั้งคณะผู้ตรวจประเมินฯ)
A64: รูปที่ 7-2 คำสั่งแต่งตั้งคณะผู้ตรวจประเมินการจัดการพลังงานภายในองค์กร
A66: (ใส่เอกสารคำสั่งแต่งตั้งคณะผู้ตรวจประเมินฯ)
A95: รูปที่ 7-3 คำสั่งแต่งตั้งคณะผู้ตรวจประเมินการจัดการพลังงานภายในองค์กร
A97: (ใส่เอกสารคำสั่งแต่งตั้งคณะผู้ตรวจประเมินฯ)
A126: รูปที่ 7-4 คำสั่งแต่งตั้งคณะผู้ตรวจประเมินการจัดการพลังงานภายในองค์กร
A128: (ใส่เอกสารคำสั่งแต่งตั้งคณะผู้ตรวจประเมินฯ)
A157: รูปที่ 7-5 คำสั่งแต่งตั้งคณะผู้ตรวจประเมินการจัดการพลังงานภายในองค์กร
A159: (ใส่เอกสารคำสั่งแต่งตั้งคณะผู้ตรวจประเมินฯ)
A188: รูปที่ 7-6 คำสั่งแต่งตั้งคณะผู้ตรวจประเมินการจัดการพลังงานภายในองค์กร

Sheet เพิ่มเติมเผยแพร่ผู้ตรวจประเมินฯ
A1: 7.2 การเผยแพร่คณะผู้ตรวจประเมินการจัดการพลังงานภายในองค์กร
