Workbook
Name _____sss2: [1]DATA!#REF!
Name _____sss2: [1]DATA!#REF!
Name _____sss2: [1]DATA!#REF!
Name _____sss2: [1]DATA!#REF!
Name _____sss2: [1]DATA!#REF!
Name _____sss2: [1]DATA!#REF!
Name _____sss2: [1]DATA!#REF!
Name _____sss2: [1]DATA!#REF!
Name _____sss2: [1]DATA!#REF!
Name _____sss2: [1]DATA!#REF!
Name _____sss2: [1]DATA!#REF!
Name _____sss2: [1]DATA!#REF!
Name _____sss2: [1]DATA!#REF!
Name _____sss2: [1]DATA!#REF!
Name _____sss2: [1]DATA!#REF!
Name _____sss2: [1]DATA!#REF!
Name _____sss2: [1]DATA!#REF!
Name _____sss2: [1]DATA!#REF!
Name _____sss2: [1]DATA!#REF!
Name _____sss2: [1]DATA!#REF!
Name _____sss4: [1]RE_DATA!#REF!
Name _____sss4: [1]RE_DATA!#REF!
Name _____sss4: [1]RE_DATA!#REF!
Name _____sss4: [1]RE_DATA!#REF!
Name _____sss4: [1]RE_DATA!#REF!
Name _____sss4: [1]RE_DATA!#REF!
Name _____sss4: [1]RE_DATA!#REF!
Name _____sss4: [1]RE_DATA!#REF!
Name _____sss4: [1]RE_DATA!#REF!
Name _____sss4: [1]RE_DATA!#REF!
Name _____sss4: [1]RE_DATA!#REF!
Name _____sss4: [1]RE_DATA!#REF!
Name _____sss4: [1]RE_DATA!#REF!
Name _____sss4: [1]RE_DATA!#REF!
Name _____sss4: [1]RE_DATA!#REF!
Name _____sss4: [1]RE_DATA!#REF!
Name _____sss4: [1]RE_DATA!#REF!
Name _____sss4: [1]RE_DATA!#REF!
Name _____sss4: [1]RE_DATA!#REF!
Name _____sss4: [1]RE_DATA!#REF!
Name ____Flu40: 50
Name ___Flu40: 50
Name ___sss2: [1]DATA!#REF!
Name ___sss2: [1]DATA!#REF!
Name ___sss2: [1]DATA!#REF!
Name ___sss2: [1]DATA!#REF!
Name ___sss2: [1]DATA!#REF!
Name ___sss2: [1]DATA!#REF!
Name ___sss2: [1]DATA!#REF!
Name ___sss2: [1]DATA!#REF!
Name ___sss2: [1]DATA!#REF!
Name ___sss2: [1]DATA!#REF!
Name ___sss2: [1]DATA!#REF!
Name ___sss2: [1]DATA!#REF!
Name ___sss2: [1]DATA!#REF!
Name ___sss2: [1]DATA!#REF!
Name ___sss2: [1]DATA!#REF!
Name ___sss2: [1]DATA!#REF!
Name ___sss2: [1]DATA!#REF!
Name ___sss2: [1]DATA!#REF!

Sheet ปก 
A15: รายงาน
A16: การจัดการพลังงาน
A17: ประจำปี 2563
C32: ชื่อนิติบุคคล : | F32: มหาวิทยาลัยแม่โจ้
C33: ชื่ออาคารควบคุม : | F33: =F32 -> มหาวิทยาลัยแม่โจ้
C34: TSIC - ID : | F34: 85302-0095

Sheet คำรับรอง
B2: ใบคำรับรองการจัดทำรายงานการจัดการพลังงาน
C3: ของอาคารควบคุม | E3: ='ปก '!F33 -> มหาวิทยาลัยแม่โจ้
B5: 1. ประธานคณะทำงานด้านการจัดการพลังงาน
C6: ข้าพเจ้าในฐานะประธานคณะทำงานด้านการจัดการพลังงานของอาคารควบคุม ขอรับรองว่าได้ดำเนิน
B7: การจัดการพลังงานให้เป็นไปตามที่กฎกระทรวงกำหนดทุกประการ
F9: ลงชื่อ....................................................................
F10: (ผู้ช่วยศาสตราจารย์ ดร.ณัฐวุฒิ ดุษฎี)
F11: รองอธิการบดี
F12: วันที่............../...................../.................
B13: 2. ผู้รับผิดชอบด้านพลังงาน
C14: ข้าพเจ้าในฐานะผู้รับผิดชอบด้านพลังงานของอาคารควบคุม ขอรับรองว่าได้ดำเนินการจัดการพลังงาน
B15: ให้เป็นไปตามที่กฎกระทรวงกำหนดทุกประการ
B17: ลงชื่อ.................................................. | G17: ลงชื่อ..................................................
B18: (นายสุรเดช คิดการงาน) | G18: (นายรัฐพล ญาติมิตรหนุน)
B19: ตำแหน่งผู้รับผิดชอบด้านพลังงานอาวุโส | G19: ตำแหน่งผู้รับผิดชอบด้านพลังงานสามัญ
B20: ทะเบียนเลขที่ ผอส.04244 | G20: ทะเบียนเลขที่ ผชอ.03430
B21: วันที่............/................./.............. | G21: วันที่............/................./..............
B24: 3. เจ้าของอาคารควบคุม
B25: ข้าพเจ้าในฐานะเจ้าของอาคารควบคุม/ผู้รับมอบอำนาจ ขอรับรองว่าได้ดำเนินการจัดการพลังงานให้ | C25: ข้าพเจ้าในฐานะเจ้าของอาคารควบคุม/ผู้รับมอบอำนาจ ขอรับรองว่าได้ดำเนินการจัดการพลังงานให้
B26: เป็นไปตามที่กฎกระทรวงกำหนดทุกประการ
F28: ลงชื่อ.........................................................................
F29: (รองศาสตราจารย์ ดร.วีระพล ทองมา)
F30: อธิการบดีมหาวิทยาลัยแม่โจ้
F31: วันที่............../...................../.................

Sheet สารบัญ
B1: สารบัญ
J3: หน้า
A5: ข้อมูลเบื้องต้น | J5: 1
A6: ข้อมูลด้านการจัดการพลังงาน
A7: ขั้นตอนที่ 1 | C7: คณะทำงานด้านการจัดการพลังงาน | J7: 3
A8: ขั้นตอนที่ 2 | C8: การประเมินสถานภาพการจัดการพลังงานเบื้องต้น | J8: 15
A9: ขั้นตอนที่ 3 | C9: นโยบายอนุรักษ์พลังงาน | J9: 16
A10: ขั้นตอนที่ 4 | C10: การประเมินศักยภาพการอนุรักษ์พลังงาน | J10: 21
A11: ขั้นตอนที่ 5 | C11: การกำหนดเป้าหมายและแผนอนุรักษ์พลังงาน | J11: 50
C12: และแผนการฝึกอบรมและกิจกรรมเพื่อส่งเสริมการอนุรักษ์พลังงาน
A13: ขั้นตอนที่ 6 | C13: การดำเนินการตามแผนอนุรักษ์พลังงาน การตรวจสอบและ | J13: 63
C14: วิเคราะห์การปฏิบัติตามเป้าหมายและแผนอนุรักษ์พลังงาน
A15: ขั้นตอนที่ 7 | C15: การตรวจติดตามและประเมินการจัดการพลังงาน | J15: 95
A16: ขั้นตอนที่ 8 | C16: การทบทวน วิเคราะห์และแก้ไขข้อบกพร่องของการจัดการพลังงาน | J16: 107
A17: ภาคผนวก
B18: ภาคผนวก ก. แผนการดำเนินการมาตรการอนุรักษ์พลังงานในระยะเวลา 3 ปีข้างหน้า
B19: ภาคผนวก ข. เอกสารประกอบอื่นๆ

Sheet ข้อมูลเบื้องต้น
A1: ข้อมูลเบื้องต้น
A3: ข้อมูลทั่วไป
B4: 1 | C4: ชื่อนิติบุคคล: | F4: ='ปก '!F32:I32 -> มหาวิทยาลัยแม่โจ้
C5: ชื่ออาคารควบคุม: | F5: ='ปก '!F33:I33 -> มหาวิทยาลัยแม่โจ้
C6: TSIC - ID: | F6: ='ปก '!F34:I34 -> 85302-0095
B7: 2 | C7: ระบุกลุ่มอาคารควบคุม ดังนี้
D8: กลุ่มที่ 1 : อาคารควบคุมที่ใช้เครื่องวัดไฟฟ้าหรือติดตั้งหม้อแปลงไฟฟ้ารวมกันน้อยกว่าสามพันกิโลวัตต์หรือสามพันห้าร้อย สามสิบกิโลโวลต์แอมแปร์หรืออาคารควบคุมที่ใช้พลังงานไฟฟ้า พลังงานความร้อนจากไอน้ำ หรือ พลังงานสิ้นเปลืองอื่นๆ โดยมีปริมาณพลังงานเทียบเท่าพลังงานไฟฟ้าต่ำกว่าหกสิบล้านเมกะจูล
D11: กลุ่มที่ 2 :อาคารควบคุมที่ใช้เครื่องวัดไฟฟ้าหรือติดตั้งหม้อแปลงไฟฟ้ารวมกันตั้งแต่สามพันกิโลวัตต์หรือสามพันห้าร้อยสามสิบกิโลโวลต์แอมแปร์ขึ้นไปหรืออาคารควบคุมที่ใช้พลังงานไฟฟ้า พลังงานความร้อนจากไอน้ำ หรือพลังงานสิ้นเปลืองอื่นๆ โดยมีปริมาณพลังงานเทียบเท่าพลังงานไฟฟ้าตั้งแต่หกสิบล้านเมกะจูลขึ้นไป
B15: 3 | C15: ที่อยู่อาคาร
C16: เลขที่ | D16: 63 | G16: ถนน | H16: เชียงใหม่ - พร้าว | K16: ตำบล | L16: หนองหาร
C17: อำเภอ | D17: สันทราย | G17: จังหวัด | H17: เชียงใหม่ | K17: รหัสไปรษณีย์ | L17: 50290
C18: โทรศัพท์ | E18: 053-873224-5 | G18: โทรสาร 053-873256 | H18: 053-498862 | K18: อีเมล thanachoke@cmru.ac.th | L18: suradet215@gmail.com
B20: 4 | C20: ประเภทอาคาร
C21: สำนักงาน | F21: โรงแรม | H21: โรงพยาบาล | J21: ศูนย์การค้า
C22: สถานศึกษา | F22: อื่นๆ (ระบุ)
B23: 5 | C23: อาคารเริ่มเปิดดำเนินการ เมื่อปี พ.ศ. | H23: 2477
C24: จำนวนบุคลกร | G24: พนักงานมหาวิทยาลัย……1,666…..คน | L24: จำนวน | M24: 11 | N24: คณะ
C25: จำนวน | D25: 2 | E25: วิทยาเขต | G25: จำนวน | H25: 3 | I25: วิทยาลัย | L25: จำนวน | M25: 10 | N25: สำนัก/วิสาหกิจ
B27: 6. | C27: จำนวนอาคารทั้งหมด : | F27: 120 | G27: อาคาร (รายละเอียดจำนวนอาคาร แสดงในภาคผนวก ก.)
B29: 7. | C29: สำหรับอาคารประเภทโรงแรม
C30: จำนวนห้องพักทั้งหมด | F30: - | G30: ห้อง (รายละเอียดจำนวนห้องพักที่จำหน่ายได้ แสดงในภาคผนวก ก.)
B32: 8. | C32: สำหรับอาคารประเภทโรงพยาบาล
C33: จำนวนเตียงคนไข้ในทั้งหมด | G33: - | H33: เตียง (รายละเอียดจำนวนคนไข้ใน แสดงในภาคผนวก ก.)
B34: 9. | C34: ผู้รับผิดชอบด้านพลังงาน
B36: ลำดับที่ | D36: ชื่อ - นามสกุล | I36: คุณสมบัติ*** | N36: ทะเบียนเลขที่
B37: 1 | D37: นายสุรเดช คิดการงาน | I37: ผู้รับผิดชอบด้านพลังงานประเภทที่ 1 | N37: ผอส.04244
I38: ผู้รับผิดชอบด้านพลังงานประเภทที่ 2
B39: 2 | D39: นายรัฐพล ญาติมิตรหนุน | I39: ผู้รับผิดชอบด้านพลังงานประเภทที่ 1 | N39: ผชอ.03430
I40: ผู้รับผิดชอบด้านพลังงานประเภทที่ 2
B41: 1 | I41: ผู้รับผิดชอบด้านพลังงานประเภทที่ 1
I42: ผู้รับผิดชอบด้านพลังงานประเภทที่ 2
B45: ***คุณสมบัติผู้รับผิดชอบด้านพลังงาน
B46: ผู้รับผิดชอบด้านพลังงานสามัญ
D47: (ก) | E47: เป็นผู้ได้รับประกาศนียบัตรวิชาชีพชั้นสูงและมีประสบการณ์การทำงานในอาคารอย่างน้อยสามปีโดยมีผลงานด้านการอนุรักษ์
E48: พลังงานตามการรับรองของเจ้าของโรงงานควบคุมหรือเจ้าของอาคารควบคุม
D49: (ข) | E49: เป็นผู้ได้รับปริญญาทางวิศวกรรมศาสตร์ หรือทางวิทยาศาสตร์ โดยมีผลงานด้านการอนุรักษ์พลังงานตามการรับรองของเจ้าของอาคารควบคุม
D51: (ค) | E51: เป็นผู้สำเร็จการฝึกอบรมด้านการอนุรักษ์พลังงานหรือการฝึกอบรมที่มีวัตถุประสงค์คล้ายคลึงกันที่อธิบดีให้ความเห็นชอบ
D52: (ง) | E52: เป็นผู้สำเร็จการฝึกอบรมหลักสูตรผู้รับผิดชอบด้านพลังงานอาวุโส ที่อธิบดีให้ความเห็นชอบ
D53: (จ) | E53: เป็นผู้ที่สอบได้ตามเกณฑ์ที่กำหนดจากการจัดสอบผู้รับผิดชอบด้านพลังงาน ซึ่งจัดโดยกรมพัฒนาพลังงานทดแทนและ
E54: อนุรักษ์พลังงาน
...

Sheet ขั้นตอน1
A1: ข้อมูลด้านการจัดการพลังงาน
A3: ขั้นตอนที่ 1 | C3: คณะทำงานด้านการจัดการพลังงาน
A5: 1.1 โครงสร้างคณะทำงานด้านการจัดการพลังงาน
D28: รูปที่ 1-1 ผังโครงสร้างคณะทำงานด้านการจัดการพลังงาน

Sheet 1.2คำสั่งแต่งตั้ง
A1: 1.2 การแต่งตั้งคณะทำงานด้านการจัดการพลังงาน และอำนาจหน้าทึ่ความรับผิดชอบ
A3: (ใส่เอกสารคำสั่งแต่งตั้งคณะผู้ตรวจประเมินฯ)
A29: รูปที่ 1-2 คำสั่งแต่งตั้งคณะกรรมการดำเนินงาน
A31: (ใส่เอกสารคำสั่งแต่งตั้งคณะผู้ตรวจประเมินฯ)
A58: รูปที่ 1-2 คำสั่งแต่งตั้งคณะกรรมการดำเนินงาน
A60: (ใส่เอกสารคำสั่งแต่งตั้งคณะผู้ตรวจประเมินฯ)
A87: รูปที่ 1-2 คำสั่งแต่งตั้งคณะกรรมการผู้ตรวจประเมินการจัดการพลังงานภายใน
A89: (ใส่เอกสารคำสั่งแต่งตั้งคณะผู้ตรวจประเมินฯ)
A116: รูปที่ 1-2 คำสั่งแต่งตั้งอนุกรรมการจัดการพลังงานประจำหน่วยงาน
A118: (ใส่เอกสารคำสั่งแต่งตั้งคณะผู้ตรวจประเมินฯ)
A145: รูปที่ 1-2 คำสั่งแต่งตั้งคณะอนุกรรมการจัดการพลังงานประจำหน่วยงาน
A147: (ใส่เอกสารคำสั่งแต่งตั้งคณะผู้ตรวจประเมินฯ)
A174: รูปที่ 1-2 คำสั่งแต่งตั้งอนุกรรมการจัดการพลังงานประจำหน่วยงาน

Sheet 1.3วิธีการเผยแพร่
A1: 1.3 | B1: วิธีการเผยแพร่คณะทำงานด้านการจัดการพลังงาน
B2: เพื่อให้พนักงานทุกคนรับทราบ คำสั่งแต่งตั้งคณะทำงานด้านการจัดการพลังงาน โดยอาคารได้ดำเนินการเผยแพร่และดำเนินการดังต่อไปนี้
C4: ติดประกาศ | G4: โปสเตอร์
C5: จำนวนติดประกาศ …11.. คณะ | G5: จำนวนติดประกาศ ….... คณะ
C6: จำนวนติดประกาศ …... วิทยาเขต | G6: จำนวนติดประกาศ …... วิทยาเขต
C7: จำนวนติดประกาศ …3.. วิทยาลัย | G7: จำนวนติดประกาศ …... วิทยาลัย
C8: จำนวนติดประกาศ …10.. สำนัก/วิสาหกิจ | G8: จำนวนติดประกาศ …... สำนัก
C9: เอกสารเผยแพร่ | G9: เสียงตามสาย
C10: แผ่นพับ/วารสาร .....ฉบับ | G10: สัปดาห์ละ ….. ครั้ง ช่วงเวลา…...
C11: จดหมายอิเล็กทรอนิกส์ | G11: การประชุมคณะกรรมการ
C12: จำนวนผู้ได้รับ …1,666.. คน | G12: การจัดการพลังงาน
C13: ระดับของผู้ได้รับ……. | G13: เดือนละ ….. ครั้ง
C14: อื่นๆ (ระบุ) สถานีวิทยุ FM 95.5
B15: หลักฐานหรือเอกสารต่างๆ ที่แสดงถึงการเผยแพร่คณะทำงานด้านการจัดการพลังงาน
A29: 10
B31: (ใส่เอกสารการเผยแพร่คณะทำงานฯ วิธีการที่ 1)
A43: (ก-1) ติดประกาศ
B44: (ใส่เอกสารการเผยแพร่คณะทำงานฯ วิธีการที่ 1)
A56: (ก-2) ติดประกาศ
A57: 11
B59: (ใส่เอกสารการเผยแพร่คณะทำงานฯ วิธีการที่ 1)
A71: (ก-3) ติดประกาศ
A84: (ก-4) ติดประกาศ
A85: 12
B87: (ใส่เอกสารการเผยแพร่คณะทำงานฯ วิธีการที่ 1)
A99: (ข-1) จดหมายเวียนอิเลกทรอนิคส์
B100: (ใส่เอกสารการเผยแพร่คณะทำงานฯ วิธีการที่ 1)
A113: (ข-2) จดหมายเวียนอิเลกทรอนิคส์
B115: (ใส่เอกสารการเผยแพร่คณะทำงานฯ วิธีการที่ 1)
A127: (ค) การประชุมคณะกรรมการการจัดการพลังงาน
A128: 13
B130: (ใส่เอกสารการเผยแพร่คณะทำงานฯ วิธีการที่ 1)
A141: (ง) สถานีวิทยุ FM 95.5
A142: รูปที่ 1-3 ภาพการเผยแพร่คณะทำงานด้านการจัดการพลังงาน
A143: หมายเหตุ : กรณีมีวิธีการเผยแพร่มากกว่า 2 วิธีการ อาคารสามารถเพิ่มจำนวนการแสดงเอกสาร หลักฐานรูปภาพต่างๆ เพิ่มเติม
A156: 14

Sheet ขั้นตอน2
A1: ขั้นตอนที่ 2 การประเมินสถานภาพการจัดการพลังงานเบื้องต้น
A3: ผลการประเมินสถานภาพการจัดการพลังงานเบื้องต้น
A4: ปีที่ดำเนินการประเมิน พ.ศ 2562
A6: ตารางที่ 2.1 การประเมินการจัดการพลังงานขององค์กร
A7: ระดับคะแนน | B7: นโยบายการอนุรักษ์พลังงาน | C7: การจัดองค์กร | D7: การกระตุ้นและสร้างแรงจูงใจ | E7: ระบบข้อมูลข่าวสาร | F7: ประชาสัมพันธ์ | G7: การลงทุน
A8: 4 | B8: มีนโยบายการจัดการพลังงานจากฝ่ายบริหารและถือเป็นส่วนหนึ่งของนโยบายของบริษัท | C8: มีการจัดองค์กรและเป็นโครงสร้างส่วนหนึ่งของฝ่ายบริหารกำหนดหน้าที่ความรับผิดชอบไว้ชัดเจน | D8: มีการประสานงานระหว่างผู้รับผิดชอบด้านพลังงาน และทีมงานทุก ระดับอย่าง สม่ำเสมอ | E8: กำหนดเป้าหมายที่ครอบคลุม ติดตามผล หาข้อผิดพลาดประเมินผล และควบคุมการใช้งบประมาณ | F8: ประชาสัมพันธ์คุณค่าของการประหยัดพลังงาน และผลการดำเนินงานของการจัดการพลังงาน | G8: จัดสรรงบประมาณโดยละเอียด โดยพิจารณาถึงความสำคัญของโครงการ
A10: 3 | B10: มีนโยบายและมีการสนับสนุนเป็นครั้งคราวจากฝ่ายบริหาร | C10: ผู้รับผิดชอบด้านพลังงานรายงานโดยตรงต่อคณะ กรรมการจัดการพลังงาน ซึ่งประกอบด้วยหัวหน้าฝ่ายต่างๆ | D10: คณะกรรมการอนุรักษ์พลังงานเป็นช่องทางหลักในการดำเนินงาน | E10: แจ้งผลการใช้พลังงานจากมิเตอร์ย่อยให้แต่ละฝ่ายทราบ แต่ไม่มีการแจ้งถึงผลการประหยัด | F10: ให้พนักงานรับทราบโครงการอนุรักษ์พลังงาน และให้มีการประชา สัมพันธ์อย่างสม่ำเสมอ | G10: ใช้ระยะเวลา คุ้มทุนเป็นหลักในการพิจารณาการลงทุน
A11: 2 | B11: ไม่มีการกำหนดนโยบายที่ชัดเจน โดยผู้บริหารหรือผู้รับผิดชอบด้านพลังงาน | C11: มีผู้รับผิดชอบด้านพลังงานรายงานต่อคณะกรรมการเฉพาะกิจ แต่สายงานบังคับบัญชาไม่ชัดเจน | D11: คณะกรรมการเฉพาะกิจเป็นผู้ดำเนินการ | E11: ทำรายงานติดตามประเมิน ผล โดยดูจากมิเตอร์ให้คณะ กรรมการเฉพาะกิจเข้ามาเกี่ยวข้องกับการตั้งงบประ มาณ | F11: จัดฝึกอบรมให้พนักงานรับทราบเป็นครั้งคราว | G11: ลงทุนโดยดูมาตรการที่มีระยะเวลาคุ้มทุนเร็ว
A12: 1 | B12: ไม่มีแนวทางปฏิบัติที่ทำไว้เป็นลายลักษณ์อักษร | C12: ผู้รับผิดชอบด้านพลังงานมีขอบเขตหน้าที่ความรับผิดชอบจำกัด | D12: มีการติดต่ออย่างไม่เป็นทางการระหว่างวิศวกรกับผู้ใช้พลังงาน (พนักงาน) | E12: มีการสรุปรายงานด้านค่าใช้จ่ายการใช้พลังงานเพื่อใช้กันภายในฝ่ายวิศวกรรม | F12: แจ้งให้พนักงานทราบอย่างไม่เป็นทางการเพื่อส่งเสริมการใช้พลังงานอย่างมีประสิทธิภาพ | G12: พิจารณาเฉพาะมาตรการที่ลงทุนต่ำ
A13: 0 | B13: ไม่มีนโยบายที่ ชัดเจน | C13: ไม่มีผู้รับผิดชอบด้านพลังงาน | D13: ไม่มีการติดต่อกับผู้ใช้พลังงาน | E13: ไม่มีระบบรวบรวมข้อมูลและบัญชีการใช้พลังงาน | F13: ไม่มีการสนับสนุนการประหยัดพลังงาน | G13: ไม่มีการลงทุนใดๆในการปรับปรุงประสิทธิภาพ การใช้พลังงาน
A15: หมายเหตุ: | B15: 1. ข้อมูลการประเมินสถานภาพการจัดการพลังงานเบื้องต้นประเมินจาก 11 คณะ 3 วิทยาลัย 10 สำนัก/วิสาหกิจ หรือบุคลากร
B16: จำนวน - คน จากทั้งหมด - คน คิดเป็นร้อยละ 100
A17: หมายเหตุ: | B17: 1. ข้อมูลการประเมินสถานภาพการจัดการพลังงานเบื้องต้นประเมินในภาพรวมของมหาวิทยาลัย
B18: 2. ในกรณีที่อาคารควบคุมพัฒนาระบบการจัดการพลังงานในรอบที่สอง ในขั้นตอนนี้อาคารควบคุมจะดำเนินการหรือไม่ดำเนินการก็ได้
B19: หากดำเนินการประเมินสถานภาพการจัดการพลังงานภายในองค์กรต่อเนื่องทุกๆปี จะทำให้ทราบสถานภาพการจัดการพลังงานที่มี
B20: มีการเปลี่ยนแปลงได้ดียิ่งขึ้น
B21: 3. การประเมินสถานภาพการจัดการพลังงานในภาพรวมของอาคารควบคุม หากทางอาคารมีวิธีการอื่นที่เหมาะสมกว่า ก็สามารถนำมาใช้แทน
B22: ตารางด้านบนได้
B23: 4.เส้นสีแดงเป็นเส้นเป้าหมาย - เส้นสีเขียวเป็นเส้นการประเมินสถานภาพการจัดการพลังงานเบื้องต้น
B25: 4. ข้อมูลการประเมินสถานภาพการจัดการพลังงานเบื้องต้นประเมินจาก......11......แผนก ของจำนวนทั้งหมด......11.....แผนก หรือบุคลากรจำนวน........50......คน
B26: จากทั้งหมด..........240.........คน คิดเป็นร้อยละ .....41.......

Sheet ขั้นตอน3
A1: ขั้นตอนที่ 3 นโยบายอนุรักษ์พลังงาน
A3: 3.1 นโยบายอนุรักษ์พลังงานขององค์กร
C4: เพื่อแสดงเจตจำนงและความมุ่งมั่นในการดำเนินการด้านการอนุรักษ์พลังงาน อาคารควบคุมได้กำหนด
A5: นโยบายอนุรักษ์พลังงานตามวัตถุประสงค์และเป้าหมายการอนุรักษ์พลังงาน ซึ่งสอดคล้องกับสถานภาพการใช้
A6: พลังงานและเหมาะสมกับอาคารควบคุม ดังต่อไปนี้
B7: ใส่เอกสารแสดงประกาศนโยบายอนุรักษ์พลังงาน
B29: รูปที่ 3-1 นโยบายอนุรักษ์พลังงาน
B30: ใส่เอกสารแสดงประกาศนโยบายอนุรักษ์พลังงาน
B58: รูปที่ 3-1 นโยบายอนุรักษ์พลังงาน
A59: หมายเหตุ : โปรดแนบสำเนาคำสั่งประกาศนโยบายอนุรักษ์พลังงาน

Sheet 3.2เอกสารเผยแพร่นโยบาย
A1: 3.2 การเผยแพร่นโยบายอนุรักษ์พลังงาน
A2: เพื่อให้พนักงานทุกคนรับทราบและปฏิบัติตามนโยบายอนุรักษ์พลังงานของอาคารควบคุม จึงได้ดำเนินการ
A3: เผยแพร่และดำเนินการดังต่อไปนี้
A4: วิธีการเผยแพร่นโยบายอนุรักษ์พลังงาน
C5: ติดประกาศ | G5: โปสเตอร์
C6: จำนวนติดประกาศ …11.. คณะ | G6: จำนวนติดประกาศ ….... คณะ
C7: จำนวนติดประกาศ …... วิทยาเขต | G7: จำนวนติดประกาศ …... วิทยาเขต
C8: จำนวนติดประกาศ …3.. วิทยาลัย | G8: จำนวนติดประกาศ …... วิทยาลัย
C9: จำนวนติดประกาศ …10.. สำนัก/วิสาหกิจ | G9: จำนวนติดประกาศ …... สำนัก
C10: เอกสารเผยแพร่ | G10: เสียงตามสาย
C11: แผ่นพับ/วารสาร .....ฉบับ | G11: สัปดาห์ละ ….. ครั้ง ช่วงเวลา…...
C12: จดหมายอิเล็กทรอนิกส์ | G12: การประชุมคณะกรรมการ
C13: จำนวนผู้ได้รับ …1,666.. คน | G13: การจัดการพลังงาน
C14: ระดับของผู้ได้รับ……. | G14: เดือนละ ….. ครั้ง
C15: อื่นๆ (ระบุ) สถานีวิทยุ FM 95.5
A17: หลักฐานหรือเอกสารต่างๆ ที่แสดงถึงการเผยแพร่นโยบายอนุรักษ์พลังงาน
B19: (ใส่เอกสารการเผยแพร่คณะทำงานฯ วิธีการที่ 1)
A32: (ก) ติดประกาศ
B34: (ใส่เอกสารการเผยแพร่คณะทำงานฯ วิธีการที่ 1)
A47: (ข) ติดประกาศ
B49: (ใส่เอกสารการเผยแพร่คณะทำงานฯ วิธีการที่ 1)
A62: (ค) จดหมายเวียนอิเลกทรอนิคส์
B65: (ใส่เอกสารการเผยแพร่คณะทำงานฯ วิธีการที่ 1)
A78: (ง) การประชุมคณะกรรมการการจัดการพลังงาน
B82: (ใส่เอกสารการเผยแพร่คณะทำงานฯ วิธีการที่ 1)
A93: (ง) โปสเตอร์ประชาสัมพันธ์
B96: (ใส่เอกสารการเผยแพร่คณะทำงานฯ วิธีการที่ 1)
A109: (จ) สถานีวิทยุ FM 95.5
A110: รูปที่ 3-2 ภาพการเผยแพร่นโยบายอนุรักษ์พลังงาน
A111: หมายเหตุ : กรณีมีวิธีการเผยแพร่มากกว่า 2 วิธีการ อาคารสามารถเพิ่มจำนวนการแสดงเอกสาร หลักฐานรูปภาพต่างๆ เพิ่มเติม

Sheet ขั้นตอน4 
A1: ขั้นตอนที่ 4 การประเมินศักยภาพการอนุรักษ์พลังงาน
B2: การประเมินศักยภาพการอนุรักษ์พลังงานขององค์กรแบ่งออกได้เป็น 3 ระดับ คือ
C3: (ก) การประเมินระดับองค์กร
C4: (ข) การประเมินระดับการบริการ
C5: (ค) การประเมินระดับเครื่องจักร/อุปกรณ์
B6: โดยมีแนวทางดำเนินการดังต่อไปนี้

Sheet 4.1.1 รายละเอียดการใช้อาคาร_62
A1: 4.1) การประเมินระดับองค์กร
A2: 4.1.1) ข้อมูลการใช้อาคาร | B2: ก.1 รายละเอียดการใช้งานอาคาร (สำหรับอาคารทุกประเภท)
B3: 4.1.1.1) รายละเอียดการใช้งานอาคาร (สำหรับอาคารทุกประเภท)
B4: ตารางที่ 4.1 รายละเอียดการใช้งานอาคาร ในรอบปี 2562
F6: เวลาทำงาน | H6: พื้นที่ทั้งหมดของอาคาร (ตารางเมตร)
B7: ลำดับที่ | C7: ชื่ออาคาร | D7: ปี พ.ศ. | E7: จำนวน | H7: (1) พื้นที่ใช้สอย | K7: (2) | L7: (3)=(2)+(1)
D8: ที่เปิดใช้งาน | E8: ชั้น | F8: ชั่วโมง/วัน | G8: วัน/ปี | H8: ปรับอากาศ | I8: ไม่ปรับอากาศ | J8: รวม | K8: พื้นที่จอดรถ ในตัวอาคาร | L8: รวม
B9: ส่วนกลาง
B10: 1 | C10: อาคารเทพศาสตร์สถิตย์(มิเตอร์หมุนกลับทาง) | D10: 2526 | E10: 2 | F10: 8 | G10: 250 | H10: =543+245 -> 788 | I10: =J10-H10 -> 2015.5 | J10: 2803.5 | K10: 0 | L10: =SUM(J10,K10) -> 2803.5
B11: 2 | C11: โรงประชุม (รวมอาคารห้องน้ำ) (ชูติวัตร เดิม) | D11: 2490 | E11: 1 | F11: 1 | G11: 250 | H11: 0 | I11: =J11-H11 -> 461 | J11: 461 | K11: 0 | L11: =SUM(J11,K11) -> 461
B12: 3 | C12: อาคารแผ่พืชน์ | D12: 2511 | E12: 1 | F12: 1 | G12: 250 | H12: 12 | I12: =J12-H12 -> 1892 | J12: 1904 | K12: 0 | L12: =SUM(J12,K12) -> 1904
B13: 4 | C13: อาคารวุฒากาศ | D13: 2515 | E13: 2 | F13: 1 | G13: 250 | H13: 426 | I13: =J13-H13 -> 205 | J13: 631 | K13: 0 | L13: =SUM(J13,K13) -> 631
B14: 5 | C14: อาคารเฉลิมพระเกียรติ โซน A | D14: 2537 | E14: 2 | F14: 1 | G14: 250 | H14: 5503.65 | I14: =J14-H14 -> 8353.36 | J14: 13857.01 | K14: 4791.38 | L14: =SUM(J14,K14) -> 18648.39
B15: 6 | C15: อาคารเฉลิมพระเกียรติ โซน B | D15: 2537 | E15: 4 | F15: 5 | G15: 250 | H15: 606.25 | I15: =J15-H15 -> 5253.25 | J15: 5859.5 | K15: 0 | L15: =SUM(J15,K15) -> 5859.5
B16: 7 | C16: สนามกีฬาอินทนิล (อัฒจัททร์ 2 หลัง) | D16: 2527 | E16: 2 | F16: 1 | G16: 250 | H16: 79.32 | I16: =J16-H16 -> 1742.6 | J16: 1821.92 | K16: 0 | L16: =SUM(J16,K16) -> 1821.92
B17: 8 | C17: โรงประปา 2 | D17: 2559 | E17: 1 | F17: 1 | G17: 250 | H17: 0 | I17: =J17-H17 -> 32 | J17: 32 | K17: 0 | L17: =SUM(J17,K17) -> 32
B18: 9 | C18: อาคารเรือนธรรม | D18: 2540 | E18: 2 | F18: 1 | G18: 250 | H18: 0 | I18: =J18-H18 -> 607.25 | J18: 607.25 | K18: 0 | L18: =SUM(J18,K18) -> 607.25
B19: 10 | C19: อาคารพิพิธภัณฑ์เกษตรไทย | D19: 2499 | E19: 2 | F19: 1 | G19: 250 | H19: 640 | I19: - | J19: 640 | K19: 0 | L19: =SUM(J19,K19) -> 640
B20: 11 | C20: อาคารเรียนรวมแม่โจ้ 70 ปี | D20: 2549 | E20: 5 | F20: 8 | G20: 250 | H20: =975.99+1013+658.82+49+409 -> 3105.81 | I20: =J20-H20 -> 9055.81 | J20: 12161.62 | K20: 1260.25 | L20: =SUM(J20,K20) -> 13421.87
B21: 12 | C21: อาคารเฉลิมพระเกียรติสมเด็จพระเทพรัตนราชสุดา | D21: 2536 | E21: 3 | F21: 8 | G21: 250 | H21: =7027.5+36 -> 7063.5 | I21: =J21-H21 -> 5573.75 | J21: 12637.25 | K21: 0 | L21: =SUM(J21,K21) -> 12637.25
B22: 13 | C22: อาคารเรือนกระจก | D22: 2536 | E22: 1 | F22: 5 | G22: 250 | H22: 0 | I22: =J22-H22 -> 1827 | J22: 1827 | K22: 0 | L22: =SUM(J22,K22) -> 1827
B23: 14 | C23: อาคาร 80 ปี | D23: 2559 | E23: 4 | F23: 8 | G23: 250 | H23: 1255.2 | I23: =J23-H23 -> 8512.8 | J23: 9768 | K23: 432 | L23: =SUM(J23,K23) -> 10200
B24: 15 | C24: อาคารเกษตรทฏืใหม่ | D24: 2547 | E24: 2 | F24: 1 | G24: 250 | H24: 8 | I24: =J24-H24 -> 116 | J24: 124 | K24: 0 | L24: =SUM(J24,K24) -> 124
B25: 16 | C25: อาคารต้นแบบขยายเชื้อจุลินทรัย์เพื่อการเกษตร | D25: 2547 | E25: 1 | F25: 1 | G25: 250 | H25: 0 | I25: =J25-H25 -> 42 | J25: 42 | K25: 0 | L25: =SUM(J25,K25) -> 42
B26: 17 | C26: อาคารเก็บอุปกรณ์ | D26: 2547 | E26: 1 | F26: 1 | G26: 250 | H26: 0 | I26: =J26-H26 -> 22 | J26: 22 | K26: 0 | L26: =SUM(J26,K26) -> 22
B27: 18 | C27: อาคารโรงสูบน้ำแรงดันต่ำ | D27: 2542 | E27: 1 | F27: 1 | G27: 250 | H27: 0 | I27: =J27-H27 -> 30 | J27: 30 | K27: 0 | L27: =SUM(J27,K27) -> 30
B28: 19 | C28: อาคารโรงสูบน้ำแรงดันสูง | D28: 2542 | E28: 1 | F28: 1 | G28: 250 | H28: 0 | I28: =J28-H28 -> 72 | J28: 72 | K28: 0 | L28: =SUM(J28,K28) -> 72
B29: 20 | C29: อาคารจ่ายสารเคมีและเก็บสารเคมี | D29: 2542 | E29: 1 | F29: 1 | G29: 250 | H29: 0 | I29: =J29-H29 -> 60 | J29: 60 | K29: 0 | L29: =SUM(J29,K29) -> 60
B30: 21 | C30: อาคารช่วงเกษตรศิลป์ | D30: 2496 | E30: 2 | F30: 8 | G30: 250 | H30: 954.5 | I30: =J30-H30 -> 1269.76 | J30: 2224.26 | K30: 0 | L30: =SUM(J30,K30) -> 2224.26
B31: สำนักงานมหาวิทยาลัย
B32: 22 | C32: อาคารสำนักงานมหาวิทยาลัย 1 (สำนักมาตราฐานการศึกษา เดิม) | D32: 2513 | E32: 2 | F32: 8 | G32: 250 | H32: =192+212 -> 404 | I32: =J32-H32 -> 489 | J32: 893 | K32: 0 | L32: =SUM(J32,K32) -> 893
B33: 23 | C33: อาคารสำนักงานมหาวิทยาลัย 2 (สำนักงานอธิการบดี เดิม) | D33: 2537 | E33: 5 | F33: 8 | G33: 250 | H33: =2353+196 -> 2549 | I33: =J33-H33 -> 4097 | J33: 6646 | K33: 0 | L33: =SUM(J33,K33) -> 6646
B34: 24 | C34: อาคารสำนักงานมหาวิทยาลัย 3 (อิงคศรีกสิการ เดิม) | D34: 2513 | E34: 2 | F34: 8 | G34: 250 | H34: =336+416 -> 752 | I34: =J34-H34 -> 744 | J34: 1496 | K34: 0 | L34: =SUM(J34,K34) -> 1496
B35: 25 | C35: โรงจอดรถกองกิจการนักศึกษา | D35: 2515 | E35: 1 | F35: 1 | G35: 250 | H35: 0 | I35: =J35-H35 -> 305.5 | J35: 305.5 | K35: 0 | L35: =SUM(J35,K35) -> 305.5
B36: 26 | C36: ชมรมวิทยุสมัครเล่น | D36: 2542 | E36: 1 | F36: 1 | G36: 250 | H36: 0 | I36: =J36-H36 -> 28 | J36: 28 | K36: 0 | L36: =SUM(J36,K36) -> 28
B37: 27 | C37: อาคารอำนวย ยศสุข | D37: 2553 | E37: 4 | F37: 8 | G37: 250 | H37: =555.94+1150.36+854.51+587.93 -> 3148.74 | I37: =J37-H37 -> 13113.86 | J37: 16262.6 | K37: 0 | L37: =SUM(J37,K37) -> 16262.6
B38: 28 | C38: อาคารหน่วยอาคารและสถานที่ | D38: 2540 | E38: 2 | F38: 1 | G38: 250 | H38: 48 | I38: =J38-H38 -> 780 | J38: 828 | K38: 0 | L38: =SUM(J38,K38) -> 828
B39: 29 | C39: อาคารสำนักงานประปาและสุขาภิบาล | D39: 2532 | E39: 2 | F39: 5 | G39: 250 | H39: 41.4 | I39: =J39-H39 -> 313.2 | J39: 354.6 | K39: 0 | L39: =SUM(J39,K39) -> 354.6
B40: 30 | C40: อาคารงานไฟฟ้า | D40: 2540 | E40: 2 | F40: 1 | G40: 250 | H40: 0 | I40: =J40-H40 -> 328 | J40: 328 | K40: 0 | L40: =SUM(J40,K40) -> 328
B41: 31 | C41: อาคารซ่อมบำรุงอาคารและสถานที่ | D41: 2540 | E41: 2 | F41: 1 | G41: 250 | H41: 48 | I41: =J41-H41 -> 780 | J41: 828 | K41: 0 | L41: =SUM(J41,K41) -> 828
...

Sheet 4.1.1.2พื้นที่อาคารแต่เดือน_62
B1: 4.1.1.2) การใช้ประโยชน์พื้นที่ใช้สอยที่ใช้งานจริงในแต่ละเดือน
B3: ตารางที่ 4.2 รายละเอียดการใช้ประโยชน์พื้นที่ใช้สอยที่ใช้งานจริงในแต่ละเดือน ในรอบปี 2562
B5: เดือน | C5: สำหรับอาคารทุกประเภท | F5: สำหรับอาคารประเภท | G5: สำหรับอาคารประเภท
C6: การใช้ประโยชน์พื้นที่ใช้สอยที่ใช้งานจริง | F6: โรงแรม | G6: โรงพยาบาล
C7: พื้นที่ปรับอากาศ | D7: พื้นที่ไม่ปรับอากาศ | E7: รวม | F7: จำนวนห้องพักที่จำหน่ายได้ | G7: จำนวนคนไข้นอก | H7: จำนวนคนไข้ใน
C8: (ตารางเมตร) | D8: (ตารางเมตร) | E8: (ตารางเมตร) | F8: (ห้อง-วัน) | G8: (คน) | H8: (เตียง-วัน)
B9: ม.ค. | C9: ='4.1.1 รายละเอียดการใช้อาคาร_62'!H$145 -> 97550.512 | D9: ='4.1.1 รายละเอียดการใช้อาคาร_62'!I$145 -> 253487.97 | E9: ='4.1.1 รายละเอียดการใช้อาคาร_62'!J$145 -> 351038.48
B10: ก.พ. | C10: =C9 -> 97550.512 | D10: =D9 -> 253487.97 | E10: =E9 -> 351038.48
B11: มี.ค. | C11: =C10 -> 97550.512 | D11: =D10 -> 253487.97 | E11: =E10 -> 351038.48
B12: เม.ย. | C12: =C11 -> 97550.512 | D12: =D11 -> 253487.97 | E12: =E11 -> 351038.48
B13: พ.ค. | C13: =C12 -> 97550.512 | D13: =D12 -> 253487.97 | E13: =E12 -> 351038.48
B14: มิ.ย. | C14: =C13 -> 97550.512 | D14: =D13 -> 253487.97 | E14: =E13 -> 351038.48
B15: ก.ค. | C15: =C14 -> 97550.512 | D15: =D14 -> 253487.97 | E15: =E14 -> 351038.48
B16: ส.ค. | C16: =C15 -> 97550.512 | D16: =D15 -> 253487.97 | E16: =E15 -> 351038.48
B17: ก.ย. | C17: =C16 -> 97550.512 | D17: =D16 -> 253487.97 | E17: =E16 -> 351038.48
B18: ต.ค. | C18: =C17 -> 97550.512 | D18: =D17 -> 253487.97 | E18: =E17 -> 351038.48
B19: พ.ย. | C19: =C18 -> 97550.512 | D19: =D18 -> 253487.97 | E19: =E18 -> 351038.48
B20: ธ.ค. | C20: =C19 -> 97550.512 | D20: =D19 -> 253487.97 | E20: =E19 -> 351038.48
B21: รวม

Sheet 4.1.2ข้อมูลหม้อแปลง
A1: 4.1.2) ข้อมูลระบบไฟฟ้า
B2: 4.1.2.1) ข้อมูลหม้อแปลงไฟฟ้าปี 2562
A3: ลำดับที่ | B3: หมายเลข | C3: หมายเลข | D3: ประเภท | E3: อัตรา | F3: หม้อแปลงไฟฟ้า | L3: อาคารที่ใช้งาน
B4: ผู้ใช้ไฟฟ้า | C4: เครื่องวัดไฟฟ้า | D4: ผู้ใช้ไฟฟ้า | E4: การใช้ไฟฟ้า | F4: ขนาด (kVA) | I4: จำนวน (ชุด) | M4: รวม
F5: ขนาด | G5: 1600 | H5: kVA | I5: จำนวน | J5: 1 | K5: ตัว | L5: 1.อาคารประเสริฐ ณ.นคร | M5: =G5*J5 -> 1600
F6: ขนาด | G6: 1500 | H6: kVA | I6: จำนวน | J6: 2 | K6: ตัว | L6: 1.อาคารสมเด็จพระเทพรัตนราชสุดา | M6: =G6*J6 -> 3000
L7: 2.อาคารเรียนรวมสาขาวิศวกรรมศาสตร์ | M7: =G7*J7 -> 0
F8: ขนาด | G8: 1250 | H8: kVA | I8: จำนวน | J8: 6 | K8: ตัว | L8: 1.อาคารอำนวย ยศสุข | M8: =G8*J8 -> 7500
L9: 2-3.อาคารแม่โจ้ 60 ปี(2) | M9: =G9*J9 -> 0
L10: 4.อาคารจุฬาภรณ์(2) | M10: =G10*J10 -> 0
L11: 5.อาคาร 75 ปี แม่โจ้ | M11: =G11*J11 -> 0
L12: 6.อาคาร 75 ปี แม่โจ้
F13: ขนาด | G13: 1000 | H13: kVA | I13: จำนวน | J13: 1 | K13: ตัว | L13: 1.อาคารสมเด็จพระศรีนครินทราบรมราชนี | M13: =G13*J13 -> 1000
F14: ขนาด | G14: 800 | H14: kVA | I14: จำนวน | J14: 6 | K14: ตัว | L14: 1.อาคารศูนย์การศึกษาและอบรมนานาชาติ | M14: =G14*J14 -> 4800
L15: 2.อาคารวิภาต บุญศรี วังซ้าย | M15: =G15*J15 -> 0
L16: 3.อาคารหอพักนักศึกษาหญิง 11 | M16: =G16*J16 -> 0
L17: 4-5.อาคารศูนย์กีฬากาญจนาภิเษกรัชกาลที่ 9 โซน A , B (2) | M17: =G17*J17 -> 0
L18: 6.อาคารโรงงานนำร่อง
A19: 1 | B19: 9806 - 020017405371 | C19: 27669524 | D19: 4.2.2 | E19: ปกติ | F19: ขนาด | G19: 750 | H19: kVA | I19: จำนวน | J19: 1 | K19: ตัว | L19: 1.อาคารสมิตานนท์ | M19: =G19*J19 -> 750
E20: TOD | F20: ขนาด | G20: 630 | H20: kVA | I20: จำนวน | J20: 9 | K20: ตัว | L20: 1.อาคารเทพ พงษ์พานิช | M20: =G20*J20 -> 5670
E21: TOU | L21: 2.อาคารวิภาต บุญศรี วังซ้าย | M21: =G21*J21 -> 0
L22: 3.อาคารเรียนรวมแม่โจ้ 70 ปี | M22: =G22*J22 -> 0
L23: 4.อาคารสำนักงานอธิการบดี | M23: =G23*J23 -> 0
L24: 5.อาคารหอพักนักศึกษาหญิง 10 | M24: =G24*J24 -> 0
L25: 6.อาคารคณะสถาปัตยกรรมศาสตร์และการออกแบบสิ่งแวดล้อม (ใหม่) | M25: =G25*J25 -> 0
L26: 7.อาคารเพิ่มพูน
L27: 8.อาคารปฏิบัติเทคโนโลยียางและพอลิเมอร์ | M27: =G27*J27 -> 0
L28: 9.อาคารยรรยง สิทธิชัย | M28: =G28*J28 -> 0
F29: ขนาด | G29: 500 | H29: kVA | I29: จำนวน | J29: 4 | K29: ตัว | L29: 1.อาคาร 25 ปี คณะบริหารธุรกิจ | M29: =G29*J29 -> 2000
L30: 2.อาคารเรียนรวม 80 ปี | M30: =G30*J30 -> 0
L31: 3.อาคารเทคโนโลยีการประมง
L32: 4.อาคารปฏิบัติการเทคโนโลยีการประมง
F33: ขนาด | G33: 400 | H33: kVA | I33: จำนวน | J33: 1 | K33: ตัว | L33: 1.อาคารธรรมศักดิ์มนตรี | M33: =G33*J33 -> 400
F35: ขนาด | G35: 315 | H35: kVA | I35: จำนวน | J35: 5 | K35: ตัว | L35: 1.อาคารปฏิบัติการวิศวกรรมทั่วไป | M35: =G35*J35 -> 1575
L36: 2.อาคารพิทยาลงกรณ์ | M36: =G36*J36 -> 0
L37: 3.อาคารหอพักนักศึกษาหญิง 8 | M37: =G37*J37 -> 0
L38: 4.อาคารหอพักนักศึกษาหญิง 9
L39: 5.อาคารปฏิบัติการดินและปุ๋ย
F40: ขนาด | G40: 250 | H40: kVA | I40: จำนวน | J40: 14 | K40: ตัว | L40: 1.อาคารเสาวรัจนิตยวรรธนะ | M40: =G40*J40 -> 3500
L41: 2.อาคารเรือนกระจก | M41: =G41*J41 -> 0
...

Sheet 4.1.2การใช้ไฟฟ้า_62
B1: 4.1.2.2) ข้อมูลปริมาณการใช้ไฟฟ้าในรอบปี 2562
A2: ตารางที่ 4.3 ข้อมูลการใช้ไฟฟ้าในรอบปี 2562
B3: อัตราการใช้ไฟฟ้า | C3: 4.1.2 | E3: หมายเลขผู้ใช้ไฟฟ้า | F3: ='4.1.2ข้อมูลหม้อแปลง'!B19 -> 9806 - 020017405371 | I3: หมายเลขเครื่องวัดไฟฟ้า | J3: ='4.1.2ข้อมูลหม้อแปลง'!C19 -> 27669524
B5: พลังไฟฟ้าสูงสุด | F5: พลังงานไฟฟ้า | H5: กิโลวาร์ | I5: ค่าไฟฟ้ารวม (บาท) | K5: Power Factor
A6: เดือน | B6: P | C6: PP/OP1 | D6: OP/OP2 | E6: ค่าใช้จ่าย | F6: ปริมาณ | G6: ค่าใช้จ่าย | J6: ค่าตัวประกอบภาระ | L6: ค่าไฟฟ้าเฉลี่ย
B7: (กิโลวัตต์) | C7: (กิโลวัตต์) | D7: (กิโลวัตต์) | E7: (บาท) | F7: (กิโลวัตต์-ชั่วโมง) | G7: (บาท) | J7: (เปอร์เซ็นต์) | L7: (บาท/กิโลวัตต์-ชั่วโมง) | M7: วัน/เดือน
A8: ม.ค. | B8: =' ข้อมูลการใช้ไฟฟ้า '!B8 -> 2152.03 | C8: =' ข้อมูลการใช้ไฟฟ้า '!C8 -> 1434.68 | D8: =' ข้อมูลการใช้ไฟฟ้า '!D8 -> 1155.72 | E8: =' ข้อมูลการใช้ไฟฟ้า '!E8 -> 159551.5 | F8: =' ข้อมูลการใช้ไฟฟ้า '!F8 -> 761180 | G8: =I8-E8 -> 2651344.9 | H8: 717.34 | I8: =' ข้อมูลการใช้ไฟฟ้า '!G8 -> 2810896.4 | J8: =+F8*100/(MAX(B8:D8)*24*M8) -> 47.540759 | K8: =MAX(B8:D8)/(SQRT((MAX(B8:D8)^2+(H8)^2))) -> 0.94868374 | L8: =+I8/F8 -> 3.6928144 | M8: 31
A9: ก.พ. | B9: =' ข้อมูลการใช้ไฟฟ้า '!B9 -> 2510.76 | C9: =' ข้อมูลการใช้ไฟฟ้า '!C9 -> 1394.86 | D9: =' ข้อมูลการใช้ไฟฟ้า '!D9 -> 1514.42 | E9: =' ข้อมูลการใช้ไฟฟ้า '!E9 -> 186147.75 | F9: =' ข้อมูลการใช้ไฟฟ้า '!F9 -> 752030.99 | G9: =I9-E9 -> 2634876.2 | H9: 956.48 | I9: =' ข้อมูลการใช้ไฟฟ้า '!G9 -> 2821023.9 | J9: =+F9*100/(MAX(B9:D9)*24*M9) -> 44.571912 | K9: =MAX(B9:D9)/(SQRT((MAX(B9:D9)^2+(H9)^2))) -> 0.93448773 | L9: =+I9/F9 -> 3.751207 | M9: 28
A10: มี.ค. | B10: =' ข้อมูลการใช้ไฟฟ้า '!B10 -> 2785.45 | C10: =' ข้อมูลการใช้ไฟฟ้า '!C10 -> 1551.89 | D10: =' ข้อมูลการใช้ไฟฟ้า '!D10 -> 1273.35 | E10: =' ข้อมูลการใช้ไฟฟ้า '!E10 -> 206513.26 | F10: =' ข้อมูลการใช้ไฟฟ้า '!F10 -> 871049.99 | G10: =I10-E10 -> 3088021.1 | H10: 994.8 | I10: =' ข้อมูลการใช้ไฟฟ้า '!G10 -> 3294534.4 | J10: =+F10*100/(MAX(B10:D10)*24*M10) -> 42.031489 | K10: =MAX(B10:D10)/(SQRT((MAX(B10:D10)^2+(H10)^2))) -> 0.94174229 | L10: =+I10/F10 -> 3.7822564 | M10: 31
A11: เม.ย. | B11: =' ข้อมูลการใช้ไฟฟ้า '!B11 -> 2902.94 | C11: =' ข้อมูลการใช้ไฟฟ้า '!C11 -> 1749.72 | D11: =' ข้อมูลการใช้ไฟฟ้า '!D11 -> 1192.99 | E11: =' ข้อมูลการใช้ไฟฟ้า '!E11 -> 215223.97 | F11: =' ข้อมูลการใช้ไฟฟ้า '!F11 -> 727722.99 | G11: =I11-E11 -> 2593266.1 | H11: 1033.92 | I11: =' ข้อมูลการใช้ไฟฟ้า '!G11 -> 2808490 | J11: =+F11*100/(MAX(B11:D11)*24*M11) -> 34.817336 | K11: =MAX(B11:D11)/(SQRT((MAX(B11:D11)^2+(H11)^2))) -> 0.94203391 | L11: =+I11/F11 -> 3.8592845 | M11: 30
A12: พ.ค. | B12: =' ข้อมูลการใช้ไฟฟ้า '!B12 -> 3345 | C12: =' ข้อมูลการใช้ไฟฟ้า '!C12 -> 2110.53 | D12: =' ข้อมูลการใช้ไฟฟ้า '!D12 -> 2986.6 | E12: =' ข้อมูลการใช้ไฟฟ้า '!E12 -> 247998.3 | F12: =' ข้อมูลการใช้ไฟฟ้า '!F12 -> 929033 | G12: =I12-E12 -> 3326789.9 | H12: 1393.75 | I12: =' ข้อมูลการใช้ไฟฟ้า '!G12 -> 3574788.2 | J12: =+F12*100/(MAX(B12:D12)*24*M12) -> 37.330352 | K12: =MAX(B12:D12)/(SQRT((MAX(B12:D12)^2+(H12)^2))) -> 0.92307692 | L12: =+I12/F12 -> 3.8478592 | M12: 31
A13: มิ.ย. | B13: =' ข้อมูลการใช้ไฟฟ้า '!B13 -> 3624.36 | C13: =' ข้อมูลการใช้ไฟฟ้า '!C13 -> 2668.48 | D13: =' ข้อมูลการใช้ไฟฟ้า '!D13 -> 1792.26 | E13: =' ข้อมูลการใช้ไฟฟ้า '!E13 -> 268710.05 | F13: =' ข้อมูลการใช้ไฟฟ้า '!F13 -> 1026370 | G13: =I13-E13 -> 3610744 | H13: 1473.64 | I13: =' ข้อมูลการใช้ไฟฟ้า '!G13 -> 3879454.1 | J13: =+F13*100/(MAX(B13:D13)*24*M13) -> 39.331465 | K13: =MAX(B13:D13)/(SQRT((MAX(B13:D13)^2+(H13)^2))) -> 0.92635569 | L13: =+I13/F13 -> 3.7797812 | M13: 30
A14: ก.ค. | B14: =' ข้อมูลการใช้ไฟฟ้า '!B14 -> 4300.82 | C14: =' ข้อมูลการใช้ไฟฟ้า '!C14 -> 2747.75 | D14: =' ข้อมูลการใช้ไฟฟ้า '!D14 -> 1951.3 | E14: =' ข้อมูลการใช้ไฟฟ้า '!E14 -> 312434.12 | F14: =' ข้อมูลการใช้ไฟฟ้า '!F14 -> 1401619 | G14: =I14-E14 -> 4938388.6 | H14: 1672.54 | I14: =' ข้อมูลการใช้ไฟฟ้า '!G14 -> 5250822.7 | J14: =+F14*100/(MAX(B14:D14)*24*M14) -> 43.803193 | K14: =MAX(B14:D14)/(SQRT((MAX(B14:D14)^2+(H14)^2))) -> 0.93200475 | L14: =+I14/F14 -> 3.7462554 | M14: 31
A15: ส.ค. | B15: =' ข้อมูลการใช้ไฟฟ้า '!B15 -> 3663.69 | C15: =' ข้อมูลการใช้ไฟฟ้า '!C15 -> 2309.72 | D15: =' ข้อมูลการใช้ไฟฟ้า '!D15 -> 1752.2 | E15: =' ข้อมูลการใช้ไฟฟ้า '!E15 -> 271625.98 | F15: =' ข้อมูลการใช้ไฟฟ้า '!F15 -> 1098193 | G15: =I15-E15 -> 3905668.3 | H15: 1353.97 | I15: =' ข้อมูลการใช้ไฟฟ้า '!G15 -> 4177294.3 | J15: =+F15*100/(MAX(B15:D15)*24*M15) -> 40.289049 | K15: =MAX(B15:D15)/(SQRT((MAX(B15:D15)^2+(H15)^2))) -> 0.9379947 | L15: =+I15/F15 -> 3.8037888 | M15: 31
A16: ก.ย. | B16: =' ข้อมูลการใช้ไฟฟ้า '!B16 -> 3584.41 | C16: =' ข้อมูลการใช้ไฟฟ้า '!C16 -> 2230.3 | D16: =' ข้อมูลการใช้ไฟฟ้า '!D16 -> 1513.42 | E16: =' ข้อมูลการใช้ไฟฟ้า '!E16 -> 265748.16 | F16: =' ข้อมูลการใช้ไฟฟ้า '!F16 -> 1070147 | G16: =I16-E16 -> 3830277.6 | H16: 1473.59 | I16: =' ข้อมูลการใช้ไฟฟ้า '!G16 -> 4096025.7 | J16: =+F16*100/(MAX(B16:D16)*24*M16) -> 41.466107 | K16: =MAX(B16:D16)/(SQRT((MAX(B16:D16)^2+(H16)^2))) -> 0.92489085 | L16: =+I16/F16 -> 3.8275356 | M16: 30
A17: ต.ค. | B17: =' ข้อมูลการใช้ไฟฟ้า '!B17 -> 3424.42 | C17: =' ข้อมูลการใช้ไฟฟ้า '!C17 -> 2070.58 | D17: =' ข้อมูลการใช้ไฟฟ้า '!D17 -> 1393.66 | E17: =' ข้อมูลการใช้ไฟฟ้า '!E17 -> 253886.5 | F17: =' ข้อมูลการใช้ไฟฟ้า '!F17 -> 1012196 | G17: =I17-E17 -> 3654176.1 | H17: 1274.2 | I17: =' ข้อมูลการใช้ไฟฟ้า '!G17 -> 3908062.6 | J17: =+F17*100/(MAX(B17:D17)*24*M17) -> 39.728728 | K17: =MAX(B17:D17)/(SQRT((MAX(B17:D17)^2+(H17)^2))) -> 0.9372221 | L17: =+I17/F17 -> 3.8609742 | M17: 31
A18: พ.ย. | B18: =' ข้อมูลการใช้ไฟฟ้า '!B18 -> 2506.64 | C18: =' ข้อมูลการใช้ไฟฟ้า '!C18 -> 1511.94 | D18: =' ข้อมูลการใช้ไฟฟ้า '!D18 -> 1352.79 | E18: =' ข้อมูลการใช้ไฟฟ้า '!E18 -> 185842.29 | F18: =' ข้อมูลการใช้ไฟฟ้า '!F18 -> 796156.99 | G18: =I18-E18 -> 2803362.5 | H18: 1034.49 | I18: =' ข้อมูลการใช้ไฟฟ้า '!G18 -> 2989204.8 | J18: =+F18*100/(MAX(B18:D18)*24*M18) -> 44.113778 | K18: =MAX(B18:D18)/(SQRT((MAX(B18:D18)^2+(H18)^2))) -> 0.92437346 | L18: =+I18/F18 -> 3.7545419 | M18: 30
A19: ธ.ค. | B19: =' ข้อมูลการใช้ไฟฟ้า '!B19 -> 2382.88 | C19: =' ข้อมูลการใช้ไฟฟ้า '!C19 -> 1429.73 | D19: =' ข้อมูลการใช้ไฟฟ้า '!D19 -> 1390.01 | E19: =' ข้อมูลการใช้ไฟฟ้า '!E19 -> 176666.72 | F19: =' ข้อมูลการใช้ไฟฟ้า '!F19 -> 635037 | G19: =I19-E19 -> 2137852.5 | H19: 834.01 | I19: =' ข้อมูลการใช้ไฟฟ้า '!G19 -> 2314519.2 | J19: =+F19*100/(MAX(B19:D19)*24*M19) -> 35.819863 | K19: =MAX(B19:D19)/(SQRT((MAX(B19:D19)^2+(H19)^2))) -> 0.94385811 | L19: =+I19/F19 -> 3.6446997 | M19: 31
A20: รวม | E20: =SUM(E8:E19) -> 2750348.6 | F20: =SUM(F8:F19) -> 11080736 | G20: =SUM(G8:G19) -> 39174768 | H20: =SUM(H8:H19) -> 14212.73 | I20: =SUM(I8:I19) -> 41925116
A21: เฉลี่ย | E21: =AVERAGE(E8:E19) -> 229195.72 | F21: =AVERAGE(F8:F19) -> 923394.66 | G21: =AVERAGE(G8:G19) -> 3264564 | H21: =AVERAGE(H8:H19) -> 1184.3942 | I21: =AVERAGE(I8:I19) -> 3493759.7 | J21: =AVERAGE(J8:J19) -> 40.903669 | K21: =AVERAGE(K8:K19) -> 0.93472702 | L21: =AVERAGE(L8:L19) -> 3.7792499
A22: หมายเหตุ: | B22: กรณีอัตรา ปกติ ให้กรอกค่าพลังงานไฟฟ้าสูงสุด (On Peak) ในช่อง P | I22: หมายเหตุ : ระบบไฟฟ้าเป็น Substation 115kV
B23: กรณีอัตรา TOD: P หมายถึง On Peak / PP หมายถึง Partial Peak / OP หมายถึง Off Peak
B24: กรณีอัตรา TOU: P หมายถึง Peak / OP1 หมายถึง Off Peak1 / OP2 หมายถึง Off Peak2
B25: กรณีอาคารมีเครื่องวัดไฟฟ้ามากกว่า 1 เครื่อง ให้เพิ่มจำนวนตารางแสดงข้อมูลการใช้ไฟฟ้าตามจำนวนของเครื่องวัดไฟฟ้า
B26: ค่าตัวประกอบภาระ (เปอร์เซ็นต์) = ปริมาณพลังงานไฟฟ้า (กิโลวัตต์-ชั่วโมง)
C27: ค่าพลังไฟฟ้าสูงสุด (กิโลวัตต์) x 24 (ชม./วัน) X จำนวนวันในแต่ละเดือน (วัน)
B28: Power Factor (PF) = ค่าพลังไฟฟ้าสูงสุด (กิโลวัตต์)
D29: ( kW2 ) + (KVAR2 )

Sheet 4.1.3การใช้เชื้อเพลิง_62
A1: 4.1.3) ข้อมูลการใช้เชื้อเพลิงและพลังงานหมุนเวียนในรอบปี 2562
A2: ตารางที่ 4.4 ข้อมูลการใช้เชื้อเพลิงและพลังงานหมุนเวียนในรอบปี 2563
A4: ชนิด | B4: หน่วย/ | C4: ปริมาณการใช้ | P4: ค่าความร้อนเฉลี่ย | Q4: ปริมาณพลังงานรวม | R4: ต้นทุน | S4: ต้นทุน | V4: ปริมาณการใช้
A5: พลังงานที่ใช้ | B5: มูลค่า | C5: ม.ค. | D5: ก.พ. | E5: มี.ค. | F5: เม.ย. | G5: พ.ค. | H5: มิ.ย. | I5: ก.ค. | J5: ส.ค. | K5: ก.ย. | L5: ต.ค. | M5: พ.ย. | N5: ธ.ค. | O5: รวม | P5: (เมกะจูล/หน่วย) | Q5: (เมกะจูล) | R5: (บาท/หน่วย) | S5: (บาท/MJ) | V5: ม.ค. | W5: ก.พ. | X5: มี.ค. | Y5: เม.ย. | Z5: พ.ค. | AA5: มิ.ย. | AB5: ก.ค. | AC5: ส.ค. | AD5: ก.ย. | AE5: ต.ค. | AF5: พ.ย. | AG5: ธ.ค. | AH5: รวม
A6: น้ำมันเตา | B6: ลิตร | O6: =SUM(C6:N6) -> 0 | P6: 39.77 | Q6: =O6*P6 -> 0 | R6: =O7/O6 -> #DIV/0! | S6: =O7/Q6 -> #DIV/0! | U6: ปี2562 | V6: =(C6*$P$6)+(C8*$P$8)+($C$10*$P$10)+(C12*$P$12)+(C14*$P$14)+(C16*$P$16) -> 0 | W6: =(D6*$P$6)+(D8*$P$8)+($D$10*$P$10)+(D12*$P$12)+(D14*$P$14)+(D16*$P$16) -> 0 | X6: =(E6*$P$6)+(E8*$P$8)+($E$10*$P$10)+(E12*$P$12)+(E14*$P$14)+(E16*$P$16) -> 0 | Y6: =(F6*$P$6)+(F8*$P$8)+($F$10*$P$10)+(F12*$P$12)+(F14*$P$14)+(F16*$P$16) -> 0 | Z6: =(G6*$P$6)+(G8*$P$8)+($G$10*$P$10)+(G12*$P$12)+(G14*$P$14)+(G16*$P$16) -> 0 | AA6: =(H6*$P$6)+(H8*$P$8)+($H$10*$P$10)+(H12*$P$12)+(H14*$P$14)+(H16*$P$16) -> 0 | AB6: =(I6*$P$6)+(I8*$P$8)+($I$10*$P$10)+(I12*$P$12)+(I14*$P$14)+(I16*$P$16) -> 0 | AC6: =(J6*$P$6)+(J8*$P$8)+($J$10*$P$10)+(J12*$P$12)+(J14*$P$14)+(J16*$P$16) -> 0 | AD6: =(K6*$P$6)+(K8*$P$8)+($K$10*$P$10)+(K12*$P$12)+(K14*$P$14)+(K16*$P$16) -> 0 | AE6: =(L6*$P$6)+(L8*$P$8)+($L$10*$P$10)+(L12*$P$12)+(L14*$P$14)+(L16*$P$16) -> 0 | AF6: =(M6*$P$6)+(M8*$P$8)+($M$10*$P$10)+(M12*$P$12)+(M14*$P$14)+(M16*$P$16) -> 0 | AG6: =(N6*$P$6)+(N8*$P$8)+($N$10*$P$10)+(N12*$P$12)+(N14*$P$14)+(N16*$P$16) -> 0 | AH6: =SUM(V6:AG6) -> 0
A7: (ชนิด.........) | B7: บาท | O7: =SUM(C7:N7) -> 0
A8: น้ำมันดีเซล | B8: ลิตร | O8: =SUM(C8:N8) -> 0 | P8: 36.42 | Q8: =O8*P8 -> 0 | R8: =O9/O8 -> #DIV/0! | S8: =O9/Q8 -> #DIV/0!
B9: บาท | O9: =SUM(C9:N9) -> 0
A10: ก๊าซปิโตรเลียมเหลว | B10: กิโลกรัม | O10: =SUM(C10:N10) -> 0 | P10: 50.23 | Q10: =O10*P10 -> 0 | R10: =O11/O10 -> #DIV/0! | S10: =O11/Q10 -> #DIV/0!
B11: บาท | O11: =SUM(C11:N11) -> 0
A12: ก๊าซธรรมชาติ | B12: ล้านบีทียู | O12: =SUM(C12:N12) -> 0 | P12: 1055 | Q12: =O12*P12 -> 0 | R12: =O13/O12 -> #DIV/0! | S12: =O13/Q12 -> #DIV/0!
B13: บาท | O13: =SUM(C13:N13) -> 0
A14: ถ่านหิน | B14: ตัน | O14: =SUM(C14:N14) -> 0 | P14: 26370 | Q14: =O14*P14 -> 0 | R14: =O15/O14 -> #DIV/0! | S14: =O15/Q14 -> #DIV/0!
A15: (ชนิด.....) | B15: บาท | O15: =SUM(C15:N15) -> 0
A16: ไอน้ำ | B16: ตัน | O16: =SUM(C16:N16) -> 0 | Q16: =O16*P16 -> 0 | R16: =O17/O16 -> #DIV/0! | S16: =O17/Q16 -> #DIV/0!
A17: (.....บาร์/.......๐C) | B17: บาท | O17: =SUM(C17:N17) -> 0
A18: อื่นๆ (ระบุ) | B18: หน่วย (ระบุ) | O18: =SUM(C18:N18) -> 0 | Q18: =O18*P18 -> 0 | R18: =O19/O18 -> #DIV/0! | S18: =O19/Q18 -> #DIV/0!
B19: บาท | O19: =SUM(C19:N19) -> 0
A20: รวมการใช้พลังงานความร้อนจากเชื้อเพลิง | Q20: =Q6+Q8+Q10 -> 0
A21: พลังงานหมุนเวียน | B21: หน่วย (ลบ. ม.) | O21: =SUM(C21:N21) -> 0 | Q21: =O21*P21 -> 0 | R21: =O22/O21 -> #DIV/0! | S21: =O22/Q21 -> #DIV/0!
B22: บาท | O22: =SUM(C22:N22) -> 0
A23: รวมการใช้พลังงานหมุนเวียน | Q23: 0
A24: รวมปริมาณพลังงานความร้อนทั้งหมด | Q24: =Q23+Q20 -> 0
A25: หมายเหตุ : | B25: ในกรณีไม่มีค่าความร้อนสูงจากผู้จำหน่าย ให้อ้างอิงค่าความร้อนเฉลี่ยตามที่กรมพัฒนาพลังงานทดแทนและอนุรักษ์พลังงานกำหนด
A26: No. | B26: Fuel | D26: Heating Value
A27: 01 | B27: น้ำมันเตา | D27: = 39.77 เมกะจูล/ลิตร
A28: 02 | B28: น้ำมันเตา 600 (A) | D28: = 38.18 เมกะจูล/ลิตร
A29: 03 | B29: น้ำมันเตา1500 (C) | D29: = 41.28 เมกะจูล/ลิตร
A30: 04 | B30: น้ำมันเตา 2000 (D) | D30: = ….. เมกะจูล/ลิตร
A31: 05 | B31: น้ำมันดีเซล | D31: = 36.42 เมกะจูล/ลิตร
A32: 06 | B32: น้ำมันเบนซิน | D32: = 31.48 เมกะจูล/ลิตร
A33: 07 | B33: น้ำมันก๊าด | D33: = 34.53 เมกะจูล/ลิตร
A34: 08 | B34: ก๊าซปิโตรเลียมเหลว | D34: = 26.62 เมกะจูล/ลิตร
A35: 09 | B35: ( LPG ) | D35: = 50.23 เมกะจูล/กิโลกรัม
A36: 10 | B36: ก๊าซธรรมชาติ | D36: = 1,055 เมกะจูล/ล้านบีทียู
A37: 11 | B37: ถ่านหินนำเข้า | D37: = 26,370 เมกะจูล/ตัน
... A50: 24 | B50: ซังข้าวโพด | D50: = 1,6220 เมกะจูล/ตัน
A51: หมายเหตุ | B51: ค่า Heating Value และหน่วยของเชื้อเพลิงที่ใช้จะต้องเป็นไปตามที่ พพ. กำหนดใน บพร.1 ตามตัวอย่างด้านบน และหากมีเชื้อเพลิงนอกเหนือจากนี้ที่ปรึกษาฯ จะต้องแจ้งจุฬาฯ ให้รับทราบ และเพิ่มเติมในฐานข้อมูลต่อไป ในส่วนเชื้อเพลิงน้ำมันเตา ต้องระบุชนิดให้ชัดเจนตามการใช

Sheet 4.1.4เชื้อเพลิงผลิตไฟฟ้า_62
A1: 4.1.4) ข้อมูลปริมาณการใช้เชื้อเพลิงในการผลิตไฟฟ้าในรอบปี 2562
C2: ผลิตกระแสไฟฟ้าอย่างเดียว | G2: ผลิตไฟฟ้าสำรองหรือกรณีฉุกเฉิน
A4: ตารางที่ 4.5 ข้อมูลการใช้เชื้อเพลิงในการผลิตไฟฟ้าในรอบปี 2563
A6: เดือน | B6: กำลังผลิตติดตั้ง (กิโลวัตต์) | C6: ปริมาณการใช้เชื้อเพลิงหลัก | F6: ชั่วโมง การเดินเครื่อง (ชั่วโมง) | G6: ปริมาณพลังงานไฟฟ้าที่ผลิตได้ (กิโลวัตต์ - ชั่วโมง) | I6: หมายเหตุ
C9: ชนิด | D9: ปริมาณ | E9: หน่วย
A10: ม.ค.
A11: ก.พ.
A12: มี.ค.
A13: เม.ย.
A14: พ.ค.
A15: มิ.ย.
A16: ก.ค.
A17: ส.ค.
A18: ก.ย.
A19: ต.ค.
A20: พ.ย.
A21: ธ.ค.
A22: รวม

Sheet 4.1.5สัดส่วนการใช้ไฟฟ้า_62
A1: 4.1.5) ข้อมูลสัดส่วนการใช้พลังงานไฟฟ้าในรอบปี 2562
A3: ตารางที่ 4.6 สัดส่วนการใช้พลังงานไฟฟ้าแยกตามระบบปี 2562
A5: ระบบ | B5: การใช้พลังงานไฟฟ้า | D5: วิธีการ
B6: กิโลวัตต์-ชั่วโมง/ปี | C6: ร้อยละ | D6: ประเมิน | E6: ตรวจวัด
A7: ปรับอากาศแบบรวมศูนย์ | B7: =ข้อมูลไฟฟ้าเครื่องจักร!X11 -> 102826 | C7: =B7/B$11*100 -> 0.92797085 | G7: =B7 -> 102826
A8: ปรับอากาศแบบแยกส่วน | B8: =ข้อมูลไฟฟ้าเครื่องจักร!X12 -> 5322003.8 | C8: =B8/B$11*100 -> 48.029335 | G8: =B8 -> 5322003.8
A9: แสงสว่าง | B9: =ข้อมูลไฟฟ้าเครื่องจักร!X13 -> 1509093.4 | C9: =B9/B$11*100 -> 13.619072 | G9: =B9 -> 1509093.4
A10: อื่นๆ | B10: =B11-SUM(B7:B9) -> 4146812.8 | C10: =B10/B$11*100 -> 37.423623 | G10: =B10 -> 4146812.8
A11: รวม | B11: ='4.1.2การใช้ไฟฟ้า_62'!F20 -> 11080736 | C11: =SUM(C7:C10) -> 100 | G11: =SUM(G7:G10) -> 11080736

Sheet 4.1.6สัดส่วนเชื้อเพลิง_62
A1: 4.1.6) ข้อมูลสัดส่วนการใช้พลังงานความร้อนในรอบปี 2562
A3: ตารางที่ 4.7 สัดส่วนการใช้พลังงานเชื้อเพลิงแยกตามระบบปี 2562
A5: ระบบ | B5: อุปกรณ์ | C5: การใช้พลังงานเชื้อเพลิง | F5: วิธีการ
C6: ชนิดเชื้อเพลิง | D6: เมกะจูล/ปี | E6: ร้อยละ | F6: ประเมิน | G6: ตรวจวัด | N6: ปี 2553
A7: หม้อไอน้ำ | M7: ไฟฟ้า | N7: ='[8]สัดส่วนไฟฟ้า 60'!B11*3.6 -> 0 | T7: ปี 2562
A8: หม้อต้มน้ำมันร้อน | M8: ความร้อน | N8: =D13 -> 0 | S8: ไฟฟ้า | T8: ='4.1.2การใช้ไฟฟ้า_62'!F20*3.6 -> 39890649
S9: ความร้อน | T9: =D13 -> 0
N10: ปี 2554
M11: ไฟฟ้า | N11: ='[8]สัดส่วนไฟฟ้า 60'!#REF!*3.6 -> #REF! | T11: ปี 2561
M12: ความร้อน | N12: =#REF! -> #REF! | S12: ไฟฟ้า | T12: ='[8]6.3.2) ไฟฟ้าปี 61'!F20*3.6 -> 0
A13: รวม | D13: ='[8]เชื้อเพลิง 60'!Q24 -> 0 | E13: =SUM(E7:E12) -> 0 | S13: ความร้อน | T13: ='[8]6.3.6) สัดส่วนเชื้อเพลิง 61'!D13 -> 0

Sheet 4.2.1 SEC(พื้นที่)_62
A1: 4.2 การประเมินระดับการบริการ
B2: 4.2.1 ค่าการใช้พลังงานจำเพาะของพื้นที่ใช้สอย
A4: ตารางที่ 4.8 ปริมาณการใช้พลังงานต่อหน่วยพื้นที่ใช้สอยที่ใช้งานจริงในรอบปี 2562
A6: เดือน | B6: พื้นที่ใช้สอยที่ใช้งานจริง (ตารางเมตร) | C6: ปริมาณพลังงานที่ใช้ | F6: ค่าการใช้พลังงานจำเพาะ (SEC) | L6: เดือน | M6: พื้นที่ใช้สอยที่ใช้งานจริง (ตารางเมตร) | N6: ปริมาณพลังงานที่ใช้ | Q6: ค่าการใช้พลังงานจำเพาะ (SEC)
C7: ไฟฟ้า | E7: ความร้อน | F7: (เมกะจูล/ตารางเมตร) | N7: ไฟฟ้า | P7: ความร้อน | Q7: (เมกะจูล/ตารางเมตร)
C8: (กิโลวัตต์-ชั่วโมง) | E8: (เมกะจูล) | N8: (กิโลวัตต์-ชั่วโมง) | P8: (เมกะจูล) | W8: 2562 | X8: 2563
A9: 22647 | B9: ='4.1.1.2พื้นที่อาคารแต่เดือน_62'!E9 -> 351038.48 | C9: ='4.1.2การใช้ไฟฟ้า_62'!F8 -> 761180 | E9: =C9*3.6 -> 2740248 | F9: =E9/B9 -> 7.8061186 | L9: 22647 | M9: =B9 -> 351038.48 | N9: =' ข้อมูลการใช้ไฟฟ้า '!F8 -> 761180 | P9: =N9*3.6 -> 2740248 | Q9: =P9/M9 -> 7.8061186 | V9: ม.ค. | W9: =Q9 -> 7.8061186 | X9: =F9 -> 7.8061186
A10: 22678 | B10: ='4.1.1.2พื้นที่อาคารแต่เดือน_62'!E10 -> 351038.48 | C10: ='4.1.2การใช้ไฟฟ้า_62'!F9 -> 752030.99 | E10: =C10*3.6 -> 2707311.6 | F10: =E10/B10 -> 7.7122929 | L10: 22678 | M10: =B10 -> 351038.48 | N10: =' ข้อมูลการใช้ไฟฟ้า '!F9 -> 752030.99 | P10: =N10*3.6 -> 2707311.6 | Q10: =P10/M10 -> 7.7122929 | V10: ก.พ. | W10: =Q10 -> 7.7122929 | X10: =F10 -> 7.7122929
A11: 22706 | B11: ='4.1.1.2พื้นที่อาคารแต่เดือน_62'!E11 -> 351038.48 | C11: ='4.1.2การใช้ไฟฟ้า_62'!F10 -> 871049.99 | E11: =C11*3.6 -> 3135780 | F11: =E11/B11 -> 8.9328667 | L11: 22706 | M11: =B11 -> 351038.48 | N11: =' ข้อมูลการใช้ไฟฟ้า '!F10 -> 871049.99 | P11: =N11*3.6 -> 3135780 | Q11: =P11/M11 -> 8.9328667 | V11: มี.ค. | W11: =Q11 -> 8.9328667 | X11: =F11 -> 8.9328667
A12: 22737 | B12: ='4.1.1.2พื้นที่อาคารแต่เดือน_62'!E12 -> 351038.48 | C12: ='4.1.2การใช้ไฟฟ้า_62'!F11 -> 727722.99 | E12: =C12*3.6 -> 2619802.8 | F12: =E12/B12 -> 7.4630074 | L12: 22737 | M12: =B12 -> 351038.48 | N12: =' ข้อมูลการใช้ไฟฟ้า '!F11 -> 727722.99 | P12: =N12*3.6 -> 2619802.8 | Q12: =P12/M12 -> 7.4630074 | V12: เม.ย. | W12: =Q12 -> 7.4630074 | X12: =F12 -> 7.4630074
A13: 22767 | B13: ='4.1.1.2พื้นที่อาคารแต่เดือน_62'!E13 -> 351038.48 | C13: ='4.1.2การใช้ไฟฟ้า_62'!F12 -> 929033 | E13: =C13*3.6 -> 3344518.8 | F13: =E13/B13 -> 9.5274991 | L13: 22767 | M13: =B13 -> 351038.48 | N13: =' ข้อมูลการใช้ไฟฟ้า '!F12 -> 929033 | P13: =N13*3.6 -> 3344518.8 | Q13: =P13/M13 -> 9.5274991 | V13: พ.ค. | W13: =Q13 -> 9.5274991 | X13: =F13 -> 9.5274991
A14: 22798 | B14: ='4.1.1.2พื้นที่อาคารแต่เดือน_62'!E14 -> 351038.48 | C14: ='4.1.2การใช้ไฟฟ้า_62'!F13 -> 1026370 | E14: =C14*3.6 -> 3694932 | F14: =E14/B14 -> 10.525718 | L14: 22798 | M14: =B14 -> 351038.48 | N14: =' ข้อมูลการใช้ไฟฟ้า '!F13 -> 1026370 | P14: =N14*3.6 -> 3694932 | Q14: =P14/M14 -> 10.525718 | V14: มิ.ย. | W14: =Q14 -> 10.525718 | X14: =F14 -> 10.525718
A15: 22828 | B15: ='4.1.1.2พื้นที่อาคารแต่เดือน_62'!E15 -> 351038.48 | C15: ='4.1.2การใช้ไฟฟ้า_62'!F14 -> 1401619 | E15: =C15*3.6 -> 5045828.4 | F15: =E15/B15 -> 14.374004 | L15: 22828 | M15: =B15 -> 351038.48 | N15: =' ข้อมูลการใช้ไฟฟ้า '!F14 -> 1401619 | P15: =N15*3.6 -> 5045828.4 | Q15: =P15/M15 -> 14.374004 | V15: ก.ค. | W15: =Q15 -> 14.374004 | X15: =F15 -> 14.374004
A16: 22859 | B16: ='4.1.1.2พื้นที่อาคารแต่เดือน_62'!E16 -> 351038.48 | C16: ='4.1.2การใช้ไฟฟ้า_62'!F15 -> 1098193 | E16: =C16*3.6 -> 3953494.8 | F16: =E16/B16 -> 11.262283 | L16: 22859 | M16: =B16 -> 351038.48 | N16: =' ข้อมูลการใช้ไฟฟ้า '!F15 -> 1098193 | P16: =N16*3.6 -> 3953494.8 | Q16: =P16/M16 -> 11.262283 | V16: ส.ค. | W16: =Q16 -> 11.262283 | X16: =F16 -> 11.262283
A17: 22890 | B17: ='4.1.1.2พื้นที่อาคารแต่เดือน_62'!E17 -> 351038.48 | C17: ='4.1.2การใช้ไฟฟ้า_62'!F16 -> 1070147 | E17: =C17*3.6 -> 3852529.2 | F17: =E17/B17 -> 10.974664 | L17: 22890 | M17: =B17 -> 351038.48 | N17: =' ข้อมูลการใช้ไฟฟ้า '!F16 -> 1070147 | P17: =N17*3.6 -> 3852529.2 | Q17: =P17/M17 -> 10.974664 | V17: ก.ย. | W17: =Q17 -> 10.974664 | X17: =F17 -> 10.974664
A18: 22920 | B18: ='4.1.1.2พื้นที่อาคารแต่เดือน_62'!E18 -> 351038.48 | C18: ='4.1.2การใช้ไฟฟ้า_62'!F17 -> 1012196 | E18: =C18*3.6 -> 3643905.6 | F18: =E18/B18 -> 10.380359 | L18: 22920 | M18: =B18 -> 351038.48 | N18: =' ข้อมูลการใช้ไฟฟ้า '!F17 -> 1012196 | P18: =N18*3.6 -> 3643905.6 | Q18: =P18/M18 -> 10.380359 | V18: ต.ค. | W18: =Q18 -> 10.380359 | X18: =F18 -> 10.380359
A19: 22951 | B19: ='4.1.1.2พื้นที่อาคารแต่เดือน_62'!E19 -> 351038.48 | C19: ='4.1.2การใช้ไฟฟ้า_62'!F18 -> 796156.99 | E19: =C19*3.6 -> 2866165.2 | F19: =E19/B19 -> 8.1648176 | L19: 22951 | M19: =B19 -> 351038.48 | N19: =' ข้อมูลการใช้ไฟฟ้า '!F18 -> 796156.99 | P19: =N19*3.6 -> 2866165.2 | Q19: =P19/M19 -> 8.1648176 | V19: พ.ย. | W19: =Q19 -> 8.1648176 | X19: =F19 -> 8.1648176
A20: 22981 | B20: ='4.1.1.2พื้นที่อาคารแต่เดือน_62'!E20 -> 351038.48 | C20: ='4.1.2การใช้ไฟฟ้า_62'!F19 -> 635037 | E20: =C20*3.6 -> 2286133.2 | F20: =E20/B20 -> 6.512486 | L20: 22981 | M20: =B20 -> 351038.48 | N20: =' ข้อมูลการใช้ไฟฟ้า '!F19 -> 635037 | P20: =N20*3.6 -> 2286133.2 | Q20: =P20/M20 -> 6.512486 | V20: ธ.ค. | W20: =Q20 -> 6.512486 | X20: =F20 -> 6.512486
A21: รวม | B21: - | C21: =SUM(C9:D20) -> 11080736 | E21: =SUM(E9:E20) -> 39890649 | F21: - | L21: รวม | M21: - | N21: =SUM(N9:O20) -> 11080736 | P21: =SUM(P9:P20) -> 39890649 | Q21: -
A22: เฉลี่ย | B22: =AVERAGE(B9:B20) -> 351038.48 | C22: =AVERAGE(C9:C20) -> 923394.66 | E22: =AVERAGE(E9:E20) -> 3324220.8 | F22: =AVERAGE(F9:I20) -> 9.4696763 | L22: เฉลี่ย | M22: =AVERAGE(M9:M20) -> 351038.48 | N22: =AVERAGE(N9:N20) -> 923394.66 | P22: =AVERAGE(P9:P20) -> 3324220.8 | Q22: =AVERAGE(Q9:T20) -> 9.4696763
A24: หมายเหตุ: | B24: ค่าการใช้พลังงานจำเพาะ (SEC) =ปริมาณพลังงานไฟฟ้า (กิโลวัตต์-ชั่วโมง) x 3.6 (เมกะจูล/กิโลวัตต์-ชั่วโมง)+ปริมาณพลังงานความร้อน (เมกะจูล)
F25: พื้นที่ใช้สอยที่ใช้งานจริง (ตารางเมตร)

Sheet เปรียบเทียบข้อมูลอาคาร
A2: เปรียบเทียบข้อมูลการใช้พลังงานหรือดัชนีการใช้พลังงานเทียบกับค่าเป้าหมายภายในอาคาร
A3: หรือเปรียบเทียบข้อมูลการใช้พลังงานกับอาคารอื่น (ถ้ามี)
F5: SEC ปี 2563 | H5: MJ/หน่วย
F6: SEC เป้าหมาย | H6: MJ/หน่วย
F8: ค่าต่ำที่สุด | H8: MJ/หน่วย
F9: ค่าเฉลี่ย | H9: MJ/หน่วย
A14: รูปที่ 4-1 กราฟแสดงข้อมูลเปรียบเทียบข้อมูลการใช้พลังงานหรือดัชนีการใช้พลังงาน
A15: เทียบกับค่าเป้าหมายภายในอาคารหรือเปรียบเทียบข้อมูล (ถ้ามี)

Sheet 4.3ประเมินระดับเครื่องจักร
A1: 4.3 การประเมินระดับเครื่องจักร/อุปกรณ์หลัก
A2: การค้นหาการใช้พลังงานที่มีนัยสำคัญในเครื่องจักร/อุปกรณ์หลัก อาคารควบคุมได้ดำเนินการโดยการตรวจวัดหา
A3: ข้อมูลปริมาณการใช้พลังงาน ชั่วโมงการทำงาน และวิเคราะห์หาค่าประสิทธิภาพและการสูญเสียพลังงานในแต่ละเครื่องจักร/
A4: อุปกรณ์หลักที่มีการใช้ในอาคารควบคุม ซึ่งมีผลสรุปได้ดังนี้

Sheet 4.3.1ประเมินระดับเครื่องจักร
A1: 4.3.1 การประเมินศักยภาพของเครื่องจักร/อุปกรณ์ที่มีนัยสำคัญ เพื่อนำไปค้นหามาตรการอนุรักษ์พลังงาน
B2: การค้นหาการใช้พลังงานที่มีนัยสำคัญในเครื่องจักร/อุปกรณ์หลัก อาคารควบคุมได้ดำเนินการโดยการ
A3: ตรวจวัดหาข้อมูลปริมาณการใช้พลังงาน ชั่วโมงการทำงาน และวิเคราะห์หาค่าประสิทธิภาพและการสูญเสียพลังงาน
A4: ในแต่ละเครื่องจักร/อุปกรณ์หลักที่มีการใช้ในอาคารควบคุม ซึ่งมีผลสรุปได้ดังนี้
A5: แบบประเมินการใช้พลังงานในเครื่องจักร/อุปกรณ์หลัก
A7: งานอนุรักษ์พลังงานและสิ่งแวดล้อม | I7: วันที่ 25 / 01 / 2021
A9: เครื่องจักร/อุปกรณ์หลัก | B9: ประเภทพลังงาน | C9: (1) ปริมาณการใช้พลังงาน | H9: (2) ชั่วโมงการใช้งาน | M9: (3) ศักยภาพการปรับปรุง | R9: คะแนนรวม (1) x (2) x (3) | S9: ลำดับความสำคัญ
C11: น้อยที่สุด (1 คะแนน) | D11: น้อย (2 คะแนน) | E11: ปานกลาง (3 คะแนน) | F11: มาก (4 คะแนน) | G11: มากที่สุด (5 คะแนน) | H11: น้อยที่สุด (1 คะแนน) | I11: น้อย (2 คะแนน) | J11: ปานกลาง (3 คะแนน) | K11: มาก (4 คะแนน) | L11: มากที่สุด (5 คะแนน) | M11: น้อยที่สุด (1 คะแนน) | N11: น้อย (2 คะแนน) | O11: ปานกลาง (3 คะแนน) | P11: มาก (4 คะแนน) | Q11: มากที่สุด (5 คะแนน)
A12: เครื่องปรับอากาศ | B12: ไฟฟ้า | G12: 1 | L12: 1 | P12: 1 | R12: =(C12*1+D12*2+E12*3+F12*4+G12*5)+(H12*1+I12*2+J12*3+K12*4+L12*5)+(M12*1+N12*2+O12*3+P12*4+Q12*5) -> 14 | S12: 1
A13: หลอดไฟฟ้า | B13: ไฟฟ้า | F13: 1 | K13: 1 | O13: 1 | R13: =(C13*1+D13*2+E13*3+F13*4+G13*5)+(H13*1+I13*2+J13*3+K13*4+L13*5)+(M13*1+N13*2+O13*3+P13*4+Q13*5) -> 11 | S13: 2
A14: มอเตอร์ / ปั๊มน้ำ | B14: ไฟฟ้า | E14: 1 | J14: 1 | O14: 1 | R14: =(C14*1+D14*2+E14*3+F14*4+G14*5)+(H14*1+I14*2+J14*3+K14*4+L14*5)+(M14*1+N14*2+O14*3+P14*4+Q14*5) -> 9 | S14: 3
A15: เครื่องทำน้ำเย็น | B15: ไฟฟ้า | D15: 1 | I15: 1 | N15: 1 | R15: =(C15*1+D15*2+E15*3+F15*4+G15*5)+(H15*1+I15*2+J15*3+K15*4+L15*5)+(M15*1+N15*2+O15*3+P15*4+Q15*5) -> 6 | S15: 4
A18: หมายเหตุ | B18: 1. เครื่องจักร/อุปกรณ์หลัก ที่มีคะแนนรวมมาก ถือว่ามีความสำคัญในการนำไปกำหนดเป็นมาตรการอนุรักษ์พลังงาน
B19: 2. กรณีมีหลายแผนกให้เพิ่มตารางตามจำนวนแผนกที่มีการใช้พลังงาน
B20: 3. แนวทางนี้เป็นข้อแนะนำเท่านั้น ท่านสามารถใช้วิธีการอื่นในการประเมินที่มีค่านี้ได้ เช่น การตรวจวัด การใช้งานจริง

Sheet ข้อมูลไฟฟ้าเครื่องจักร
A1: ตารางที่ 4.11 แบบบันทึกข้อมูลการใช้พลังงานไฟฟ้าที่มีนัยสำคัญของเครื่องจักร/อุปกรณ์หลัก ปี 2563 | U1: เครื่องปรับอากาศ | Y1: แสงสว่าง | Z1: OTTV | AA1: RTTV
U2: ค่ามาตรฐาน | Y2: ค่ามาตรฐาน | Z2: ค่ามาตรฐาน | AA2: ค่ามาตรฐาน
A3: ระบบที่ใช้พลังงาน | B3: ชื่อเครื่องจักร/อุปกรณ์หลัก | C3: พิกัด | E3: จำนวน | F3: อายุการใช้งาน (ปี) | G3: ชั่วโมง ใช้งาน เฉลี่ย/ปี | H3: ปริมาณการใช้ พลังงานไฟฟ้า (กิโลวัตต์-ชั่วโมง/ปี) | I3: สัดส่วนการ ใช้พลังงาน ในระบบ | J3: ค่าประสิทธิภาพหรือสมรรถนะ | N3: การสูญเสียพลังงานไฟฟ้า (กิโลวัตต์-ชั่วโมง/ปี) | O3: หมายเหตุ | U3: Chiller | V3: 1.44 | W3: kW/ton | Y3: W/m2 | Z3: W/m2 | AA3: W/m2
C4: ขนาด | D4: หน่วย | J4: ค่าพิกัด | K4: หน่วย | L4: ใช้งานจริง | M4: หน่วย | Q4: รวมAIR | R4: =SUM(E6:E106) -> 2880 | U4: > = 2538 - ใหม่ | V4: 1.4 | W4: kW/ton | Y4: 15 | Z4: 55 | AA4: 25
Q5: kW-เฉลี่ย | R5: BTU/TOR | S5: หมายเหตุ | U5: < 2538 - เก่า | V5: 1.61 | W5: kW/ton
A6: ระบบปรับอากาศ | B6: Chiller | C6: 320 | D6: ton | E6: 2 | F6: 7 | G6: 500 | H6: =(C6)*L6*E6*G6*40/100 -> 96000 | I6: =H6/' ข้อมูลการใช้ไฟฟ้า '!$F$20*100 -> 0.86636845 | J6: 0.98 | K6: kW/tr | L6: 0.75 | M6: kW/tr | Q6: 310.25 | R6: =C6 -> 320
A7: ระบบปรับอากาศ | B7: AHU | C7: 842000 | D7: Btu/hr | E7: 8 | F7: 7 | G7: 500 | H7: =(C7/12000)*L7*E7*G7*40/100 -> 6736 | I7: =H7/' ข้อมูลการใช้ไฟฟ้า '!$F$20*100 -> 0.060790186 | J7: 0.06 | K7: kW/tr | L7: =J7 -> 0.06 | M7: kW/tr | Q7: 55.8 | R7: =C7/12000 -> 70.166667 | U7: เครื่องปรับที่ไม่เกิน 75000 Btu
A8: ระบบปรับอากาศ | B8: Water Pump | C8: 7.5 | D8: kW | E8: 2 | F8: 7 | G8: 500 | H8: =C8*L8*E8*G8*40/100 -> 90 | I8: =H8/' ข้อมูลการใช้ไฟฟ้า '!$F$20*100 -> 0.00081222042 | J8: 0.03 | K8: kW | L8: =J8 -> 0.03 | M8: kW | Q8: 26.42 | U8: บำรุงรักษา | V8: =SUM(E20:E106) -> 2828 | W8: เครื่อง
A9: ระบบปรับอากาศ | B9: เครื่องปรับอากาศ | C9: 480000 | D9: Btu/hr | E9: 1 | F9: 5 | G9: 1250 | H9: =(C9/12000)*L9*E9*G9*45/100 -> 25959.375 | I9: =H9/' ข้อมูลการใช้ไฟฟ้า '!$F$20*100 -> 0.23427483 | J9: 1.25 | K9: kW/tr | L9: =Q9/R9 -> 1.15375 | M9: kW/tr | Q9: 46.15 | R9: =C9/12000 -> 40
A10: ระบบปรับอากาศ | B10: เครื่องปรับอากาศ | C10: 374300 | D10: Btu/hr | E10: 1 | F10: 12 | G10: 1250 | H10: =(C10/12000)*L10*E10*G10*45/100 -> 20778.75 | I10: =H10/' ข้อมูลการใช้ไฟฟ้า '!$F$20*100 -> 0.18752139 | J10: 1.25 | K10: kW/tr | L10: =Q10/R10 -> 1.1842907 | M10: kW/tr | Q10: 36.94 | R10: =C10/12000 -> 31.191667
A11: ระบบปรับอากาศ | B11: เครื่องปรับอากาศ | C11: 300000 | D11: Btu/hr | E11: 3 | F11: 13 - 27 | G11: 1250 | H11: =(C11/12000)*L11*E11*G11*45/100 -> 53679.375 | I11: =H11/' ข้อมูลการใช้ไฟฟ้า '!$F$20*100 -> 0.48443872 | J11: 1.25 | K11: kW/tr | L11: =Q11/R11 -> 1.2724 | M11: kW/tr | Q11: 31.81 | R11: =C11/12000 -> 25 | U11: ปรับอากาศแบบรวมศูนย์ | X11: =SUM(H6:H8) -> 102826 | Y11: =SUM(I6:I8) -> 0.92797085
A12: ระบบปรับอากาศ | B12: เครื่องปรับอากาศ | C12: 240000 | D12: Btu/hr | E12: 2 | F12: 13 | G12: 1250 | H12: =(C12/12000)*L12*E12*G12*45/100 -> 27596.25 | I12: =H12/' ข้อมูลการใช้ไฟฟ้า '!$F$20*100 -> 0.24904709 | J12: 1.25 | K12: kW/tr | L12: =Q12/R12 -> 1.2265 | M12: kW/tr | Q12: 24.53 | R12: =C12/12000 -> 20 | U12: *ปรับอากาศแบบแยกส่วน | X12: =SUM(H9:H106) -> 5322003.8 | Y12: =SUM(I10:I106) -> 47.79506
A13: ระบบปรับอากาศ | B13: เครื่องปรับอากาศ | C13: 175000 | D13: Btu/hr | E13: 1 | F13: 7 | G13: 1250 | H13: =(C13/12000)*L13*E13*G13*45/100 -> 10501.875 | I13: =H13/' ข้อมูลการใช้ไฟฟ้า '!$F$20*100 -> 0.09477597 | J13: 1.25 | K13: kW/tr | L13: =Q13/R13 -> 1.2802286 | M13: kW/tr | Q13: 18.67 | R13: =C13/12000 -> 14.583333 | U13: แสงสว่าง | X13: =SUM(H107:H165) -> 1509093.4 | Y13: =SUM(I107:I165) -> 13.619072
A14: ระบบปรับอากาศ | B14: เครื่องปรับอากาศ | C14: 150000 | D14: Btu/hr | E14: 8 | F14: 11 - 27 | G14: 1250 | H14: =(C14/12000)*L14*E14*G14*45/100 -> 75825 | I14: =H14/' ข้อมูลการใช้ไฟฟ้า '!$F$20*100 -> 0.6842957 | J14: 1.25 | K14: kW/tr | L14: =Q14/R14 -> 1.348 | M14: kW/tr | Q14: 16.85 | R14: =C14/12000 -> 12.5 | U14: รวม | X14: =SUM(X11:X13) -> 6933923.1 | Y14: =SUM(Y11:Y13) -> 62.342102
A15: ระบบปรับอากาศ | B15: เครื่องปรับอากาศ | C15: 130000 | D15: Btu/hr | E15: 3 | F15: 12 - 26 | G15: 1250 | H15: =(C15/12000)*L15*E15*G15*45/100 -> 22983.75 | I15: =H15/' ข้อมูลการใช้ไฟฟ้า '!$F$20*100 -> 0.20742079 | J15: 1.25 | K15: kW/tr | L15: =Q15/R15 -> 1.2572308 | M15: kW/tr | Q15: 13.62 | R15: =C15/12000 -> 10.833333
A16: ระบบปรับอากาศ | B16: เครื่องปรับอากาศ | C16: 125000 | D16: Btu/hr | E16: 4 | F16: 20 | G16: 1250 | H16: =(C16/12000)*L16*E16*G16*45/100 -> 28912.5 | I16: =H16/' ข้อมูลการใช้ไฟฟ้า '!$F$20*100 -> 0.26092581 | J16: 1.25 | K16: kW/tr | L16: =Q16/R16 -> 1.2336 | M16: kW/tr | Q16: 12.85 | R16: =C16/12000 -> 10.416667
A17: ระบบปรับอากาศ | B17: เครื่องปรับอากาศ | C17: 120000 | D17: Btu/hr | E17: 8 | F17: 18 | G17: 1250 | H17: =(C17/12000)*L17*E17*G17*45/100 -> 57015 | I17: =H17/' ข้อมูลการใช้ไฟฟ้า '!$F$20*100 -> 0.51454164 | J17: 1.25 | K17: kW/tr | L17: =Q17/R17 -> 1.267 | M17: kW/tr | Q17: 12.67 | R17: =C17/12000 -> 10
A18: ระบบปรับอากาศ | B18: เครื่องปรับอากาศ | C18: 101500 | D18: Btu/hr | E18: 2 | F18: 8 | G18: 1250 | H18: =(C18/12000)*L18*E18*G18*45/100 -> 12195 | I18: =H18/' ข้อมูลการใช้ไฟฟ้า '!$F$20*100 -> 0.11005587 | J18: 1.25 | K18: kW/tr | L18: =Q18/R18 -> 1.2815764 | M18: kW/tr | Q18: 10.84 | R18: =C18/12000 -> 8.4583333
A19: ระบบปรับอากาศ | B19: เครื่องปรับอากาศ | C19: 100000 | D19: Btu/hr | E19: 7 | F19: 5 - 10 | G19: 1250 | H19: =(C19/12000)*L19*E19*G19*45/100 -> 41461.875 | I19: =H19/' ข้อมูลการใช้ไฟฟ้า '!$F$20*100 -> 0.37417979 | J19: 1.25 | K19: kW/tr | L19: =Q19/R19 -> 1.2636 | M19: kW/tr | Q19: 10.53 | R19: =C19/12000 -> 8.3333333
A20: ระบบปรับอากาศ | B20: เครื่องปรับอากาศ | C20: 75000 | D20: Btu/hr | E20: 25 | F20: 11 - 27 | G20: 1250 | H20: =(C20/12000)*L20*E20*G20*45/100 -> 108562.5 | I20: =H20/' ข้อมูลการใช้ไฟฟ้า '!$F$20*100 -> 0.97974088 | J20: 1.25 | K20: kW/tr | L20: =Q20/R20 -> 1.2352 | M20: kW/tr | Q20: 7.72 | R20: =C20/12000 -> 6.25
A21: ระบบปรับอากาศ | B21: เครื่องปรับอากาศ | C21: 65000 | D21: Btu/hr | E21: 2 | F21: 12 | G21: 1250 | H21: =(C21/12000)*L21*E21*G21*45/100 -> 7458.75 | I21: =H21/' ข้อมูลการใช้ไฟฟ้า '!$F$20*100 -> 0.067312767 | J21: 1.25 | K21: kW/tr | L21: =Q21/R21 -> 1.224 | M21: kW/tr | Q21: 6.63 | R21: =C21/12000 -> 5.4166667
A22: ระบบปรับอากาศ | B22: เครื่องปรับอากาศ | C22: 62000 | D22: Btu/hr | E22: 24 | F22: 16 | G22: 1250 | H22: =(C22/12000)*L22*E22*G22*45/100 -> 84780 | I22: =H22/' ข้อมูลการใช้ไฟฟ้า '!$F$20*100 -> 0.76511163 | J22: 1.25 | K22: kW/tr | L22: =Q22/R22 -> 1.2154839 | M22: kW/tr | Q22: 6.28 | R22: =C22/12000 -> 5.1666667
A23: ระบบปรับอากาศ | B23: เครื่องปรับอากาศ | C23: 60000 | D23: Btu/hr | E23: 114 | F23: 1 - 27 | G23: 1250 | H23: =(C23/12000)*L23*E23*G23*45/100 -> 421301.25 | I23: =H23/' ข้อมูลการใช้ไฟฟ้า '!$F$20*100 -> 3.8021053 | J23: 1.25 | K23: kW/tr | L23: =Q23/R23 -> 1.314 | M23: kW/tr | Q23: 6.57 | R23: =C23/12000 -> 5
A24: ระบบปรับอากาศ | B24: เครื่องปรับอากาศ | C24: 58000 | D24: Btu/hr | E24: 2 | F24: 26 | G24: 1250 | H24: =(C24/12000)*L24*E24*G24*45/100 -> 6783.75 | I24: =H24/' ข้อมูลการใช้ไฟฟ้า '!$F$20*100 -> 0.061221114 | J24: 1.25 | K24: kW/tr | L24: =Q24/R24 -> 1.2475862 | M24: kW/tr | Q24: 6.03 | R24: =C24/12000 -> 4.8333333
A25: ระบบปรับอากาศ | B25: เครื่องปรับอากาศ | C25: 56000 | D25: Btu/hr | E25: 9 | F25: 12 - 18 | G25: 1250 | H25: =(C25/12000)*L25*E25*G25*45/100 -> 28906.875 | I25: =H25/' ข้อมูลการใช้ไฟฟ้า '!$F$20*100 -> 0.26087505 | J25: 1.25 | K25: kW/tr | L25: =Q25/R25 -> 1.2235714 | M25: kW/tr | Q25: 5.71 | R25: =C25/12000 -> 4.6666667
A26: ระบบปรับอากาศ | B26: เครื่องปรับอากาศ | C26: 53000 | D26: Btu/hr | E26: 3 | F26: 9 | G26: 1250 | H26: =(C26/12000)*L26*E26*G26*45/100 -> 9315 | I26: =H26/' ข้อมูลการใช้ไฟฟ้า '!$F$20*100 -> 0.084064813 | J26: 1.25 | K26: kW/tr | L26: =Q26/R26 -> 1.2498113 | M26: kW/tr | Q26: 5.52 | R26: =C26/12000 -> 4.4166667
A27: ระบบปรับอากาศ | B27: เครื่องปรับอากาศ | C27: 52000 | D27: Btu/hr | E27: 2 | F27: 19 | G27: 1250 | H27: =(C27/12000)*L27*E27*G27*45/100 -> 6108.75 | I27: =H27/' ข้อมูลการใช้ไฟฟ้า '!$F$20*100 -> 0.055129461 | J27: 1.25 | K27: kW/tr | L27: =Q27/R27 -> 1.2530769 | M27: kW/tr | Q27: 5.43 | R27: =C27/12000 -> 4.3333333
A28: ระบบปรับอากาศ | B28: เครื่องปรับอากาศ | C28: 50000 | D28: Btu/hr | E28: 12 | F28: 4 | G28: 1250 | H28: =(C28/12000)*L28*E28*G28*45/100 -> 32535 | I28: =H28/' ข้อมูลการใช้ไฟฟ้า '!$F$20*100 -> 0.29361768 | J28: 1.25 | K28: kW/tr | L28: =Q28/R28 -> 1.1568 | M28: kW/tr | Q28: 4.82 | R28: =C28/12000 -> 4.1666667
A29: ระบบปรับอากาศ | B29: เครื่องปรับอากาศ | C29: 48000 | D29: Btu/hr | E29: 63 | F29: 3 - 28 | G29: 1250 | H29: =(C29/12000)*L29*E29*G29*45/100 -> 170808.75 | I29: =H29/' ข้อมูลการใช้ไฟฟ้า '!$F$20*100 -> 1.5414928 | J29: 1.25 | K29: kW/tr | L29: =Q29/R29 -> 1.205 | M29: kW/tr | Q29: 4.82 | R29: =C29/12000 -> 4
A30: ระบบปรับอากาศ | B30: เครื่องปรับอากาศ | C30: 46000 | D30: Btu/hr | E30: 3 | F30: 19 - 20 | G30: 1250 | H30: =(C30/12000)*L30*E30*G30*45/100 -> 8015.625 | I30: =H30/' ข้อมูลการใช้ไฟฟ้า '!$F$20*100 -> 0.072338381 | J30: 1.25 | K30: kW/tr | L30: =Q30/R30 -> 1.2391304 | M30: kW/tr | Q30: 4.75 | R30: =C30/12000 -> 3.8333333
A31: ระบบปรับอากาศ | B31: เครื่องปรับอากาศ | C31: 45000 | D31: Btu/hr | E31: 36 | F31: 5 - 26 | G31: 1250 | H31: =(C31/12000)*L31*E31*G31*45/100 -> 93352.5 | I31: =H31/' ข้อมูลการใช้ไฟฟ้า '!$F$20*100 -> 0.84247563 | J31: 1.25 | K31: kW/tr | L31: =Q31/R31 -> 1.2293333 | M31: kW/tr | Q31: 4.61 | R31: =C31/12000 -> 3.75
A32: ระบบปรับอากาศ | B32: เครื่องปรับอากาศ | C32: 44200 | D32: Btu/hr | E32: 3 | F32: 14 - 17 | G32: 1250 | H32: =(C32/12000)*L32*E32*G32*45/100 -> 7644.375 | I32: =H32/' ข้อมูลการใช้ไฟฟ้า '!$F$20*100 -> 0.068987972 | J32: 1.25 | K32: kW/tr | L32: =Q32/R32 -> 1.2298643 | M32: kW/tr | Q32: 4.53 | R32: =C32/12000 -> 3.6833333
