Workbook
Name _____sss2: [1]DATA!#REF!
Name _____sss2: [1]DATA!#REF!
Name _____sss2: [1]DATA!#REF!
Name _____sss2: [1]DATA!#REF!
Name _____sss2: [1]DATA!#REF!
Name _____sss2: [1]DATA!#REF!
Name _____sss2: [1]DATA!#REF!
Name _____sss2: [1]DATA!#REF!
Name _____sss2: [1]DATA!#REF!
Name _____sss2: [1]DATA!#REF!
Name _____sss2: [1]DATA!#REF!
Name _____sss2: [1]DATA!#REF!
Name _____sss2: [1]DATA!#REF!
Name _____sss2: [1]DATA!#REF!
Name _____sss2: [1]DATA!#REF!
Name _____sss2: [1]DATA!#REF!
Name _____sss2: [1]DATA!#REF!
Name _____sss2: [1]DATA!#REF!
Name _____sss2: [1]DATA!#REF!
Name _____sss2: [1]DATA!#REF!
Name _____sss2: [1]DATA!#REF!
Name _____sss4: [1]RE_DATA!#REF!
Name _____sss4: [1]RE_DATA!#REF!
Name _____sss4: [1]RE_DATA!#REF!
Name _____sss4: [1]RE_DATA!#REF!
Name _____sss4: [1]RE_DATA!#REF!
Name _____sss4: [1]RE_DATA!#REF!
Name _____sss4: [1]RE_DATA!#REF!
Name _____sss4: [1]RE_DATA!#REF!
Name _____sss4: [1]RE_DATA!#REF!
Name _____sss4: [1]RE_DATA!#REF!
Name _____sss4: [1]RE_DATA!#REF!
Name _____sss4: [1]RE_DATA!#REF!
Name _____sss4: [1]RE_DATA!#REF!
Name _____sss4: [1]RE_DATA!#REF!
Name _____sss4: [1]RE_DATA!#REF!
Name _____sss4: [1]RE_DATA!#REF!
Name _____sss4: [1]RE_DATA!#REF!
Name _____sss4: [1]RE_DATA!#REF!
Name _____sss4: [1]RE_DATA!#REF!
Name _____sss4: [1]RE_DATA!#REF!
Name _____sss4: [1]RE_DATA!#REF!
Name ____Flu40: 50
Name ___Flu40: 50
Name ___sss2: [1]DATA!#REF!
Name ___sss2: [1]DATA!#REF!
Name ___sss2: [1]DATA!#REF!
Name ___sss2: [1]DATA!#REF!
Name ___sss2: [1]DATA!#REF!
Name ___sss2: [1]DATA!#REF!
Name ___sss2: [1]DATA!#REF!
Name ___sss2: [1]DATA!#REF!
Name ___sss2: [1]DATA!#REF!
Name ___sss2: [1]DATA!#REF!
Name ___sss2: [1]DATA!#REF!
Name ___sss2: [1]DATA!#REF!
Name ___sss2: [1]DATA!#REF!
Name ___sss2: [1]DATA!#REF!
Name ___sss2: [1]DATA!#REF!
Name ___sss2: [1]DATA!#REF!

Sheet ปก 
A15: รายงาน
A16: การจัดการพลังงาน
A17: ประจำปี 2566
C32: ชื่อนิติบุคคล : | F32: มหาวิทยาลัยแม่โจ้
C33: ชื่ออาคารควบคุม : | F33: =F32 -> มหาวิทยาลัยแม่โจ้
C34: TSIC - ID : | F34: 85302-0095

Sheet คำรับรอง
B2: ใบคำรับรองการจัดทำรายงานการจัดการพลังงาน
C3: ของอาคารควบคุม | E3: ='ปก '!F33 -> มหาวิทยาลัยแม่โจ้
B5: 1. ประธานคณะทำงานด้านการจัดการพลังงาน
C6: ข้าพเจ้าในฐานะประธานคณะทำงานด้านการจัดการพลังงานของอาคารควบคุม ขอรับรองว่าได้ดำเนิน
B7: การจัดการพลังงานให้เป็นไปตามที่กฎกระทรวงกำหนดทุกประการ
F9: ลงชื่อ....................................................................
F10: (รองศาสตราจารย์ ดร.วีระพล ทองมา)
F11: รักษาการแทนอธิการบดีมหาวิทยาลัยแม่โจ้
F12: วันที่............../...................../.................
B13: 2. ผู้รับผิดชอบด้านพลังงาน
C14: ข้าพเจ้าในฐานะผู้รับผิดชอบด้านพลังงานของอาคารควบคุม ขอรับรองว่าได้ดำเนินการจัดการพลังงาน
B17: ลงชื่อ.................................................. | G17: ลงชื่อ..................................................
B18: (นายสุรเดช คิดการงาน) | G18: (นายรัฐพล ญาติมิตรหนุน)
B19: ตำแหน่งผู้รับผิดชอบด้านพลังงานอาวุโส | G19: ตำแหน่งผู้รับผิดชอบด้านพลังงานสามัญ
B20: ทะเบียนเลขที่ ผอส.04244 | G20: ทะเบียนเลขที่ ผชอ.03430
B21: วันที่............/................./.............. | G21: วันที่............/................./..............
B24: 3. เจ้าของอาคารควบคุม
B25: ข้าพเจ้าในฐานะเจ้าของอาคารควบคุม/ผู้รับมอบอำนาจ ขอรับรองว่าได้ดำเนินการจัดการพลังงานให้ | C25: ข้าพเจ้าในฐานะเจ้าของอาคารควบคุม/ผู้รับมอบอำนาจ ขอรับรองว่าได้ดำเนินการจัดการพลังงานให้
B26: เป็นไปตามที่กฎกระทรวงกำหนดทุกประการ
F28: ลงชื่อ.........................................................................
F29: (รองศาสตราจารย์ ดร.วีระพล ทองมา)
F30: รักษาการแทนอธิการบดีมหาวิทยาลัยแม่โจ้
F31: วันที่............../...................../.................

Sheet สารบัญ
B1: สารบัญ
J3: หน้า
A5: ข้อมูลเบื้องต้น | J5: 1
A6: ข้อมูลด้านการจัดการพลังงาน
A7: ขั้นตอนที่ 1 | C7: คณะทำงานด้านการจัดการพลังงาน | J7: 3
A8: ขั้นตอนที่ 2 | C8: การประเมินสถานภาพการจัดการพลังงานเบื้องต้น | J8: 15
A9: ขั้นตอนที่ 3 | C9: นโยบายอนุรักษ์พลังงาน | J9: 16
A10: ขั้นตอนที่ 4 | C10: การประเมินศักยภาพการอนุรักษ์พลังงาน | J10: 20
A11: ขั้นตอนที่ 5 | C11: การกำหนดเป้าหมายและแผนอนุรักษ์พลังงาน | J11: 50
C12: และแผนการฝึกอบรมและกิจกรรมเพื่อส่งเสริมการอนุรักษ์พลังงาน
A13: ขั้นตอนที่ 6 | C13: การดำเนินการตามแผนอนุรักษ์พลังงาน การตรวจสอบและ | J13: 64
C14: วิเคราะห์การปฏิบัติตามเป้าหมายและแผนอนุรักษ์พลังงาน
A15: ขั้นตอนที่ 7 | C15: การตรวจติดตามและประเมินการจัดการพลังงาน | J15: 104
A16: ขั้นตอนที่ 8 | C16: การทบทวน วิเคราะห์และแก้ไขข้อบกพร่องของการจัดการพลังงาน | J16: 115
A17: ภาคผนวก
B18: ภาคผนวก ก. แผนการดำเนินการมาตรการอนุรักษ์พลังงานในระยะเวลา 3 ปีข้างหน้า
B19: ภาคผนวก ข. เอกสารประกอบอื่นๆ

Sheet ข้อมูลเบื้องต้น
A1: ข้อมูลเบื้องต้น
A3: ข้อมูลทั่วไป
B4: 1 | C4: ชื่อนิติบุคคล: | F4: ='ปก '!F32:I32 -> มหาวิทยาลัยแม่โจ้
C5: ชื่ออาคารควบคุม: | F5: ='ปก '!F33:I33 -> มหาวิทยาลัยแม่โจ้
C6: TSIC - ID: | F6: ='ปก '!F34:I34 -> 85302-0095
B7: 2 | C7: ระบุกลุ่มอาคารควบคุม ดังนี้
D8: กลุ่มที่ 1 : อาคารควบคุมที่ใช้เครื่องวัดไฟฟ้าหรือติดตั้งหม้อแปลงไฟฟ้ารวมกันน้อยกว่าสามพันกิโลวัตต์หรือสามพันห้าร้อย สามสิบกิโลโวลต์แอมแปร์หรืออาคารควบคุมที่ใช้พลังงานไฟฟ้า พลังงานความร้อนจากไอน้ำ หรือ พลังงานสิ้นเปลืองอื่นๆ โดยมีปริมาณพลังงานเทียบเท่าพลังงานไฟฟ้าต่ำกว่าหกสิบล้านเมกะจูล
D11: กลุ่มที่ 2 :อาคารควบคุมที่ใช้เครื่องวัดไฟฟ้าหรือติดตั้งหม้อแปลงไฟฟ้ารวมกันตั้งแต่สามพันกิโลวัตต์หรือสามพันห้าร้อยสามสิบกิโลโวลต์แอมแปร์ขึ้นไปหรืออาคารควบคุมที่ใช้พลังงานไฟฟ้า พลังงานความร้อนจากไอน้ำ หรือพลังงานสิ้นเปลืองอื่นๆ โดยมีปริมาณพลังงานเทียบเท่าพลังงานไฟฟ้าตั้งแต่หกสิบล้านเมกะจูลขึ้นไป
C15: ที่อยู่อาคาร
C16: เลขที่ | D16: 63 | G16: ถนน | H16: เชียงใหม่ - พร้าว | K16: ตำบล | L16: หนองหาร
C17: อำเภอ | D17: สันทราย | G17: จังหวัด | H17: เชียงใหม่ | K17: รหัสไปรษณีย์ | L17: 50290
C18: โทรศัพท์ | E18: 053-873225 | G18: โทรสาร 053-873256 | H18: 053-498862 | K18: อีเมล thanachoke@cmru.ac.th | L18: suradet215@gmail.com
B20: 4 | C20: ประเภทอาคาร
C21: สำนักงาน | F21: โรงแรม | H21: โรงพยาบาล | J21: ศูนย์การค้า
C22: สถานศึกษา | F22: อื่นๆ (ระบุ)
B23: 5 | C23: อาคารเริ่มเปิดดำเนินการ เมื่อปี พ.ศ. | H23: 2477
C24: จำนวนบุคลกร | G24: พนักงานมหาวิทยาลัย……1,527…..คน | L24: จำนวน | M24: 15 | N24: คณะ
C25: จำนวน | D25: 2 | E25: วิทยาเขต | G25: จำนวน | H25: 3 | I25: วิทยาลัย | L25: จำนวน | M25: 10 | N25: สำนัก/วิสาหกิจ
C26: จำนวนนักศึกษา……17,048…..คน
B28: 6. | C28: จำนวนอาคารทั้งหมด : | F28: 115 | G28: อาคาร (รายละเอียดจำนวนอาคาร แสดงในภาคผนวก ก.)
B30: 7. | C30: สำหรับอาคารประเภทโรงแรม
C31: จำนวนห้องพักทั้งหมด | F31: - | G31: ห้อง (รายละเอียดจำนวนห้องพักที่จำหน่ายได้ แสดงในภาคผนวก ก.)
B34: 8. | C34: สำหรับอาคารประเภทโรงพยาบาล
C35: จำนวนเตียงคนไข้ในทั้งหมด | G35: - | H35: เตียง (รายละเอียดจำนวนคนไข้ใน แสดงในภาคผนวก ก.)
B36: 9. | C36: ผู้รับผิดชอบด้านพลังงาน
B38: ลำดับที่ | D38: ชื่อ - นามสกุล | I38: คุณสมบัติ*** | N38: ทะเบียนเลขที่
B39: 1 | D39: นายสุรเดช คิดการงาน | I39: ผู้รับผิดชอบด้านพลังงานประเภทที่ 1 | N39: ผอส.04244
I40: ผู้รับผิดชอบด้านพลังงานประเภทที่ 2
B41: 2 | D41: นายรัฐพล ญาติมิตรหนุน | I41: ผู้รับผิดชอบด้านพลังงานประเภทที่ 1 | N41: ผชอ.03430
I42: ผู้รับผิดชอบด้านพลังงานประเภทที่ 2
B43: 1 | I43: ผู้รับผิดชอบด้านพลังงานประเภทที่ 1
I44: ผู้รับผิดชอบด้านพลังงานประเภทที่ 2
B47: ***คุณสมบัติผู้รับผิดชอบด้านพลังงาน
B48: ผู้รับผิดชอบด้านพลังงานสามัญ
D49: (ก) | E49: เป็นผู้ได้รับประกาศนียบัตรวิชาชีพชั้นสูงและมีประสบการณ์การทำงานในอาคารอย่างน้อยสามปีโดยมีผลงานด้านการอนุรักษ์
E50: พลังงานตามการรับรองของเจ้าของโรงงานควบคุมหรือเจ้าของอาคารควบคุม
D51: (ข) | E51: เป็นผู้ได้รับปริญญาทางวิศวกรรมศาสตร์ หรือทางวิทยาศาสตร์ โดยมีผลงานด้านการอนุรักษ์พลังงานตามการรับรองของเจ้าของอาคารควบคุม
D53: (ค) | E53: เป็นผู้สำเร็จการฝึกอบรมด้านการอนุรักษ์พลังงานหรือการฝึกอบรมที่มีวัตถุประสงค์คล้ายคลึงกันที่อธิบดีให้ความเห็นชอบ
D54: (ง) | E54: เป็นผู้สำเร็จการฝึกอบรมหลักสูตรผู้รับผิดชอบด้านพลังงานอาวุโส ที่อธิบดีให้ความเห็นชอบ
D55: (จ) | E55: เป็นผู้ที่สอบได้ตามเกณฑ์ที่กำหนดจากการจัดสอบผู้รับผิดชอบด้านพลังงาน ซึ่งจัดโดยกรมพัฒนาพลังงานทดแทนและ
E56: อนุรักษ์พลังงาน
B57: ผู้รับผิดชอบด้านพลังงานอาวุโส
D58: (ก) | E58: เป็นผู้สำเร็จการฝึกอบรมหลักสูตรผู้รับผิดชอบด้านพลังงานอาวุโส ที่อธิบดีให้ความเห็นชอบ
D59: (ข) | E59: เป็นผู้ที่สอบได้ตามเกณฑ์ที่กำหนดจากการจัดสอบผู้รับผิดชอบด้านพลังงาน ซึ่งจัดโดยกรมพัฒนาพลังงานทดแทนและอนุรักษ์พลังงาน

Sheet ขั้นตอน1
A1: ข้อมูลด้านการจัดการพลังงาน
A3: ขั้นตอนที่ 1 | C3: คณะทำงานด้านการจัดการพลังงาน
A5: 1.1 โครงสร้างคณะทำงานด้านการจัดการพลังงาน
B15: ผู้ช่วยศาสตราจารย์ ดร.สราวุธ พลวงษ์ศรี
D28: รูปที่ 1-1 ผังโครงสร้างคณะทำงานด้านการจัดการพลังงาน

Sheet 1.2คำสั่งแต่งตั้ง
A1: 1.2 การแต่งตั้งคณะทำงานด้านการจัดการพลังงาน และอำนาจหน้าทึ่ความรับผิดชอบ
A3: (ใส่เอกสารคำสั่งแต่งตั้งคณะผู้ตรวจประเมินฯ)
A29: รูปที่ 1-2 คำสั่งแต่งตั้งคณะกรรมการดำเนินงาน
A31: (ใส่เอกสารคำสั่งแต่งตั้งคณะผู้ตรวจประเมินฯ)
A58: รูปที่ 1-2 คำสั่งแต่งตั้งคณะกรรมการดำเนินงาน
A60: (ใส่เอกสารคำสั่งแต่งตั้งคณะผู้ตรวจประเมินฯ)
A87: รูปที่ 1-2 คำสั่งแต่งตั้งคณะกรรมการผู้ตรวจประเมินการจัดการพลังงานภายใน
A89: (ใส่เอกสารคำสั่งแต่งตั้งคณะผู้ตรวจประเมินฯ)
A116: รูปที่ 1-2 คำสั่งแต่งตั้งอนุกรรมการจัดการพลังงานประจำหน่วยงาน
A118: (ใส่เอกสารคำสั่งแต่งตั้งคณะผู้ตรวจประเมินฯ)
A145: รูปที่ 1-2 คำสั่งแต่งตั้งคณะอนุกรรมการจัดการพลังงานประจำหน่วยงาน
A147: (ใส่เอกสารคำสั่งแต่งตั้งคณะผู้ตรวจประเมินฯ)
A174: รูปที่ 1-2 คำสั่งแต่งตั้งอนุกรรมการจัดการพลังงานประจำหน่วยงาน

Sheet 1.3วิธีการเผยแพร่
A1: 1.3 | B1: วิธีการเผยแพร่คณะทำงานด้านการจัดการพลังงาน
B2: เพื่อให้พนักงานทุกคนรับทราบ คำสั่งแต่งตั้งคณะทำงานด้านการจัดการพลังงาน โดยอาคารได้ดำเนินการเผยแพร่และดำเนินการดังต่อไปนี้
C4: ติดประกาศ | G4: โปสเตอร์
C5: จำนวนติดประกาศ …15.. คณะ | G5: จำนวนติดประกาศ ….... คณะ
C6: จำนวนติดประกาศ …... วิทยาเขต | G6: จำนวนติดประกาศ …... วิทยาเขต
C7: จำนวนติดประกาศ …3.. วิทยาลัย | G7: จำนวนติดประกาศ …... วิทยาลัย
C8: จำนวนติดประกาศ …10.. สำนัก/วิสาหกิจ | G8: จำนวนติดประกาศ …... สำนัก
C9: เอกสารเผยแพร่ | G9: เสียงตามสาย
C10: แผ่นพับ/วารสาร .....ฉบับ | G10: สัปดาห์ละ ….. ครั้ง ช่วงเวลา…...
C11: จดหมายอิเล็กทรอนิกส์ | G11: การประชุมคณะกรรมการ
C12: จำนวนผู้ได้รับ …1,527.. คน | G12: การจัดการพลังงาน
C13: ระดับของผู้ได้รับ……. | G13: เดือนละ …1.. ครั้ง
C14: อื่นๆ (ระบุ) สถานีวิทยุ FM 95.5
B31: (ใส่เอกสารการเผยแพร่คณะทำงานฯ วิธีการที่ 1)
A43: (ก-1) ติดประกาศ
B44: (ใส่เอกสารการเผยแพร่คณะทำงานฯ วิธีการที่ 1)
A56: (ก-2) ติดประกาศ
B59: (ใส่เอกสารการเผยแพร่คณะทำงานฯ วิธีการที่ 1)
A71: (ก-3) ติดประกาศ
B72: (ใส่เอกสารการเผยแพร่คณะทำงานฯ วิธีการที่ 1)
A84: (ก-4) ติดประกาศ
B87: (ใส่เอกสารการเผยแพร่คณะทำงานฯ วิธีการที่ 1)
A99: (ข) จดหมายเวียนอิเลกทรอนิคส์
A112: (ค-1) การประชุมคณะกรรมการการจัดการพลังงาน
B115: (ใส่เอกสารการเผยแพร่คณะทำงานฯ วิธีการที่ 1)
A127: (ค-2) การประชุมคณะกรรมการการจัดการพลังงาน
B128: (ใส่เอกสารการเผยแพร่คณะทำงานฯ วิธีการที่ 1)
A141: (ข-2) จดหมายเวียนอิเลกทรอนิคส์
B143: (ใส่เอกสารการเผยแพร่คณะทำงานฯ วิธีการที่ 1)
A155: (ค-3) การประชุมคณะกรรมการการจัดการพลังงาน
B158: (ใส่เอกสารการเผยแพร่คณะทำงานฯ วิธีการที่ 1)
A169: (ง) สถานีวิทยุ FM 95.5
B170: (ใส่เอกสารการเผยแพร่คณะทำงานฯ วิธีการที่ 1)
A181: (จ) สถานีวิทยุ FM 95.5
A182: รูปที่ 1-3 ภาพการเผยแพร่คณะทำงานด้านการจัดการพลังงาน
A183: หมายเหตุ : กรณีมีวิธีการเผยแพร่มากกว่า 2 วิธีการ อาคารสามารถเพิ่มจำนวนการแสดงเอกสาร หลักฐานรูปภาพต่างๆ เพิ่มเติม

Sheet ขั้นตอน2
A1: ขั้นตอนที่ 2 การประเมินสถานภาพการจัดการพลังงานเบื้องต้น
A3: ผลการประเมินสถานภาพการจัดการพลังงานเบื้องต้น
A4: ปีที่ดำเนินการประเมิน พ.ศ 2566 | E4: เป้าหมาย
E5: ก่อนดำเนินการ
A6: ตารางที่ 2.1 การประเมินการจัดการพลังงานขององค์กร
A7: ระดับคะแนน | B7: นโยบายการอนุรักษ์พลังงาน | C7: การจัดองค์กร | D7: การกระตุ้นและสร้างแรงจูงใจ | E7: ระบบข้อมูลข่าวสาร | F7: ประชาสัมพันธ์ | G7: การลงทุน
A8: 4 | B8: มีนโยบายการจัดการพลังงานจากฝ่ายบริหารและถือเป็นส่วนหนึ่งของนโยบายของบริษัท | C8: มีการจัดองค์กรและเป็นโครงสร้างส่วนหนึ่งของฝ่ายบริหารกำหนดหน้าที่ความรับผิดชอบไว้ชัดเจน | D8: มีการประสานงานระหว่างผู้รับผิดชอบด้านพลังงาน และทีมงานทุก ระดับอย่าง สม่ำเสมอ | E8: กำหนดเป้าหมายที่ครอบคลุม ติดตามผล หาข้อผิดพลาดประเมินผล และควบคุมการใช้งบประมาณ | F8: ประชาสัมพันธ์คุณค่าของการประหยัดพลังงาน และผลการดำเนินงานของการจัดการพลังงาน | G8: จัดสรรงบประมาณโดยละเอียด โดยพิจารณาถึงความสำคัญของโครงการ
A10: 3 | B10: มีนโยบายและมีการสนับสนุนเป็นครั้งคราวจากฝ่ายบริหาร | C10: ผู้รับผิดชอบด้านพลังงานรายงานโดยตรงต่อคณะ กรรมการจัดการพลังงาน ซึ่งประกอบด้วยหัวหน้าฝ่ายต่างๆ | D10: คณะกรรมการอนุรักษ์พลังงานเป็นช่องทางหลักในการดำเนินงาน | E10: แจ้งผลการใช้พลังงานจากมิเตอร์ย่อยให้แต่ละฝ่ายทราบ แต่ไม่มีการแจ้งถึงผลการประหยัด | F10: ให้พนักงานรับทราบโครงการอนุรักษ์พลังงาน และให้มีการประชา สัมพันธ์อย่างสม่ำเสมอ | G10: ใช้ระยะเวลา คุ้มทุนเป็นหลักในการพิจารณาการลงทุน
A11: 2 | B11: ไม่มีการกำหนดนโยบายที่ชัดเจน โดยผู้บริหารหรือผู้รับผิดชอบด้านพลังงาน | C11: มีผู้รับผิดชอบด้านพลังงานรายงานต่อคณะกรรมการเฉพาะกิจ แต่สายงานบังคับบัญชาไม่ชัดเจน | D11: คณะกรรมการเฉพาะกิจเป็นผู้ดำเนินการ | E11: ทำรายงานติดตามประเมิน ผล โดยดูจากมิเตอร์ให้คณะ กรรมการเฉพาะกิจเข้ามาเกี่ยวข้องกับการตั้งงบประ มาณ | F11: จัดฝึกอบรมให้พนักงานรับทราบเป็นครั้งคราว | G11: ลงทุนโดยดูมาตรการที่มีระยะเวลาคุ้มทุนเร็ว
A12: 1 | B12: ไม่มีแนวทางปฏิบัติที่ทำไว้เป็นลายลักษณ์อักษร | C12: ผู้รับผิดชอบด้านพลังงานมีขอบเขตหน้าที่ความรับผิดชอบจำกัด | D12: มีการติดต่ออย่างไม่เป็นทางการระหว่างวิศวกรกับผู้ใช้พลังงาน (พนักงาน) | E12: มีการสรุปรายงานด้านค่าใช้จ่ายการใช้พลังงานเพื่อใช้กันภายในฝ่ายวิศวกรรม | F12: แจ้งให้พนักงานทราบอย่างไม่เป็นทางการเพื่อส่งเสริมการใช้พลังงานอย่างมีประสิทธิภาพ | G12: พิจารณาเฉพาะมาตรการที่ลงทุนต่ำ
A13: 0 | B13: ไม่มีนโยบายที่ ชัดเจน | C13: ไม่มีผู้รับผิดชอบด้านพลังงาน | D13: ไม่มีการติดต่อกับผู้ใช้พลังงาน | E13: ไม่มีระบบรวบรวมข้อมูลและบัญชีการใช้พลังงาน | F13: ไม่มีการสนับสนุนการประหยัดพลังงาน | G13: ไม่มีการลงทุนใดๆในการปรับปรุงประสิทธิภาพ การใช้พลังงาน
A15: หมายเหตุ: | B15: 1. ข้อมูลการประเมินสถานภาพการจัดการพลังงานเบื้องต้นประเมินจาก .30 หน่วยงาน ของจำนวนทั้งหมด.....30.....หน่วยงาน
B16: หรือบุคลากรจำนวน…1,527.....คน จากทั้งหมด 1,517 คน คิดเป็นร้อยละ 100
A17: หมายเหตุ: | B17: 1. ข้อมูลการประเมินสถานภาพการจัดการพลังงานเบื้องต้นประเมินในภาพรวมของมหาวิทยาลัย
B18: 2. ในกรณีที่อาคารควบคุมพัฒนาระบบการจัดการพลังงานในรอบที่สอง ในขั้นตอนนี้อาคารควบคุมจะดำเนินการหรือไม่ดำเนินการก็ได้
B19: หากดำเนินการประเมินสถานภาพการจัดการพลังงานภายในองค์กรต่อเนื่องทุกๆปี จะทำให้ทราบสถานภาพการจัดการพลังงานที่มี
B20: มีการเปลี่ยนแปลงได้ดียิ่งขึ้น
B21: 3. การประเมินสถานภาพการจัดการพลังงานในภาพรวมของอาคารควบคุม หากทางอาคารมีวิธีการอื่นที่เหมาะสมกว่า ก็สามารถนำมาใช้แทน
B22: ตารางด้านบนได้
B23: 4.เส้นสีแดงเป็นเส้นเป้าหมาย - เส้นสีเขียวเป็นเส้นการประเมินสถานภาพการจัดการพลังงานเบื้องต้น
B25: 4. ข้อมูลการประเมินสถานภาพการจัดการพลังงานเบื้องต้นประเมินจาก......11......แผนก ของจำนวนทั้งหมด......11.....แผนก หรือบุคลากรจำนวน........50......คน
B26: จากทั้งหมด..........240.........คน คิดเป็นร้อยละ .....41.......

Sheet ขั้นตอน3
A1: ขั้นตอนที่ 3 นโยบายอนุรักษ์พลังงาน
A3: 3.1 นโยบายอนุรักษ์พลังงานขององค์กร
C4: เพื่อแสดงเจตจำนงและความมุ่งมั่นในการดำเนินการด้านการอนุรักษ์พลังงาน อาคารควบคุมได้กำหนด
A5: นโยบายอนุรักษ์พลังงานตามวัตถุประสงค์และเป้าหมายการอนุรักษ์พลังงาน ซึ่งสอดคล้องกับสถานภาพการใช้
A6: พลังงานและเหมาะสมกับอาคารควบคุม ดังต่อไปนี้
B7: ใส่เอกสารแสดงประกาศนโยบายอนุรักษ์พลังงาน
B29: รูปที่ 3-1 นโยบายอนุรักษ์พลังงาน
B32: ใส่เอกสารแสดงประกาศนโยบายอนุรักษ์พลังงาน
B60: รูปที่ 3-1 นโยบายอนุรักษ์พลังงาน
A61: หมายเหตุ : โปรดแนบสำเนาคำสั่งประกาศนโยบายอนุรักษ์พลังงาน

Sheet 3.2เอกสารเผยแพร่นโยบาย
A1: 3.2 การเผยแพร่นโยบายอนุรักษ์พลังงาน
A2: เพื่อให้พนักงานทุกคนรับทราบและปฏิบัติตามนโยบายอนุรักษ์พลังงานของอาคารควบคุม จึงได้ดำเนินการ
A3: เผยแพร่และดำเนินการดังต่อไปนี้
A4: วิธีการเผยแพร่นโยบายอนุรักษ์พลังงาน
C5: ติดประกาศ | G5: โปสเตอร์
C6: จำนวนติดประกาศ …15.. คณะ | G6: จำนวนติดประกาศ ….... คณะ
C7: จำนวนติดประกาศ …... วิทยาเขต | G7: จำนวนติดประกาศ …... วิทยาเขต
C8: จำนวนติดประกาศ …3.. วิทยาลัย | G8: จำนวนติดประกาศ …... วิทยาลัย
C9: จำนวนติดประกาศ …10.. สำนัก/วิสาหกิจ | G9: จำนวนติดประกาศ …... สำนัก
C10: เอกสารเผยแพร่ | G10: เสียงตามสาย
C11: แผ่นพับ/วารสาร .....ฉบับ | G11: สัปดาห์ละ ….. ครั้ง ช่วงเวลา…...
C12: จดหมายอิเล็กทรอนิกส์ | G12: การประชุมคณะกรรมการ
C13: จำนวนผู้ได้รับ …1,527.. คน | G13: การจัดการพลังงาน
C14: ระดับของผู้ได้รับ……. | G14: เดือนละ ….. ครั้ง
C15: อื่นๆ (ระบุ) สถานีวิทยุ FM 95.5
A17: หลักฐานหรือเอกสารต่างๆ ที่แสดงถึงการเผยแพร่นโยบายอนุรักษ์พลังงาน
B19: (ใส่เอกสารการเผยแพร่คณะทำงานฯ วิธีการที่ 1)
A32: (ก) ติดประกาศ
B34: (ใส่เอกสารการเผยแพร่คณะทำงานฯ วิธีการที่ 1)
A47: (ข) ติดประกาศ
B49: (ใส่เอกสารการเผยแพร่คณะทำงานฯ วิธีการที่ 1)
A62: (ค) จดหมายเวียนอิเลกทรอนิคส์
B65: (ใส่เอกสารการเผยแพร่คณะทำงานฯ วิธีการที่ 1)
A78: (ง) การประชุมคณะกรรมการการจัดการพลังงาน
B82: (ใส่เอกสารการเผยแพร่คณะทำงานฯ วิธีการที่ 1)
A93: (ง) โปสเตอร์ประชาสัมพันธ์
B96: (ใส่เอกสารการเผยแพร่คณะทำงานฯ วิธีการที่ 1)
A109: (จ) สถานีวิทยุ FM 95.5
A110: รูปที่ 3-2 ภาพการเผยแพร่นโยบายอนุรักษ์พลังงาน
A111: หมายเหตุ : กรณีมีวิธีการเผยแพร่มากกว่า 2 วิธีการ อาคารสามารถเพิ่มจำนวนการแสดงเอกสาร หลักฐานรูปภาพต่างๆ เพิ่มเติม

Sheet ขั้นตอน4 
A1: ขั้นตอนที่ 4 การประเมินศักยภาพการอนุรักษ์พลังงาน
B2: การประเมินศักยภาพการอนุรักษ์พลังงานขององค์กรแบ่งออกได้เป็น 3 ระดับ คือ
C3: (ก) การประเมินระดับองค์กร
C4: (ข) การประเมินระดับการบริการ
C5: (ค) การประเมินระดับเครื่องจักร/อุปกรณ์
B6: โดยมีแนวทางดำเนินการดังต่อไปนี้

Sheet 4.1.1 รายละเอียดการใช้อาคาร_65
A1: 4.1) การประเมินระดับองค์กร
A2: 4.1.1) ข้อมูลการใช้อาคาร | B2: ก.1 รายละเอียดการใช้งานอาคาร (สำหรับอาคารทุกประเภท)
B3: 4.1.1.1) รายละเอียดการใช้งานอาคาร (สำหรับอาคารทุกประเภท)
B4: ตารางที่ 4.1 รายละเอียดการใช้งานอาคาร ในรอบปี 2565
F6: เวลาทำงาน | H6: พื้นที่ทั้งหมดของอาคาร (ตารางเมตร)
B7: ลำดับที่ | C7: ชื่ออาคาร | D7: ปี พ.ศ. | E7: จำนวน | H7: (1) พื้นที่ใช้สอย | K7: (2) | L7: (3)=(2)+(1)
D8: ที่เปิดใช้งาน | E8: ชั้น | F8: ชั่วโมง/วัน | G8: วัน/ปี | H8: ปรับอากาศ | I8: ไม่ปรับอากาศ | J8: รวม | K8: พื้นที่จอดรถ ในตัวอาคาร | L8: รวม
B9: ส่วนกลาง
B10: 1 | C10: อาคารเทพศาสตร์สถิตย์ | D10: 2526 | E10: 2 | F10: 8 | G10: 250 | H10: =543+245 -> 788 | I10: =J10-H10 -> 2015.5 | J10: 2803.5 | K10: 0 | L10: =SUM(J10,K10) -> 2803.5
B11: 2 | C11: โรงประชุม (รวมอาคารห้องน้ำ) (ชูติวัตร เดิม) | D11: 2490 | E11: 1 | F11: 1 | G11: 250 | H11: 0 | I11: =J11-H11 -> 461 | J11: 461 | K11: 0 | L11: =SUM(J11,K11) -> 461
B12: 3 | C12: อาคารแผ่พืชน์ | D12: 2511 | E12: 1 | F12: 1 | G12: 250 | H12: 12 | I12: =J12-H12 -> 1892 | J12: 1904 | K12: 0 | L12: =SUM(J12,K12) -> 1904
B13: 4 | C13: อาคารวุฒากาศ | D13: 2515 | E13: 2 | F13: 1 | G13: 250 | H13: 426 | I13: =J13-H13 -> 205 | J13: 631 | K13: 0 | L13: =SUM(J13,K13) -> 631
B14: 5 | C14: อาคารเฉลิมพระเกียรติ โซน A | D14: 2537 | E14: 2 | F14: 1 | G14: 250 | H14: 5503.65 | I14: =J14-H14 -> 8353.36 | J14: 13857.01 | K14: 4791.38 | L14: =SUM(J14,K14) -> 18648.39
B15: 6 | C15: อาคารเฉลิมพระเกียรติ โซน B | D15: 2537 | E15: 4 | F15: 5 | G15: 250 | H15: 606.25 | I15: =J15-H15 -> 5253.25 | J15: 5859.5 | K15: 0 | L15: =SUM(J15,K15) -> 5859.5
B16: 7 | C16: สนามกีฬาอินทนิล (อัฒจัททร์ 2 หลัง) | D16: 2527 | E16: 2 | F16: 1 | G16: 250 | H16: 79.32 | I16: =J16-H16 -> 1742.6 | J16: 1821.92 | K16: 0 | L16: =SUM(J16,K16) -> 1821.92
B17: 8 | C17: โรงประปา 2 | D17: 2559 | E17: 1 | F17: 1 | G17: 250 | H17: 0 | I17: =J17-H17 -> 32 | J17: 32 | K17: 0 | L17: =SUM(J17,K17) -> 32
B18: 9 | C18: อาคารเรือนธรรม | D18: 2540 | E18: 2 | F18: 1 | G18: 250 | H18: 0 | I18: =J18-H18 -> 607.25 | J18: 607.25 | K18: 0 | L18: =SUM(J18,K18) -> 607.25
B19: 10 | C19: อาคารพิพิธภัณฑ์เกษตรไทย | D19: 2499 | E19: 2 | F19: 1 | G19: 250 | H19: 640 | I19: - | J19: 640 | K19: 0 | L19: =SUM(J19,K19) -> 640
B20: 11 | C20: อาคารเรียนรวมแม่โจ้ 70 ปี | D20: 2549 | E20: 5 | F20: 8 | G20: 250 | H20: =975.99+1013+658.82+49+409 -> 3105.81 | I20: =J20-H20 -> 9055.81 | J20: 12161.62 | K20: 1260.25 | L20: =SUM(J20,K20) -> 13421.87
B21: 12 | C21: อาคารเฉลิมพระเกียรติสมเด็จพระเทพรัตนราชสุดา | D21: 2536 | E21: 3 | F21: 8 | G21: 250 | H21: =7027.5+36 -> 7063.5 | I21: =J21-H21 -> 5573.75 | J21: 12637.25 | K21: 0 | L21: =SUM(J21,K21) -> 12637.25
B22: 13 | C22: อาคารเรือนกระจก | D22: 2536 | E22: 1 | F22: 5 | G22: 250 | H22: 0 | I22: =J22-H22 -> 1827 | J22: 1827 | K22: 0 | L22: =SUM(J22,K22) -> 1827
B23: 14 | C23: อาคาร 80 ปี | D23: 2559 | E23: 4 | F23: 8 | G23: 250 | H23: 1255.2 | I23: =J23-H23 -> 8512.8 | J23: 9768 | K23: 432 | L23: =SUM(J23,K23) -> 10200
B24: 15 | C24: อาคารเกษตรทฏืใหม่ | D24: 2547 | E24: 2 | F24: 1 | G24: 250 | H24: 8 | I24: =J24-H24 -> 116 | J24: 124 | K24: 0 | L24: =SUM(J24,K24) -> 124
B25: 16 | C25: อาคารต้นแบบขยายเชื้อจุลินทรัย์เพื่อการเกษตร | D25: 2547 | E25: 1 | F25: 1 | G25: 250 | H25: 0 | I25: =J25-H25 -> 42 | J25: 42 | K25: 0 | L25: =SUM(J25,K25) -> 42
B26: 17 | C26: อาคารเก็บอุปกรณ์ | D26: 2547 | E26: 1 | F26: 1 | G26: 250 | H26: 0 | I26: =J26-H26 -> 22 | J26: 22 | K26: 0 | L26: =SUM(J26,K26) -> 22
B27: 18 | C27: อาคารโรงสูบน้ำแรงดันต่ำ | D27: 2542 | E27: 1 | F27: 1 | G27: 250 | H27: 0 | I27: =J27-H27 -> 30 | J27: 30 | K27: 0 | L27: =SUM(J27,K27) -> 30
B28: 19 | C28: อาคารโรงสูบน้ำแรงดันสูง | D28: 2542 | E28: 1 | F28: 1 | G28: 250 | H28: 0 | I28: =J28-H28 -> 72 | J28: 72 | K28: 0 | L28: =SUM(J28,K28) -> 72
B29: 20 | C29: อาคารจ่ายสารเคมีและเก็บสารเคมี | D29: 2542 | E29: 1 | F29: 1 | G29: 250 | H29: 0 | I29: =J29-H29 -> 60 | J29: 60 | K29: 0 | L29: =SUM(J29,K29) -> 60
B30: 21 | C30: อาคารช่วงเกษตรศิลป์ | D30: 2496 | E30: 2 | F30: 8 | G30: 250 | H30: 954.5 | I30: =J30-H30 -> 1269.76 | J30: 2224.26 | K30: 0 | L30: =SUM(J30,K30) -> 2224.26
B31: สำนักงานมหาวิทยาลัย
B32: 22 | C32: อาคารสำนักงานมหาวิทยาลัย 1 (สำนักมาตราฐานการศึกษา เดิม) | D32: 2513 | E32: 2 | F32: 8 | G32: 250 | H32: =192+212 -> 404 | I32: =J32-H32 -> 489 | J32: 893 | K32: 0 | L32: =SUM(J32,K32) -> 893
B33: 23 | C33: อาคารสำนักงานมหาวิทยาลัย 2 (สำนักงานอธิการบดี เดิม) | D33: 2537 | E33: 5 | F33: 8 | G33: 250 | H33: =2353+196 -> 2549 | I33: =J33-H33 -> 4097 | J33: 6646 | K33: 0 | L33: =SUM(J33,K33) -> 6646
B34: 24 | C34: อาคารสำนักงานมหาวิทยาลัย 3 (อิงคศรีกสิการ เดิม) | D34: 2513 | E34: 2 | F34: 8 | G34: 250 | H34: =336+416 -> 752 | I34: =J34-H34 -> 744 | J34: 1496 | K34: 0 | L34: =SUM(J34,K34) -> 1496
B35: 25 | C35: โรงจอดรถกองกิจการนักศึกษา | D35: 2515 | E35: 1 | F35: 1 | G35: 250 | H35: 0 | I35: =J35-H35 -> 305.5 | J35: 305.5 | K35: 0 | L35: =SUM(J35,K35) -> 305.5
B36: 26 | C36: ชมรมวิทยุสมัครเล่น | D36: 2542 | E36: 1 | F36: 1 | G36: 250 | H36: 0 | I36: =J36-H36 -> 28 | J36: 28 | K36: 0 | L36: =SUM(J36,K36) -> 28
B37: 27 | C37: อาคารอำนวย ยศสุข | D37: 2553 | E37: 4 | F37: 8 | G37: 250 | H37: =555.94+1150.36+854.51+587.93 -> 3148.74 | I37: =J37-H37 -> 13113.86 | J37: 16262.6 | K37: 0 | L37: =SUM(J37,K37) -> 16262.6
B38: 28 | C38: อาคารหน่วยอาคารและสถานที่ | D38: 2540 | E38: 2 | F38: 1 | G38: 250 | H38: 48 | I38: =J38-H38 -> 780 | J38: 828 | K38: 0 | L38: =SUM(J38,K38) -> 828
B39: 29 | C39: อาคารสำนักงานประปาและสุขาภิบาล | D39: 2532 | E39: 2 | F39: 5 | G39: 250 | H39: 41.4 | I39: =J39-H39 -> 313.2 | J39: 354.6 | K39: 0 | L39: =SUM(J39,K39) -> 354.6
B40: 30 | C40: อาคารงานไฟฟ้า | D40: 2540 | E40: 2 | F40: 1 | G40: 250 | H40: 0 | I40: =J40-H40 -> 328 | J40: 328 | K40: 0 | L40: =SUM(J40,K40) -> 328
B41: 31 | C41: อาคารซ่อมบำรุงอาคารและสถานที่ | D41: 2540 | E41: 2 | F41: 1 | G41: 250 | H41: 48 | I41: =J41-H41 -> 780 | J41: 828 | K41: 0 | L41: =SUM(J41,K41) -> 828
B42: 32 | C42: อาคารยานพาหนะ | D42: 2540 | E42: 1 | F42: 1 | G42: 250 | H42: 68 | I42: =J42-H42 -> 212 | J42: 280 | K42: 0 | L42: =SUM(J42,K42) -> 280
B43: 33 | C43: อาคารโรงจอดรถ | D43: 2540 | E43: 1 | F43: 1 | G43: 250 | H43: 0 | I43: =J43-H43 -> 390 | J43: 390 | K43: 0 | L43: =SUM(J43,K43) -> 390
B44: 34 | C44: อาคารสำนักงานระบบบำบัดน้ำเสียรวม (รวมอาคารห้องน้ำ) | D44: 2547 | E44: 1 | F44: 5 | G44: 250 | H44: 102.2 | I44: =J44-H44 -> 80.8 | J44: 183 | K44: 0 | L44: =SUM(J44,K44) -> 183
B45: สระว่ายน้ำ
B46: 35 | C46: อาคารสระว่ายน้ำ | D46: 2553 | E46: 2 | F46: 5 | G46: 250 | H46: 60 | I46: =J46-H46 -> 4120.6 | J46: 4180.6 | K46: 0 | L46: =SUM(J46,K46) -> 4180.6
B47: โรงอาหาร
B48: 36 | C48: อาคารโรงอาหารเทิดกสิกร | D48: 2536 | E48: 2 | F48: 5 | G48: 250 | H48: 600 | I48: =J48-H48 -> 3725 | J48: 4325 | K48: 0 | L48: =SUM(J48,K48) -> 4325
B49: หอพักนักศึกษา
B50: 37 | C50: อาคารหอพักนักศึกษานานาชาติ | D50: 2551 | E50: 2 | F50: 5 | G50: 250 | H50: 0 | I50: =J50-H50 -> 1048.4 | J50: 1048.4 | K50: 0 | L50: =SUM(J50,K50) -> 1048.4
B51: 38 | C51: อาคารหอพักนักศึกษาชาย 2 | D51: 2511 | E51: 5 | F51: 5 | G51: 250 | H51: 28 | I51: =J51-H51 -> 5940 | J51: 5968 | K51: 0 | L51: =SUM(J51,K51) -> 5968
B52: 39 | C52: อาคารหอพักนักศึกษาชาย 3 (รวมอาคารห้องน้ำ) | D52: 2511 | E52: 2 | F52: 5 | G52: 250 | H52: 0 | I52: =J52-H52 -> 1200 | J52: 1200 | K52: 0 | L52: =SUM(J52,K52) -> 1200
B53: 40 | C53: อาคารหอพักนักศึกษาชาย 4 (รวมอาคารโรงจอดรถ ข้างหอ) | D53: 2536 | E53: 5 | F53: 5 | G53: 250 | H53: 28 | I53: =J53-H53 -> 3826 | J53: 3854 | K53: 0 | L53: =SUM(J53,K53) -> 3854
B54: 41 | C54: อาคารหอพักนักศึกษาชาย 5 (รวมอาคารห้องน้ำ) | D54: 2536 | E54: 2 | F54: 5 | G54: 250 | H54: 0 | I54: =J54-H54 -> 1160 | J54: 1160 | K54: 0 | L54: =SUM(J54,K54) -> 1160
B55: 42 | C55: อาคารหอพักนักศึกษาหญิง 6 (รวมอาคารโรงจอดรถ ข้างหอ) | D55: 2536 | E55: 5 | F55: 5 | G55: 250 | H55: 28 | I55: =J55-H55 -> 3826 | J55: 3854 | K55: 0 | L55: =SUM(J55,K55) -> 3854
B56: 43 | C56: อาคารหอพักนักศึกษาหญิง 7 | D56: 2536 | E56: 5 | F56: 5 | G56: 250 | H56: 28 | I56: =J56-H56 -> 3826 | J56: 3854 | K56: 0 | L56: =SUM(J56,K56) -> 3854
B57: 44 | C57: อาคารหอพักนักศึกษาหญิง 8 | D57: 2539 | E57: 5 | F57: 5 | G57: 250 | H57: 140 | I57: =J57-H57 -> 6511 | J57: 6651 | K57: 0 | L57: =SUM(J57,K57) -> 6651
B58: 45 | C58: อาคารหอพักนักศึกษาหญิง 9 | D58: 2540 | E58: 5 | F58: 5 | G58: 250 | H58: 208 | I58: =J58-H58 -> 6443 | J58: 6651 | K58: 0 | L58: =SUM(J58,K58) -> 6651
B59: 46 | C59: อาคารหอพักนักศึกษาหญิง 10 | D59: 2554 | E59: 7 | F59: 5 | G59: 250 | H59: 210 | I59: =J59-H59 -> 6965 | J59: 7175 | K59: 0 | L59: =SUM(J59,K59) -> 7175
B60: 47 | C60: อาคารหอพักนักศึกษาหญิง 11 | D60: 2560 | E60: 7 | F60: 5 | G60: 250 | H60: 378 | I60: =J60-H60 -> 14122 | J60: 14500 | K60: 0 | L60: =SUM(J60,K60) -> 14500
B61: คณะพัฒนาการท่องเที่ยว
B62: 48 | C62: อาคารเรียนรวมสุวรรณวาจกกสิกิจ | D62: 2520 | E62: 2 | F62: 8 | G62: 250 | H62: 1296 | I62: =J62-H62 -> 915.44 | J62: 2211.44 | K62: 0 | L62: =SUM(J62,K62) -> 2211.44
B63: 49 | C63: อาคารพัฒนาวิสัยทัศน์ | D63: 2551 | E63: 2 | F63: 5 | G63: 250 | H63: 1792 | I63: =J63-H63 -> 1671.8 | J63: 3463.8 | K63: 0 | L63: =SUM(J63,K63) -> 3463.8
B64: คณะศิลป์ศาสตร์
B65: 50 | C65: อาคารประเสริฐ ณ.นคร | D65: 2537 | E65: 6 | F65: 8 | G65: 250 | H65: =564.35+749.91+615.23+754.6+909.69 -> 3593.78 | I65: =J65-H65 -> 4045.63 | J65: 7639.41 | K65: 0 | L65: =SUM(J65,K65) -> 7639.41
B66: สำนักหอสมุด
B67: 51 | C67: อาคารวิภาต บุญศรี วังซ้าย | D67: 2524 | E67: 3 | F67: 8 | G67: 250 | H67: =2304.95+3089.95+3034.33 -> 8429.23 | I67: =J67-H67 -> 1948.32 | J67: =3827.46+3285.5+3264.59 -> 10377.55 | K67: 0 | L67: =SUM(J67,K67) -> 10377.55
B68: คณะบริหารธุรกิจ
B69: 52 | C69: อาคารพิทยาลงกรณ์ | D69: 2521 | E69: 3 | F69: 8 | G69: 250 | H69: 1707.5 | I69: =J69-H69 -> 1269.47 | J69: 2976.97 | K69: 0 | L69: =SUM(J69,K69) -> 2976.97
B70: 53 | C70: อาคาร 25 ปี คณะบริหารธุรกิจ | D70: 2539 | E70: 6 | F70: 8 | G70: 250 | H70: 2276 | I70: =J70-H70 -> 1766 | J70: 4042 | K70: 0 | L70: =SUM(J70,K70) -> 4042
B71: วิทยาลัยบริหารศาสตร์
B72: 54 | C72: อาคารเทพ พงษ์พานิช | D72: 2553 | E72: 3 | F72: 8 | G72: 250 | H72: 2727.73 | I72: =J72-H72 -> 6795.27 | J72: 9523 | L72: =SUM(J72,K72) -> 9523
B73: ศูนย์กล้วยไม้
B74: 55 | C74: อาคารเฉลิมพระเกียรติสมเด็จพระศรีนครินทราบรมราชนี | D74: 2538 | E74: 4 | F74: 8 | G74: 250 | H74: 4332.2 | I74: =J74-H74 -> 2521.36 | J74: 6853.56 | K74: 0 | L74: =SUM(J74,K74) -> 6853.56
B75: คณะวิทยาศาสตร์
B76: 56 | C76: อาคารแม่โจ้ 60 ปี | D76: 2538 | E76: 6 | F76: 8 | G76: 250 | H76: =6349.61+2373.52 -> 8723.13 | I76: =J76-H76 -> 13135.12 | J76: 21858.25 | K76: 3551 | L76: =SUM(J76,K76) -> 25409.25
B77: 57 | C77: อาคารเสาวรัจนิตยวรรธนะ | D77: 2537 | E77: 2 | F77: 8 | G77: 250 | H77: 1059.87 | I77: =J77-H77 -> 2634.35 | J77: 3694.22 | K77: 0 | L77: =SUM(J77,K77) -> 3694.22
B78: 58 | C78: อาคารจุฬาภรณ์ | D78: 2552 | E78: 5 | F78: 8 | G78: 250 | H78: 3705.38 | I78: =J78-H78 -> 5440.62 | J78: 9146 | K78: 0 | L78: =SUM(J78,K78) -> 9146
B79: คณะเศรษฐศาสตร์
B80: 59 | C80: อาคารยรรยง สิทธิชัย | D80: 2552 | E80: 4 | F80: 8 | G80: 250 | H80: =210.99+868.13+1008.35+888.35 -> 2975.82 | I80: =J80-H80 -> 1904.18 | J80: 4880 | K80: 0 | L80: =SUM(J80,K80) -> 4880
B81: คณะเทคโนโลยีสารสนเทศและการสื่อสาร
B82: 60 | C82: อาคาร 75 ปี แม่โจ้ | D82: 2553 | E82: 3 | F82: 8 | G82: 250 | H82: =488.84+144+183.06 -> 815.9 | I82: =J82-H82 -> 4746.6 | J82: 5562.5 | K82: 0 | L82: =SUM(J82,K82) -> 5562.5
B83: คณะสถาปัตยกรรมศาสตร์และการออกแบบสิ่งแวดล้อม
B84: 61 | C84: อาคารคณะสถาปัตยกรรมศาสตร์และการออกแบบสิ่งแวดล้อม | D84: 2534 | E84: 4 | F84: 8 | G84: 250 | H84: =495.49+127.09+472.32 -> 1094.9 | I84: =J84-H84 -> 4374.75 | J84: 5469.65 | K84: 0 | L84: =SUM(J84,K84) -> 5469.65
B85: 62 | C85: อาคารคณะสถาปัตยกรรมศาสตร์และการออกแบบสิ่งแวดล้อม (ใหม่) | D85: 2558 | E85: 4 | F85: 8 | G85: 250 | H85: 2172 | I85: =J85-H85 -> 2850.5 | J85: 5022.5 | K85: 0 | L85: =SUM(J85,K85) -> 5022.5
B86: คณะผลิตกรรมการเกษตร
B87: 63 | C87: อาคารรัตนโกสินทร์ 200 ปี | D87: 2525 | E87: 2 | F87: 8 | G87: 250 | H87: =276.96+467.95 -> 744.91 | I87: =J87-H87 -> 806.24 | J87: 1551.15 | K87: 0 | L87: =SUM(J87,K87) -> 1551.15
B88: 64 | C88: อาคารเรียนและปฏิบัติการรวมทางปฐพีวิทยาและฝึกอบรมทางดินและปุ๋ยชั้นสูง | D88: 2540 | E88: 4 | F88: 8 | G88: 250 | H88: =457.83+563.46+159.27+227.08 -> 1407.64 | I88: =J88-H88 -> 3438.61 | J88: 4846.25 | K88: 0 | L88: =SUM(J88,K88) -> 4846.25
B89: 65 | C89: อาคารปฏิบัติการไม้ผล | D89: 2528 | E89: 1 | F89: 5 | G89: 250 | H89: 313.28 | I89: =J89-H89 -> 166.72 | J89: 480 | K89: 0 | L89: =SUM(J89,K89) -> 480
B90: 66 | C90: โรงเรือนเพาะชำไม้ผล 1 | D90: 2528 | E90: 1 | F90: 5 | G90: 250 | H90: 38.93 | I90: =J90-H90 -> 80.07 | J90: 119 | K90: 0 | L90: =SUM(J90,K90) -> 119
B91: 67 | C91: โรงเรือนเพาะชำไม้ผล 2 | D91: 2528 | E91: 1 | F91: 5 | G91: 250 | H91: 102.57 | I91: =J91-H91 -> 317.43 | J91: 420 | K91: 0 | L91: =SUM(J91,K91) -> 420
B92: 68 | C92: อาคารเก็บพัสดุไม้ผล | D92: 2528 | E92: 1 | F92: 1 | G92: 250 | H92: 0 | I92: =J92-H92 -> 105 | J92: 105 | K92: 0 | L92: =SUM(J92,K92) -> 105
B93: 69 | C93: อาคารสำนักงานพืชไร่(พักอาจารย์) | D93: 2525 | E93: 1 | F93: 5 | G93: 250 | H93: 57.407 | I93: =J93-H93 -> 104.593 | J93: 162 | K93: 0 | L93: =SUM(J93,K93) -> 162
B94: 70 | C94: อาคารศูนย์ประสานงานโครงการธัญพืชไร่ | D94: 2543 | E94: 1 | F94: 5 | G94: 250 | H94: 74.2 | I94: =J94-H94 -> 34.8 | J94: 109 | K94: 0 | L94: =SUM(J94,K94) -> 109
B95: 71 | C95: อาคารเพาะเลี้ยงเนื้อเยื่อ ฝ่ายพัฒนาเกษตรที่สูง | D95: 2525 | E95: 1 | F95: 8 | G95: 250 | H95: 103.39 | I95: =J95-H95 -> 31.61 | J95: 135 | K95: 0 | L95: =SUM(J95,K95) -> 135
B96: 72 | C96: อาคารเพิ่มพูล | D96: 2548 | E96: 4 | F96: 8 | G96: 250 | H96: =910.81+1020.74+522.09+609.5 -> 3063.14 | I96: =J96-H96 -> 7659.86 | J96: 10723 | K96: 0 | L96: =SUM(J96,K96) -> 10723
B97: 73 | C97: อาคารปฏิบัติการและคัดเมล็ดพันธุ์พืชไร่ | D97: 2524 | E97: 1 | F97: 5 | G97: 250 | H97: 285.85 | I97: =J97-H97 -> 158.15 | J97: 444 | K97: 0 | L97: =SUM(J97,K97) -> 444
B98: 74 | C98: อาคารอบเมล็ดพันธุ์พืช (ไซโล) | D98: 2535 | E98: 1 | F98: 1 | G98: 250 | H98: 0 | I98: =J98-H98 -> 128 | J98: 128 | K98: 0 | L98: =SUM(J98,K98) -> 128
B99: 75 | C99: อาคารกำจร บุญแปง | D99: 2526 | E99: 2 | F99: 8 | G99: 250 | H99: =224.27+462 -> 686.27 | I99: =J99-H99 -> 525.91 | J99: 1212.18 | K99: 0 | L99: =SUM(J99,K99) -> 1212.18
B100: 76 | C100: อาคารเนื้อเยื่อ | D100: 2522 | E100: 2 | F100: 8 | G100: 250 | H100: =207.355+257.34 -> 464.695 | I100: =J100-H100 -> 482.305 | J100: 947 | K100: 0 | L100: =SUM(J100,K100) -> 947
B101: 77 | C101: อาคารปฏิบัติการพืชผัก | D101: 2524 | E101: 1 | F101: 5 | G101: 250 | H101: 233.25 | I101: =J101-H101 -> 142.25 | J101: 375.5 | K101: 0 | L101: =SUM(J101,K101) -> 375.5
...

Sheet 4.1.1.2พื้นที่อาคารแต่เดือน_65
B1: 4.1.1.2) การใช้ประโยชน์พื้นที่ใช้สอยที่ใช้งานจริงในแต่ละเดือน
B3: ตารางที่ 4.2 รายละเอียดการใช้ประโยชน์พื้นที่ใช้สอยที่ใช้งานจริงในแต่ละเดือน ในรอบปี 2565
B5: เดือน | C5: สำหรับอาคารทุกประเภท | F5: สำหรับอาคารประเภท | G5: สำหรับอาคารประเภท
C6: การใช้ประโยชน์พื้นที่ใช้สอยที่ใช้งานจริง | F6: โรงแรม | G6: โรงพยาบาล
C7: พื้นที่ปรับอากาศ | D7: พื้นที่ไม่ปรับอากาศ | E7: รวม | F7: จำนวนห้องพักที่จำหน่ายได้ | G7: จำนวนคนไข้นอก | H7: จำนวนคนไข้ใน
C8: (ตารางเมตร) | D8: (ตารางเมตร) | E8: (ตารางเมตร) | F8: (ห้อง-วัน) | G8: (คน) | H8: (เตียง-วัน)
B9: ม.ค. | C9: ='4.1.1 รายละเอียดการใช้อาคาร_65'!H$145 -> 97550.512 | D9: ='4.1.1 รายละเอียดการใช้อาคาร_65'!I$145 -> 253487.97 | E9: ='4.1.1 รายละเอียดการใช้อาคาร_65'!J$145 -> 351038.48
B10: ก.พ. | C10: =C9 -> 97550.512 | D10: =D9 -> 253487.97 | E10: =E9 -> 351038.48
B11: มี.ค. | C11: =C10 -> 97550.512 | D11: =D10 -> 253487.97 | E11: =E10 -> 351038.48
B12: เม.ย. | C12: =C11 -> 97550.512 | D12: =D11 -> 253487.97 | E12: =E11 -> 351038.48
B13: พ.ค. | C13: =C12 -> 97550.512 | D13: =D12 -> 253487.97 | E13: =E12 -> 351038.48
B14: มิ.ย. | C14: =C13 -> 97550.512 | D14: =D13 -> 253487.97 | E14: =E13 -> 351038.48
B15: ก.ค. | C15: =C14 -> 97550.512 | D15: =D14 -> 253487.97 | E15: =E14 -> 351038.48
B16: ส.ค. | C16: =C15 -> 97550.512 | D16: =D15 -> 253487.97 | E16: =E15 -> 351038.48
B17: ก.ย. | C17: =C16 -> 97550.512 | D17: =D16 -> 253487.97 | E17: =E16 -> 351038.48
B18: ต.ค. | C18: =C17 -> 97550.512 | D18: =D17 -> 253487.97 | E18: =E17 -> 351038.48
B19: พ.ย. | C19: =C18 -> 97550.512 | D19: =D18 -> 253487.97 | E19: =E18 -> 351038.48
B20: ธ.ค. | C20: =C19 -> 97550.512 | D20: =D19 -> 253487.97 | E20: =E19 -> 351038.48
B21: รวม

Sheet 4.1.2ข้อมูลหม้อแปลง
A1: 4.1.2) ข้อมูลระบบไฟฟ้า
B2: 4.1.2.1) ข้อมูลหม้อแปลงไฟฟ้าปี 2565
A3: ลำดับที่ | B3: หมายเลข | C3: หมายเลข | D3: ประเภท | E3: อัตรา | F3: หม้อแปลงไฟฟ้า | L3: อาคารที่ใช้งาน
B4: ผู้ใช้ไฟฟ้า | C4: เครื่องวัดไฟฟ้า | D4: ผู้ใช้ไฟฟ้า | E4: การใช้ไฟฟ้า | F4: ขนาด (kVA) | I4: จำนวน (ชุด) | M4: รวม
F5: ขนาด | G5: 1600 | H5: kVA | I5: จำนวน | J5: 1 | K5: ตัว | L5: 1.อาคารประเสริฐ ณ.นคร | M5: =G5*J5 -> 1600
F6: ขนาด | G6: 1500 | H6: kVA | I6: จำนวน | J6: 2 | K6: ตัว | L6: 1.อาคารสมเด็จพระเทพรัตนราชสุดา | M6: =G6*J6 -> 3000
L7: 2.อาคารเรียนรวมสาขาวิศวกรรมศาสตร์ | M7: =G7*J7 -> 0
F8: ขนาด | G8: 1250 | H8: kVA | I8: จำนวน | J8: 6 | K8: ตัว | L8: 1.อาคารอำนวย ยศสุข | M8: =G8*J8 -> 7500
L9: 2-3.อาคารแม่โจ้ 60 ปี(2) | M9: =G9*J9 -> 0
L10: 4.อาคารจุฬาภรณ์(2) | M10: =G10*J10 -> 0
L11: 5.อาคาร 75 ปี แม่โจ้ | M11: =G11*J11 -> 0
L12: 6.อาคาร 75 ปี แม่โจ้
F13: ขนาด | G13: 1000 | H13: kVA | I13: จำนวน | J13: 1 | K13: ตัว | L13: 1.อาคารสมเด็จพระศรีนครินทราบรมราชนี | M13: =G13*J13 -> 1000
F14: ขนาด | G14: 800 | H14: kVA | I14: จำนวน | J14: 6 | K14: ตัว | L14: 1.อาคารศูนย์การศึกษาและอบรมนานาชาติ | M14: =G14*J14 -> 4800
L15: 2.อาคารวิภาต บุญศรี วังซ้าย | M15: =G15*J15 -> 0
L16: 3.อาคารหอพักนักศึกษาหญิง 11 | M16: =G16*J16 -> 0
L17: 4-5.อาคารศูนย์กีฬากาญจนาภิเษกรัชกาลที่ 9 โซน A , B (2) | M17: =G17*J17 -> 0
L18: 6.อาคารโรงงานนำร่อง
A19: 1 | B19: 9806 - 020017405371 | C19: 27669524 | D19: 4.2.2 | E19: ปกติ | F19: ขนาด | G19: 750 | H19: kVA | I19: จำนวน | J19: 1 | K19: ตัว | L19: 1.อาคารสมิตานนท์ | M19: =G19*J19 -> 750
E20: TOD | F20: ขนาด | G20: 630 | H20: kVA | I20: จำนวน | J20: 9 | K20: ตัว | L20: 1.อาคารเทพ พงษ์พานิช | M20: =G20*J20 -> 5670
E21: TOU | L21: 2.อาคารวิภาต บุญศรี วังซ้าย | M21: =G21*J21 -> 0
L22: 3.อาคารเรียนรวมแม่โจ้ 70 ปี | M22: =G22*J22 -> 0
L23: 4.อาคารสำนักงานอธิการบดี | M23: =G23*J23 -> 0
L24: 5.อาคารหอพักนักศึกษาหญิง 10 | M24: =G24*J24 -> 0
L25: 6.อาคารคณะสถาปัตยกรรมศาสตร์และการออกแบบสิ่งแวดล้อม (ใหม่) | M25: =G25*J25 -> 0
L26: 7.อาคารเพิ่มพูน
L27: 8.อาคารปฏิบัติเทคโนโลยียางและพอลิเมอร์ | M27: =G27*J27 -> 0
L28: 9.อาคารยรรยง สิทธิชัย | M28: =G28*J28 -> 0
F29: ขนาด | G29: 500 | H29: kVA | I29: จำนวน | J29: 4 | K29: ตัว | L29: 1.อาคาร 25 ปี คณะบริหารธุรกิจ | M29: =G29*J29 -> 2000
L30: 2.อาคารเรียนรวม 80 ปี | M30: =G30*J30 -> 0
L31: 3.อาคารเทคโนโลยีการประมง
L32: 4.อาคารปฏิบัติการเทคโนโลยีการประมง
F33: ขนาด | G33: 400 | H33: kVA | I33: จำนวน | J33: 1 | K33: ตัว | L33: 1.อาคารธรรมศักดิ์มนตรี | M33: =G33*J33 -> 400
F34: ขนาด | G34: 315 | H34: kVA | I34: จำนวน | J34: 5 | K34: ตัว | L34: 1.อาคารปฏิบัติการวิศวกรรมทั่วไป | M34: =G34*J34 -> 1575
L35: 2.อาคารพิทยาลงกรณ์ | M35: =G35*J35 -> 0
L36: 3.อาคารหอพักนักศึกษาหญิง 8 | M36: =G36*J36 -> 0
L37: 4.อาคารหอพักนักศึกษาหญิง 9
L38: 5.อาคารปฏิบัติการดินและปุ๋ย
F39: ขนาด | G39: 250 | H39: kVA | I39: จำนวน | J39: 14 | K39: ตัว | L39: 1.อาคารเสาวรัจนิตยวรรธนะ | M39: =G39*J39 -> 3500
L40: 2.อาคารเรือนกระจก | M40: =G40*J40 -> 0
L41: 3.อาคารพัฒนาวิสัยทัศน์ | M41: =G41*J41 -> 0
L42: 4.อาคารเทพศาสตร์สถิตย์ | M42: =G42*J42 -> 0
L43: 5.อาคารอิงคศรีกสิการ | M43: =G43*J43 -> 0
L44: 6.คาบอยมาร์เก็ต | M44: =G44*J44 -> 0
L45: 7.อาคารโรงอาหารเทิดกสิกร
L46: 8.กาดแลง
L47: 9.โรงกรอกประปา 2
L48: 10.อาคารสมาคมศิษย์เก่า
L49: 11.สนามกีฬาอินทนิล (อัฒจัททร์มีหลังคา)
L50: 12.อาคารรัตนโกสินทร์ 200 ปี
L51: 13.อาคารคัดบรรจุผลิตผลเกษตร
L52: 14.ระบบประปา
F53: ขนาด | G53: 160 | H53: kVA | I53: จำนวน | J53: 9 | K53: ตัว | L53: 1.อาคารเนื้อเยื่อ | M53: =G53*J53 -> 1440
L54: 2.เทคโนโลยีด้านการผลิตไม้ดอกไม้ประดับ
L55: 3.ศูนย์ IT | M55: =G55*J55 -> 0
L56: 4.ลานจัตุรัส | M56: =G56*J56 -> 0
L57: 5.อาคารแฟลตชัยพฤกษ์ | M57: =G57*J57 -> 0
L58: 6.อาคารสระว่ายน้ำอุบลรัตน์ | M58: =G58*J58 -> 0
L59: 7.อาคารคณะสถาปัตยกรรมศาสตร์และการออกแบบสิ่งแวดล้อม (เก่า) | M59: =G59*J59 -> 0
L60: 8.อาคารปฏิบัติการไม้ผล | M60: =G60*J60 -> 0
L61: 9.ระบบบำบัดน้ำเสีย | M61: =G61*J61 -> 0
F62: ขนาด | G62: 100 | H62: kVA | I62: จำนวน | J62: 1 | K62: ตัว | L62: 1.อาคารช่วงเกษตรศิลป์ | M62: =G62*J62 -> 100
A64: รวม | G64: =M64 -> 33335 | J64: kVA | M64: =SUM(M5:M63) -> 33335

Sheet 4.1.2การใช้ไฟฟ้า_65
B1: 4.1.2.2) ข้อมูลปริมาณการใช้ไฟฟ้าในรอบปี 2565
A2: ตารางที่ 4.3 ข้อมูลการใช้ไฟฟ้าในรอบปี 2565
B3: อัตราการใช้ไฟฟ้า | C3: 4.1.2 | E3: หมายเลขผู้ใช้ไฟฟ้า | F3: ='4.1.2ข้อมูลหม้อแปลง'!B19 -> 9806 - 020017405371 | I3: หมายเลขเครื่องวัดไฟฟ้า | J3: ='4.1.2ข้อมูลหม้อแปลง'!C19 -> 27669524
B5: พลังไฟฟ้าสูงสุด | F5: พลังงานไฟฟ้า | H5: กิโลวาร์ | I5: ค่าไฟฟ้ารวม (บาท) | K5: Power Factor
A6: เดือน | B6: P | C6: PP/OP1 | D6: OP/OP2 | E6: ค่าใช้จ่าย | F6: ปริมาณ | G6: ค่าใช้จ่าย | J6: ค่าตัวประกอบภาระ | L6: ค่าไฟฟ้าเฉลี่ย
B7: (กิโลวัตต์) | C7: (กิโลวัตต์) | D7: (กิโลวัตต์) | E7: (บาท) | F7: (กิโลวัตต์-ชั่วโมง) | G7: (บาท) | J7: (เปอร์เซ็นต์) | L7: (บาท/กิโลวัตต์-ชั่วโมง) | M7: วัน/เดือน
A8: ม.ค. | B8: =' ข้อมูลการใช้ไฟฟ้า '!B8 -> 1069.4 | C8: =' ข้อมูลการใช้ไฟฟ้า '!C8 -> 910.97 | D8: =' ข้อมูลการใช้ไฟฟ้า '!D8 -> 871.37 | E8: =' ข้อมูลการใช้ไฟฟ้า '!E8 -> 79285.32 | F8: =' ข้อมูลการใช้ไฟฟ้า '!F8 -> 506977 | G8: =I8-E8 -> 1773883.6 | H8: =B8/0.8 -> 1336.75 | I8: =' ข้อมูลการใช้ไฟฟ้า '!G8 -> 1853168.9 | J8: =+F8*100/(MAX(B8:D8)*24*M8) -> 63.719908 | K8: =MAX(B8:D8)/(SQRT((MAX(B8:D8)^2+(H8)^2))) -> 0.62469505 | L8: =+I8/F8 -> 3.6553312 | M8: 31
A9: ก.พ. | B9: =' ข้อมูลการใช้ไฟฟ้า '!B9 -> 1545.38 | C9: =' ข้อมูลการใช้ไฟฟ้า '!C9 -> 1347.26 | D9: =' ข้อมูลการใช้ไฟฟ้า '!D9 -> 1268.01 | E9: =' ข้อมูลการใช้ไฟฟ้า '!E9 -> 114574.47 | F9: =' ข้อมูลการใช้ไฟฟ้า '!F9 -> 505221 | G9: =I9-E9 -> 1771630 | H9: =B9/0.8 -> 1931.725 | I9: =' ข้อมูลการใช้ไฟฟ้า '!G9 -> 1886204.5 | J9: =+F9*100/(MAX(B9:D9)*24*M9) -> 48.649327 | K9: =MAX(B9:D9)/(SQRT((MAX(B9:D9)^2+(H9)^2))) -> 0.62469505 | L9: =+I9/F9 -> 3.7334245 | M9: 28
A10: มี.ค. | B10: =' ข้อมูลการใช้ไฟฟ้า '!B10 -> 2740.09 | C10: =' ข้อมูลการใช้ไฟฟ้า '!C10 -> 1747.3 | D10: =' ข้อมูลการใช้ไฟฟ้า '!D10 -> 913.36 | E10: =' ข้อมูลการใช้ไฟฟ้า '!E10 -> 203150.27 | F10: =' ข้อมูลการใช้ไฟฟ้า '!F10 -> 724337 | G10: =I10-E10 -> 2683250.2 | H10: =B10/0.8 -> 3425.1125 | I10: =' ข้อมูลการใช้ไฟฟ้า '!G10 -> 2886400.5 | J10: =+F10*100/(MAX(B10:D10)*24*M10) -> 35.53063 | K10: =MAX(B10:D10)/(SQRT((MAX(B10:D10)^2+(H10)^2))) -> 0.62469505 | L10: =+I10/F10 -> 3.9848861 | M10: 31
A11: เม.ย. | B11: =' ข้อมูลการใช้ไฟฟ้า '!B11 -> 2299.83 | C11: =' ข้อมูลการใช้ไฟฟ้า '!C11 -> 1308.52 | D11: =' ข้อมูลการใช้ไฟฟ้า '!D11 -> 832.7 | E11: =' ข้อมูลการใช้ไฟฟ้า '!E11 -> 170509.4 | F11: =' ข้อมูลการใช้ไฟฟ้า '!F11 -> 560683 | G11: =I11-E11 -> 1984100.9 | H11: =B11/0.8 -> 2874.7875 | I11: =' ข้อมูลการใช้ไฟฟ้า '!G11 -> 2154610.3 | J11: =+F11*100/(MAX(B11:D11)*24*M11) -> 33.860172 | K11: =MAX(B11:D11)/(SQRT((MAX(B11:D11)^2+(H11)^2))) -> 0.62469505 | L11: =+I11/F11 -> 3.8428316 | M11: 30
A12: พ.ค. | B12: =' ข้อมูลการใช้ไฟฟ้า '!B12 -> 2498.7 | C12: =' ข้อมูลการใช้ไฟฟ้า '!C12 -> 1308.84 | D12: =' ข้อมูลการใช้ไฟฟ้า '!D12 -> 793.24 | E12: =' ข้อมูลการใช้ไฟฟ้า '!E12 -> 185253.62 | F12: =' ข้อมูลการใช้ไฟฟ้า '!F12 -> 595324 | G12: =I12-E12 -> 2327095.4 | H12: =B12/0.8 -> 3123.375 | I12: =' ข้อมูลการใช้ไฟฟ้า '!G12 -> 2512349 | J12: =+F12*100/(MAX(B12:D12)*24*M12) -> 32.023319 | K12: =MAX(B12:D12)/(SQRT((MAX(B12:D12)^2+(H12)^2))) -> 0.62469505 | L12: =+I12/F12 -> 4.2201373 | M12: 31
A13: มิ.ย. | B13: =' ข้อมูลการใช้ไฟฟ้า '!B13 -> 2580.84 | C13: =' ข้อมูลการใช้ไฟฟ้า '!C13 -> 1627.91 | D13: =' ข้อมูลการใช้ไฟฟ้า '!D13 -> 873.51 | E13: =' ข้อมูลการใช้ไฟฟ้า '!E13 -> 191343.48 | F13: =' ข้อมูลการใช้ไฟฟ้า '!F13 -> 671018 | G13: =I13-E13 -> 2670329 | H13: =B13/0.8 -> 3226.05 | I13: =' ข้อมูลการใช้ไฟฟ้า '!G13 -> 2861672.5 | J13: =+F13*100/(MAX(B13:D13)*24*M13) -> 36.11109 | K13: =MAX(B13:D13)/(SQRT((MAX(B13:D13)^2+(H13)^2))) -> 0.62469505 | L13: =+I13/F13 -> 4.2646732 | M13: 30
A14: ก.ค. | B14: =' ข้อมูลการใช้ไฟฟ้า '!B14 -> 3457.52 | C14: =' ข้อมูลการใช้ไฟฟ้า '!C14 -> 2424.24 | D14: =' ข้อมูลการใช้ไฟฟ้า '!D14 -> 1549.92 | E14: =' ข้อมูลการใช้ไฟฟ้า '!E14 -> 246693.44 | F14: =' ข้อมูลการใช้ไฟฟ้า '!F14 -> 886939 | G14: =I14-E14 -> 3382576.3 | H14: =B14/0.8 -> 4321.9 | I14: =' ข้อมูลการใช้ไฟฟ้า '!G14 -> 3629269.7 | J14: =+F14*100/(MAX(B14:D14)*24*M14) -> 34.479115 | K14: =MAX(B14:D14)/(SQRT((MAX(B14:D14)^2+(H14)^2))) -> 0.62469505 | L14: =+I14/F14 -> 4.0919045 | M14: 31
A15: ส.ค. | B15: =' ข้อมูลการใช้ไฟฟ้า '!B15 -> 3380 | C15: =' ข้อมูลการใช้ไฟฟ้า '!C15 -> 2505.57 | D15: =' ข้อมูลการใช้ไฟฟ้า '!D15 -> 1431.75 | E15: =' ข้อมูลการใช้ไฟฟ้า '!E15 -> 245915.71 | F15: =' ข้อมูลการใช้ไฟฟ้า '!F15 -> 1004768 | G15: =I15-E15 -> 3976972.9 | H15: =B15/0.8 -> 4225 | I15: =' ข้อมูลการใช้ไฟฟ้า '!G15 -> 4222888.6 | J15: =+F15*100/(MAX(B15:D15)*24*M15) -> 39.955462 | K15: =MAX(B15:D15)/(SQRT((MAX(B15:D15)^2+(H15)^2))) -> 0.62469505 | L15: =+I15/F15 -> 4.2028495 | M15: 31
A16: ก.ย. | B16: =' ข้อมูลการใช้ไฟฟ้า '!B16 -> 3261.06 | C16: =' ข้อมูลการใช้ไฟฟ้า '!C16 -> 2306 | D16: =' ข้อมูลการใช้ไฟฟ้า '!D16 -> 1391.92 | E16: =' ข้อมูลการใช้ไฟฟ้า '!E16 -> 241271.58 | F16: =' ข้อมูลการใช้ไฟฟ้า '!F16 -> 946590 | G16: =I16-E16 -> 4433462 | H16: =B16/0.8 -> 4076.325 | I16: =' ข้อมูลการใช้ไฟฟ้า '!G16 -> 4674733.6 | J16: =+F16*100/(MAX(B16:D16)*24*M16) -> 40.315368 | K16: =MAX(B16:D16)/(SQRT((MAX(B16:D16)^2+(H16)^2))) -> 0.62469505 | L16: =+I16/F16 -> 4.9384989 | M16: 30
A17: ต.ค. | B17: =' ข้อมูลการใช้ไฟฟ้า '!B17 -> 3139.43 | C17: =' ข้อมูลการใช้ไฟฟ้า '!C17 -> 2066.46 | D17: =' ข้อมูลการใช้ไฟฟ้า '!D17 -> 3179.17 | E17: =' ข้อมูลการใช้ไฟฟ้า '!E17 -> 232757.34 | F17: =' ข้อมูลการใช้ไฟฟ้า '!F17 -> 846453 | G17: =I17-E17 -> 3874454 | H17: =B17/0.8 -> 3924.2875 | I17: =' ข้อมูลการใช้ไฟฟ้า '!G17 -> 4107211.3 | J17: =+F17*100/(MAX(B17:D17)*24*M17) -> 35.786248 | K17: =MAX(B17:D17)/(SQRT((MAX(B17:D17)^2+(H17)^2))) -> 0.62948118 | L17: =+I17/F17 -> 4.8522615 | M17: 31
A18: พ.ย. | B18: =' ข้อมูลการใช้ไฟฟ้า '!B18 -> 2819.27 | C18: =' ข้อมูลการใช้ไฟฟ้า '!C18 -> 1747.15 | D18: =' ข้อมูลการใช้ไฟฟ้า '!D18 -> 1111.82 | E18: =' ข้อมูลการใช้ไฟฟ้า '!E18 -> 209020.68 | F18: =' ข้อมูลการใช้ไฟฟ้า '!F18 -> 711963.99 | G18: =I18-E18 -> 3316830.8 | H18: =B18/0.8 -> 3524.0875 | I18: =' ข้อมูลการใช้ไฟฟ้า '!G18 -> 3525851.5 | J18: =+F18*100/(MAX(B18:D18)*24*M18) -> 35.074288 | K18: =MAX(B18:D18)/(SQRT((MAX(B18:D18)^2+(H18)^2))) -> 0.62469505 | L18: =+I18/F18 -> 4.9522891 | M18: 30
A19: ธ.ค. | B19: =' ข้อมูลการใช้ไฟฟ้า '!B19 -> 2656.65 | C19: =' ข้อมูลการใช้ไฟฟ้า '!C19 -> 1744.66 | D19: =' ข้อมูลการใช้ไฟฟ้า '!D19 -> 2696.3 | E19: =' ข้อมูลการใช้ไฟฟ้า '!E19 -> 196964.03 | F19: =' ข้อมูลการใช้ไฟฟ้า '!F19 -> 717224.99 | G19: =I19-E19 -> 3269444.2 | H19: =B19/0.8 -> 3320.8125 | I19: =' ข้อมูลการใช้ไฟฟ้า '!G19 -> 3466408.2 | J19: =+F19*100/(MAX(B19:D19)*24*M19) -> 35.753146 | K19: =MAX(B19:D19)/(SQRT((MAX(B19:D19)^2+(H19)^2))) -> 0.63033065 | L19: =+I19/F19 -> 4.8330834 | M19: 31
A20: รวม | E20: =SUM(E8:E19) -> 2316739.3 | F20: =SUM(F8:F19) -> 8677499 | G20: =SUM(G8:G19) -> 35464029 | H20: =SUM(H8:H19) -> 39310.212 | I20: =SUM(I8:I19) -> 37780769
A21: เฉลี่ย | E21: =AVERAGE(E8:E19) -> 193061.61 | F21: =AVERAGE(F8:F19) -> 723124.92 | G21: =AVERAGE(G8:G19) -> 2955335.8 | H21: =AVERAGE(H8:H19) -> 3275.851 | I21: =AVERAGE(I8:I19) -> 3148397.4 | J21: =AVERAGE(J8:J19) -> 39.271506 | K21: =AVERAGE(K8:K19) -> 0.62556353 | L21: =I20/F20 -> 4.3538776
A22: หมายเหตุ: | B22: กรณีอัตรา ปกติ ให้กรอกค่าพลังงานไฟฟ้าสูงสุด (On Peak) ในช่อง P | I22: หมายเหตุ : ระบบไฟฟ้าเป็น Substation 115kV
B23: กรณีอัตรา TOD: P หมายถึง On Peak / PP หมายถึง Partial Peak / OP หมายถึง Off Peak
B24: กรณีอัตรา TOU: P หมายถึง Peak / OP1 หมายถึง Off Peak1 / OP2 หมายถึง Off Peak2
B25: กรณีอาคารมีเครื่องวัดไฟฟ้ามากกว่า 1 เครื่อง ให้เพิ่มจำนวนตารางแสดงข้อมูลการใช้ไฟฟ้าตามจำนวนของเครื่องวัดไฟฟ้า
B26: ค่าตัวประกอบภาระ (เปอร์เซ็นต์) = ปริมาณพลังงานไฟฟ้า (กิโลวัตต์-ชั่วโมง)
C27: ค่าพลังไฟฟ้าสูงสุด (กิโลวัตต์) x 24 (ชม./วัน) X จำนวนวันในแต่ละเดือน (วัน)
B28: Power Factor (PF) = ค่าพลังไฟฟ้าสูงสุด (กิโลวัตต์)
D29: ( kW2 ) + (KVAR2 )

Sheet 4.1.3การใช้เชื้อเพลิง_65
A1: 4.1.3) ข้อมูลการใช้เชื้อเพลิงและพลังงานหมุนเวียนในรอบปี 2565
A2: ตารางที่ 4.4 ข้อมูลการใช้เชื้อเพลิงและพลังงานหมุนเวียนในรอบปี 2565
A4: ชนิด | B4: หน่วย/ | C4: ปริมาณการใช้ | P4: ค่าความร้อนเฉลี่ย | Q4: ปริมาณพลังงานรวม | R4: ต้นทุน | S4: ต้นทุน | V4: ปริมาณการใช้
A5: พลังงานที่ใช้ | B5: มูลค่า | C5: ม.ค. | D5: ก.พ. | E5: มี.ค. | F5: เม.ย. | G5: พ.ค. | H5: มิ.ย. | I5: ก.ค. | J5: ส.ค. | K5: ก.ย. | L5: ต.ค. | M5: พ.ย. | N5: ธ.ค. | O5: รวม | P5: (เมกะจูล/หน่วย) | Q5: (เมกะจูล) | R5: (บาท/หน่วย) | S5: (บาท/MJ) | V5: ม.ค. | W5: ก.พ. | X5: มี.ค. | Y5: เม.ย. | Z5: พ.ค. | AA5: มิ.ย. | AB5: ก.ค. | AC5: ส.ค. | AD5: ก.ย. | AE5: ต.ค. | AF5: พ.ย. | AG5: ธ.ค. | AH5: รวม
A6: น้ำมันเตา | B6: ลิตร | O6: =SUM(C6:N6) -> 0 | P6: 39.77 | Q6: =O6*P6 -> 0 | R6: =O7/O6 -> #DIV/0! | S6: =O7/Q6 -> #DIV/0! | U6: ปี2562 | V6: =(C6*$P$6)+(C8*$P$8)+($C$10*$P$10)+(C12*$P$12)+(C14*$P$14)+(C16*$P$16) -> 0 | W6: =(D6*$P$6)+(D8*$P$8)+($D$10*$P$10)+(D12*$P$12)+(D14*$P$14)+(D16*$P$16) -> 0 | X6: =(E6*$P$6)+(E8*$P$8)+($E$10*$P$10)+(E12*$P$12)+(E14*$P$14)+(E16*$P$16) -> 0 | Y6: =(F6*$P$6)+(F8*$P$8)+($F$10*$P$10)+(F12*$P$12)+(F14*$P$14)+(F16*$P$16) -> 0 | Z6: =(G6*$P$6)+(G8*$P$8)+($G$10*$P$10)+(G12*$P$12)+(G14*$P$14)+(G16*$P$16) -> 0 | AA6: =(H6*$P$6)+(H8*$P$8)+($H$10*$P$10)+(H12*$P$12)+(H14*$P$14)+(H16*$P$16) -> 0 | AB6: =(I6*$P$6)+(I8*$P$8)+($I$10*$P$10)+(I12*$P$12)+(I14*$P$14)+(I16*$P$16) -> 0 | AC6: =(J6*$P$6)+(J8*$P$8)+($J$10*$P$10)+(J12*$P$12)+(J14*$P$14)+(J16*$P$16) -> 0 | AD6: =(K6*$P$6)+(K8*$P$8)+($K$10*$P$10)+(K12*$P$12)+(K14*$P$14)+(K16*$P$16) -> 0 | AE6: =(L6*$P$6)+(L8*$P$8)+($L$10*$P$10)+(L12*$P$12)+(L14*$P$14)+(L16*$P$16) -> 0 | AF6: =(M6*$P$6)+(M8*$P$8)+($M$10*$P$10)+(M12*$P$12)+(M14*$P$14)+(M16*$P$16) -> 0 | AG6: =(N6*$P$6)+(N8*$P$8)+($N$10*$P$10)+(N12*$P$12)+(N14*$P$14)+(N16*$P$16) -> 0 | AH6: =SUM(V6:AG6) -> 0
A7: (ชนิด.........) | B7: บาท | O7: =SUM(C7:N7) -> 0
A8: น้ำมันดีเซล | B8: ลิตร | O8: =SUM(C8:N8) -> 0 | P8: 36.42 | Q8: =O8*P8 -> 0 | R8: =O9/O8 -> #DIV/0! | S8: =O9/Q8 -> #DIV/0!
B9: บาท | O9: =SUM(C9:N9) -> 0
A10: ก๊าซปิโตรเลียมเหลว | B10: กิโลกรัม | O10: =SUM(C10:N10) -> 0 | P10: 50.23 | Q10: =O10*P10 -> 0 | R10: =O11/O10 -> #DIV/0! | S10: =O11/Q10 -> #DIV/0!
B11: บาท | O11: =SUM(C11:N11) -> 0
A12: ก๊าซธรรมชาติ | B12: ล้านบีทียู | O12: =SUM(C12:N12) -> 0 | P12: 1055 | Q12: =O12*P12 -> 0 | R12: =O13/O12 -> #DIV/0! | S12: =O13/Q12 -> #DIV/0!
B13: บาท | O13: =SUM(C13:N13) -> 0
A14: ถ่านหิน | B14: ตัน | O14: =SUM(C14:N14) -> 0 | P14: 26370 | Q14: =O14*P14 -> 0 | R14: =O15/O14 -> #DIV/0! | S14: =O15/Q14 -> #DIV/0!
A15: (ชนิด.....) | O15: =SUM(C15:N15) -> 0
A16: ไอน้ำ | B16: ตัน | O16: =SUM(C16:N16) -> 0 | Q16: =O16*P16 -> 0 | R16: =O17/O16 -> #DIV/0! | S16: =O17/Q16 -> #DIV/0!
A17: (.....บาร์/.......๐C) | B17: บาท | O17: =SUM(C17:N17) -> 0
A18: อื่นๆ (ระบุ) | B18: หน่วย (ระบุ) | O18: =SUM(C18:N18) -> 0 | Q18: =O18*P18 -> 0 | R18: =O19/O18 -> #DIV/0! | S18: =O19/Q18 -> #DIV/0!
B19: บาท | O19: =SUM(C19:N19) -> 0
A20: รวมการใช้พลังงานความร้อนจากเชื้อเพลิง | Q20: =Q6+Q8+Q10 -> 0
A21: พลังงานหมุนเวียน | B21: หน่วย (ลบ. ม.) | O21: =SUM(C21:N21) -> 0 | Q21: =O21*P21 -> 0 | R21: =O22/O21 -> #DIV/0! | S21: =O22/Q21 -> #DIV/0!
B22: บาท | O22: =SUM(C22:N22) -> 0
A23: รวมการใช้พลังงานหมุนเวียน | Q23: 0
A24: รวมปริมาณพลังงานความร้อนทั้งหมด | Q24: =Q23+Q20 -> 0
A25: หมายเหตุ : | B25: ในกรณีไม่มีค่าความร้อนสูงจากผู้จำหน่าย ให้อ้างอิงค่าความร้อนเฉลี่ยตามที่กรมพัฒนาพลังงานทดแทนและอนุรักษ์พลังงานกำหนด
A26: No. | B26: Fuel | D26: Heating Value
A27: 01 | B27: น้ำมันเตา | D27: = 39.77 เมกะจูล/ลิตร
A28: 02 | B28: น้ำมันเตา 600 (A) | D28: = 38.18 เมกะจูล/ลิตร
A29: 03 | B29: น้ำมันเตา1500 (C) | D29: = 41.28 เมกะจูล/ลิตร
A30: 04 | B30: น้ำมันเตา 2000 (D) | D30: = ….. เมกะจูล/ลิตร
A31: 05 | B31: น้ำมันดีเซล | D31: = 36.42 เมกะจูล/ลิตร
A32: 06 | B32: น้ำมันเบนซิน | D32: = 31.48 เมกะจูล/ลิตร
A33: 07 | B33: น้ำมันก๊าด | D33: = 34.53 เมกะจูล/ลิตร
A34: 08 | B34: ก๊าซปิโตรเลียมเหลว | D34: = 26.62 เมกะจูล/ลิตร
A35: 09 | B35: ( LPG ) | D35: = 50.23 เมกะจูล/กิโลกรัม
A36: 10 | B36: ก๊าซธรรมชาติ | D36: = 1,055 เมกะจูล/ล้านบีทียู
A37: 11 | B37: ถ่านหินนำเข้า | D37: = 26,370 เมกะจูล/ตัน
... A50: 24 | B50: ซังข้าวโพด | D50: = 1,6220 เมกะจูล/ตัน
A51: หมายเหตุ | B51: ค่า Heating Value และหน่วยของเชื้อเพลิงที่ใช้จะต้องเป็นไปตามที่ พพ. กำหนดใน บพร.1 ตามตัวอย่างด้านบน และหากมีเชื้อเพลิงนอกเหนือจากนี้ที่ปรึกษาฯ จะต้องแจ้งจุฬาฯ ให้รับทราบ และเพิ่มเติมในฐานข้อมูลต่อไป ในส่วนเชื้อเพลิงน้ำมันเตา ต้องระบุชนิดให้ชัดเจนตามการใช

Sheet 4.1.4เชื้อเพลิงผลิตไฟฟ้า_65
A1: 4.1.4) ข้อมูลปริมาณการใช้เชื้อเพลิงในการผลิตไฟฟ้าในรอบปี 2565
C2: ผลิตกระแสไฟฟ้าอย่างเดียว | G2: ผลิตไฟฟ้าสำรองหรือกรณีฉุกเฉิน
A4: ตารางที่ 4.5 ข้อมูลการใช้เชื้อเพลิงในการผลิตไฟฟ้าในรอบปี 2565
A6: เดือน | B6: กำลังผลิตติดตั้ง (กิโลวัตต์) | C6: ปริมาณการใช้เชื้อเพลิงหลัก | F6: ชั่วโมง การเดินเครื่อง (ชั่วโมง) | G6: ปริมาณพลังงานไฟฟ้าที่ผลิตได้ (กิโลวัตต์ - ชั่วโมง) | I6: หมายเหตุ
C9: ชนิด | D9: ปริมาณ | E9: หน่วย
A10: ม.ค.
A11: ก.พ.
A12: มี.ค.
A13: เม.ย.
A14: พ.ค.
A15: มิ.ย.
A16: ก.ค.
A17: ส.ค.
A18: ก.ย.
A19: ต.ค.
A20: พ.ย.
A21: ธ.ค.
A22: รวม

Sheet 4.1.5สัดส่วนการใช้ไฟฟ้า_65
A1: 4.1.5) ข้อมูลสัดส่วนการใช้พลังงานไฟฟ้าในรอบปี 2565
A3: ตารางที่ 4.6 สัดส่วนการใช้พลังงานไฟฟ้าแยกตามระบบปี 2565
A5: ระบบ | B5: การใช้พลังงานไฟฟ้า | D5: วิธีการ
B6: กิโลวัตต์-ชั่วโมง/ปี | C6: ร้อยละ | D6: ประเมิน | E6: ตรวจวัด
A7: ปรับอากาศแบบรวมศูนย์ | B7: =ข้อมูลไฟฟ้าเครื่องจักร!X12 -> 485053.33 | C7: =ข้อมูลไฟฟ้าเครื่องจักร!Z12 -> 5.5897827 | G7: =B7 -> 485053.33
A8: ปรับอากาศแบบแยกส่วน | B8: =ข้อมูลไฟฟ้าเครื่องจักร!X13 -> 5478295.9 | C8: =ข้อมูลไฟฟ้าเครื่องจักร!Z13 -> 63.132199 | G8: =B8 -> 5478295.9
A9: แสงสว่าง | B9: =ข้อมูลไฟฟ้าเครื่องจักร!X14 -> 2428935 | C9: =ข้อมูลไฟฟ้าเครื่องจักร!Z14 -> 27.991187 | G9: =B9 -> 2428935
A10: อื่นๆ | B10: =B11-SUM(B7:B9) -> 285214.7 | C10: =ข้อมูลไฟฟ้าเครื่องจักร!Z15 -> 3.2868307 | G10: =B10 -> 285214.7
A11: รวม | B11: ='4.1.2การใช้ไฟฟ้า_65'!F20 -> 8677499 | C11: =SUM(C7:C10) -> 100 | G11: =SUM(G7:G10) -> 8677499
B15: ผู้ช่วยศาสตราจารย์ ดร.สราวุธ พลวงษ์ศรี

Sheet 4.1.6สัดส่วนเชื้อเพลิง_65
A1: 4.1.6) ข้อมูลสัดส่วนการใช้พลังงานความร้อนในรอบปี 2565
A3: ตารางที่ 4.7 สัดส่วนการใช้พลังงานเชื้อเพลิงแยกตามระบบปี 2565
A5: ระบบ | B5: อุปกรณ์ | C5: การใช้พลังงานเชื้อเพลิง | F5: วิธีการ
C6: ชนิดเชื้อเพลิง | D6: เมกะจูล/ปี | E6: ร้อยละ | F6: ประเมิน | G6: ตรวจวัด | N6: ปี 2553
A7: หม้อไอน้ำ | M7: ไฟฟ้า | N7: ='[8]สัดส่วนไฟฟ้า 60'!B11*3.6 -> 0 | T7: ปี 2563
A8: หม้อต้มน้ำมันร้อน | M8: ความร้อน | N8: =D13 -> 0 | S8: ไฟฟ้า | T8: ='4.1.2การใช้ไฟฟ้า_65'!F20*3.6 -> 31238996
S9: ความร้อน | T9: =D13 -> 0
N10: ปี 2554
M11: ไฟฟ้า | N11: ='[8]สัดส่วนไฟฟ้า 60'!#REF!*3.6 -> #REF! | T11: ปี 2561
M12: ความร้อน | N12: =#REF! -> #REF! | S12: ไฟฟ้า | T12: ='[8]6.3.2) ไฟฟ้าปี 61'!F20*3.6 -> 0
A13: รวม | D13: ='[8]เชื้อเพลิง 60'!Q24 -> 0 | E13: =SUM(E7:E12) -> 0 | S13: ความร้อน | T13: ='[8]6.3.6) สัดส่วนเชื้อเพลิง 61'!D13 -> 0
B15: ผู้ช่วยศาสตราจารย์ ดร.สราวุธ พลวงษ์ศรี

Sheet 4.2.1 SEC(พื้นที่)_65
A1: 4.2 การประเมินระดับการบริการ
B2: 4.2.1 ค่าการใช้พลังงานจำเพาะของพื้นที่ใช้สอย
A4: ตารางที่ 4.8 ปริมาณการใช้พลังงานต่อหน่วยพื้นที่ใช้สอยที่ใช้งานจริงในรอบปี 2565
A6: เดือน | B6: พื้นที่ใช้สอยที่ใช้งานจริง (ตารางเมตร) | C6: ปริมาณพลังงานที่ใช้ | F6: ค่าการใช้พลังงานจำเพาะ (SEC) | L6: เดือน | M6: พื้นที่ใช้สอยที่ใช้งานจริง (ตารางเมตร) | N6: ปริมาณพลังงานที่ใช้ | Q6: ค่าการใช้พลังงานจำเพาะ (SEC)
C7: ไฟฟ้า | E7: ความร้อน | F7: (เมกะจูล/ตารางเมตร) | N7: ไฟฟ้า | P7: ความร้อน | Q7: (เมกะจูล/ตารางเมตร)
C8: (กิโลวัตต์-ชั่วโมง) | E8: (เมกะจูล) | N8: (กิโลวัตต์-ชั่วโมง) | P8: (เมกะจูล) | W8: 2565 | X8: 2566
A9: 23743 | B9: ='4.1.1.2พื้นที่อาคารแต่เดือน_65'!E9 -> 351038.48 | C9: ='4.1.2การใช้ไฟฟ้า_65'!F8 -> 506977 | F9: =(C9*3.6)/B9 -> 5.1991941 | L9: 24108 | M9: =B9 -> 351038.48 | N9: =' ข้อมูลการใช้ไฟฟ้า '!F34 -> 630006 | Q9: =(N9*3.6)/M9 -> 6.4608917 | V9: ม.ค. | W9: =F9 -> 5.1991941 | X9: =Q9 -> 6.4608917
A10: 23774 | B10: ='4.1.1.2พื้นที่อาคารแต่เดือน_65'!E10 -> 351038.48 | C10: ='4.1.2การใช้ไฟฟ้า_65'!F9 -> 505221 | F10: =(C10*3.6)/B10 -> 5.1811858 | L10: 24139 | M10: =B10 -> 351038.48 | N10: =' ข้อมูลการใช้ไฟฟ้า '!F35 -> 682954 | Q10: =(N10*3.6)/M10 -> 7.0038886 | V10: ก.พ. | W10: =F10 -> 5.1811858 | X10: =Q10 -> 7.0038886
A11: 23802 | B11: ='4.1.1.2พื้นที่อาคารแต่เดือน_65'!E11 -> 351038.48 | C11: ='4.1.2การใช้ไฟฟ้า_65'!F10 -> 724337 | F11: =(C11*3.6)/B11 -> 7.4282831 | L11: 24167 | M11: =B11 -> 351038.48 | N11: =' ข้อมูลการใช้ไฟฟ้า '!F36 -> 772571 | Q11: =(N11*3.6)/M11 -> 7.9229365 | V11: มี.ค. | W11: =F11 -> 7.4282831 | X11: =Q11 -> 7.9229365
A12: 23833 | B12: ='4.1.1.2พื้นที่อาคารแต่เดือน_65'!E12 -> 351038.48 | C12: ='4.1.2การใช้ไฟฟ้า_65'!F11 -> 560683 | F12: =(C12*3.6)/B12 -> 5.7499645 | L12: 24198 | M12: =B12 -> 351038.48 | N12: =' ข้อมูลการใช้ไฟฟ้า '!F37 -> 663549 | Q12: =(N12*3.6)/M12 -> 6.8048848 | V12: เม.ย. | W12: =F12 -> 5.7499645 | X12: =Q12 -> 6.8048848
A13: 23863 | B13: ='4.1.1.2พื้นที่อาคารแต่เดือน_65'!E13 -> 351038.48 | C13: ='4.1.2การใช้ไฟฟ้า_65'!F12 -> 595324 | F13: =(C13*3.6)/B13 -> 6.1052179 | L13: 24228 | M13: =B13 -> 351038.48 | N13: =' ข้อมูลการใช้ไฟฟ้า '!F38 -> 764182.99 | Q13: =(N13*3.6)/M13 -> 7.8369151 | V13: พ.ค. | W13: =F13 -> 6.1052179 | X13: =Q13 -> 7.8369151
A14: 23894 | B14: ='4.1.1.2พื้นที่อาคารแต่เดือน_65'!E14 -> 351038.48 | C14: ='4.1.2การใช้ไฟฟ้า_65'!F13 -> 671018 | F14: =(C14*3.6)/B14 -> 6.8814815 | L14: 24259 | M14: =B14 -> 351038.48 | N14: =' ข้อมูลการใช้ไฟฟ้า '!F39 -> 781785 | Q14: =(N14*3.6)/M14 -> 8.0174287 | V14: มิ.ย. | W14: =F14 -> 6.8814815 | X14: =Q14 -> 8.0174287
A15: 23924 | B15: ='4.1.1.2พื้นที่อาคารแต่เดือน_65'!E15 -> 351038.48 | C15: ='4.1.2การใช้ไฟฟ้า_65'!F14 -> 886939 | F15: =(C15*3.6)/B15 -> 9.0958131 | L15: 24289 | M15: =B15 -> 351038.48 | N15: =' ข้อมูลการใช้ไฟฟ้า '!F40 -> 1123874 | Q15: =(N15*3.6)/M15 -> 11.525649 | V15: ก.ค. | W15: =F15 -> 9.0958131 | X15: =Q15 -> 11.525649
A16: 23955 | B16: ='4.1.1.2พื้นที่อาคารแต่เดือน_65'!E16 -> 351038.48 | C16: ='4.1.2การใช้ไฟฟ้า_65'!F15 -> 1004768 | F16: =(C16*3.6)/B16 -> 10.304183 | L16: 24320 | M16: =B16 -> 351038.48 | N16: =' ข้อมูลการใช้ไฟฟ้า '!F41 -> 1063109 | Q16: =(N16*3.6)/M16 -> 10.902487 | V16: ส.ค. | W16: =F16 -> 10.304183 | X16: =Q16 -> 10.902487
A17: 23986 | B17: ='4.1.1.2พื้นที่อาคารแต่เดือน_65'!E17 -> 351038.48 | C17: ='4.1.2การใช้ไฟฟ้า_65'!F16 -> 946590 | F17: =(C17*3.6)/B17 -> 9.7075511 | L17: 24351 | M17: =B17 -> 351038.48 | N17: =' ข้อมูลการใช้ไฟฟ้า '!F42 -> 1060689 | Q17: =(N17*3.6)/M17 -> 10.877669 | V17: ก.ย. | W17: =F17 -> 9.7075511 | X17: =Q17 -> 10.877669
A18: 24016 | B18: ='4.1.1.2พื้นที่อาคารแต่เดือน_65'!E18 -> 351038.48 | C18: ='4.1.2การใช้ไฟฟ้า_65'!F17 -> 846453 | F18: =(C18*3.6)/B18 -> 8.6806176 | L18: 24381 | M18: =B18 -> 351038.48 | N18: =' ข้อมูลการใช้ไฟฟ้า '!F43 -> 990378 | Q18: =(N18*3.6)/M18 -> 10.15661 | V18: ต.ค. | W18: =F18 -> 8.6806176 | X18: =Q18 -> 10.15661
A19: 24047 | B19: ='4.1.1.2พื้นที่อาคารแต่เดือน_65'!E19 -> 351038.48 | C19: ='4.1.2การใช้ไฟฟ้า_65'!F18 -> 711963.99 | F19: =(C19*3.6)/B19 -> 7.3013943 | L19: 24412 | M19: =B19 -> 351038.48 | N19: =' ข้อมูลการใช้ไฟฟ้า '!F44 -> 754238 | Q19: =(N19*3.6)/M19 -> 7.7349264 | V19: พ.ย. | W19: =F19 -> 7.3013943 | X19: =Q19 -> 7.7349264
A20: 24077 | B20: ='4.1.1.2พื้นที่อาคารแต่เดือน_65'!E20 -> 351038.48 | C20: ='4.1.2การใช้ไฟฟ้า_65'!F19 -> 717224.99 | F20: =(C20*3.6)/B20 -> 7.3553474 | L20: 24442 | M20: =B20 -> 351038.48 | N20: =' ข้อมูลการใช้ไฟฟ้า '!F45 -> 825219 | Q20: =(N20*3.6)/M20 -> 8.4628568 | V20: ธ.ค. | W20: =F20 -> 7.3553474 | X20: =Q20 -> 8.4628568
A21: รวม | B21: - | C21: =SUM(C9:D20) -> 8677499 | F21: - | L21: รวม | M21: - | N21: =SUM(N9:O20) -> 10112555 | P21: =SUM(P9:P20) -> 0 | Q21: -
A22: เฉลี่ย | B22: =AVERAGE(B9:B20) -> 351038.48 | C22: =AVERAGE(C9:C20) -> 723124.92 | F22: =AVERAGE(F9:I20) -> 7.4158528 | L22: เฉลี่ย | M22: =AVERAGE(M9:M20) -> 351038.48 | N22: =AVERAGE(N9:N20) -> 842712.92 | P22: =AVERAGE(P9:P20) -> #DIV/0! | Q22: =AVERAGE(Q9:T20) -> 8.6422619
A24: หมายเหตุ: | B24: ค่าการใช้พลังงานจำเพาะ (SEC) =ปริมาณพลังงานไฟฟ้า (กิโลวัตต์-ชั่วโมง) x 3.6 (เมกะจูล/กิโลวัตต์-ชั่วโมง)+ปริมาณพลังงานความร้อน (เมกะจูล)
F25: พื้นที่ใช้สอยที่ใช้งานจริง (ตารางเมตร)
C29: =C21*3.6 -> 31238996 | E29: MJ/Y

Sheet เปรียบเทียบข้อมูลอาคาร
A2: เปรียบเทียบข้อมูลการใช้พลังงานหรือดัชนีการใช้พลังงานเทียบกับค่าเป้าหมายภายในอาคาร
A3: หรือเปรียบเทียบข้อมูลการใช้พลังงานกับอาคารอื่น (ถ้ามี)
F5: SEC ปี 2563 | H5: MJ/หน่วย
F6: SEC เป้าหมาย | H6: MJ/หน่วย
F8: ค่าต่ำที่สุด | H8: MJ/หน่วย
F9: ค่าเฉลี่ย | H9: MJ/หน่วย
A14: รูปที่ 4-1 กราฟแสดงข้อมูลเปรียบเทียบข้อมูลการใช้พลังงานหรือดัชนีการใช้พลังงาน
A15: เทียบกับค่าเป้าหมายภายในอาคารหรือเปรียบเทียบข้อมูล (ถ้ามี)

Sheet 4.3ประเมินระดับเครื่องจักร
A1: 4.3 การประเมินระดับเครื่องจักร/อุปกรณ์หลัก
A2: การค้นหาการใช้พลังงานที่มีนัยสำคัญในเครื่องจักร/อุปกรณ์หลัก อาคารควบคุมได้ดำเนินการโดยการตรวจวัดหา
A3: ข้อมูลปริมาณการใช้พลังงาน ชั่วโมงการทำงาน และวิเคราะห์หาค่าประสิทธิภาพและการสูญเสียพลังงานในแต่ละเครื่องจักร/
A4: อุปกรณ์หลักที่มีการใช้ในอาคารควบคุม ซึ่งมีผลสรุปได้ดังนี้

Sheet 4.3.1ประเมินระดับเครื่องจักร
A1: 4.3.1 การประเมินศักยภาพของเครื่องจักร/อุปกรณ์ที่มีนัยสำคัญ เพื่อนำไปค้นหามาตรการอนุรักษ์พลังงาน
B2: การค้นหาการใช้พลังงานที่มีนัยสำคัญในเครื่องจักร/อุปกรณ์หลัก อาคารควบคุมได้ดำเนินการโดยการ
A3: ตรวจวัดหาข้อมูลปริมาณการใช้พลังงาน ชั่วโมงการทำงาน และวิเคราะห์หาค่าประสิทธิภาพและการสูญเสียพลังงาน
A4: ในแต่ละเครื่องจักร/อุปกรณ์หลักที่มีการใช้ในอาคารควบคุม ซึ่งมีผลสรุปได้ดังนี้
A5: แบบประเมินการใช้พลังงานในเครื่องจักร/อุปกรณ์หลัก
A7: งานจัดการพลังงานและสิ่งแวดล้อม | I7: วันที่ 05 / 03 / 2566
A9: เครื่องจักร/อุปกรณ์หลัก | B9: ประเภทพลังงาน | C9: (1) ปริมาณการใช้พลังงาน | H9: (2) ชั่วโมงการใช้งาน | M9: (3) ศักยภาพการปรับปรุง | R9: คะแนนรวม (1) x (2) x (3) | S9: ลำดับความสำคัญ
C11: น้อยที่สุด (1 คะแนน) | D11: น้อย (2 คะแนน) | E11: ปานกลาง (3 คะแนน) | F11: มาก (4 คะแนน) | G11: มากที่สุด (5 คะแนน) | H11: น้อยที่สุด (1 คะแนน) | I11: น้อย (2 คะแนน) | J11: ปานกลาง (3 คะแนน) | K11: มาก (4 คะแนน) | L11: มากที่สุด (5 คะแนน) | M11: น้อยที่สุด (1 คะแนน) | N11: น้อย (2 คะแนน) | O11: ปานกลาง (3 คะแนน) | P11: มาก (4 คะแนน) | Q11: มากที่สุด (5 คะแนน)
A12: เครื่องปรับอากาศ | B12: ไฟฟ้า | G12: 1 | L12: 1 | P12: 1 | R12: =5*5*4 -> 100 | S12: 1
A13: หลอดไฟฟ้า | B13: ไฟฟ้า | F13: 1 | K13: 1 | O13: 1 | R13: =4*4*3 -> 48 | S13: 2
A14: มอเตอร์ / ปั๊มน้ำ | B14: ไฟฟ้า | E14: 1 | J14: 1 | O14: 1 | R14: =3*3*3 -> 27 | S14: 3
A15: เครื่องทำน้ำเย็น | B15: ไฟฟ้า | D15: 1 | I15: 1 | N15: 1 | R15: =2*2*2 -> 8 | S15: 4
A18: หมายเหตุ | B18: 1. เครื่องจักร/อุปกรณ์หลัก ที่มีคะแนนรวมมาก ถือว่ามีความสำคัญในการนำไปกำหนดเป็นมาตรการอนุรักษ์พลังงาน
B19: 2. กรณีมีหลายแผนกให้เพิ่มตารางตามจำนวนแผนกที่มีการใช้พลังงาน
B20: 3. แนวทางนี้เป็นข้อแนะนำเท่านั้น ท่านสามารถใช้วิธีการอื่นในการประเมินที่มีค่านี้ได้ เช่น การตรวจวัด การใช้งานจริง

Sheet ข้อมูลไฟฟ้าเครื่องจักร
A1: ตารางที่ 4.11 แบบบันทึกข้อมูลการใช้พลังงานไฟฟ้าที่มีนัยสำคัญของเครื่องจักร/อุปกรณ์หลัก ปี 2565 | U1: เครื่องปรับอากาศ | Y1: แสงสว่าง | Z1: OTTV | AA1: RTTV
U2: ค่ามาตรฐาน | Y2: ค่ามาตรฐาน | Z2: ค่ามาตรฐาน | AA2: ค่ามาตรฐาน
A3: ระบบที่ใช้พลังงาน | B3: ชื่อเครื่องจักร/อุปกรณ์หลัก | C3: พิกัด | E3: จำนวน | F3: อายุการใช้งาน (ปี) | G3: ชั่วโมง ใช้งาน เฉลี่ย/ปี | H3: ปริมาณการใช้ พลังงานไฟฟ้า (กิโลวัตต์-ชั่วโมง/ปี) | I3: สัดส่วนการ ใช้พลังงาน ในระบบ | J3: ค่าประสิทธิภาพหรือสมรรถนะ | N3: การสูญเสียพลังงานไฟฟ้า (กิโลวัตต์-ชั่วโมง/ปี) | O3: หมายเหตุ | U3: Chiller | V3: 1.44 | W3: kW/ton | Y3: W/m2 | Z3: W/m2 | AA3: W/m2 | AC3: ค่าพลังงานปีฐาน
C4: ขนาด | D4: หน่วย | J4: ค่าพิกัด | K4: หน่วย | L4: ใช้งานจริง | M4: หน่วย | Q4: รวมAIR | R4: =SUM(E6:E129) -> 3054 | U4: > = 2538 - ใหม่ | V4: 1.4 | W4: kW/ton | Y4: 15 | Z4: 55 | AA4: 25 | AC4: ='4.2.1 SEC(พื้นที่)_65'!C21 -> 8677499
Q5: kW-เฉลี่ย | R5: BTU/TOR | S5: หมายเหตุ | U5: < 2538 - เก่า | V5: 1.61 | W5: kW/ton | AC5: %การใช้พลังงานเทียบปีฐาน
A6: ระบบปรับอากาศ | B6: Chiller | C6: 320 | D6: ton | E6: 2 | F6: 10 | G6: 1000 | H6: =(Q6)*E6*G6*40/100 -> 254520 | I6: =H6/' ข้อมูลการใช้ไฟฟ้า '!$F$20*100 -> 2.9331032 | J6: 1.44 | K6: kW/tr | L6: =Q6/R6 -> 0.99421875 | M6: kW/tr | Q6: 318.15 | R6: =C6 -> 320 | S6: =C6*12000 -> 3840000 | AC6: =ROUND((H6/$AC$4)*100,2) -> 2.93
A7: ระบบปรับอากาศ | B7: AHU | C7: 842000 | D7: Btu/hr | E7: 8 | F7: 10 | G7: 1000 | H7: =(C7/12000)*E7*G7*40/100 -> 224533.33 | I7: =H7/' ข้อมูลการใช้ไฟฟ้า '!$F$20*100 -> 2.5875351 | J7: 1.4 | K7: kW/tr | L7: =Q7/R7 -> 0.93092637 | M7: kW/tr | Q7: 65.32 | R7: =C7/12000 -> 70.166667 | S7: =C7*E7 -> 6736000 | U7: เครื่องปรับที่ไม่เกิน 75000 Btu | AC7: =ROUND((H7/$AC$4)*100,2) -> 2.59
A8: ระบบปรับอากาศ | B8: Water Pump | C8: 7.5 | D8: kW | E8: 2 | F8: 10 | G8: 1000 | H8: =C8*E8*G8*40/100 -> 6000 | I8: =H8/' ข้อมูลการใช้ไฟฟ้า '!$F$20*100 -> 0.069144347 | J8: 0.03 | K8: kW | L8: =J8 -> 0.03 | M8: kW | Q8: 6.96 | U8: บำรุงรักษา | V8: =SUM(E19:E129) -> 3003 | W8: เครื่อง | AC8: =ROUND((H8/$AC$4)*100,2) -> 0.07
A9: ระบบปรับอากาศ | B9: เครื่องปรับอากาศ | C9: 480000 | D9: Btu/hr | E9: 1 | F9: 8 | G9: 1500 | H9: =(C9/12000)*E9*G9*45/100 -> 27000 | I9: =H9/' ข้อมูลการใช้ไฟฟ้า '!$F$20*100 -> 0.31114956 | J9: 1.4 | K9: kW/tr | L9: =Q9/R9 -> 0.11875 | M9: kW/tr | P9: =C9/12000 -> 40 | Q9: 4.75 | R9: =C9/12000 -> 40 | S9: =C9*E9 -> 480000 | AC9: =ROUND((H9/$AC$4)*100,2) -> 0.31
A10: ระบบปรับอากาศ | B10: เครื่องปรับอากาศ | C10: 300000 | D10: Btu/hr | E10: 3 | F10: 12 - 23 | G10: 1500 | H10: =(C10/12000)*E10*G10*45/100 -> 50625 | I10: =H10/' ข้อมูลการใช้ไฟฟ้า '!$F$20*100 -> 0.58340543 | J10: 1.61 | K10: kW/tr | L10: =Q10/R10 -> 1.25 | M10: kW/tr | P10: =C10/12000 -> 25 | Q10: 31.25 | R10: =C10/12000 -> 25 | S10: =C10*E10 -> 900000 | U10: ระบบ | X10: กิโลวัตต์-ชั่วโมง/ปี | Z10: ร้อยละ | AC10: =ROUND((H10/$AC$4)*100,2) -> 0.58
A11: ระบบปรับอากาศ | B11: เครื่องปรับอากาศ | C11: 240000 | D11: Btu/hr | E11: 2 | F11: 15 | G11: 1500 | H11: =(C11/12000)*E11*G11*45/100 -> 27000 | I11: =H11/' ข้อมูลการใช้ไฟฟ้า '!$F$20*100 -> 0.31114956 | J11: 1.4 | K11: kW/tr | L11: =Q11/R11 -> 1.226 | M11: kW/tr | P11: =C11/12000 -> 20 | Q11: 24.52 | R11: =C11/12000 -> 20 | S11: =C11*E11 -> 480000 | X11: 2565 | Y11: 2566 | Z11: 2565 | AA11: 2566 | AC11: =ROUND((H11/$AC$4)*100,2) -> 0.31
A12: ระบบปรับอากาศ | B12: เครื่องปรับอากาศ | C12: 175000 | D12: Btu/hr | E12: 1 | F12: 10 | G12: 1500 | H12: =(C12/12000)*E12*G12*45/100 -> 9843.75 | I12: =H12/' ข้อมูลการใช้ไฟฟ้า '!$F$20*100 -> 0.11343994 | J12: 1.4 | K12: kW/tr | L12: =Q12/R12 -> 1.2150857 | M12: kW/tr | P12: =C12/12000 -> 14.583333 | Q12: 17.72 | R12: =C12/12000 -> 14.583333 | S12: =C12*E12 -> 175000 | U12: ปรับอากาศแบบรวมศูนย์ | X12: =SUM(H6:H8) -> 485053.33 | Y12: =X12 -> 485053.33 | Z12: =(X12/X$16)*100 -> 5.5897827 | AA12: =(Y12/Y$16)*100 -> 4.7965458 | AC12: =ROUND((H12/$AC$4)*100,2) -> 0.11
A13: ระบบปรับอากาศ | B13: เครื่องปรับอากาศ | C13: 150000 | D13: Btu/hr | E13: 8 | F13: 14 - 30 | G13: 1500 | H13: =(C13/12000)*E13*G13*45/100 -> 67500 | I13: =H13/' ข้อมูลการใช้ไฟฟ้า '!$F$20*100 -> 0.7778739 | J13: 1.61 | K13: kW/tr | L13: =Q13/R13 -> 1.2272 | M13: kW/tr | P13: =C13/12000 -> 12.5 | Q13: 15.34 | R13: =C13/12000 -> 12.5 | S13: =C13*E13 -> 1200000 | U13: *ปรับอากาศแบบแยกส่วน | X13: =SUM(H9:H129) -> 5478295.9 | Y13: =X13 -> 5478295.9 | Z13: =(X13/X$16)*100 -> 63.132199 | AA13: =(Y13/Y$16)*100 -> 54.173213 | AC13: =ROUND((H13/$AC$4)*100,2) -> 0.78
A14: ระบบปรับอากาศ | B14: เครื่องปรับอากาศ | C14: 130000 | D14: Btu/hr | E14: 3 | F14: 5 - 30 | G14: 1500 | H14: =(C14/12000)*E14*G14*45/100 -> 21937.5 | I14: =H14/' ข้อมูลการใช้ไฟฟ้า '!$F$20*100 -> 0.25280902 | J14: 1.61 | K14: kW/tr | L14: =Q14/R14 -> 1.2138462 | M14: kW/tr | P14: =C14/12000 -> 10.833333 | Q14: 13.15 | R14: =C14/12000 -> 10.833333 | S14: =C14*E14 -> 390000 | U14: แสงสว่าง | X14: =SUM(H130:H188) -> 2428935 | Y14: =X14 -> 2428935 | Z14: =(X14/X$16)*100 -> 27.991187 | AA14: =(Y14/Y$16)*100 -> 24.019004 | AC14: =ROUND((H14/$AC$4)*100,2) -> 0.25
A15: ระบบปรับอากาศ | B15: เครื่องปรับอากาศ | C15: 125000 | D15: Btu/hr | E15: 4 | F15: 23 | G15: 1500 | H15: =(C15/12000)*E15*G15*45/100 -> 28125 | I15: =H15/' ข้อมูลการใช้ไฟฟ้า '!$F$20*100 -> 0.32411413 | J15: 1.61 | K15: kW/tr | L15: =Q15/R15 -> 1.21152 | M15: kW/tr | P15: =C15/12000 -> 10.416667 | Q15: 12.62 | R15: =C15/12000 -> 10.416667 | S15: =C15*E15 -> 500000 | U15: อื่นๆ | X15: =X16-(X12+X13+X14) -> 285214.7 | Y15: =Y16-(Y12+Y13+Y14) -> 1720270.7 | Z15: =(X15/X$16)*100 -> 3.2868307 | AA15: =(Y15/Y$16)*100 -> 17.011237 | AC15: =ROUND((H15/$AC$4)*100,2) -> 0.32
A16: ระบบปรับอากาศ | B16: เครื่องปรับอากาศ | C16: 120000 | D16: Btu/hr | E16: 8 | F16: 21 | G16: 1500 | H16: =(C16/12000)*E16*G16*45/100 -> 54000 | I16: =H16/' ข้อมูลการใช้ไฟฟ้า '!$F$20*100 -> 0.62229912 | J16: 1.61 | K16: kW/tr | L16: =Q16/R16 -> 1.245 | M16: kW/tr | P16: =C16/12000 -> 10 | Q16: 12.45 | R16: =C16/12000 -> 10 | S16: =C16*E16 -> 960000 | U16: รวม | X16: =' ข้อมูลการใช้ไฟฟ้า '!F20 -> 8677499 | Y16: =' ข้อมูลการใช้ไฟฟ้า '!F46 -> 10112555 | Z16: =SUM(Z12:Z15) -> 100 | AA16: =SUM(AA12:AA15) -> 100 | AC16: =ROUND((H16/$AC$4)*100,2) -> 0.62
A17: ระบบปรับอากาศ | B17: เครื่องปรับอากาศ | C17: 101500 | D17: Btu/hr | E17: 2 | F17: 11 | G17: 1500 | H17: =(C17/12000)*E17*G17*45/100 -> 11418.75 | I17: =H17/' ข้อมูลการใช้ไฟฟ้า '!$F$20*100 -> 0.13159034 | J17: 1.4 | K17: kW/tr | L17: =Q17/R17 -> 1.2437438 | M17: kW/tr | P17: =C17/12000 -> 8.4583333 | Q17: 10.52 | R17: =C17/12000 -> 8.4583333 | S17: =C17*E17 -> 203000 | AC17: =ROUND((H17/$AC$4)*100,2) -> 0.13
A18: ระบบปรับอากาศ | B18: เครื่องปรับอากาศ | C18: 100000 | D18: Btu/hr | E18: 7 | F18: 8 - 13 | G18: 1500 | H18: =(C18/12000)*E18*G18*45/100 -> 39375 | I18: =H18/' ข้อมูลการใช้ไฟฟ้า '!$F$20*100 -> 0.45375978 | J18: 1.4 | K18: kW/tr | L18: =Q18/R18 -> 1.2492 | M18: kW/tr | P18: =C18/12000 -> 8.3333333 | Q18: 10.41 | R18: =C18/12000 -> 8.3333333 | S18: =C18*E18 -> 700000 | AC18: =ROUND((H18/$AC$4)*100,2) -> 0.45
A19: ระบบปรับอากาศ | B19: เครื่องปรับอากาศ | C19: 75000 | D19: Btu/hr | E19: 25 | F19: 13 - 29 | G19: 1500 | H19: =(C19/12000)*E19*G19*45/100 -> 105468.75 | I19: =H19/' ข้อมูลการใช้ไฟฟ้า '!$F$20*100 -> 1.215428 | J19: 1.61 | K19: kW/tr | L19: =Q19/R19 -> 1.2048 | M19: kW/tr | P19: =C19/12000 -> 6.25 | Q19: 7.53 | R19: =C19/12000 -> 6.25 | S19: =C19*E19 -> 1875000 | AC19: =ROUND((H19/$AC$4)*100,2) -> 1.22
A20: ระบบปรับอากาศ | B20: เครื่องปรับอากาศ | C20: 65000 | D20: Btu/hr | E20: 2 | F20: 15 | G20: 1500 | H20: =(C20/12000)*E20*G20*45/100 -> 7312.5 | I20: =H20/' ข้อมูลการใช้ไฟฟ้า '!$F$20*100 -> 0.084269673 | J20: 1.4 | K20: kW/tr | L20: =Q20/R20 -> 1.2073846 | M20: kW/tr | P20: =C20/12000 -> 5.4166667 | Q20: 6.54 | R20: =C20/12000 -> 5.4166667 | S20: =C20*E20 -> 130000 | AC20: =ROUND((H20/$AC$4)*100,2) -> 0.08
A21: ระบบปรับอากาศ | B21: เครื่องปรับอากาศ | C21: 62000 | D21: Btu/hr | E21: 24 | F21: 19 | G21: 1500 | H21: =(C21/12000)*E21*G21*45/100 -> 83700 | I21: =H21/' ข้อมูลการใช้ไฟฟ้า '!$F$20*100 -> 0.96456364 | J21: 1.6 | K21: kW/tr | L21: =Q21/R21 -> 1.2270968 | M21: kW/tr | P21: =C21/12000 -> 5.1666667 | Q21: 6.34 | R21: =C21/12000 -> 5.1666667 | S21: =C21*E21 -> 1488000 | AC21: =ROUND((H21/$AC$4)*100,2) -> 0.96
A22: ระบบปรับอากาศ | B22: เครื่องปรับอากาศ | C22: 60000 | D22: Btu/hr | E22: 115 | F22: 4 - 30 | G22: 1500 | H22: =(C22/12000)*E22*G22*45/100 -> 388125 | I22: =H22/' ข้อมูลการใช้ไฟฟ้า '!$F$20*100 -> 4.4727749 | J22: 1.6 | K22: kW/tr | L22: =Q22/R22 -> 1.246 | M22: kW/tr | P22: =C22/12000 -> 5 | Q22: 6.23 | R22: =C22/12000 -> 5 | S22: =C22*E22 -> 6900000 | AC22: =ROUND((H22/$AC$4)*100,2) -> 4.47
A23: ระบบปรับอากาศ | B23: เครื่องปรับอากาศ | C23: 58000 | D23: Btu/hr | E23: 2 | F23: 28 | G23: 1500 | H23: =(C23/12000)*E23*G23*45/100 -> 6525 | I23: =H23/' ข้อมูลการใช้ไฟฟ้า '!$F$20*100 -> 0.075194477 | J23: 1.61 | K23: kW/tr | L23: =Q23/R23 -> 1.2248276 | M23: kW/tr | P23: =C23/12000 -> 4.8333333 | Q23: 5.92 | R23: =C23/12000 -> 4.8333333 | S23: =C23*E23 -> 116000 | AC23: =ROUND((H23/$AC$4)*100,2) -> 0.08
A24: ระบบปรับอากาศ | B24: เครื่องปรับอากาศ | C24: 56298 | D24: Btu/hr | E24: 1 | F24: 3 | G24: 1500 | H24: =(C24/12000)*E24*G24*45/100 -> 3166.7625 | I24: =H24/' ข้อมูลการใช้ไฟฟ้า '!$F$20*100 -> 0.036493954 | J24: 1.4 | K24: kW/tr | L24: =Q24/R24 -> 1.1147821 | M24: kW/tr | P24: =C24/12000 -> 4.6915 | Q24: 5.23 | R24: =C24/12000 -> 4.6915 | S24: =C24*E24 -> 56298 | AC24: =ROUND((H24/$AC$4)*100,2) -> 0.04
A25: ระบบปรับอากาศ | B25: เครื่องปรับอากาศ | C25: 56000 | D25: Btu/hr | E25: 9 | F25: 15 - 21 | G25: 1500 | H25: =(C25/12000)*E25*G25*45/100 -> 28350 | I25: =H25/' ข้อมูลการใช้ไฟฟ้า '!$F$20*100 -> 0.32670704 | J25: 1.6 | K25: kW/tr | L25: =Q25/R25 -> 1.2257143 | M25: kW/tr | P25: =C25/12000 -> 4.6666667 | Q25: 5.72 | R25: =C25/12000 -> 4.6666667 | S25: =C25*E25 -> 504000 | AC25: =ROUND((H25/$AC$4)*100,2) -> 0.33
A26: ระบบปรับอากาศ | B26: เครื่องปรับอากาศ | C26: 53000 | D26: Btu/hr | E26: 3 | F26: 3 | G26: 1500 | H26: =(C26/12000)*E26*G26*45/100 -> 8943.75 | I26: =H26/' ข้อมูลการใช้ไฟฟ้า '!$F$20*100 -> 0.10306829 | J26: 1.4 | K26: kW/tr | L26: =Q26/R26 -> 1.1366038 | M26: kW/tr | P26: =C26/12000 -> 4.4166667 | Q26: 5.02 | R26: =C26/12000 -> 4.4166667 | S26: =C26*E26 -> 159000 | AC26: =ROUND((H26/$AC$4)*100,2) -> 0.1
A27: ระบบปรับอากาศ | B27: เครื่องปรับอากาศ | C27: 52000 | D27: Btu/hr | E27: 2 | F27: 22 | G27: 1500 | H27: =(C27/12000)*E27*G27*45/100 -> 5850 | I27: =H27/' ข้อมูลการใช้ไฟฟ้า '!$F$20*100 -> 0.067415738 | J27: 1.61 | K27: kW/tr | L27: =Q27/R27 -> 1.2253846 | M27: kW/tr | P27: =C27/12000 -> 4.3333333 | Q27: 5.31 | R27: =C27/12000 -> 4.3333333 | S27: =C27*E27 -> 104000 | AC27: =ROUND((H27/$AC$4)*100,2) -> 0.07
A28: ระบบปรับอากาศ | B28: เครื่องปรับอากาศ | C28: 50000 | D28: Btu/hr | E28: 12 | F28: 7 | G28: 1500 | H28: =(C28/12000)*E28*G28*45/100 -> 33750 | I28: =H28/' ข้อมูลการใช้ไฟฟ้า '!$F$20*100 -> 0.38893695 | J28: 1.4 | K28: kW/tr | L28: =Q28/R28 -> 1.1736 | M28: kW/tr | P28: =C28/12000 -> 4.1666667 | Q28: 4.89 | R28: =C28/12000 -> 4.1666667 | S28: =C28*E28 -> 600000 | AC28: =ROUND((H28/$AC$4)*100,2) -> 0.39
A29: ระบบปรับอากาศ | B29: เครื่องปรับอากาศ | C29: 49000 | D29: Btu/hr | E29: 1 | F29: 13 | G29: 1500 | H29: =(C29/12000)*E29*G29*45/100 -> 2756.25 | I29: =H29/' ข้อมูลการใช้ไฟฟ้า '!$F$20*100 -> 0.031763184 | J29: 1.61 | K29: kW/tr | L29: =Q29/R29 -> 1.204898 | M29: kW/tr | P29: =C29/12000 -> 4.0833333 | Q29: 4.92 | R29: =C29/12000 -> 4.0833333 | S29: =C29*E29 -> 49000 | AC29: =ROUND((H29/$AC$4)*100,2) -> 0.03
A30: ระบบปรับอากาศ | B30: เครื่องปรับอากาศ | C30: 48000 | D30: Btu/hr | E30: 80 | F30: 3 - 31 | G30: 1500 | H30: =(C30/12000)*E30*G30*45/100 -> 216000 | I30: =H30/' ข้อมูลการใช้ไฟฟ้า '!$F$20*100 -> 2.4891965 | J30: 1.61 | K30: kW/tr | L30: =Q30/R30 -> 1.19 | M30: kW/tr | P30: =C30/12000 -> 4 | Q30: 4.76 | R30: =C30/12000 -> 4 | S30: =C30*E30 -> 3840000 | AC30: =ROUND((H30/$AC$4)*100,2) -> 2.49
A31: ระบบปรับอากาศ | B31: เครื่องปรับอากาศ | C31: 46000 | D31: Btu/hr | E31: 3 | F31: 13 - 21 | G31: 1500 | H31: =(C31/12000)*E31*G31*45/100 -> 7762.5 | I31: =H31/' ข้อมูลการใช้ไฟฟ้า '!$F$20*100 -> 0.089455499 | J31: 1.61 | K31: kW/tr | L31: =Q31/R31 -> 1.1817391 | M31: kW/tr | P31: =C31/12000 -> 3.8333333 | Q31: 4.53 | R31: =C31/12000 -> 3.8333333 | S31: =C31*E31 -> 138000 | AC31: =ROUND((H31/$AC$4)*100,2) -> 0.09
A32: ระบบปรับอากาศ | B32: เครื่องปรับอากาศ | C32: 45000 | D32: Btu/hr | E32: 33 | F32: 7 - 23 | G32: 1500 | H32: =(C32/12000)*E32*G32*45/100 -> 83531.25 | I32: =H32/' ข้อมูลการใช้ไฟฟ้า '!$F$20*100 -> 0.96261895 | J32: 1.61 | K32: kW/tr | L32: =Q32/R32 -> 1.24 | M32: kW/tr | P32: =C32/12000 -> 3.75 | Q32: 4.65 | R32: =C32/12000 -> 3.75 | S32: =C32*E32 -> 1485000 | AC32: =ROUND((H32/$AC$4)*100,2) -> 0.96
A33: ระบบปรับอากาศ | B33: เครื่องปรับอากาศ | C33: 44200 | D33: Btu/hr | E33: 2 | F33: 17 | G33: 1500 | H33: =(C33/12000)*E33*G33*45/100 -> 4972.5 | I33: =H33/' ข้อมูลการใช้ไฟฟ้า '!$F$20*100 -> 0.057303378 | J33: 1.61 | K33: kW/tr | L33: =Q33/R33 -> 1.2271493 | M33: kW/tr | P33: =C33/12000 -> 3.6833333 | Q33: 4.52 | R33: =C33/12000 -> 3.6833333 | S33: =C33*E33 -> 88400 | AC33: =ROUND((H33/$AC$4)*100,2) -> 0.06
A34: ระบบปรับอากาศ | B34: เครื่องปรับอากาศ | C34: 44000 | D34: Btu/hr | E34: 52 | F34: 3 - 32 | G34: 1500 | H34: =(C34/12000)*E34*G34*45/100 -> 128700 | I34: =H34/' ข้อมูลการใช้ไฟฟ้า '!$F$20*100 -> 1.4831462 | J34: 1.61 | K34: kW/tr | L34: =Q34/R34 -> 1.2354545 | M34: kW/tr | P34: =C34/12000 -> 3.6666667 | Q34: 4.53 | R34: =C34/12000 -> 3.6666667 | S34: =C34*E34 -> 2288000 | AC34: =ROUND((H34/$AC$4)*100,2) -> 1.48
A35: ระบบปรับอากาศ | B35: เครื่องปรับอากาศ | C35: 42000 | D35: Btu/hr | E35: 162 | F35: 3 - 30 | G35: 1500 | H35: =(C35/12000)*E35*G35*45/100 -> 382725 | I35: =H35/' ข้อมูลการใช้ไฟฟ้า '!$F$20*100 -> 4.410545 | J35: 1.61 | K35: kW/tr | L35: =Q35/R35 -> 1.2342857 | M35: kW/tr | P35: =C35/12000 -> 3.5 | Q35: 4.32 | R35: =C35/12000 -> 3.5 | S35: =C35*E35 -> 6804000 | AC35: =ROUND((H35/$AC$4)*100,2) -> 4.41
A36: ระบบปรับอากาศ | B36: เครื่องปรับอากาศ | C36: 40944 | D36: Btu/hr | E36: 2 | F36: 15 | G36: 1500 | H36: =(C36/12000)*E36*G36*45/100 -> 4606.2 | I36: =H36/' ข้อมูลการใช้ไฟฟ้า '!$F$20*100 -> 0.053082115 | J36: 2.61 | K36: kW/tr | L36: =Q36/R36 -> 1.2075029 | M36: kW/tr | P36: =C36/12000 -> 3.412 | Q36: 4.12 | R36: =C36/12000 -> 3.412 | S36: =C36*E36 -> 81888 | AC36: =ROUND((H36/$AC$4)*100,2) -> 0.05
A37: ระบบปรับอากาศ | B37: เครื่องปรับอากาศ | C37: 40900 | D37: Btu/hr | E37: 5 | F37: 7 | G37: 1500 | H37: =(C37/12000)*E37*G37*45/100 -> 11503.125 | I37: =H37/' ข้อมูลการใช้ไฟฟ้า '!$F$20*100 -> 0.13256268 | J37: 1.4 | K37: kW/tr | L37: =Q37/R37 -> 1.1266504 | M37: kW/tr | P37: =C37/12000 -> 3.4083333 | Q37: 3.84 | R37: =C37/12000 -> 3.4083333 | S37: =C37*E37 -> 204500 | AC37: =ROUND((H37/$AC$4)*100,2) -> 0.13
A38: ระบบปรับอากาศ | B38: เครื่องปรับอากาศ | C38: 40800 | D38: Btu/hr | E38: 53 | F38: 8 | G38: 1500 | H38: =(C38/12000)*E38*G38*45/100 -> 121635 | I38: =H38/' ข้อมูลการใช้ไฟฟ้า '!$F$20*100 -> 1.4017288 | J38: 1.4 | K38: kW/tr | L38: =Q38/R38 -> 1.1205882 | M38: kW/tr | P38: =C38/12000 -> 3.4 | Q38: 3.81 | R38: =C38/12000 -> 3.4 | S38: =C38*E38 -> 2162400 | AC38: =ROUND((H38/$AC$4)*100,2) -> 1.4
A39: ระบบปรับอากาศ | B39: เครื่องปรับอากาศ | C39: 40400 | D39: Btu/hr | E39: 3 | F39: 8 | G39: 1500 | H39: =(C39/12000)*E39*G39*45/100 -> 6817.5 | I39: =H39/' ข้อมูลการใช้ไฟฟ้า '!$F$20*100 -> 0.078565264 | J39: 1.4 | K39: kW/tr | L39: =Q39/R39 -> 1.0841584 | M39: kW/tr | P39: =C39/12000 -> 3.3666667 | Q39: 3.65 | R39: =C39/12000 -> 3.3666667 | S39: =C39*E39 -> 121200 | AC39: =ROUND((H39/$AC$4)*100,2) -> 0.08
A40: ระบบปรับอากาศ | B40: เครื่องปรับอากาศ | C40: 40304.14 | D40: Btu/hr | E40: 12 | F40: 8 | G40: 1500 | H40: =(C40/12000)*E40*G40*45/100 -> 27205.294 | I40: =H40/' ข้อมูลการใช้ไฟฟ้า '!$F$20*100 -> 0.31351539 | J40: 1.4 | K40: kW/tr | L40: =Q40/R40 -> 1.0778049 | M40: kW/tr | P40: =C40/12000 -> 3.3586783 | Q40: 3.62 | R40: =C40/12000 -> 3.3586783 | S40: =C40*E40 -> 483649.68 | AC40: =ROUND((H40/$AC$4)*100,2) -> 0.31
A41: ระบบปรับอากาศ | B41: เครื่องปรับอากาศ | C41: 40000 | D41: Btu/hr | E41: 108 | F41: 3 - 29 | G41: 1500 | H41: =(C41/12000)*E41*G41*45/100 -> 243000 | I41: =H41/' ข้อมูลการใช้ไฟฟ้า '!$F$20*100 -> 2.8003461 | J41: 1.61 | K41: kW/tr | L41: =Q41/R41 -> 1.245 | M41: kW/tr | P41: =C41/12000 -> 3.3333333 | Q41: 4.15 | R41: =C41/12000 -> 3.3333333 | S41: =C41*E41 -> 4320000 | AC41: =ROUND((H41/$AC$4)*100,2) -> 2.8
A42: ระบบปรับอากาศ | B42: เครื่องปรับอากาศ | C42: 39000 | D42: Btu/hr | E42: 4 | F42: 8 | G42: 1500 | H42: =(C42/12000)*E42*G42*45/100 -> 8775 | I42: =H42/' ข้อมูลการใช้ไฟฟ้า '!$F$20*100 -> 0.10112361 | J42: 1.4 | K42: kW/tr | L42: =Q42/R42 -> 1.1753846 | M42: kW/tr | P42: =C42/12000 -> 3.25 | Q42: 3.82 | R42: =C42/12000 -> 3.25 | S42: =C42*E42 -> 156000 | AC42: =ROUND((H42/$AC$4)*100,2) -> 0.1
A43: ระบบปรับอากาศ | B43: เครื่องปรับอากาศ | C43: 38790 | D43: Btu/hr | E43: 1 | F43: 8 | G43: 1500 | H43: =(C43/12000)*E43*G43*45/100 -> 2181.9375 | I43: =H43/' ข้อมูลการใช้ไฟฟ้า '!$F$20*100 -> 0.025144774 | J43: 1.4 | K43: kW/tr | L43: =Q43/R43 -> 1.1198763 | M43: kW/tr | P43: =C43/12000 -> 3.2325 | Q43: 3.62 | R43: =C43/12000 -> 3.2325 | S43: =C43*E43 -> 38790 | AC43: =ROUND((H43/$AC$4)*100,2) -> 0.03
A44: ระบบปรับอากาศ | B44: เครื่องปรับอากาศ | C44: 38000 | D44: Btu/hr | E44: 49 | F44: 6 - 31 | G44: 1500 | H44: =(C44/12000)*E44*G44*45/100 -> 104737.5 | I44: =H44/' ข้อมูลการใช้ไฟฟ้า '!$F$20*100 -> 1.207001 | J44: 1.61 | K44: kW/tr | L44: =Q44/R44 -> 1.1621053 | M44: kW/tr | P44: =C44/12000 -> 3.1666667 | Q44: 3.68 | R44: =C44/12000 -> 3.1666667 | S44: =C44*E44 -> 1862000 | AC44: =ROUND((H44/$AC$4)*100,2) -> 1.21
A45: ระบบปรับอากาศ | B45: เครื่องปรับอากาศ | C45: 37600 | D45: Btu/hr | E45: 8 | F45: 10 | G45: 1500 | H45: =(C45/12000)*E45*G45*45/100 -> 16920 | I45: =H45/' ข้อมูลการใช้ไฟฟ้า '!$F$20*100 -> 0.19498706 | J45: 1.4 | K45: kW/tr | L45: =Q45/R45 -> 1.1840426 | M45: kW/tr | P45: =C45/12000 -> 3.1333333 | Q45: 3.71 | R45: =C45/12000 -> 3.1333333 | S45: =C45*E45 -> 300800 | AC45: =ROUND((H45/$AC$4)*100,2) -> 0.19
A46: ระบบปรับอากาศ | B46: เครื่องปรับอากาศ | C46: 37000 | D46: Btu/hr | E46: 52 | F46: 3 - 19 | G46: 1500 | H46: =(C46/12000)*E46*G46*45/100 -> 108225 | I46: =H46/' ข้อมูลการใช้ไฟฟ้า '!$F$20*100 -> 1.2471912 | J46: 1.4 | K46: kW/tr | L46: =Q46/R46 -> 1.187027 | M46: kW/tr | P46: =C46/12000 -> 3.0833333 | Q46: 3.66 | R46: =C46/12000 -> 3.0833333 | S46: =C46*E46 -> 1924000 | AC46: =ROUND((H46/$AC$4)*100,2) -> 1.25
A47: ระบบปรับอากาศ | B47: เครื่องปรับอากาศ | C47: 36800 | D47: Btu/hr | E47: 9 | F47: 11 - 13 | G47: 1500 | H47: =(C47/12000)*E47*G47*45/100 -> 18630 | I47: =H47/' ข้อมูลการใช้ไฟฟ้า '!$F$20*100 -> 0.2146932 | J47: 1.4 | K47: kW/tr | L47: =Q47/R47 -> 1.1706522 | M47: kW/tr | P47: =C47/12000 -> 3.0666667 | Q47: 3.59 | R47: =C47/12000 -> 3.0666667 | S47: =C47*E47 -> 331200 | AC47: =ROUND((H47/$AC$4)*100,2) -> 0.21
A48: ระบบปรับอากาศ | B48: เครื่องปรับอากาศ | C48: 36739 | D48: Btu/hr | E48: 16 | F48: 8 | G48: 1500 | H48: =(C48/12000)*E48*G48*45/100 -> 33065.1 | I48: =H48/' ข้อมูลการใช้ไฟฟ้า '!$F$20*100 -> 0.38104412 | J48: 1.4 | K48: kW/tr | L48: =Q48/R48 -> 1.1497319 | M48: kW/tr | P48: =C48/12000 -> 3.0615833 | Q48: 3.52 | R48: =C48/12000 -> 3.0615833 | S48: =C48*E48 -> 587824 | AC48: =ROUND((H48/$AC$4)*100,2) -> 0.38
A49: ระบบปรับอากาศ | B49: เครื่องปรับอากาศ | C49: 36491 | D49: Btu/hr | E49: 6 | F49: 15 | G49: 1500 | H49: =(C49/12000)*E49*G49*45/100 -> 12315.712 | I49: =H49/' ข้อมูลการใช้ไฟฟ้า '!$F$20*100 -> 0.14192698 | J49: 1.4 | K49: kW/tr | L49: =Q49/R49 -> 1.1772766 | M49: kW/tr | P49: =C49/12000 -> 3.0409167 | Q49: 3.58 | R49: =C49/12000 -> 3.0409167 | S49: =C49*E49 -> 218946 | AC49: =ROUND((H49/$AC$4)*100,2) -> 0.14
A50: ระบบปรับอากาศ | B50: เครื่องปรับอากาศ | C50: 36415 | D50: Btu/hr | E50: 1 | F50: 13 | G50: 1500 | H50: =(C50/12000)*E50*G50*45/100 -> 2048.3438 | I50: =H50/' ข้อมูลการใช้ไฟฟ้า '!$F$20*100 -> 0.023605232 | J50: 1.4 | K50: kW/tr | L50: =Q50/R50 -> 1.1995057 | M50: kW/tr | P50: =C50/12000 -> 3.0345833 | Q50: 3.64 | R50: =C50/12000 -> 3.0345833 | S50: =C50*E50 -> 36415 | AC50: =ROUND((H50/$AC$4)*100,2) -> 0.02
A51: ระบบปรับอากาศ | B51: เครื่องปรับอากาศ | C51: 36312 | D51: Btu/hr | E51: 1 | F51: 9 | G51: 1500 | H51: =(C51/12000)*E51*G51*45/100 -> 2042.55 | I51: =H51/' ข้อมูลการใช้ไฟฟ้า '!$F$20*100 -> 0.023538464 | J51: 1.4 | K51: kW/tr | L51: =Q51/R51 -> 1.0773298 | M51: kW/tr | P51: =C51/12000 -> 3.026 | Q51: 3.26 | R51: =C51/12000 -> 3.026 | S51: =C51*E51 -> 36312 | AC51: =ROUND((H51/$AC$4)*100,2) -> 0.02
A52: ระบบปรับอากาศ | B52: เครื่องปรับอากาศ | C52: 36170 | D52: Btu/hr | E52: 104 | F52: 6 | G52: 1500 | H52: =(C52/12000)*E52*G52*45/100 -> 211594.5 | I52: =H52/' ข้อมูลการใช้ไฟฟ้า '!$F$20*100 -> 2.4384273 | J52: 1.4 | K52: kW/tr | L52: =Q52/R52 -> 1.1014653 | M52: kW/tr | P52: =C52/12000 -> 3.0141667 | Q52: 3.32 | R52: =C52/12000 -> 3.0141667 | S52: =C52*E52 -> 3761680 | AC52: =ROUND((H52/$AC$4)*100,2) -> 2.44
A53: ระบบปรับอากาศ | B53: เครื่องปรับอากาศ | C53: 36167 | D53: Btu/hr | E53: 3 | F53: 11 | G53: 1500 | H53: =(C53/12000)*E53*G53*45/100 -> 6103.1812 | I53: =H53/' ข้อมูลการใช้ไฟฟ้า '!$F$20*100 -> 0.070333414 | J53: 1.4 | K53: kW/tr | L53: =Q53/R53 -> 1.1778693 | M53: kW/tr | P53: =C53/12000 -> 3.0139167 | Q53: 3.55 | R53: =C53/12000 -> 3.0139167 | S53: =C53*E53 -> 108501 | AC53: =ROUND((H53/$AC$4)*100,2) -> 0.07
A54: ระบบปรับอากาศ | B54: เครื่องปรับอากาศ | C54: 36100 | D54: Btu/hr | E54: 3 | F54: 4 | G54: 1500 | H54: =(C54/12000)*E54*G54*45/100 -> 6091.875 | I54: =H54/' ข้อมูลการใช้ไฟฟ้า '!$F$20*100 -> 0.07020312 | J54: 1.4 | K54: kW/tr | L54: =Q54/R54 -> 1.100277 | M54: kW/tr | P54: =C54/12000 -> 3.0083333 | Q54: 3.31 | R54: =C54/12000 -> 3.0083333 | S54: =C54*E54 -> 108300 | AC54: =ROUND((H54/$AC$4)*100,2) -> 0.07
A55: ระบบปรับอากาศ | B55: เครื่องปรับอากาศ | C55: 36065 | D55: Btu/hr | E55: 6 | F55: 5 | G55: 1500 | H55: =(C55/12000)*E55*G55*45/100 -> 12171.938 | I55: =H55/' ข้อมูลการใช้ไฟฟ้า '!$F$20*100 -> 0.14027011 | J55: 1.4 | K55: kW/tr | L55: =Q55/R55 -> 1.1113268 | M55: kW/tr | P55: =C55/12000 -> 3.0054167 | Q55: 3.34 | R55: =C55/12000 -> 3.0054167 | S55: =C55*E55 -> 216390 | AC55: =ROUND((H55/$AC$4)*100,2) -> 0.14
A56: ระบบปรับอากาศ | B56: เครื่องปรับอากาศ | C56: 36000 | D56: Btu/hr | E56: 199 | F56: 3 - 31 | G56: 1500 | H56: =(C56/12000)*E56*G56*45/100 -> 402975 | I56: =H56/' ข้อมูลการใช้ไฟฟ้า '!$F$20*100 -> 4.6439072 | J56: 1.61 | K56: kW/tr | L56: =Q56/R56 -> 1.2133333 | M56: kW/tr | P56: =C56/12000 -> 3 | Q56: 3.64 | R56: =C56/12000 -> 3 | S56: =C56*E56 -> 7164000 | AC56: =ROUND((H56/$AC$4)*100,2) -> 4.64
A57: ระบบปรับอากาศ | B57: เครื่องปรับอากาศ | C57: 35000 | D57: Btu/hr | E57: 5 | F57: 3 - 26 | G57: 1500 | H57: =(C57/12000)*E57*G57*45/100 -> 9843.75 | I57: =H57/' ข้อมูลการใช้ไฟฟ้า '!$F$20*100 -> 0.11343994 | J57: 1.61 | K57: kW/tr | L57: =Q57/R57 -> 1.2205714 | M57: kW/tr | P57: =C57/12000 -> 2.9166667 | Q57: 3.56 | R57: =C57/12000 -> 2.9166667 | S57: =C57*E57 -> 175000 | AC57: =ROUND((H57/$AC$4)*100,2) -> 0.11
A58: ระบบปรับอากาศ | B58: เครื่องปรับอากาศ | C58: 34212 | D58: Btu/hr | E58: 2 | F58: 16 | G58: 1500 | H58: =(C58/12000)*E58*G58*45/100 -> 3848.85 | I58: =H58/' ข้อมูลการใช้ไฟฟ้า '!$F$20*100 -> 0.04435437 | J58: 1.4 | K58: kW/tr | L58: =Q58/R58 -> 1.2697299 | M58: kW/tr | P58: =C58/12000 -> 2.851 | Q58: 3.62 | R58: =C58/12000 -> 2.851 | S58: =C58*E58 -> 68424 | AC58: =ROUND((H58/$AC$4)*100,2) -> 0.04
A59: ระบบปรับอากาศ | B59: เครื่องปรับอากาศ | C59: 34000 | D59: Btu/hr | E59: 25 | F59: 8 - 20 | G59: 1500 | H59: =(C59/12000)*E59*G59*45/100 -> 47812.5 | I59: =H59/' ข้อมูลการใช้ไฟฟ้า '!$F$20*100 -> 0.55099401 | J59: 1.61 | K59: kW/tr | L59: =Q59/R59 -> 1.2494118 | M59: kW/tr | P59: =C59/12000 -> 2.8333333 | Q59: 3.54 | R59: =C59/12000 -> 2.8333333 | S59: =C59*E59 -> 850000 | AC59: =ROUND((H59/$AC$4)*100,2) -> 0.55
A60: ระบบปรับอากาศ | B60: เครื่องปรับอากาศ | C60: 33000 | D60: Btu/hr | E60: 118 | F60: 3 - 31 | G60: 1500 | H60: =(C60/12000)*E60*G60*45/100 -> 219037.5 | I60: =H60/' ข้อมูลการใช้ไฟฟ้า '!$F$20*100 -> 2.5242008 | J60: 1.61 | K60: kW/tr | L60: =Q60/R60 -> 1.1745455 | M60: kW/tr | P60: =C60/12000 -> 2.75 | Q60: 3.23 | R60: =C60/12000 -> 2.75 | S60: =C60*E60 -> 3894000 | AC60: =ROUND((H60/$AC$4)*100,2) -> 2.52
A61: ระบบปรับอากาศ | B61: เครื่องปรับอากาศ | C61: 32000 | D61: Btu/hr | E61: 37 | F61: 10 - 40 | G61: 1500 | H61: =(C61/12000)*E61*G61*45/100 -> 66600 | I61: =H61/' ข้อมูลการใช้ไฟฟ้า '!$F$20*100 -> 0.76750225 | J61: 1.61 | K61: kW/tr | L61: =Q61/R61 -> 1.2675 | M61: kW/tr | P61: =C61/12000 -> 2.6666667 | Q61: 3.38 | R61: =C61/12000 -> 2.6666667 | S61: =C61*E61 -> 1184000 | AC61: =ROUND((H61/$AC$4)*100,2) -> 0.77
A62: ระบบปรับอากาศ | B62: เครื่องปรับอากาศ | C62: 31649 | D62: Btu/hr | E62: 1 | F62: 7 | G62: 1500 | H62: =(C62/12000)*E62*G62*45/100 -> 1780.2562 | I62: =H62/' ข้อมูลการใช้ไฟฟ้า '!$F$20*100 -> 0.020515776 | J62: 1.4 | K62: kW/tr | L62: =Q62/R62 -> 1.1412683 | M62: kW/tr | P62: =C62/12000 -> 2.6374167 | Q62: 3.01 | R62: =C62/12000 -> 2.6374167 | S62: =C62*E62 -> 31649 | AC62: =ROUND((H62/$AC$4)*100,2) -> 0.02
A63: ระบบปรับอากาศ | B63: เครื่องปรับอากาศ | C63: 30471 | D63: Btu/hr | E63: 6 | F63: 8 | G63: 1500 | H63: =(C63/12000)*E63*G63*45/100 -> 10283.962 | I63: =H63/' ข้อมูลการใช้ไฟฟ้า '!$F$20*100 -> 0.11851298 | J63: 1.4 | K63: kW/tr | L63: =Q63/R63 -> 1.2444619 | M63: kW/tr | P63: =C63/12000 -> 2.53925 | Q63: 3.16 | R63: =C63/12000 -> 2.53925 | S63: =C63*E63 -> 182826 | AC63: =ROUND((H63/$AC$4)*100,2) -> 0.12
A64: ระบบปรับอากาศ | B64: เครื่องปรับอากาศ | C64: 30440.7 | D64: Btu/hr | E64: 12 | F64: 8 | G64: 1500 | H64: =(C64/12000)*E64*G64*45/100 -> 20547.473 | I64: =H64/' ข้อมูลการใช้ไฟฟ้า '!$F$20*100 -> 0.23679026 | J64: 1.4 | K64: kW/tr | L64: =Q64/R64 -> 1.2811795 | M64: kW/tr | P64: =C64/12000 -> 2.536725 | Q64: 3.25 | R64: =C64/12000 -> 2.536725 | S64: =C64*E64 -> 365288.4 | AC64: =ROUND((H64/$AC$4)*100,2) -> 0.24
A65: ระบบปรับอากาศ | B65: เครื่องปรับอากาศ | C65: 30070 | D65: Btu/hr | E65: 198 | F65: 6 | G65: 1500 | H65: =(C65/12000)*E65*G65*45/100 -> 334904.62 | I65: =H65/' ข้อมูลการใช้ไฟฟ้า '!$F$20*100 -> 3.8594603 | J65: 1.4 | K65: kW/tr | L65: =Q65/R65 -> 1.1772531 | M65: kW/tr | P65: =C65/12000 -> 2.5058333 | Q65: 2.95 | R65: =C65/12000 -> 2.5058333 | S65: =C65*E65 -> 5953860 | AC65: =ROUND((H65/$AC$4)*100,2) -> 3.86
A66: ระบบปรับอากาศ | B66: เครื่องปรับอากาศ | C66: 30000 | D66: Btu/hr | E66: 172 | F66: 4 - 22 | G66: 1500 | H66: =(C66/12000)*E66*G66*45/100 -> 290250 | I66: =H66/' ข้อมูลการใช้ไฟฟ้า '!$F$20*100 -> 3.3448578 | J66: 1.61 | K66: kW/tr | L66: =Q66/R66 -> 1.264 | M66: kW/tr | P66: =C66/12000 -> 2.5 | Q66: 3.16 | R66: =C66/12000 -> 2.5 | S66: =C66*E66 -> 5160000 | AC66: =ROUND((H66/$AC$4)*100,2) -> 3.34
A67: ระบบปรับอากาศ | B67: เครื่องปรับอากาศ | C67: 28000 | D67: Btu/hr | E67: 15 | F67: 19 - 35 | G67: 1500 | H67: =(C67/12000)*E67*G67*45/100 -> 23625 | I67: =H67/' ข้อมูลการใช้ไฟฟ้า '!$F$20*100 -> 0.27225587 | J67: 1.61 | K67: kW/tr | L67: =Q67/R67 -> 1.2557143 | M67: kW/tr | P67: =C67/12000 -> 2.3333333 | Q67: 2.93 | R67: =C67/12000 -> 2.3333333 | S67: =C67*E67 -> 420000 | AC67: =ROUND((H67/$AC$4)*100,2) -> 0.27
A68: ระบบปรับอากาศ | B68: เครื่องปรับอากาศ | C68: 26600 | D68: Btu/hr | E68: 1 | F68: 3 | G68: 1500 | H68: =(C68/12000)*E68*G68*45/100 -> 1496.25 | I68: =H68/' ข้อมูลการใช้ไฟฟ้า '!$F$20*100 -> 0.017242872 | J68: 1.4 | K68: kW/tr | L68: =Q68/R68 -> 1.1323308 | M68: kW/tr | P68: =C68/12000 -> 2.2166667 | Q68: 2.51 | R68: =C68/12000 -> 2.2166667 | S68: =C68*E68 -> 26600 | AC68: =ROUND((H68/$AC$4)*100,2) -> 0.02
A69: ระบบปรับอากาศ | B69: เครื่องปรับอากาศ | C69: 26560 | D69: Btu/hr | E69: 1 | F69: 9 | G69: 1500 | H69: =(C69/12000)*E69*G69*45/100 -> 1494 | I69: =H69/' ข้อมูลการใช้ไฟฟ้า '!$F$20*100 -> 0.017216942 | J69: 1.4 | K69: kW/tr | L69: =Q69/R69 -> 1.1430723 | M69: kW/tr | P69: =C69/12000 -> 2.2133333 | Q69: 2.53 | R69: =C69/12000 -> 2.2133333 | S69: =C69*E69 -> 26560 | AC69: =ROUND((H69/$AC$4)*100,2) -> 0.02
A70: ระบบปรับอากาศ | B70: เครื่องปรับอากาศ | C70: 26000 | D70: Btu/hr | E70: 77 | F70: 3 - 27 | G70: 1500 | H70: =(C70/12000)*E70*G70*45/100 -> 112612.5 | I70: =H70/' ข้อมูลการใช้ไฟฟ้า '!$F$20*100 -> 1.297753 | J70: 1.61 | K70: kW/tr | L70: =Q70/R70 -> 1.2415385 | M70: kW/tr | P70: =C70/12000 -> 2.1666667 | Q70: 2.69 | R70: =C70/12000 -> 2.1666667 | S70: =C70*E70 -> 2002000 | AC70: =ROUND((H70/$AC$4)*100,2) -> 1.3
A71: ระบบปรับอากาศ | B71: เครื่องปรับอากาศ | C71: 25900 | D71: Btu/hr | E71: 2 | F71: 9 | G71: 1500 | H71: =(C71/12000)*E71*G71*45/100 -> 2913.75 | I71: =H71/' ข้อมูลการใช้ไฟฟ้า '!$F$20*100 -> 0.033578223 | J71: 1.4 | K71: kW/tr | L71: =Q71/R71 -> 1.1351351 | M71: kW/tr | P71: =C71/12000 -> 2.1583333 | Q71: 2.45 | R71: =C71/12000 -> 2.1583333 | S71: =C71*E71 -> 51800 | AC71: =ROUND((H71/$AC$4)*100,2) -> 0.03
A72: ระบบปรับอากาศ | B72: เครื่องปรับอากาศ | C72: 25871 | D72: Btu/hr | E72: 3 | F72: 5 | G72: 1500 | H72: =(C72/12000)*E72*G72*45/100 -> 4365.7312 | I72: =H72/' ข้อมูลการใช้ไฟฟ้า '!$F$20*100 -> 0.050310939 | J72: 1.4 | K72: kW/tr | L72: =Q72/R72 -> 1.1549612 | M72: kW/tr | P72: =C72/12000 -> 2.1559167 | Q72: 2.49 | R72: =C72/12000 -> 2.1559167 | S72: =C72*E72 -> 77613 | AC72: =ROUND((H72/$AC$4)*100,2) -> 0.05
A73: ระบบปรับอากาศ | B73: เครื่องปรับอากาศ | C73: 25696.8 | D73: Btu/hr | E73: 16 | F73: 10 - 14 | G73: 1500 | H73: =(C73/12000)*E73*G73*45/100 -> 23127.12 | I73: =H73/' ข้อมูลการใช้ไฟฟ้า '!$F$20*100 -> 0.26651827 | J73: 1.4 | K73: kW/tr | L73: =Q73/R73 -> 1.1954796 | M73: kW/tr | P73: =C73/12000 -> 2.1414 | Q73: 2.56 | R73: =C73/12000 -> 2.1414 | S73: =C73*E73 -> 411148.8 | AC73: =ROUND((H73/$AC$4)*100,2) -> 0.27
A74: ระบบปรับอากาศ | B74: เครื่องปรับอากาศ | C74: 25696 | D74: Btu/hr | E74: 2 | F74: 13 | G74: 1500 | H74: =(C74/12000)*E74*G74*45/100 -> 2890.8 | I74: =H74/' ข้อมูลการใช้ไฟฟ้า '!$F$20*100 -> 0.033313746 | J74: 1.4 | K74: kW/tr | L74: =Q74/R74 -> 1.1488169 | M74: kW/tr | P74: =C74/12000 -> 2.1413333 | Q74: 2.46 | R74: =C74/12000 -> 2.1413333 | S74: =C74*E74 -> 51392 | AC74: =ROUND((H74/$AC$4)*100,2) -> 0.03
A75: ระบบปรับอากาศ | B75: เครื่องปรับอากาศ | C75: 25425 | D75: Btu/hr | E75: 10 | F75: 11 | G75: 1500 | H75: =(C75/12000)*E75*G75*45/100 -> 14301.562 | I75: =H75/' ข้อมูลการใช้ไฟฟ้า '!$F$20*100 -> 0.16481203 | J75: 1.4 | K75: kW/tr | L75: =Q75/R75 -> 1.1846608 | M75: kW/tr | P75: =C75/12000 -> 2.11875 | Q75: 2.51 | R75: =C75/12000 -> 2.11875 | S75: =C75*E75 -> 254250 | AC75: =ROUND((H75/$AC$4)*100,2) -> 0.16
A76: ระบบปรับอากาศ | B76: เครื่องปรับอากาศ | C76: 25262.45 | D76: Btu/hr | E76: 17 | F76: 16 | G76: 1500 | H76: =(C76/12000)*E76*G76*45/100 -> 24157.218 | I76: =H76/' ข้อมูลการใช้ไฟฟ้า '!$F$20*100 -> 0.27838917 | J76: 1.4 | K76: kW/tr | L76: =Q76/R76 -> 1.2445349 | M76: kW/tr | P76: =C76/12000 -> 2.1052042 | Q76: 2.62 | R76: =C76/12000 -> 2.1052042 | S76: =C76*E76 -> 429461.65 | AC76: =ROUND((H76/$AC$4)*100,2) -> 0.28
A77: ระบบปรับอากาศ | B77: เครื่องปรับอากาศ | C77: 25253 | D77: Btu/hr | E77: 1 | F77: 5 | G77: 1500 | H77: =(C77/12000)*E77*G77*45/100 -> 1420.4813 | I77: =H77/' ข้อมูลการใช้ไฟฟ้า '!$F$20*100 -> 0.016369708 | J77: 1.4 | K77: kW/tr | L77: =Q77/R77 -> 1.1119471 | M77: kW/tr | P77: =C77/12000 -> 2.1044167 | Q77: 2.34 | R77: =C77/12000 -> 2.1044167 | S77: =C77*E77 -> 25253 | AC77: =ROUND((H77/$AC$4)*100,2) -> 0.02
A78: ระบบปรับอากาศ | B78: เครื่องปรับอากาศ | C78: 25000 | D78: Btu/hr | E78: 187 | F78: 3 - 35 | G78: 1500 | H78: =(C78/12000)*E78*G78*45/100 -> 262968.75 | I78: =H78/' ข้อมูลการใช้ไฟฟ้า '!$F$20*100 -> 3.0304671 | J78: 1.61 | K78: kW/tr | L78: =Q78/R78 -> 1.224 | M78: kW/tr | P78: =C78/12000 -> 2.0833333 | Q78: 2.55 | R78: =C78/12000 -> 2.0833333 | S78: =C78*E78 -> 4675000 | AC78: =ROUND((H78/$AC$4)*100,2) -> 3.03
A79: ระบบปรับอากาศ | B79: เครื่องปรับอากาศ | C79: 24460 | D79: Btu/hr | E79: 26 | F79: 6 | G79: 1500 | H79: =(C79/12000)*E79*G79*45/100 -> 35772.75 | I79: =H79/' ข้อมูลการใช้ไฟฟ้า '!$F$20*100 -> 0.41224724 | J79: 1.4 | K79: kW/tr | L79: =Q79/R79 -> 1.0940311 | M79: kW/tr | P79: =C79/12000 -> 2.0383333 | Q79: 2.23 | R79: =C79/12000 -> 2.0383333 | S79: =C79*E79 -> 635960 | AC79: =ROUND((H79/$AC$4)*100,2) -> 0.41
A80: ระบบปรับอากาศ | B80: เครื่องปรับอากาศ | C80: 24400 | D80: Btu/hr | E80: 1 | F80: 12 | G80: 1500 | H80: =(C80/12000)*E80*G80*45/100 -> 1372.5 | I80: =H80/' ข้อมูลการใช้ไฟฟ้า '!$F$20*100 -> 0.015816769 | J80: 1.4 | K80: kW/tr | L80: =Q80/R80 -> 1.204918 | M80: kW/tr | P80: =C80/12000 -> 2.0333333 | Q80: 2.45 | R80: =C80/12000 -> 2.0333333 | S80: =C80*E80 -> 24400 | AC80: =ROUND((H80/$AC$4)*100,2) -> 0.02
A81: ระบบปรับอากาศ | B81: เครื่องปรับอากาศ | C81: 24235 | D81: Btu/hr | E81: 3 | F81: 6 | G81: 1500 | H81: =(C81/12000)*E81*G81*45/100 -> 4089.6562 | I81: =H81/' ข้อมูลการใช้ไฟฟ้า '!$F$20*100 -> 0.047129435 | J81: 1.4 | K81: kW/tr | L81: =Q81/R81 -> 1.1487518 | M81: kW/tr | P81: =C81/12000 -> 2.0195833 | Q81: 2.32 | R81: =C81/12000 -> 2.0195833 | S81: =C81*E81 -> 72705 | AC81: =ROUND((H81/$AC$4)*100,2) -> 0.05
A82: ระบบปรับอากาศ | B82: เครื่องปรับอากาศ | C82: 24070 | D82: Btu/hr | E82: 2 | F82: 7 | G82: 1500 | H82: =(C82/12000)*E82*G82*45/100 -> 2707.875 | I82: =H82/' ข้อมูลการใช้ไฟฟ้า '!$F$20*100 -> 0.031205708 | J82: 1.4 | K82: kW/tr | L82: =Q82/R82 -> 1.1815538 | M82: kW/tr | P82: =C82/12000 -> 2.0058333 | Q82: 2.37 | R82: =C82/12000 -> 2.0058333 | S82: =C82*E82 -> 48140 | AC82: =ROUND((H82/$AC$4)*100,2) -> 0.03
A83: ระบบปรับอากาศ | B83: เครื่องปรับอากาศ | C83: 24010 | D83: Btu/hr | E83: 14 | F83: 6 | G83: 1500 | H83: =(C83/12000)*E83*G83*45/100 -> 18907.875 | I83: =H83/' ข้อมูลการใช้ไฟฟ้า '!$F$20*100 -> 0.21789544 | J83: 1.4 | K83: kW/tr | L83: =Q83/R83 -> 1.154519 | M83: kW/tr | P83: =C83/12000 -> 2.0008333 | Q83: 2.31 | R83: =C83/12000 -> 2.0008333 | S83: =C83*E83 -> 336140 | AC83: =ROUND((H83/$AC$4)*100,2) -> 0.22
A84: ระบบปรับอากาศ | B84: เครื่องปรับอากาศ | C84: 24000 | D84: Btu/hr | E84: 66 | F84: 3- 29 | G84: 1500 | H84: =(C84/12000)*E84*G84*45/100 -> 89100 | I84: =H84/' ข้อมูลการใช้ไฟฟ้า '!$F$20*100 -> 1.0267936 | J84: 1.61 | K84: kW/tr | L84: =Q84/R84 -> 1.225 | M84: kW/tr | P84: =C84/12000 -> 2 | Q84: 2.45 | R84: =C84/12000 -> 2 | S84: =C84*E84 -> 1584000 | AC84: =ROUND((H84/$AC$4)*100,2) -> 1.03
A85: ระบบปรับอากาศ | B85: เครื่องปรับอากาศ | C85: 23000 | D85: Btu/hr | E85: 3 | F85: 3 | G85: 1500 | H85: =(C85/12000)*E85*G85*45/100 -> 3881.25 | I85: =H85/' ข้อมูลการใช้ไฟฟ้า '!$F$20*100 -> 0.044727749 | J85: 1.4 | K85: kW/tr | L85: =Q85/R85 -> 1.0486957 | M85: kW/tr | P85: =C85/12000 -> 1.9166667 | Q85: 2.01 | R85: =C85/12000 -> 1.9166667 | S85: =C85*E85 -> 69000 | AC85: =ROUND((H85/$AC$4)*100,2) -> 0.04
A86: ระบบปรับอากาศ | B86: เครื่องปรับอากาศ | C86: 22000 | D86: Btu/hr | E86: 10 | F86: 3 - 28 | G86: 1500 | H86: =(C86/12000)*E86*G86*45/100 -> 12375 | I86: =H86/' ข้อมูลการใช้ไฟฟ้า '!$F$20*100 -> 0.14261022 | J86: 1.61 | K86: kW/tr | L86: =Q86/R86 -> 1.2436364 | M86: kW/tr | P86: =C86/12000 -> 1.8333333 | Q86: 2.28 | R86: =C86/12000 -> 1.8333333 | S86: =C86*E86 -> 220000 | AC86: =ROUND((H86/$AC$4)*100,2) -> 0.14
A87: ระบบปรับอากาศ | B87: เครื่องปรับอากาศ | C87: 21000 | D87: Btu/hr | E87: 2 | F87: 30 | G87: 1500 | H87: =(C87/12000)*E87*G87*45/100 -> 2362.5 | I87: =H87/' ข้อมูลการใช้ไฟฟ้า '!$F$20*100 -> 0.027225587 | J87: 1.61 | K87: kW/tr | L87: =Q87/R87 -> 1.3085714 | M87: kW/tr | P87: =C87/12000 -> 1.75 | Q87: 2.29 | R87: =C87/12000 -> 1.75 | S87: =C87*E87 -> 42000 | AC87: =ROUND((H87/$AC$4)*100,2) -> 0.03
A88: ระบบปรับอากาศ | B88: เครื่องปรับอากาศ | C88: 20000 | D88: Btu/hr | E88: 58 | F88: 11 - 32 | G88: 1500 | H88: =(C88/12000)*E88*G88*45/100 -> 65250 | I88: =H88/' ข้อมูลการใช้ไฟฟ้า '!$F$20*100 -> 0.75194477 | J88: 1.61 | K88: kW/tr | L88: =Q88/R88 -> 1.35 | M88: kW/tr | P88: =C88/12000 -> 1.6666667 | Q88: 2.25 | R88: =C88/12000 -> 1.6666667 | S88: =C88*E88 -> 1160000 | AC88: =ROUND((H88/$AC$4)*100,2) -> 0.75
A89: ระบบปรับอากาศ | B89: เครื่องปรับอากาศ | C89: 19200 | D89: Btu/hr | E89: 1 | F89: 3 | G89: 1500 | H89: =(C89/12000)*E89*G89*45/100 -> 1080 | I89: =H89/' ข้อมูลการใช้ไฟฟ้า '!$F$20*100 -> 0.012445982 | J89: 1.4 | K89: kW/tr | L89: =Q89/R89 -> 1.09375 | M89: kW/tr | P89: =C89/12000 -> 1.6 | Q89: 1.75 | R89: =C89/12000 -> 1.6 | S89: =C89*E89 -> 19200 | AC89: =ROUND((H89/$AC$4)*100,2) -> 0.01
A90: ระบบปรับอากาศ | B90: เครื่องปรับอากาศ | C90: 19037 | D90: Btu/hr | E90: 2 | F90: 16 | G90: 1500 | H90: =(C90/12000)*E90*G90*45/100 -> 2141.6625 | I90: =H90/' ข้อมูลการใช้ไฟฟ้า '!$F$20*100 -> 0.024680642 | J90: 1.4 | K90: kW/tr | L90: =Q90/R90 -> 1.3552556 | M90: kW/tr | P90: =C90/12000 -> 1.5864167 | Q90: 2.15 | R90: =C90/12000 -> 1.5864167 | S90: =C90*E90 -> 38074 | AC90: =ROUND((H90/$AC$4)*100,2) -> 0.02
A91: ระบบปรับอากาศ | B91: เครื่องปรับอากาศ | C91: 19000 | D91: Btu/hr | E91: 43 | F91: 7 - 29 | G91: 1500 | H91: =(C91/12000)*E91*G91*45/100 -> 45956.25 | I91: =H91/' ข้อมูลการใช้ไฟฟ้า '!$F$20*100 -> 0.52960248 | J91: 1.61 | K91: kW/tr | L91: =Q91/R91 -> 1.4273684 | M91: kW/tr | P91: =C91/12000 -> 1.5833333 | Q91: 2.26 | R91: =C91/12000 -> 1.5833333 | S91: =C91*E91 -> 817000 | AC91: =ROUND((H91/$AC$4)*100,2) -> 0.53
A92: ระบบปรับอากาศ | B92: เครื่องปรับอากาศ | C92: 18559 | D92: Btu/hr | E92: 2 | F92: 14 | G92: 1500 | H92: =(C92/12000)*E92*G92*45/100 -> 2087.8875 | I92: =H92/' ข้อมูลการใช้ไฟฟ้า '!$F$20*100 -> 0.024060936 | J92: 1.4 | K92: kW/tr | L92: =Q92/R92 -> 1.202651 | M92: kW/tr | P92: =C92/12000 -> 1.5465833 | Q92: 1.86 | R92: =C92/12000 -> 1.5465833 | S92: =C92*E92 -> 37118 | AC92: =ROUND((H92/$AC$4)*100,2) -> 0.02
A93: ระบบปรับอากาศ | B93: เครื่องปรับอากาศ | C93: 18084 | D93: Btu/hr | E93: 1 | F93: 5 | G93: 1500 | H93: =(C93/12000)*E93*G93*45/100 -> 1017.225 | I93: =H93/' ข้อมูลการใช้ไฟฟ้า '!$F$20*100 -> 0.01172256 | J93: 1.4 | K93: kW/tr | L93: =Q93/R93 -> 1.0948905 | M93: kW/tr | P93: =C93/12000 -> 1.507 | Q93: 1.65 | R93: =C93/12000 -> 1.507 | S93: =C93*E93 -> 18084 | AC93: =ROUND((H93/$AC$4)*100,2) -> 0.01
A94: ระบบปรับอากาศ | B94: เครื่องปรับอากาศ | C94: 18010 | D94: Btu/hr | E94: 10 | F94: 5 | G94: 1500 | H94: =(C94/12000)*E94*G94*45/100 -> 10130.625 | I94: =H94/' ข้อมูลการใช้ไฟฟ้า '!$F$20*100 -> 0.11674591 | J94: 1.4 | K94: kW/tr | L94: =Q94/R94 -> 1.1660189 | M94: kW/tr | P94: =C94/12000 -> 1.5008333 | Q94: 1.75 | R94: =C94/12000 -> 1.5008333 | S94: =C94*E94 -> 180100 | AC94: =ROUND((H94/$AC$4)*100,2) -> 0.12
A95: ระบบปรับอากาศ | B95: เครื่องปรับอากาศ | C95: 18000 | D95: Btu/hr | E95: 123 | F95: 2 - 50 | G95: 1500 | H95: =(C95/12000)*E95*G95*45/100 -> 124537.5 | I95: =H95/' ข้อมูลการใช้ไฟฟ้า '!$F$20*100 -> 1.4351774 | J95: 1.61 | K95: kW/tr | L95: =Q95/R95 -> 1.24 | M95: kW/tr | P95: =C95/12000 -> 1.5 | Q95: 1.86 | R95: =C95/12000 -> 1.5 | S95: =C95*E95 -> 2214000 | AC95: =ROUND((H95/$AC$4)*100,2) -> 1.44
A96: ระบบปรับอากาศ | B96: เครื่องปรับอากาศ | C96: 17992 | D96: Btu/hr | E96: 2 | F96: 5 | G96: 1500 | H96: =(C96/12000)*E96*G96*45/100 -> 2024.1 | I96: =H96/' ข้อมูลการใช้ไฟฟ้า '!$F$20*100 -> 0.023325845 | J96: 1.4 | K96: kW/tr | L96: =Q96/R96 -> 1.0804802 | M96: kW/tr | P96: =C96/12000 -> 1.4993333 | Q96: 1.62 | R96: =C96/12000 -> 1.4993333 | S96: =C96*E96 -> 35984 | AC96: =ROUND((H96/$AC$4)*100,2) -> 0.02
A97: ระบบปรับอากาศ | B97: เครื่องปรับอากาศ | C97: 17742 | D97: Btu/hr | E97: 2 | F97: 5 | G97: 1500 | H97: =(C97/12000)*E97*G97*45/100 -> 1995.975 | I97: =H97/' ข้อมูลการใช้ไฟฟ้า '!$F$20*100 -> 0.023001731 | J97: 1.4 | K97: kW/tr | L97: =Q97/R97 -> 1.0551234 | M97: kW/tr | P97: =C97/12000 -> 1.4785 | Q97: 1.56 | R97: =C97/12000 -> 1.4785 | S97: =C97*E97 -> 35484 | AC97: =ROUND((H97/$AC$4)*100,2) -> 0.02
A98: ระบบปรับอากาศ | B98: เครื่องปรับอากาศ | C98: 17000 | D98: Btu/hr | E98: 9 | F98: 2 - 27 | G98: 1500 | H98: =(C98/12000)*E98*G98*45/100 -> 8606.25 | I98: =H98/' ข้อมูลการใช้ไฟฟ้า '!$F$20*100 -> 0.099178923 | J98: 1.61 | K98: kW/tr | L98: =Q98/R98 -> 1.3129412 | M98: kW/tr | P98: =C98/12000 -> 1.4166667 | Q98: 1.86 | R98: =C98/12000 -> 1.4166667 | S98: =C98*E98 -> 153000 | AC98: =ROUND((H98/$AC$4)*100,2) -> 0.1
A99: ระบบปรับอากาศ | B99: เครื่องปรับอากาศ | C99: 16500 | D99: Btu/hr | E99: 1 | F99: 25 | G99: 1500 | H99: =(C99/12000)*E99*G99*45/100 -> 928.125 | I99: =H99/' ข้อมูลการใช้ไฟฟ้า '!$F$20*100 -> 0.010695766 | J99: 1.61 | K99: kW/tr | L99: =Q99/R99 -> 1.2945455 | M99: kW/tr | P99: =C99/12000 -> 1.375 | Q99: 1.78 | R99: =C99/12000 -> 1.375 | S99: =C99*E99 -> 16500 | AC99: =ROUND((H99/$AC$4)*100,2) -> 0.01
A100: ระบบปรับอากาศ | B100: เครื่องปรับอากาศ | C100: 16000 | D100: Btu/hr | E100: 30 | F100: 13 - 28 | G100: 1500 | H100: =(C100/12000)*E100*G100*45/100 -> 27000 | I100: =H100/' ข้อมูลการใช้ไฟฟ้า '!$F$20*100 -> 0.31114956 | J100: 1.61 | K100: kW/tr | L100: =Q100/R100 -> 1.3125 | M100: kW/tr | P100: =C100/12000 -> 1.3333333 | Q100: 1.75 | R100: =C100/12000 -> 1.3333333 | S100: =C100*E100 -> 480000 | AC100: =ROUND((H100/$AC$4)*100,2) -> 0.31
...

Sheet ข้อมูลความร้อนเครื่องจักร
A1: ตารางที่ 4.12 แบบบันทึกข้อมูลการใช้พลังงานความร้อนมีนัยสำคัญของเครื่องจักร/อุปกรณ์หลัก ปี 2565
A3: ระบบที่ใช้พลังงาน | B3: ชื่อเครื่องจักร/อุปกรณ์หลัก | C3: พิกัด | E3: จำนวน | F3: อายุการใช้งาน (ปี) | G3: ชั่วโมง ใช้งาน เฉลี่ย/ปี | H3: การใช้เชื้อเพลิง | J3: ปริมาณการ ใช้พลังงานความร้อน (เมกะจูล/ปี) | K3: สัดส่วนการ ใช้พลังงาน ในระบบ | L3: ค่าประสิทธิภาพหรือสมรรถนะ | P3: การสูญเสียพลังงานความร้อน (เมกะจูล/ปี) | Q3: หมายเหตุ
C4: ขนาด | D4: หน่วย | H4: ชนิด | I4: หน่วย | L4: ค่าพิกัด | M4: หน่วย | N4: ใช้งานจริง | O4: หน่วย
A6: หม้อไอน้ำ
A9: หม้อต้มน้ำมันร้อน
A20: หมายเหตุ : ให้ดำเนินการบันทึกเฉพาะเครื่องจักร/อุปกรณ์หลักที่มีนัยสำคัญ

Sheet ขั้นตอนที่ 5
A1: ขั้นตอนที่ 5 | B1: การกำหนดเป้าหมายและแผนอนุรักษ์พลังงาน และแผนการฝึกอบรมและกิจกรรมเพื่อ
B2: ส่งเสริมการอนุรักษ์พลังงาน
A3: อาคารควบคุมได้กำหนดเป้าหมายและแผนอนุรักษ์พลังงาน โดยมีรายละเอียดการดำเนินการดังต่อไปนี้
A5: 5.1 การกำหนดเป้าหมายและแผนอนุรักษ์พลังงาน กรณีมี 1 บริการ
A6: เป้าหมายการอนุรักษ์พลังงาน กรณีมี 1 บริการ
A7: การกำหนดเป้าหมาย | G7: ค่าเป้าหมาย
B8: ร้อยละที่ลดลงของปริมาณพลังงานที่ใช้เดิม | G8: =มาตรการและเป้าหมายปี_65!L18 -> 12.969996
B9: ระดับของค่าการใช้พลังงานต่อหน่วยบริการ
A11: เป้าหมายการอนุรักษ์พลังงาน กรณีมีหลายบริการ
A12: การกำหนดเป้าหมาย | G12: ค่าเป้าหมาย
B13: ร้อยละที่ลดลงของปริมาณพลังงานที่ใช้เดิม
B14: ระดับของค่าการใช้พลังงานต่อหน่วยบริการ
B15: ระดับของค่าการใช้พลังงานต่อหน่วยบริการ
A16: หมายเหตุ : ในการกำหนดเป้าหมายการอนุรักษ์พลังงาน ให้เลือกดำเนินการอย่างใดอย่างหนึ่ง

Sheet มาตรการและเป้าหมายปี_65
A1: ตารางที่ 5.1 มาตรการและเป้าหมายในการดำเนินการอนุรักษ์พลังงาน ในรอบปี 2565
A3: ลำดับ ที่ | B3: มาตรการ | E3: เป้าหมายการประหยัด | L3: ร้อยละ ผลประหยัด | M3: เงินลงทุน (บาท) | N3: ระยะ เวลา คืนทุน (ปี)
E4: ไฟฟ้า | H4: เชื้อเพลิง
E5: กิโลวัตต์ | F5: กิโลวัตต์-ชั่วโมง/ปี | G5: บาท/ปี | H5: ชนิด | I5: ปริมาณ (หน่วย/ปี) | J5: หน่วยเชื้อเพลิง | K5: บาท/ปี
A6: ด้านไฟฟ้า
A7: 1 | B7: ='มาตรการไฟฟ้า '!E6 -> บำรุงรักษาเครื่องปรับอากาศแบบแยกส่วน | E7: ='มาตรการไฟฟ้า '!J14 -> 2648.12 | F7: ='มาตรการไฟฟ้า '!K16 -> 115855.25 | G7: ='มาตรการไฟฟ้า '!L16 -> 504419.58 | L7: =F7*100/'4.1.2การใช้ไฟฟ้า_65'!F20 -> 1.3351226 | M7: ='มาตรการไฟฟ้า '!K17 -> 564930 | N7: =M7/G7 -> 1.1199605
A8: 2 | B8: ='มาตรการไฟฟ้า '!E68 -> ลดชั่วโมงการใช้งานเครื่องปรับอากาศ | E8: - | F8: ='มาตรการไฟฟ้า '!K79 -> 1009616 | G8: ='มาตรการไฟฟ้า '!L79 -> 4395744.7 | L8: =F8*100/'4.1.2การใช้ไฟฟ้า_65'!F20 -> 11.634874 | M8: ='มาตรการไฟฟ้า '!K80 -> 0 | N8: 0
A9: 3 | B9: ='มาตรการไฟฟ้า '!E132 -> เปลี่ยนหลอด T8 (36W) เป็นหลอด LED (18W) | F9: ='มาตรการไฟฟ้า '!K141 -> 0 | G9: ='มาตรการไฟฟ้า '!L141 -> 0 | L9: =F9*100/' ข้อมูลการใช้ไฟฟ้า '!$F$20 -> 0 | M9: ='มาตรการไฟฟ้า '!K144 -> 0 | N9: =M9/G9 -> #DIV/0!
A10: 4 | B10: ='มาตรการไฟฟ้า '!E194 -> เปลี่ยนหลอด T8 (18W) เป็นหลอด LED (9W) | F10: ='มาตรการไฟฟ้า '!K202 -> 0 | G10: ='มาตรการไฟฟ้า '!L202 -> 0 | L10: =F10*100/' ข้อมูลการใช้ไฟฟ้า '!$F$20 -> 0 | M10: ='มาตรการไฟฟ้า '!K205 -> 0 | N10: =M10/G10 -> #DIV/0!
A11: 5 | B11: ='มาตรการไฟฟ้า '!E256 -> เครื่องปรับอากาศประสิทธิภาพสูง Inverter | F11: ='มาตรการไฟฟ้า '!K265 -> 0 | G11: ='มาตรการไฟฟ้า '!L265 -> 0 | L11: =F11*100/' ข้อมูลการใช้ไฟฟ้า '!$F$20 -> 0 | M11: ='มาตรการไฟฟ้า '!K268 -> 0 | N11: =M11/G11 -> #DIV/0!
B15: ผู้ช่วยศาสตราจารย์ ดร.สราวุธ พลวงษ์ศรี
B18: รวมด้านไฟฟ้า | F18: =SUM(F7:F16) -> 1125471.3 | G18: =SUM(G7:G16) -> 4900164.3 | L18: =SUM(L7:L16) -> 12.969996 | M18: =SUM(M7:M16) -> 564930 | N18: =M18/G18 -> 0.11528797
A19: ด้านความร้อน
A20: 1
A21: 2
A22: 3
A23: 4
A24: 5
B25: รวมด้านความร้อน
A26: หมายเหตุ: | B26: 1. ร้อยละผลประหยัด คิดเทียบจากข้อมูลการใช้พลังงานรวมในปีที่ผ่านมา
B27: 2. อัตราค่าไฟฟ้าเฉลี่ย | C27: =' ข้อมูลการใช้ไฟฟ้า '!I21 -> 4.3538776 | D27: บาท/กิโลวัตต์-ชั่วโมง (ปี 2565)
B28: 3. อัตราค่าเชื้อเพลิง | C28: - | D28: บาท/(ระบุหน่วย) (ปี 2565)

Sheet แผนไฟฟ้า
A1: ตารางที่ 5.2 แผนอนุรักษ์พลังงานด้านไฟฟ้า ประจำปี 2565
A3: ลำดับ ที่ | B3: มาตรการ | C3: วัตถุประสงค์ | D3: ระยะเวลา | F3: เงินลงทุน (บาท) | G3: ผู้รับผิดชอบ
D4: เริ่มต้น | E4: สิ้นสุด
D5: (เดือน/ปี) | E5: (เดือน/ปี)
A6: 1 | B6: =มาตรการและเป้าหมายปี_65!B7:D7 -> บำรุงรักษาเครื่องปรับอากาศแบบแยกส่วน | C6: ='มาตรการไฟฟ้า '!E11 -> เพื่อให้เครื่องปรับอากาศทำงานอย่างมีประสิทธิภาพ และยืดอายุการใช้งาน | D6: มกราคม 66 | E6: ธันวาคม 66 | F6: ='มาตรการไฟฟ้า '!K17 -> 564930 | G6: ='มาตรการไฟฟ้า '!E7 -> นายสุรเดช คิดการงาน
A7: 2 | B7: =มาตรการและเป้าหมายปี_65!B8:D8 -> ลดชั่วโมงการใช้งานเครื่องปรับอากาศ | C7: เพื่อลดชั่วโมงทำงานเครื่องปรับอากาศ ใช้งานเครื่องปรับอากาศเท่าที่จำเป็น และยืดอายุการใช้งาน | D7: มกราคม 66 | E7: ธันวาคม 66 | F7: - | G7: ='มาตรการไฟฟ้า '!E69 -> นายรัฐพล ญาติมิตรหนุน
A8: 3 | B8: =มาตรการและเป้าหมายปี_65!B9:D9 -> เปลี่ยนหลอด T8 (36W) เป็นหลอด LED (18W) | C8: ='มาตรการไฟฟ้า '!E137 -> เพื่อเพิ่มประสิทธิภาพการใช้พลังงานในระบบแสงสว่าง | D8: เมษายน 61 | E8: กันยายน 61 | F8: ='มาตรการไฟฟ้า '!K144 -> 0 | G8: ='มาตรการไฟฟ้า '!E133 -> 0
A9: 4 | B9: =มาตรการและเป้าหมายปี_65!B10:D10 -> เปลี่ยนหลอด T8 (18W) เป็นหลอด LED (9W) | C9: ='มาตรการไฟฟ้า '!E199 -> เพื่อเพิ่มประสิทธิภาพการใช้พลังงานในระบบแสงสว่าง | D9: เมษายน 61 | E9: กันยายน 61 | F9: ='มาตรการไฟฟ้า '!K205 -> 0 | G9: ='มาตรการไฟฟ้า '!E195 -> 0
A10: 5 | B10: ='มาตรการไฟฟ้า '!E256 -> เครื่องปรับอากาศประสิทธิภาพสูง Inverter | C10: ='มาตรการไฟฟ้า '!E261 -> เพื่อให้เครื่องปรับอากาศทำงานอย่างมีประสิทธิภาพ และยืดอายุการใช้งาน | D10: เมษายน 61 | E10: กันยายน 61 | F10: ='มาตรการไฟฟ้า '!K268 -> 0 | G10: ='มาตรการไฟฟ้า '!E257 -> 0
A17: หมายเหตุ : ผู้รับผิดชอบ หมายถึง บุคคลที่รับผิดชอบมาตรการ

Sheet แผนความร้อน
A1: ตารางที่ 5.3 แผนอนุรักษ์พลังงานด้านความร้อน ประจำปี 2565
A3: ลำดับ ที่ | B3: มาตรการ | C3: วัตถุประสงค์ | D3: ระยะเวลา | F3: เงินลงทุน (บาท) | G3: ผู้รับผิดชอบ
D4: เริ่มต้น | E4: สิ้นสุด
D5: (เดือน/ปี) | E5: (เดือน/ปี)
A15: หมายเหตุ : ผู้รับผิดชอบ หมายถึง บุคคลที่รับผิดชอบมาตรการ

Sheet มาตรการความร้อน
A1: รายละเอียดมาตรการอนุรักษ์พลังงาน
A2: (สำหรับมาตรการด้านความร้อน)
A4: 1) | B4: มาตรการลำดับที่:
A5: 2) | B5: ชื่อมาตรการ:
A6: 3) | B6: ผู้รับผิดชอบมาตรการ: | J6: ตำแหน่ง
A7: 4) | B7: อุปกรณ์ที่ปรับปรุง:
A8: 5) | B8: จำนวนอุปกรณ์ที่ปรับปรุง:
A9: 6) | B9: สถานที่ปรับปรุง:
A10: 7) | B10: สาเหตุการปรับปรุง:
K14: ลิตร/ปี | L14: เมกะจูล/ปี | M14: บาท/ปี
A15: 8) | B15: ระดับการใช้พลังงานอ้างอิงก่อนการปรับปรุง
A16: 9) | B16: ระดับการใช้พลังงานเป้าหมายหลังการปรับปรุง
A17: 10) | B17: ผลประหยัด
A18: 11) | B18: เงินลงทุนทั้งหมด | M18: บาท
A19: 12) | B19: ระยะเวลาคืนทุน | M19: ปี
A20: 13) | B20: รายละเอียดการดำเนินการปรับปรุง:
A26: 14) | B26: วิธีการตรวจสอบผลการประหยัดหลังปรับปรุง
A31: 15) | B31: แสดงวิธีการคำนวณประกอบ

Sheet มาตรการไฟฟ้า 
A2: รายละเอียดมาตรการอนุรักษ์พลังงาน
A3: (สำหรับมาตรการด้านไฟฟ้า)
A5: 1) | B5: มาตรการลำดับที่ | D5: : | E5: 1
A6: 2) | B6: ชื่อมาตรการ | D6: : | E6: บำรุงรักษาเครื่องปรับอากาศแบบแยกส่วน
A7: 3) | B7: ผู้รับผิดชอบมาตรการ | D7: : | E7: =ข้อมูลเบื้องต้น!D39 -> นายสุรเดช คิดการงาน | J7: ตำแหน่ง | K7: =ข้อมูลเบื้องต้น!N39 -> ผอส.04244
A8: 4) | B8: อุปกรณ์ที่ปรับปรุง | D8: : | E8: เครื่องปรับอากาศแบบแยกส่วน
A9: 5) | B9: จำนวนอุปกรณ์ที่ปรับปรุง | D9: : | E9: =L38 -> 1108 | F9: เครื่อง
A10: 6) | B10: สถานที่ปรับปรุง | D10: : | E10: มหาวิทยาลัยแม่โจ้
A11: 7) | B11: สาเหตุการปรับปรุง | D11: : | E11: เพื่อให้เครื่องปรับอากาศทำงานอย่างมีประสิทธิภาพ และยืดอายุการใช้งาน
J13: กิโลวัตต์ | K13: กิโลวัตต์-ชั่วโมง/ปี | L13: บาท/ปี
A14: 8) | B14: ระดับการใช้พลังงานอ้างอิงก่อนการปรับปรุง | J14: =L38*L39 -> 2648.12 | K14: =L47 -> 2317105 | L14: =L47*L44 -> 10088392
A15: 9) | B15: ระดับการใช้พลังงานเป้าหมายหลังการปรับปรุง | J15: =J14-(J14*0.05) -> 2515.714 | K15: =L47-L48 -> 2201249.8 | L15: =(L47-L48)*L44 -> 9583972
A16: 10) | B16: ผลประหยัด | J16: =J14-J15 -> 132.406 | K16: =+K14-K15 -> 115855.25 | L16: =+L14-L15 -> 504419.58
A17: 11) | B17: เงินลงทุนทั้งหมด | K17: =52000+6900+19950+22000+126000+56680+88000+10000+71400+112000 -> 564930 | L17: บาท
A18: 12) | B18: ระยะเวลาคืนทุน | K18: =+K17/L16 -> 1.1199605 | L18: ปี
A19: 13) | B19: รายละเอียดการดำเนินการปรับปรุง:
B20: ตรวจเช็คทำความสะอาด บำรุงรักษาเครื่องปรับอากาศแบบแยกส่วนตามระยะเวลา ซึ่งดำเนินการโดย จ้างเหมา
B21: จ้างเหมา
A33: 14) | B33: วิธีการตรวจสอบผลการประหยัดก่อนปรับปรุง
B34: ประเมินผลประหยัดโดยการคำนวณ
A35: 15) | B35: แสดงวิธีการคำนวณประกอบ
B37: รายการข้อมูลประกอบการคำนวณ | J37: หน่วย | K37: ตัวย่อ | L37: ปริมาณ
B38: จำนวนเครื่องปรับอากาศ | J38: เครื่อง | K38: n | L38: =130+11+21+19+40+210+109+176+10+102+280 -> 1108
B39: ค่าเฉลี่ยของกำลังไฟฟ้าต่อเครื่อง | J39: kW | K39: W | L39: 2.39
B40: ชั่วโมงใช้งานต่อวัน | J40: ชั่วโมง | K40: h | L40: 5
B41: แฟกเตอร์การทำงาน | J41: % | K41: F | L41: 70
B42: วันที่ใช้งานต่อปี | J42: วัน | K42: D | L42: 250
B43: ผลประหยัดภายหลังการบำรุงรักษา | J43: % | K43: S | L43: 5
B44: อัตราค่าไฟฟ้าโดยเฉลี่ยต่อหน่วย | J44: บาท | K44: B | L44: ='4.1.2การใช้ไฟฟ้า_65'!L21 -> 4.3538776
B46: การคำนวณ | J46: หน่วย | K46: ตัวย่อ | L46: ปริมาณ
B47: พลังงานที่ใช้ก่อนปรับปรุง; n x W x h x D x (F/100) | J47: kWh/y | K47: Ei | L47: =L38*L39*L40*L41*L42/100 -> 2317105
B48: พลังงานที่สามารถประหยัดได้; (S x Ei)/100 | J48: kWh/y | K48: Es | L48: =L47*L43/100 -> 115855.25
B49: คิดเป็นเงินที่ประหยัดได้; (Es x B) | J49: บาท/ปี | K49: Bs | L49: =L44*L48 -> 504419.58
A64: รายละเอียดมาตรการอนุรักษ์พลังงาน
A65: (สำหรับมาตรการด้านไฟฟ้า)
A67: 1) | B67: มาตรการลำดับที่ | D67: : | E67: 2
A68: 2) | B68: ชื่อมาตรการ | D68: : | E68: ลดชั่วโมงการใช้งานเครื่องปรับอากาศ
A69: 3) | B69: ผู้รับผิดชอบมาตรการ | D69: : | E69: =ข้อมูลเบื้องต้น!D41 -> นายรัฐพล ญาติมิตรหนุน | J69: ตำแหน่ง | K69: =ข้อมูลเบื้องต้น!N41 -> ผชอ.03430
A70: 4) | B70: อุปกรณ์ที่ปรับปรุง | D70: : | E70: เครื่องปรับอากาศแบบแยกส่วน
A71: 5) | B71: จำนวนอุปกรณ์ที่ปรับปรุง | D71: : | E71: =L102 -> 3003 | F71: เครื่อง
A72: 6) | B72: สถานที่ปรับปรุง | D72: : | E72: อาคารเรียนและสำนักงาน
A73: 7) | B73: สาเหตุการปรับปรุง | D73: : | E73: เพื่อลดชั่วโมงทำงานเครื่องปรับอากาศ ใช้งานเครื่องปรับอากาศเท่าที่จำเป็น
E74: และยืดอายุการใช้งาน
J76: กิโลวัตต์ | K76: กิโลวัตต์-ชั่วโมง/ปี | L76: บาท/ปี
A77: 8) | B77: ระดับการใช้พลังงานอ้างอิงก่อนการปรับปรุง | J77: =L102*L103 -> 11538.469 | K77: =L111 -> 10096160 | L77: =L111*L108 -> 43957447
A78: 9) | B78: ระดับการใช้พลังงานเป้าหมายหลังการปรับปรุง | J78: =L102*L103 -> 11538.469 | K78: =L111-L113 -> 9086544.4 | L78: =(L111-L113)*L108 -> 39561702
A79: 10) | B79: ผลประหยัด | J79: 0 | K79: =+K77-K78 -> 1009616 | L79: =+L77-L78 -> 4395744.7
A80: 11) | B80: เงินลงทุนทั้งหมด | K80: 0 | L80: บาท
A81: 12) | B81: ระยะเวลาคืนทุน | K81: =+K80/L79 -> 0 | L81: ปี
A82: 13) | B82: รายละเอียดการดำเนินการปรับปรุง:
B83: ให้แต่ละแผนกที่มีศักยภาพลดชั่วโมงการใช้งานเครื่องปรับอากาศ โดยไม่กระทบต่อการให้บริการ ดำเนินการ
B84: ลดชั่วโมงใช้งานเครื่องปรับอากาศ โดยมีรายละเอียดการดำเนินงาน คือ
B85: 1. เวลา เปิด-ปิด เครื่องปรับอากาศ ก่อนปรับปรุง คือ 9:00-12:00 น. และ 13:00-16.30 น.
B86: 2. เวลา เปิด-ปิด เครื่องปรับอากาศ หลังปรับปรุง คือ 9:00-12:00 น. และ 13:00-16.00 น.
A96: 14) | B96: วิธีการตรวจสอบผลการประหยัดก่อนปรับปรุง
B97: ประเมินผลประหยัดโดยการคำนวณ
A99: 15) | B99: แสดงวิธีการคำนวณประกอบ
B101: รายการข้อมูลประกอบการคำนวณ | J101: หน่วย | K101: ตัวย่อ | L101: ปริมาณ
B102: จำนวนเครื่องปรับอากาศ | J102: เครื่อง | K102: n | L102: 3003
B103: ค่าเฉลี่ยของกำลังไฟฟ้าต่อเครื่อง | J103: kW | K103: W | L103: =ข้อมูลไฟฟ้าเครื่องจักร!Q132 -> 3.842314
B104: ชั่วโมงใช้งานต่อวัน | J104: ชั่วโมง | K104: h1 | L104: 5
B105: แฟกเตอร์การทำงาน | J105: % | K105: F | L105: 70
B106: วันที่ใช้งานต่อปี | J106: วัน | K106: D | L106: 250
B107: ชั่วโมงใช้งานต่อวันที่ลดลง | J107: ชั่วโมง | K107: h2 | L107: 0.5
B108: อัตราค่าไฟฟ้าโดยเฉลี่ยต่อหน่วย | J108: บาท | K108: B | L108: =L44 -> 4.3538776
B110: การคำนวณ | J110: หน่วย | K110: ตัวย่อ | L110: ปริมาณ
B111: พลังงานที่ใช้ก่อนปรับปรุง; n x W x h x D x (F/100) | J111: kWh/y | K111: Ei | L111: =L102*L103*L104*L105*L106/100 -> 10096160
B112: พลังงานที่ใช้หลังปรับปรุง; n x W x (h1-h2) x D x (F/100) | J112: kWh/y | K112: Eo | L112: =L102*L103*(L104-L107)*L106*L105/100 -> 9086544.4
B113: พลังงานที่สามารถประหยัดได้; ( Ei-Eo) | J113: kWh/y | K113: Es | L113: =L111-L112 -> 1009616
B114: คิดเป็นเงินที่ประหยัดได้; (Es x B) | J114: บาท/ปี | K114: Bs | L114: =L108*L113 -> 4395744.7
A128: รายละเอียดมาตรการอนุรักษ์พลังงาน
A129: (สำหรับมาตรการด้านไฟฟ้า)
A131: 1) | B131: มาตรการลำดับที่ | D131: : | E131: 3
A132: 2) | B132: ชื่อมาตรการ | D132: : | E132: เปลี่ยนหลอด T8 (36W) เป็นหลอด LED (18W)
A133: 3) | B133: ผู้รับผิดชอบมาตรการ | D133: : | E133: =ข้อมูลเบื้องต้น!D43 -> 0 | J133: ตำแหน่ง | K133: =ข้อมูลเบื้องต้น!N43 -> 0
A134: 4) | B134: อุปกรณ์ที่ปรับปรุง | D134: : | E134: หลอดไฟ
A135: 5) | B135: จำนวนอุปกรณ์ที่ปรับปรุง | D135: : | E135: =L164 -> 0 | F135: หลอด
A136: 6) | B136: สถานที่ปรับปรุง | D136: : | E136: อาคารเรียนและสำนักงาน
A137: 7) | B137: สาเหตุการปรับปรุง | D137: : | E137: เพื่อเพิ่มประสิทธิภาพการใช้พลังงานในระบบแสงสว่าง
J140: กิโลวัตต์ | K140: กิโลวัตต์-ชั่วโมง/ปี | L140: บาท/ปี
A141: 8) | B141: เป้าหมายเชิงปริมาณ | J141: =+J142-J143 -> 0 | K141: =+K142-K143 -> 0 | L141: =+L142-L143 -> 0
A142: 9) | B142: ระดับการใช้พลังงานอ้างอิงก่อนการปรับปรุง | J142: 0 | K142: =L174 -> 0 | L142: =L174*L$171 -> 0
A143: 10) | B143: ระดับการใช้พลังงานเป้าหมายหลังการปรับปรุง | J143: 0 | K143: =L175 -> 0 | L143: =L175*L$171 -> 0
A144: 11) | B144: เงินลงทุนทั้งหมด | K144: 0 | L144: บาท
A145: 12) | B145: ระยะเวลาคืนทุน | K145: =+K144/L141 -> #DIV/0! | L145: ปี
A146: 13) | B146: รายละเอียดการดำเนินการปรับปรุง:
B147: เปลี่ยนหลอด T8 (36W) ที่มีชั่วโมงการทำงานโดยเฉลี่ย 10 ชั่วโมง
A159: 14) | B159: วิธีการตรวจสอบผลการประหยัดหลังปรับปรุง
B160: ประเมินผลประหยัดโดยการคำนวณ
A161: 15) | B161: แสดงวิธีการคำนวณประกอบ
B163: รายการข้อมูลประกอบการคำนวณ | J163: หน่วย | K163: ตัวย่อ | L163: ปริมาณ
B164: จำนวนหลอด T8 | J164: หลอด | K164: n | L164: 0
B165: กำลังวัตต์หลอด T8 | J165: วัตต์ | K165: W1 | L165: 36
B166: กำลังวัตต์บัลลาสต์แบบธรรมดา | J166: วัตต์ | K166: W2 | L166: 10
B167: กำลังวัตต์หลอด LED | J167: วัตต์ | K167: W3 | L167: 18
B168: กำลังวัตต์บัลลาสต์อิเลคทรอนิคส์ | J168: วัตต์ | K168: W4 | L168: 0
B169: ชั่วโมงใช้งานต่อวัน | J169: ชั่วโมง | K169: h | L169: 8
B170: วันที่ใช้งานต่อปี | J170: วัน | K170: D | L170: 250
B171: อัตราค่าไฟฟ้าโดยเฉลี่ยต่อหน่วย | J171: บาท | K171: B | L171: =' ข้อมูลการใช้ไฟฟ้า '!I21 -> 4.3538776
B173: การคำนวณ | J173: หน่วย | K173: ตัวย่อ | L173: ปริมาณ
...

Sheet 5.2แผนการฝึกอบรม
A1: 5.2 แผนการฝึกอบรม และกิจกรรมเพื่อส่งเสริมการอนุรักษ์พลังงาน
A2: ตารางที่ 5.4 แผนการฝึกอบรมการอนุรักษ์พลังงาน ประจำปี 2566
A4: ลำดับที่ | B4: หลักสูตร/กิจกรรม | C4: กลุ่มผู้เข้าอบรม | D4: เดือน | P4: ผู้รับผิดชอบ
D5: ม.ค. | E5: ก.พ. | F5: มี.ค. | G5: เม.ย. | H5: พ.ค. | I5: มิ.ย. | J5: ก.ค. | K5: ส.ค. | L5: ก.ย. | M5: ต.ค. | N5: พ.ย. | O5: ธ.ค.
A6: 1 | B6: สัมมนาออนไลน์ มาตรฐาน เพื่อการออกแบบบ้านประหยัดพลังงาน ของประเทศไทย 21-06-66 | C6: บุคลากร - เจ้าหน้าที่ | P6: งานจัดการพลังงาน กองกายภาพและสิ่งแวดล้อม
A7: 2 | B7: อบรม "การใช้พลังงานและทรัพยากรอย่างคุ้มค่า" 30-06-66 | C7: บุคลากร - นักศึกษาและเจ้าหน้าที่ | P7: สำนักหอสมุด
A8: 3 | B8: การฝึกอบรมสร้างความรู้ เสริมทักษะ โซลาร์รูฟ วันที่ 23-24 พฤศจิกายน 2566 | C8: บุคลากรทางการศึกษาและเจ้าหน้าที่ของหน่วย | P8: งานจัดการพลังงาน กองกายภาพและสิ่งแวดล้อม
A10: หมายเหตุ : ผู้รับผิดชอบ หมายถึง บุคคลที่รับผิดชอบหลักสูตร/กิจกรรม
A13: ตารางที่ 5.5 แผนการส่งเสริมการอนุรักษ์พลังงาน ประจำปี 2566
A15: ลำดับที่ | B15: หลักสูตร/กิจกรรม | C15: กลุ่มผู้เข้าร่วม | D15: เดือน | P15: ผู้รับผิดชอบ
D16: ม.ค. | E16: ก.พ. | F16: มี.ค. | G16: เม.ย. | H16: พ.ค. | I16: มิ.ย. | J16: ก.ค. | K16: ส.ค. | L16: ก.ย. | M16: ต.ค. | N16: พ.ย. | O16: ธ.ค.
A17: 1 | B17: สถานีวิทยุ FM 95.5 | C17: นักศึกษา/บุคลากร | P17: น.ส.พวงพยอม เสนาวารี
B18: ประชาสัมพันธ์เรื่องการประหยัดพลังงาน
A27: หมายเหตุ : ผู้รับผิดชอบ หมายถึง บุคคลที่รับผิดชอบหลักสูตร/กิจกรรม

Sheet 5.3เพิ่มเติมเผยแพร่ฝึกอบรม
A1: 5.3 การเผยแพร่แผนฝึกอบรมและกิจกรรมเพื่อส่งเสริมการอนุรักษ์พลังงาน
A2: เพื่อให้พนักงานทุกคนรับทราบและเข้าร่วมดำเนินการตามแผนฝึกอบรมและกิจกรรมเพื่อส่งเสริมการอนุรักษ์พลังงานขององค์กร โดยอาคารได้ดำเนินการเผยแพร่และดำเนินการดังต่อไปนี้
A4: วิธีการเผยแพร่แผนฝึกอบรมและกิจกรรมเพื่อส่งเสริมการอนุรักษ์พลังงาน
C5: ติดประกาศ | G5: โปสเตอร์
C6: จำนวนติดประกาศ …15.. คณะ | G6: จำนวนติดประกาศ ….... คณะ
C7: จำนวนติดประกาศ …... วิทยาเขต | G7: จำนวนติดประกาศ …... วิทยาเขต
C8: จำนวนติดประกาศ …3.. วิทยาลัย | G8: จำนวนติดประกาศ …... วิทยาลัย
C9: จำนวนติดประกาศ …10.. สำนัก/วิสาหกิจ | G9: จำนวนติดประกาศ ….... สำนัก/วิสาหกิจ
C10: เอกสารเผยแพร่ | G10: เสียงตามสาย
C11: แผ่นพับ/วารสาร .....ฉบับ | G11: สัปดาห์ละ ….. ครั้ง ช่วงเวลา…...
C12: จดหมายอิเล็กทรอนิกส์ | G12: การประชุมแลกเปลี่ยนเรียนรู้
C13: จำนวนผู้ได้รับ ……... คน | G13: คณะกรรมการการจัดการพลังงาน
C14: ระดับของผู้ได้รับ…….
C15: อื่นๆ (ระบุ) การปิดเปิดการใช้ไฟฟ้าและลิฟท์
C16: อื่นๆ (ระบุ) สถานีวิทยุ FM 95.5
A18: หลักฐานหรือเอกสารต่างๆ ที่แสดงถึงการเผยแพร่แผนฝึกอบรม
B20: (ใส่เอกสารการเผยแพร่คณะทำงานฯ วิธีการที่ 1)
A31: (ก) ติดประกาศ
B36: (ใส่เอกสารการเผยแพร่คณะทำงานฯ วิธีการที่ 1)
A47: (ข) จดหมายอิเล็กทรอนิกส์
B50: (ใส่เอกสารการเผยแพร่คณะทำงานฯ วิธีการที่ 1)
A61: (ค) โปสเตอร์
B66: (ใส่เอกสารการเผยแพร่คณะทำงานฯ วิธีการที่ 1)
A76: (ก) สัมมนาออนไลน์ มาตรฐาน เพื่อการออกแบบบ้านประหยัดพลังงาน ของประเทศไทย 21-06-66
A89: (ข) อบรม "การใช้พลังงานและทรัพยากรอย่างคุ้มค่า" 30-06-66
B91: (ใส่เอกสารการเผยแพร่คณะทำงานฯ วิธีการที่ 1)
A102: (ค) การฝึกอบรมสร้างความรู้ เสริมทักษะ โซลาร์รูฟ วันที่ 23-24 พฤศจิกายน 2566
B109: (ใส่เอกสารการเผยแพร่คณะทำงานฯ วิธีการที่ 1)
A120: (ง) สถานีวิทยุ FM 95.5
A121: รูปที่ 5-1 ภาพการเผยแพร่แผนฝึกอบรมและกิจกรรมส่งเสริมการอนุรักษ์พลังงาน
A122: หมายเหตุ : กรณีมีวิธีการเผยแพร่มากกว่า 2 วิธีการ อาคารสามารถเพิ่มจำนวนการแสดงเอกสาร หลักฐานรูปภาพต่างๆ เพิ่มเติม

Sheet ขั้นตอนที่ 6
A1: ขั้นตอนที่ 6 การดำเนินการตามแผนอนุรักษ์พลังงาน การตรวจสอบและวิเคราะห์การ
B2: การปฏิบัติตามเป้าหมายและแผนอนุรักษ์พลังงาน และแผนการฝึกอบรม
B3: และกิจกรรมเพื่อส่งเสริมการอนุรักษ์พลังงาน
A4: 6.1 ผลการติดตามการดำเนินการของมาตรการอนุรักษ์พลังงาน
B5: คณะทำงานด้านการจัดการพลังงานได้ดำเนินการติดตามความก้าวหน้าของการปฏิบัติตามมาตรการและแผน
A6: อนุรักษ์พลังงนที่กำหนดไว้ โดยผลการดำเนินการสรุปได้ดังต่อไปนี้
A8: ตารางที่ 6.1 สรุปผลการติดตามการดำเนินการตามแผนอนุรักษ์พลังงาน
A10: ลำดับที่ | B10: มาตรการ | C10: สถานภาพการดำเนินการ | F10: หมายเหตุ
A11: 1 | B11: =มาตรการและเป้าหมายปี_65!B7 -> บำรุงรักษาเครื่องปรับอากาศแบบแยกส่วน | C11: ดำเนินการตามแผน
C12: ไม่ได้ดำเนินการ เนื่องจาก
C15: ล่าช้า เนื่องจาก
A19: 2 | B19: =มาตรการและเป้าหมายปี_65!B8 -> ลดชั่วโมงการใช้งานเครื่องปรับอากาศ | C19: ดำเนินการตามแผน
C20: ไม่ได้ดำเนินการ เนื่องจาก
C23: ล่าช้า เนื่องจาก
A27: 3 | B27: =แผนไฟฟ้า!B8 -> เปลี่ยนหลอด T8 (36W) เป็นหลอด LED (18W) | C27: ดำเนินการตามแผน
C28: ไม่ได้ดำเนินการ เนื่องจาก
C31: ล่าช้า เนื่องจาก
A35: 4 | B35: =แผนไฟฟ้า!B9 -> เปลี่ยนหลอด T8 (18W) เป็นหลอด LED (9W) | C35: ดำเนินการตามแผน
C36: ไม่ได้ดำเนินการ เนื่องจาก
C39: ล่าช้า เนื่องจาก
A43: 5 | B43: =แผนไฟฟ้า!B10 -> เครื่องปรับอากาศประสิทธิภาพสูง Inverter | C43: ดำเนินการตามแผน
C44: ไม่ได้ดำเนินการ เนื่องจาก
C47: ล่าช้า เนื่องจาก
A51: 5 | B51: =แผนไฟฟ้า!B11 -> 0 | C51: ดำเนินการตามแผน
C52: ไม่ได้ดำเนินการ เนื่องจาก
C55: ล่าช้า เนื่องจาก
A60: 7 | B60: =แผนไฟฟ้า!B12 -> 0 | C60: ดำเนินการตามแผน
C61: ไม่ได้ดำเนินการ เนื่องจาก
C64: ล่าช้า เนื่องจาก
A69: 8 | B69: =แผนไฟฟ้า!B13 -> 0 | C69: ดำเนินการตามแผน
C70: ไม่ได้ดำเนินการ เนื่องจาก
C73: ล่าช้า เนื่องจาก

Sheet ผลมาตรการปี_66
A1: การตรวจสอบการปฏิบัติตามเป้าหมายการอนุรักษ์พลังงาน
B2: ตารางที่ 6.2 สรุปผลการตรวจสอบการปฏิบัติตามเป้าหมายการอนุรักษ์พลังงาน
B3: การติดตามการดำเนินการ | D3: แผนการอนุรักษ์พลังงาน ตามเป้าหมาย | G3: ผลการอนุรักษ์พลังงาน ที่เกิดขึ้นจริง
C5: ร้อยละที่ลดลงของปริมาณพลังงาน | D5: ='ขั้นตอนที่ 5'!G8 -> 12.969996 | G5: =('ผลการตรวจสอบ-วิเคราะห์ไฟฟ้า1'!K12+'ผลการตรวจสอบ-วิเคราะห์ไฟฟ้า1'!K32)*100/' ข้อมูลการใช้ไฟฟ้า '!F46 -> 11.129445
C6: ที่ใช้เดิม
C7: ระดับของค่าการใช้พลังงานต่อ
C8: หน่วยบริการที่ 1
C9: ระดับของค่าการใช้พลังงานต่อ
C10: หน่วยบริการที่ 2
C11: ระดับของค่าการใช้พลังงานต่อ
C12: หน่วยบริการที่ 3

Sheet ผลการตรวจสอบ-วิเคราะห์ไฟฟ้า1
B2: ตารางที่ 6.3 ผลการตรวจสอบและวิเคราะห์การปฏิบัติตามเป้าหมายและแผนอนุรักษ์พลังงาน
B3: สำหรับมาตรการด้านไฟฟ้า
B5: ชื่อมาตรการ: | C5: =มาตรการและเป้าหมายปี_65!B7 -> บำรุงรักษาเครื่องปรับอากาศแบบแยกส่วน
B6: มาตรการลำดับที่: | C6: 1 | D6: จากจำนวนทั้งหมด: | E6: 2 | F6: มาตรการ
B8: ระยะเวลาดำเนินการ | D8: สถานภาพ การดำเนินการ | E8: เงินลงทุน | G8: ผลการอนุรักษ์พลังงาน
G9: ตามเป้าหมาย | J9: ที่เกิดขึ้นจริง
B10: ตามแผน | C10: ที่เกิดขึ้นจริง | E10: ตามแผน | F10: ลงทุนจริง | G10: ไฟฟ้า | J10: ไฟฟ้า
B11: ดำเนินการ | E11: (บาท) | F11: (บาท) | G11: กิโลวัตต์ | H11: กิโลวัตต์-ชั่วโมง/ปี | I11: บาท/ปี | J11: กิโลวัตต์ | K11: กิโลวัตต์-ชั่วโมง/ปี | L11: บาท/ปี
B12: ม.ค.-ธ.ค. 66 | C12: ม.ค.-ธ.ค. 66 | D12: ดำเนินการ ตามแผน | E12: =มาตรการและเป้าหมายปี_65!M7 -> 564930 | F12: =E12 -> 564930 | G12: =มาตรการและเป้าหมายปี_65!E7 -> 2648.12 | H12: =มาตรการและเป้าหมายปี_65!F7 -> 115855.25 | I12: =มาตรการและเป้าหมายปี_65!G7 -> 504419.58 | J12: =G12 -> 2648.12 | K12: =H12 -> 115855.25 | L12: =K12*'6.3.3ปริมาณการใช้ไฟฟ้า_66 '!L21 -> 558136.26
D13: ไม่ได้ดำเนินการ
D14: ล่าช้า
B15: หมายเหตุ: ระบุมาตรการเรียงตามลำดับ โดยกรอก 1 แผ่น ต่อ 1 มาตรการ
B17: ปัญหาและอุปสรรคที่เกิดขึ้นระหว่างดำเนินการ :
B20: ความคิดเห็นและข้อเสนอแนะ :
B22: ตารางที่ 6.4 ผลการตรวจสอบและวิเคราะห์การปฏิบัติตามเป้าหมายและแผนอนุรักษ์พลังงาน (ต่อ)
B23: สำหรับมาตรการด้านไฟฟ้า
B25: ชื่อมาตรการ: | C25: =มาตรการและเป้าหมายปี_65!B8 -> ลดชั่วโมงการใช้งานเครื่องปรับอากาศ
B26: มาตรการลำดับที่: | C26: 2 | D26: จากจำนวนทั้งหมด: | E26: 2 | F26: มาตรการ
B28: ระยะเวลาดำเนินการ | D28: สถานภาพ การดำเนินการ | E28: เงินลงทุน | G28: ผลการอนุรักษ์พลังงาน
G29: ตามเป้าหมาย | J29: ที่เกิดขึ้นจริง
B30: ตามแผน | C30: ที่เกิดขึ้นจริง | E30: ตามแผน | F30: ลงทุนจริง | G30: ไฟฟ้า | J30: ไฟฟ้า
B31: ดำเนินการ | E31: (บาท) | F31: (บาท) | G31: กิโลวัตต์ | H31: กิโลวัตต์-ชั่วโมง/ปี | I31: บาท/ปี | J31: กิโลวัตต์ | K31: กิโลวัตต์-ชั่วโมง/ปี | L31: บาท/ปี
B32: ม.ค.-ธ.ค. 66 | C32: ม.ค.-ธ.ค. 66 | D32: ดำเนินการ ตามแผน | E32: - | F32: - | G32: =มาตรการและเป้าหมายปี_65!E8 -> - | H32: =มาตรการและเป้าหมายปี_65!F8 -> 1009616 | I32: =มาตรการและเป้าหมายปี_65!G8 -> 4395744.7 | J32: =G32 -> - | K32: =H32 -> 1009616 | L32: =K32*'6.3.3ปริมาณการใช้ไฟฟ้า_66 '!L21 -> 4863856.6
D33: ไม่ได้ดำเนินการ
D34: ล่าช้า
B35: หมายเหตุ: ระบุมาตรการเรียงตามลำดับ โดยกรอก 1 แผ่น ต่อ 1 มาตรการ
B37: ปัญหาและอุปสรรคที่เกิดขึ้นระหว่างดำเนินการ :
B40: ความคิดเห็นและข้อเสนอแนะ :
B42: ตารางที่ 6.10 ผลการตรวจสอบและวิเคราะห์การปฏิบัติตามเป้าหมายและแผนอนุรักษ์พลังงาน (ต่อ)
B43: สำหรับมาตรการด้านไฟฟ้า
B45: ชื่อมาตรการ: | C45: =มาตรการและเป้าหมายปี_65!B9 -> เปลี่ยนหลอด T8 (36W) เป็นหลอด LED (18W)
B46: มาตรการลำดับที่: | C46: 3 | D46: จากจำนวนทั้งหมด: | E46: 5 | F46: มาตรการ
B48: ระยะเวลาดำเนินการ | D48: สถานภาพ การดำเนินการ | E48: เงินลงทุน | G48: ผลการอนุรักษ์พลังงาน
G49: ตามเป้าหมาย | J49: ที่เกิดขึ้นจริง
B50: ตามแผน | C50: ที่เกิดขึ้นจริง | E50: ตามแผน | F50: ลงทุนจริง | G50: ไฟฟ้า | J50: ไฟฟ้า
B51: ดำเนินการ | E51: (บาท) | F51: (บาท) | G51: กิโลวัตต์ | H51: กิโลวัตต์-ชั่วโมง/ปี | I51: บาท/ปี | J51: กิโลวัตต์ | K51: กิโลวัตต์-ชั่วโมง/ปี | L51: บาท/ปี
B52: เม.ย. 61-ก.ย. 61 | C52: เม.ย. 61-ก.ย. 61 | D52: แล้วเสร็จ | E52: =มาตรการและเป้าหมายปี_65!M9 -> 0 | F52: =E52 -> 0 | H52: =มาตรการและเป้าหมายปี_65!F9 -> 0 | I52: =มาตรการและเป้าหมายปี_65!G9 -> 0 | K52: =H52 -> 0 | L52: =I52 -> 0
B53: หมายเหตุ: ระบุมาตรการเรียงตามลำดับ โดยกรอก 1 แผ่น ต่อ 1 มาตรการ
B54: ปัญหาและอุปสรรคที่เกิดขึ้นระหว่างดำเนินการ :
B57: ความคิดเห็นและข้อเสนอแนะ :
B60: ตารางที่ 6.10 ผลการตรวจสอบและวิเคราะห์การปฏิบัติตามเป้าหมายและแผนอนุรักษ์พลังงาน (ต่อ)
B61: สำหรับมาตรการด้านไฟฟ้า
B63: ชื่อมาตรการ: | C63: =มาตรการและเป้าหมายปี_65!B10 -> เปลี่ยนหลอด T8 (18W) เป็นหลอด LED (9W)
B64: มาตรการลำดับที่: | C64: 4 | D64: จากจำนวนทั้งหมด: | E64: 5 | F64: มาตรการ
B66: ระยะเวลาดำเนินการ | D66: สถานภาพ การดำเนินการ | E66: เงินลงทุน | G66: ผลการอนุรักษ์พลังงาน
G67: ตามเป้าหมาย | J67: ที่เกิดขึ้นจริง
B68: ตามแผน | C68: ที่เกิดขึ้นจริง | E68: ตามแผน | F68: ลงทุนจริง | G68: ไฟฟ้า | J68: ไฟฟ้า
B69: ดำเนินการ | E69: (บาท) | F69: (บาท) | G69: กิโลวัตต์ | H69: กิโลวัตต์-ชั่วโมง/ปี | I69: บาท/ปี | J69: กิโลวัตต์ | K69: กิโลวัตต์-ชั่วโมง/ปี | L69: บาท/ปี
B70: เม.ย. 61-ก.ย. 61 | C70: เม.ย. 61-ก.ย. 61 | D70: =D52 -> แล้วเสร็จ | E70: =มาตรการและเป้าหมายปี_65!M10 -> 0 | F70: =E70 -> 0 | H70: =มาตรการและเป้าหมายปี_65!F10 -> 0 | I70: =มาตรการและเป้าหมายปี_65!G10 -> 0 | K70: =H70 -> 0 | L70: =I70 -> 0
B71: หมายเหตุ: ระบุมาตรการเรียงตามลำดับ โดยกรอก 1 แผ่น ต่อ 1 มาตรการ
B73: ปัญหาและอุปสรรคที่เกิดขึ้นระหว่างดำเนินการ :
B76: ความคิดเห็นและข้อเสนอแนะ :
B79: ตารางที่ 6.10 ผลการตรวจสอบและวิเคราะห์การปฏิบัติตามเป้าหมายและแผนอนุรักษ์พลังงาน
B80: สำหรับมาตรการด้านไฟฟ้า
B82: ชื่อมาตรการ: | C82: =มาตรการและเป้าหมายปี_65!B11 -> เครื่องปรับอากาศประสิทธิภาพสูง Inverter
B83: มาตรการลำดับที่: | C83: 5 | D83: จากจำนวนทั้งหมด: | E83: 5 | F83: มาตรการ
B85: ระยะเวลาดำเนินการ | D85: สถานภาพ การดำเนินการ | E85: เงินลงทุน | G85: ผลการอนุรักษ์พลังงาน
G86: ตามเป้าหมาย | J86: ที่เกิดขึ้นจริง
B87: ตามแผน | C87: ที่เกิดขึ้นจริง | E87: ตามแผน | F87: ลงทุนจริง | G87: ไฟฟ้า | J87: ไฟฟ้า
B88: ดำเนินการ | E88: (บาท) | F88: (บาท) | G88: กิโลวัตต์ | H88: กิโลวัตต์-ชั่วโมง/ปี | I88: บาท/ปี | J88: กิโลวัตต์ | K88: กิโลวัตต์-ชั่วโมง/ปี | L88: บาท/ปี
B89: เม.ย. 61-ก.ย. 61 | C89: เม.ย. 61-ก.ย. 61 | D89: =D70 -> แล้วเสร็จ | E89: =มาตรการและเป้าหมายปี_65!M11 -> 0 | F89: =E89 -> 0 | H89: =มาตรการและเป้าหมายปี_65!F11 -> 0 | I89: =มาตรการและเป้าหมายปี_65!G11 -> 0 | K89: =H89 -> 0 | L89: =I89 -> 0
B90: หมายเหตุ: ระบุมาตรการเรียงตามลำดับ โดยกรอก 1 แผ่น ต่อ 1 มาตรการ
B92: ปัญหาและอุปสรรคที่เกิดขึ้นระหว่างดำเนินการ :
B95: ความคิดเห็นและข้อเสนอแนะ :

Sheet ภาพ+คำนวณผลไฟฟ้า 1
B1: รายละเอียดผลการดำเนินการที่เกิดขึ้นจริง
B2: (สำหรับมาตรการด้านไฟฟ้า)
B3: ='ผลการตรวจสอบ-วิเคราะห์ไฟฟ้า1'!B5 -> ชื่อมาตรการ: | D3: ='ผลการตรวจสอบ-วิเคราะห์ไฟฟ้า1'!C5 -> บำรุงรักษาเครื่องปรับอากาศแบบแยกส่วน
B4: ='ผลการตรวจสอบ-วิเคราะห์ไฟฟ้า1'!B6 -> มาตรการลำดับที่: | D4: ='ผลการตรวจสอบ-วิเคราะห์ไฟฟ้า1'!C6 -> 1
C5: ภาพหลังดำเนินการปรับปรุง
B27: รูปที่ 6-1 หลังดำเนินการปรับปรุง
A29: แสดงวิธีการคำนวณผลอนุรักษ์พลังงานที่เกิดขึ้นจริง (มาตรการด้านไฟฟ้า)
B31: ='มาตรการไฟฟ้า '!B37:I37 -> รายการข้อมูลประกอบการคำนวณ | E31: ='มาตรการไฟฟ้า '!J37 -> หน่วย | F31: ='มาตรการไฟฟ้า '!K37 -> ตัวย่อ | G31: ='มาตรการไฟฟ้า '!L37 -> ปริมาณ
B32: ='มาตรการไฟฟ้า '!B38:I38 -> จำนวนเครื่องปรับอากาศ | E32: ='มาตรการไฟฟ้า '!J38 -> เครื่อง | F32: ='มาตรการไฟฟ้า '!K38 -> n | G32: ='มาตรการไฟฟ้า '!L38 -> 1108
B33: ='มาตรการไฟฟ้า '!B39:I39 -> ค่าเฉลี่ยของกำลังไฟฟ้าต่อเครื่อง | E33: ='มาตรการไฟฟ้า '!J39 -> kW | F33: ='มาตรการไฟฟ้า '!K39 -> W | G33: ='มาตรการไฟฟ้า '!L39 -> 2.39
B34: ='มาตรการไฟฟ้า '!B40:I40 -> ชั่วโมงใช้งานต่อวัน | E34: ='มาตรการไฟฟ้า '!J40 -> ชั่วโมง | F34: ='มาตรการไฟฟ้า '!K40 -> h | G34: ='มาตรการไฟฟ้า '!L40 -> 5
B35: ='มาตรการไฟฟ้า '!B41:I41 -> แฟกเตอร์การทำงาน | E35: ='มาตรการไฟฟ้า '!J41 -> % | F35: ='มาตรการไฟฟ้า '!K41 -> F | G35: ='มาตรการไฟฟ้า '!L41 -> 70
B36: ='มาตรการไฟฟ้า '!B42:I42 -> วันที่ใช้งานต่อปี | E36: ='มาตรการไฟฟ้า '!J42 -> วัน | F36: ='มาตรการไฟฟ้า '!K42 -> D | G36: ='มาตรการไฟฟ้า '!L42 -> 250
B37: ='มาตรการไฟฟ้า '!B43:I43 -> ผลประหยัดภายหลังการบำรุงรักษา | E37: ='มาตรการไฟฟ้า '!J43 -> % | F37: ='มาตรการไฟฟ้า '!K43 -> S | G37: ='มาตรการไฟฟ้า '!L43 -> 5
B38: ='มาตรการไฟฟ้า '!B44:I44 -> อัตราค่าไฟฟ้าโดยเฉลี่ยต่อหน่วย | E38: ='มาตรการไฟฟ้า '!J44 -> บาท | F38: ='มาตรการไฟฟ้า '!K44 -> B | G38: ='6.3.3ปริมาณการใช้ไฟฟ้า_66 '!L21 -> 4.817531
B41: ='มาตรการไฟฟ้า '!B46:I46 -> การคำนวณ | F41: ='มาตรการไฟฟ้า '!J46 -> หน่วย | G41: ='มาตรการไฟฟ้า '!K46 -> ตัวย่อ | H41: ='มาตรการไฟฟ้า '!L46 -> ปริมาณ
B42: ='มาตรการไฟฟ้า '!B47:I47 -> พลังงานที่ใช้ก่อนปรับปรุง; n x W x h x D x (F/100) | F42: ='มาตรการไฟฟ้า '!J47 -> kWh/y | G42: ='มาตรการไฟฟ้า '!K47 -> Ei | H42: ='มาตรการไฟฟ้า '!L47 -> 2317105
B43: ='มาตรการไฟฟ้า '!B48:I48 -> พลังงานที่สามารถประหยัดได้; (S x Ei)/100 | F43: ='มาตรการไฟฟ้า '!J48 -> kWh/y | G43: ='มาตรการไฟฟ้า '!K48 -> Es | H43: ='มาตรการไฟฟ้า '!L48 -> 115855.25
B44: ='มาตรการไฟฟ้า '!B49:I49 -> คิดเป็นเงินที่ประหยัดได้; (Es x B) | F44: ='มาตรการไฟฟ้า '!J49 -> บาท/ปี | G44: ='มาตรการไฟฟ้า '!K49 -> Bs | H44: =G38*H43 -> 558136.26

Sheet ภาพ+คำนวณผลไฟฟ้า 2
B1: รายละเอียดผลการดำเนินการที่เกิดขึ้นจริง
B2: (สำหรับมาตรการด้านไฟฟ้า)
B3: ='ผลการตรวจสอบ-วิเคราะห์ไฟฟ้า1'!B5 -> ชื่อมาตรการ: | D3: ='ผลการตรวจสอบ-วิเคราะห์ไฟฟ้า1'!C25 -> ลดชั่วโมงการใช้งานเครื่องปรับอากาศ
B4: ='ผลการตรวจสอบ-วิเคราะห์ไฟฟ้า1'!B6 -> มาตรการลำดับที่: | D4: ='ผลการตรวจสอบ-วิเคราะห์ไฟฟ้า1'!C26 -> 2
C5: ภาพหลังดำเนินการปรับปรุง
B30: รูปที่ 6-1 หลังดำเนินการปรับปรุง
A32: แสดงวิธีการคำนวณผลอนุรักษ์พลังงานที่เกิดขึ้นจริง (มาตรการด้านไฟฟ้า)
B34: ='มาตรการไฟฟ้า '!B101:I101 -> รายการข้อมูลประกอบการคำนวณ | E34: ='มาตรการไฟฟ้า '!J101 -> หน่วย | F34: ='มาตรการไฟฟ้า '!K101 -> ตัวย่อ | G34: ='มาตรการไฟฟ้า '!L101 -> ปริมาณ
B35: ='มาตรการไฟฟ้า '!B102:I102 -> จำนวนเครื่องปรับอากาศ | E35: ='มาตรการไฟฟ้า '!J102 -> เครื่อง | F35: ='มาตรการไฟฟ้า '!K102 -> n | G35: ='มาตรการไฟฟ้า '!L102 -> 3003
B36: ='มาตรการไฟฟ้า '!B103:I103 -> ค่าเฉลี่ยของกำลังไฟฟ้าต่อเครื่อง | E36: ='มาตรการไฟฟ้า '!J103 -> kW | F36: ='มาตรการไฟฟ้า '!K103 -> W | G36: ='มาตรการไฟฟ้า '!L103 -> 3.842314
B37: ='มาตรการไฟฟ้า '!B104:I104 -> ชั่วโมงใช้งานต่อวัน | E37: ='มาตรการไฟฟ้า '!J104 -> ชั่วโมง | F37: ='มาตรการไฟฟ้า '!K104 -> h1 | G37: ='มาตรการไฟฟ้า '!L104 -> 5
B38: ='มาตรการไฟฟ้า '!B105:I105 -> แฟกเตอร์การทำงาน | E38: ='มาตรการไฟฟ้า '!J105 -> % | F38: ='มาตรการไฟฟ้า '!K105 -> F | G38: ='มาตรการไฟฟ้า '!L105 -> 70
B39: ='มาตรการไฟฟ้า '!B106:I106 -> วันที่ใช้งานต่อปี | E39: ='มาตรการไฟฟ้า '!J106 -> วัน | F39: ='มาตรการไฟฟ้า '!K106 -> D | G39: ='มาตรการไฟฟ้า '!L106 -> 250
B40: ='มาตรการไฟฟ้า '!B107:I107 -> ชั่วโมงใช้งานต่อวันที่ลดลง | E40: ='มาตรการไฟฟ้า '!J107 -> ชั่วโมง | F40: ='มาตรการไฟฟ้า '!K107 -> h2 | G40: ='มาตรการไฟฟ้า '!L107 -> 0.5
B41: ='มาตรการไฟฟ้า '!B108:I108 -> อัตราค่าไฟฟ้าโดยเฉลี่ยต่อหน่วย | E41: ='มาตรการไฟฟ้า '!J108 -> บาท | F41: ='มาตรการไฟฟ้า '!K108 -> B | G41: ='6.3.3ปริมาณการใช้ไฟฟ้า_66 '!L21 -> 4.817531
B44: ='มาตรการไฟฟ้า '!B110:I110 -> การคำนวณ | F44: ='มาตรการไฟฟ้า '!J110 -> หน่วย | G44: ='มาตรการไฟฟ้า '!K110 -> ตัวย่อ | H44: ='มาตรการไฟฟ้า '!L110 -> ปริมาณ
B45: ='มาตรการไฟฟ้า '!B111:I111 -> พลังงานที่ใช้ก่อนปรับปรุง; n x W x h x D x (F/100) | F45: ='มาตรการไฟฟ้า '!J111 -> kWh/y | G45: ='มาตรการไฟฟ้า '!K111 -> Ei | H45: ='มาตรการไฟฟ้า '!L111 -> 10096160
B46: ='มาตรการไฟฟ้า '!B112:I112 -> พลังงานที่ใช้หลังปรับปรุง; n x W x (h1-h2) x D x (F/100) | F46: ='มาตรการไฟฟ้า '!J112 -> kWh/y | G46: ='มาตรการไฟฟ้า '!K112 -> Eo | H46: ='มาตรการไฟฟ้า '!L112 -> 9086544.4
B47: ='มาตรการไฟฟ้า '!B113:I113 -> พลังงานที่สามารถประหยัดได้; ( Ei-Eo) | F47: ='มาตรการไฟฟ้า '!J113 -> kWh/y | G47: ='มาตรการไฟฟ้า '!K113 -> Es | H47: ='มาตรการไฟฟ้า '!L113 -> 1009616
B48: ='มาตรการไฟฟ้า '!B114:I114 -> คิดเป็นเงินที่ประหยัดได้; (Es x B) | F48: ='มาตรการไฟฟ้า '!J114 -> บาท/ปี | G48: ='มาตรการไฟฟ้า '!K114 -> Bs | H48: =G41*H47 -> 4863856.6

Sheet ผลการตรวจสอบ-วิเคราะห์ความร้อน
A2: ตารางที่ 6.3 ผลการตรวจสอบและวิเคราะห์การปฏิบัติตามเป้าหมายและแผนอนุรักษ์พลังงาน
A3: สำหรับมาตรการด้านความร้อน
A5: ชื่อมาตรการ:
A6: มาตรการลำดับที่: | C6: จากจำนวนทั้งหมด: | E6: มาตรการ
A8: ระยะเวลาดำเนินการ | C8: สถานภาพ การดำเนินการ | D8: เงินลงทุน | F8: ผลการอนุรักษ์พลังงาน
F9: ตามเป้าหมาย | J9: ที่เกิดขึ้นจริง
A10: ตามแผน | B10: ที่เกิดขึ้นจริง | D10: ตามแผน | E10: ลงทุนจริง | F10: เชื้อเพลิง | J10: เชื้อเพลิง
A11: ดำเนินการ | D11: (บาท) | E11: (บาท) | F11: ชนิด | G11: ปริมาณ | H11: หน่วย(ระบุ) | I11: บาท/ปี | J11: ชนิด | K11: ปริมาณ | L11: หน่วย(ระบุ) | M11: บาท/ปี
C12: ดำเนินการ ตามแผน
C13: ไม่ได้ดำเนินการ
C14: ล่าช้า
A15: หมายเหตุ: ระบุมาตรการเรียงตามลำดับ โดยกรอก 1 แผ่น ต่อ 1 มาตรการ
A17: ปัญหาและอุปสรรคที่เกิดขึ้นระหว่างดำเนินการ :
A19: ความคิดเห็นและข้อเสนอแนะ :

Sheet มาตรการความร้อน (2)
A1: รายละเอียดผลการดำเนินการที่เกิดขึ้นจริง
A2: (สำหรับมาตรการด้านความร้อน)
A4: 1) | B4: มาตรการลำดับที่:
A5: 2) | B5: ชื่อมาตรการ:
A6: 3) | B6: ผู้รับผิดชอบมาตรการ: | J6: ตำแหน่ง
A7: 4) | B7: อุปกรณ์ที่ปรับปรุง:
A8: 5) | B8: จำนวนอุปกรณ์ที่ปรับปรุง:
A9: 6) | B9: สถานที่ปรับปรุง:
A10: 7) | B10: สาเหตุการปรับปรุง:
K14: ลิตร/ปี | L14: เมกะจูล/ปี | M14: บาท/ปี
A15: 8) | B15: ระดับการใช้พลังงานเป้าหมายก่อนการปรับปรุง
A16: 9) | B16: ระดับการใช้พลังงานเป้าหมายหลังการปรับปรุง
A17: 10) | B17: ผลประหยัด
A18: 11) | B18: เงินลงทุนทั้งหมด | M18: บาท
A19: 12) | B19: ระยะเวลาคืนทุน | M19: ปี
A20: 13) | B20: รายละเอียดการดำเนินการปรับปรุง:
A26: 14) | B26: วิธีการตรวจสอบผลการประหยัดหลังปรับปรุง
A31: 15) | B31: แสดงวิธีการคำนวณประกอบ

Sheet 6.2ผลการติดตามแผนฝีกอบรม 
A1: 6.2 ผลการติดตามการดำเนินงานของแผนการฝึกอบรมและกิจกรรมเพื่อส่งเสริมการอนุรักษ์พลังงาน
A3: ตารางที่ 6.5 สรุปสถานภาพการดำเนินงานตามหลักสูตรการฝึกอบรม
A5: ลำดับ ที่ | B5: ชื่อหลักสูตรการฝึกอบรม | C5: สถานภาพการดำเนินการ | F5: จำนวน ผู้เข้าอบรม | G5: หมายเหตุ
A6: 1 | B6: ='5.2แผนการฝึกอบรม'!B6 -> สัมมนาออนไลน์ มาตรฐาน เพื่อการออกแบบบ้านประหยัดพลังงาน ของประเทศไทย 21-06-66 | C6: ดำเนินการตามแผน | F6: 100
C7: ไม่ได้ดำเนินการ เนื่องจาก
C10: ล่าช้า เนื่องจาก
A14: 2 | B14: ='5.2แผนการฝึกอบรม'!B7 -> อบรม "การใช้พลังงานและทรัพยากรอย่างคุ้มค่า" 30-06-66 | C14: ดำเนินการตามแผน | F14: 60
C15: ไม่ได้ดำเนินการ เนื่องจาก
C18: ล่าช้า เนื่องจาก
A22: 3 | B22: ='5.2แผนการฝึกอบรม'!B8 -> การฝึกอบรมสร้างความรู้ เสริมทักษะ โซลาร์รูฟ วันที่ 23-24 พฤศจิกายน 2566 | C22: ดำเนินการตามแผน | F22: 150
C23: ไม่ได้ดำเนินการ เนื่องจาก
C26: ล่าช้า เนื่องจาก
B35: ภาพ/หลักฐานแสดงการฝึกอบรม
B48: รูปที่ 6-5 ภาพแสดงสัมมนาออนไลน์ มาตรฐาน เพื่อการออกแบบบ้านประหยัดพลังงาน ของประเทศไทย 21-06-66
B64: รูปที่ 6-5.1 ภาพแสดงอบรม "การใช้พลังงานและทรัพยากรอย่างคุ้มค่า" 30-06-66
B78: รูปที่ 6-5.2 ภาพแสดงการฝึกอบรมสร้างความรู้ เสริมทักษะ โซลาร์รูฟ วันที่ 23-24 พฤศจิกายน 2566
B94: รูปที่ 6-5.3 ภาพแสดงโครงการให้ความรู้เกี่ยวกับการซ่อมแซมระบบไฟฟ้า ประปา และการบำรุงรักษาเครื่องปรับอากาศ

Sheet ผลการติดตามแผนกิจกรรม
A2: ตารางที่ 6.6 สรุปสถานภาพการดำเนินงานตามกิจกรรมเพื่อส่งเสริมการอนุรักษ์พลังงาน
A4: ลำดับ ที่ | B4: ชื่อกิจกรรม เพื่อส่งเสริม การอนุรักษ์พลังงาน | C4: สถานภาพการดำเนินการ | F4: จำนวน ผู้เข้ากิจกรรม | G4: หมายเหตุ
A5: 1 | B5: สถานีวิทยุ FM 95.5 ประชาสัมพันธ์เรื่องการประหยัดพลังงาน | C5: ดำเนินการตามแผน | F5: 1000
C6: ไม่ได้ดำเนินการ เนื่องจาก
C9: ล่าช้า เนื่องจาก
B14: ภาพ/หลักฐานแสดงกิจกรรมเพื่อส่งเสริมการอนุรักษ์พลังงาน
B28: รูปที่ 6-6 สถานีวิทยุ FM 95.5 เรื่องการประหยัดพลังงาน

Sheet 6.3.1 ข้อมูลการใช้อาคาร_66
A1: 6.3 ข้อมูลทางด้านพลังงานในรอบปี 2566
A2: 6.3.1) ข้อมูลการใช้อาคารในรอบปี 2566
B3: 6.3.1.1) รายละเอียดการใช้งานอาคาร (สำหรับอาคารทุกประเภท)
B4: ตารางที่ 6.7 รายละเอียดการใช้งานอาคาร ในรอบปี 2566
F6: เวลาทำงาน | H6: พื้นที่ทั้งหมดของอาคาร (ตารางเมตร)
B7: ลำดับที่ | C7: ชื่ออาคาร | D7: ปี พ.ศ. | E7: จำนวน | H7: (1) พื้นที่ใช้สอย | K7: (2) | L7: (3)=(2)+(1)
D8: ที่เปิดใช้งาน | E8: ชั้น | F8: ชั่วโมง/วัน | G8: วัน/ปี | H8: ปรับอากาศ | I8: ไม่ปรับอากาศ | J8: รวม | K8: พื้นที่จอดรถ ในตัวอาคาร | L8: รวม
B9: ='4.1.1 รายละเอียดการใช้อาคาร_65'!B9 -> ส่วนกลาง
B10: ='4.1.1 รายละเอียดการใช้อาคาร_65'!B10 -> 1 | C10: ='4.1.1 รายละเอียดการใช้อาคาร_65'!C10 -> อาคารเทพศาสตร์สถิตย์ | D10: ='4.1.1 รายละเอียดการใช้อาคาร_65'!D10 -> 2526 | E10: ='4.1.1 รายละเอียดการใช้อาคาร_65'!E10 -> 2 | F10: ='4.1.1 รายละเอียดการใช้อาคาร_65'!F10 -> 8 | G10: ='4.1.1 รายละเอียดการใช้อาคาร_65'!G10 -> 250 | H10: ='4.1.1 รายละเอียดการใช้อาคาร_65'!H10 -> 788 | I10: ='4.1.1 รายละเอียดการใช้อาคาร_65'!I10 -> 2015.5 | ... L10: ='4.1.1 รายละเอียดการใช้อาคาร_65'!L10 -> 2803.5
B11: ='4.1.1 รายละเอียดการใช้อาคาร_65'!B11 -> 2 | C11: ='4.1.1 รายละเอียดการใช้อาคาร_65'!C11 -> โรงประชุม (รวมอาคารห้องน้ำ) (ชูติวัตร เดิม) | D11: ='4.1.1 รายละเอียดการใช้อาคาร_65'!D11 -> 2490 | E11: ='4.1.1 รายละเอียดการใช้อาคาร_65'!E11 -> 1 | F11: ='4.1.1 รายละเอียดการใช้อาคาร_65'!F11 -> 1 | G11: ='4.1.1 รายละเอียดการใช้อาคาร_65'!G11 -> 250 | H11: ='4.1.1 รายละเอียดการใช้อาคาร_65'!H11 -> 0 | I11: ='4.1.1 รายละเอียดการใช้อาคาร_65'!I11 -> 461 | ... L11: ='4.1.1 รายละเอียดการใช้อาคาร_65'!L11 -> 461
B12: ='4.1.1 รายละเอียดการใช้อาคาร_65'!B12 -> 3 | C12: ='4.1.1 รายละเอียดการใช้อาคาร_65'!C12 -> อาคารแผ่พืชน์ | D12: ='4.1.1 รายละเอียดการใช้อาคาร_65'!D12 -> 2511 | E12: ='4.1.1 รายละเอียดการใช้อาคาร_65'!E12 -> 1 | F12: ='4.1.1 รายละเอียดการใช้อาคาร_65'!F12 -> 1 | G12: ='4.1.1 รายละเอียดการใช้อาคาร_65'!G12 -> 250 | H12: ='4.1.1 รายละเอียดการใช้อาคาร_65'!H12 -> 12 | I12: ='4.1.1 รายละเอียดการใช้อาคาร_65'!I12 -> 1892 | ... L12: ='4.1.1 รายละเอียดการใช้อาคาร_65'!L12 -> 1904
B13: ='4.1.1 รายละเอียดการใช้อาคาร_65'!B13 -> 4 | C13: ='4.1.1 รายละเอียดการใช้อาคาร_65'!C13 -> อาคารวุฒากาศ | D13: ='4.1.1 รายละเอียดการใช้อาคาร_65'!D13 -> 2515 | E13: ='4.1.1 รายละเอียดการใช้อาคาร_65'!E13 -> 2 | F13: ='4.1.1 รายละเอียดการใช้อาคาร_65'!F13 -> 1 | G13: ='4.1.1 รายละเอียดการใช้อาคาร_65'!G13 -> 250 | H13: ='4.1.1 รายละเอียดการใช้อาคาร_65'!H13 -> 426 | I13: ='4.1.1 รายละเอียดการใช้อาคาร_65'!I13 -> 205 | ... L13: ='4.1.1 รายละเอียดการใช้อาคาร_65'!L13 -> 631
B14: ='4.1.1 รายละเอียดการใช้อาคาร_65'!B14 -> 5 | C14: ='4.1.1 รายละเอียดการใช้อาคาร_65'!C14 -> อาคารเฉลิมพระเกียรติ โซน A | D14: ='4.1.1 รายละเอียดการใช้อาคาร_65'!D14 -> 2537 | E14: ='4.1.1 รายละเอียดการใช้อาคาร_65'!E14 -> 2 | F14: ='4.1.1 รายละเอียดการใช้อาคาร_65'!F14 -> 1 | G14: ='4.1.1 รายละเอียดการใช้อาคาร_65'!G14 -> 250 | H14: ='4.1.1 รายละเอียดการใช้อาคาร_65'!H14 -> 5503.65 | I14: ='4.1.1 รายละเอียดการใช้อาคาร_65'!I14 -> 8353.36 | ... L14: ='4.1.1 รายละเอียดการใช้อาคาร_65'!L14 -> 18648.39
B15: ='4.1.1 รายละเอียดการใช้อาคาร_65'!B15 -> 6 | C15: ='4.1.1 รายละเอียดการใช้อาคาร_65'!C15 -> อาคารเฉลิมพระเกียรติ โซน B | D15: ='4.1.1 รายละเอียดการใช้อาคาร_65'!D15 -> 2537 | E15: ='4.1.1 รายละเอียดการใช้อาคาร_65'!E15 -> 4 | F15: ='4.1.1 รายละเอียดการใช้อาคาร_65'!F15 -> 5 | G15: ='4.1.1 รายละเอียดการใช้อาคาร_65'!G15 -> 250 | H15: ='4.1.1 รายละเอียดการใช้อาคาร_65'!H15 -> 606.25 | I15: ='4.1.1 รายละเอียดการใช้อาคาร_65'!I15 -> 5253.25 | ... L15: ='4.1.1 รายละเอียดการใช้อาคาร_65'!L15 -> 5859.5
B16: ='4.1.1 รายละเอียดการใช้อาคาร_65'!B16 -> 7 | C16: ='4.1.1 รายละเอียดการใช้อาคาร_65'!C16 -> สนามกีฬาอินทนิล (อัฒจัททร์ 2 หลัง) | D16: ='4.1.1 รายละเอียดการใช้อาคาร_65'!D16 -> 2527 | E16: ='4.1.1 รายละเอียดการใช้อาคาร_65'!E16 -> 2 | F16: ='4.1.1 รายละเอียดการใช้อาคาร_65'!F16 -> 1 | G16: ='4.1.1 รายละเอียดการใช้อาคาร_65'!G16 -> 250 | H16: ='4.1.1 รายละเอียดการใช้อาคาร_65'!H16 -> 79.32 | I16: ='4.1.1 รายละเอียดการใช้อาคาร_65'!I16 -> 1742.6 | ... L16: ='4.1.1 รายละเอียดการใช้อาคาร_65'!L16 -> 1821.92
B17: ='4.1.1 รายละเอียดการใช้อาคาร_65'!B17 -> 8 | C17: ='4.1.1 รายละเอียดการใช้อาคาร_65'!C17 -> โรงประปา 2 | D17: ='4.1.1 รายละเอียดการใช้อาคาร_65'!D17 -> 2559 | E17: ='4.1.1 รายละเอียดการใช้อาคาร_65'!E17 -> 1 | F17: ='4.1.1 รายละเอียดการใช้อาคาร_65'!F17 -> 1 | G17: ='4.1.1 รายละเอียดการใช้อาคาร_65'!G17 -> 250 | H17: ='4.1.1 รายละเอียดการใช้อาคาร_65'!H17 -> 0 | I17: ='4.1.1 รายละเอียดการใช้อาคาร_65'!I17 -> 32 | ... L17: ='4.1.1 รายละเอียดการใช้อาคาร_65'!L17 -> 32
B18: ='4.1.1 รายละเอียดการใช้อาคาร_65'!B18 -> 9 | C18: ='4.1.1 รายละเอียดการใช้อาคาร_65'!C18 -> อาคารเรือนธรรม | D18: ='4.1.1 รายละเอียดการใช้อาคาร_65'!D18 -> 2540 | E18: ='4.1.1 รายละเอียดการใช้อาคาร_65'!E18 -> 2 | F18: ='4.1.1 รายละเอียดการใช้อาคาร_65'!F18 -> 1 | G18: ='4.1.1 รายละเอียดการใช้อาคาร_65'!G18 -> 250 | H18: ='4.1.1 รายละเอียดการใช้อาคาร_65'!H18 -> 0 | I18: ='4.1.1 รายละเอียดการใช้อาคาร_65'!I18 -> 607.25 | ... L18: ='4.1.1 รายละเอียดการใช้อาคาร_65'!L18 -> 607.25
B19: ='4.1.1 รายละเอียดการใช้อาคาร_65'!B19 -> 10 | C19: ='4.1.1 รายละเอียดการใช้อาคาร_65'!C19 -> อาคารพิพิธภัณฑ์เกษตรไทย | D19: ='4.1.1 รายละเอียดการใช้อาคาร_65'!D19 -> 2499 | E19: ='4.1.1 รายละเอียดการใช้อาคาร_65'!E19 -> 2 | F19: ='4.1.1 รายละเอียดการใช้อาคาร_65'!F19 -> 1 | G19: ='4.1.1 รายละเอียดการใช้อาคาร_65'!G19 -> 250 | H19: ='4.1.1 รายละเอียดการใช้อาคาร_65'!H19 -> 640 | I19: ='4.1.1 รายละเอียดการใช้อาคาร_65'!I19 -> - | ... L19: ='4.1.1 รายละเอียดการใช้อาคาร_65'!L19 -> 640
B20: ='4.1.1 รายละเอียดการใช้อาคาร_65'!B20 -> 11 | C20: ='4.1.1 รายละเอียดการใช้อาคาร_65'!C20 -> อาคารเรียนรวมแม่โจ้ 70 ปี | D20: ='4.1.1 รายละเอียดการใช้อาคาร_65'!D20 -> 2549 | E20: ='4.1.1 รายละเอียดการใช้อาคาร_65'!E20 -> 5 | F20: ='4.1.1 รายละเอียดการใช้อาคาร_65'!F20 -> 8 | G20: ='4.1.1 รายละเอียดการใช้อาคาร_65'!G20 -> 250 | H20: ='4.1.1 รายละเอียดการใช้อาคาร_65'!H20 -> 3105.81 | I20: ='4.1.1 รายละเอียดการใช้อาคาร_65'!I20 -> 9055.81 | ... L20: ='4.1.1 รายละเอียดการใช้อาคาร_65'!L20 -> 13421.87
B21: ='4.1.1 รายละเอียดการใช้อาคาร_65'!B21 -> 12 | C21: ='4.1.1 รายละเอียดการใช้อาคาร_65'!C21 -> อาคารเฉลิมพระเกียรติสมเด็จพระเทพรัตนราชสุดา | D21: ='4.1.1 รายละเอียดการใช้อาคาร_65'!D21 -> 2536 | E21: ='4.1.1 รายละเอียดการใช้อาคาร_65'!E21 -> 3 | F21: ='4.1.1 รายละเอียดการใช้อาคาร_65'!F21 -> 8 | G21: ='4.1.1 รายละเอียดการใช้อาคาร_65'!G21 -> 250 | H21: ='4.1.1 รายละเอียดการใช้อาคาร_65'!H21 -> 7063.5 | I21: ='4.1.1 รายละเอียดการใช้อาคาร_65'!I21 -> 5573.75 | ... L21: ='4.1.1 รายละเอียดการใช้อาคาร_65'!L21 -> 12637.25
... B30: ='4.1.1 รายละเอียดการใช้อาคาร_65'!B30 -> 21 | C30: ='4.1.1 รายละเอียดการใช้อาคาร_65'!C30 -> อาคารช่วงเกษตรศิลป์ | D30: ='4.1.1 รายละเอียดการใช้อาคาร_65'!D30 -> 2496 | E30: ='4.1.1 รายละเอียดการใช้อาคาร_65'!E30 -> 2 | F30: ='4.1.1 รายละเอียดการใช้อาคาร_65'!F30 -> 8 | G30: ='4.1.1 รายละเอียดการใช้อาคาร_65'!G30 -> 250 | H30: ='4.1.1 รายละเอียดการใช้อาคาร_65'!H30 -> 954.5 | I30: ='4.1.1 รายละเอียดการใช้อาคาร_65'!I30 -> 1269.76 | ... L30: ='4.1.1 รายละเอียดการใช้อาคาร_65'!L30 -> 2224.26
B31: ='4.1.1 รายละเอียดการใช้อาคาร_65'!B31 -> สำนักงานมหาวิทยาลัย
B32: ='4.1.1 รายละเอียดการใช้อาคาร_65'!B32 -> 22 | C32: ='4.1.1 รายละเอียดการใช้อาคาร_65'!C32 -> อาคารสำนักงานมหาวิทยาลัย 1 (สำนักมาตราฐานการศึกษา เดิม) | D32: ='4.1.1 รายละเอียดการใช้อาคาร_65'!D32 -> 2513 | E32: ='4.1.1 รายละเอียดการใช้อาคาร_65'!E32 -> 2 | F32: ='4.1.1 รายละเอียดการใช้อาคาร_65'!F32 -> 8 | G32: ='4.1.1 รายละเอียดการใช้อาคาร_65'!G32 -> 250 | H32: ='4.1.1 รายละเอียดการใช้อาคาร_65'!H32 -> 404 | I32: ='4.1.1 รายละเอียดการใช้อาคาร_65'!I32 -> 489 | ... L32: ='4.1.1 รายละเอียดการใช้อาคาร_65'!L32 -> 893
B33: ='4.1.1 รายละเอียดการใช้อาคาร_65'!B33 -> 23 | C33: ='4.1.1 รายละเอียดการใช้อาคาร_65'!C33 -> อาคารสำนักงานมหาวิทยาลัย 2 (สำนักงานอธิการบดี เดิม) | D33: ='4.1.1 รายละเอียดการใช้อาคาร_65'!D33 -> 2537 | E33: ='4.1.1 รายละเอียดการใช้อาคาร_65'!E33 -> 5 | F33: ='4.1.1 รายละเอียดการใช้อาคาร_65'!F33 -> 8 | G33: ='4.1.1 รายละเอียดการใช้อาคาร_65'!G33 -> 250 | H33: ='4.1.1 รายละเอียดการใช้อาคาร_65'!H33 -> 2549 | I33: ='4.1.1 รายละเอียดการใช้อาคาร_65'!I33 -> 4097 | ... L33: ='4.1.1 รายละเอียดการใช้อาคาร_65'!L33 -> 6646
B34: ='4.1.1 รายละเอียดการใช้อาคาร_65'!B34 -> 24 | C34: ='4.1.1 รายละเอียดการใช้อาคาร_65'!C34 -> อาคารสำนักงานมหาวิทยาลัย 3 (อิงคศรีกสิการ เดิม) | D34: ='4.1.1 รายละเอียดการใช้อาคาร_65'!D34 -> 2513 | E34: ='4.1.1 รายละเอียดการใช้อาคาร_65'!E34 -> 2 | F34: ='4.1.1 รายละเอียดการใช้อาคาร_65'!F34 -> 8 | G34: ='4.1.1 รายละเอียดการใช้อาคาร_65'!G34 -> 250 | H34: ='4.1.1 รายละเอียดการใช้อาคาร_65'!H34 -> 752 | I34: ='4.1.1 รายละเอียดการใช้อาคาร_65'!I34 -> 744 | ... L34: ='4.1.1 รายละเอียดการใช้อาคาร_65'!L34 -> 1496
B35: ='4.1.1 รายละเอียดการใช้อาคาร_65'!B35 -> 25 | C35: ='4.1.1 รายละเอียดการใช้อาคาร_65'!C35 -> โรงจอดรถกองกิจการนักศึกษา | D35: ='4.1.1 รายละเอียดการใช้อาคาร_65'!D35 -> 2515 | E35: ='4.1.1 รายละเอียดการใช้อาคาร_65'!E35 -> 1 | F35: ='4.1.1 รายละเอียดการใช้อาคาร_65'!F35 -> 1 | G35: ='4.1.1 รายละเอียดการใช้อาคาร_65'!G35 -> 250 | H35: ='4.1.1 รายละเอียดการใช้อาคาร_65'!H35 -> 0 | I35: ='4.1.1 รายละเอียดการใช้อาคาร_65'!I35 -> 305.5 | ... L35: ='4.1.1 รายละเอียดการใช้อาคาร_65'!L35 -> 305.5
B36: ='4.1.1 รายละเอียดการใช้อาคาร_65'!B36 -> 26 | C36: ='4.1.1 รายละเอียดการใช้อาคาร_65'!C36 -> ชมรมวิทยุสมัครเล่น | D36: ='4.1.1 รายละเอียดการใช้อาคาร_65'!D36 -> 2542 | E36: ='4.1.1 รายละเอียดการใช้อาคาร_65'!E36 -> 1 | F36: ='4.1.1 รายละเอียดการใช้อาคาร_65'!F36 -> 1 | G36: ='4.1.1 รายละเอียดการใช้อาคาร_65'!G36 -> 250 | H36: ='4.1.1 รายละเอียดการใช้อาคาร_65'!H36 -> 0 | I36: ='4.1.1 รายละเอียดการใช้อาคาร_65'!I36 -> 28 | ... L36: ='4.1.1 รายละเอียดการใช้อาคาร_65'!L36 -> 28
B37: ='4.1.1 รายละเอียดการใช้อาคาร_65'!B37 -> 27 | C37: ='4.1.1 รายละเอียดการใช้อาคาร_65'!C37 -> อาคารอำนวย ยศสุข | D37: ='4.1.1 รายละเอียดการใช้อาคาร_65'!D37 -> 2553 | E37: ='4.1.1 รายละเอียดการใช้อาคาร_65'!E37 -> 4 | F37: ='4.1.1 รายละเอียดการใช้อาคาร_65'!F37 -> 8 | G37: ='4.1.1 รายละเอียดการใช้อาคาร_65'!G37 -> 250 | H37: ='4.1.1 รายละเอียดการใช้อาคาร_65'!H37 -> 3148.74 | I37: ='4.1.1 รายละเอียดการใช้อาคาร_65'!I37 -> 13113.86 | ... L37: ='4.1.1 รายละเอียดการใช้อาคาร_65'!L37 -> 16262.6
B38: ='4.1.1 รายละเอียดการใช้อาคาร_65'!B38 -> 28 | C38: ='4.1.1 รายละเอียดการใช้อาคาร_65'!C38 -> อาคารหน่วยอาคารและสถานที่ | D38: ='4.1.1 รายละเอียดการใช้อาคาร_65'!D38 -> 2540 | E38: ='4.1.1 รายละเอียดการใช้อาคาร_65'!E38 -> 2 | F38: ='4.1.1 รายละเอียดการใช้อาคาร_65'!F38 -> 1 | G38: ='4.1.1 รายละเอียดการใช้อาคาร_65'!G38 -> 250 | H38: ='4.1.1 รายละเอียดการใช้อาคาร_65'!H38 -> 48 | I38: ='4.1.1 รายละเอียดการใช้อาคาร_65'!I38 -> 780 | ... L38: ='4.1.1 รายละเอียดการใช้อาคาร_65'!L38 -> 828
B39: ='4.1.1 รายละเอียดการใช้อาคาร_65'!B39 -> 29 | C39: ='4.1.1 รายละเอียดการใช้อาคาร_65'!C39 -> อาคารสำนักงานประปาและสุขาภิบาล | D39: ='4.1.1 รายละเอียดการใช้อาคาร_65'!D39 -> 2532 | E39: ='4.1.1 รายละเอียดการใช้อาคาร_65'!E39 -> 2 | F39: ='4.1.1 รายละเอียดการใช้อาคาร_65'!F39 -> 5 | G39: ='4.1.1 รายละเอียดการใช้อาคาร_65'!G39 -> 250 | H39: ='4.1.1 รายละเอียดการใช้อาคาร_65'!H39 -> 41.4 | I39: ='4.1.1 รายละเอียดการใช้อาคาร_65'!I39 -> 313.2 | ... L39: ='4.1.1 รายละเอียดการใช้อาคาร_65'!L39 -> 354.6
B40: ='4.1.1 รายละเอียดการใช้อาคาร_65'!B40 -> 30 | C40: ='4.1.1 รายละเอียดการใช้อาคาร_65'!C40 -> อาคารงานไฟฟ้า | D40: ='4.1.1 รายละเอียดการใช้อาคาร_65'!D40 -> 2540 | E40: ='4.1.1 รายละเอียดการใช้อาคาร_65'!E40 -> 2 | F40: ='4.1.1 รายละเอียดการใช้อาคาร_65'!F40 -> 1 | G40: ='4.1.1 รายละเอียดการใช้อาคาร_65'!G40 -> 250 | H40: ='4.1.1 รายละเอียดการใช้อาคาร_65'!H40 -> 0 | I40: ='4.1.1 รายละเอียดการใช้อาคาร_65'!I40 -> 328 | ... L40: ='4.1.1 รายละเอียดการใช้อาคาร_65'!L40 -> 328
B41: ='4.1.1 รายละเอียดการใช้อาคาร_65'!B41 -> 31 | C41: ='4.1.1 รายละเอียดการใช้อาคาร_65'!C41 -> อาคารซ่อมบำรุงอาคารและสถานที่ | D41: ='4.1.1 รายละเอียดการใช้อาคาร_65'!D41 -> 2540 | E41: ='4.1.1 รายละเอียดการใช้อาคาร_65'!E41 -> 2 | F41: ='4.1.1 รายละเอียดการใช้อาคาร_65'!F41 -> 1 | G41: ='4.1.1 รายละเอียดการใช้อาคาร_65'!G41 -> 250 | H41: ='4.1.1 รายละเอียดการใช้อาคาร_65'!H41 -> 48 | I41: ='4.1.1 รายละเอียดการใช้อาคาร_65'!I41 -> 780 | ... L41: ='4.1.1 รายละเอียดการใช้อาคาร_65'!L41 -> 828
B42: ='4.1.1 รายละเอียดการใช้อาคาร_65'!B42 -> 32 | C42: ='4.1.1 รายละเอียดการใช้อาคาร_65'!C42 -> อาคารยานพาหนะ | D42: ='4.1.1 รายละเอียดการใช้อาคาร_65'!D42 -> 2540 | E42: ='4.1.1 รายละเอียดการใช้อาคาร_65'!E42 -> 1 | F42: ='4.1.1 รายละเอียดการใช้อาคาร_65'!F42 -> 1 | G42: ='4.1.1 รายละเอียดการใช้อาคาร_65'!G42 -> 250 | H42: ='4.1.1 รายละเอียดการใช้อาคาร_65'!H42 -> 68 | I42: ='4.1.1 รายละเอียดการใช้อาคาร_65'!I42 -> 212 | ... L42: ='4.1.1 รายละเอียดการใช้อาคาร_65'!L42 -> 280
B43: ='4.1.1 รายละเอียดการใช้อาคาร_65'!B43 -> 33 | C43: ='4.1.1 รายละเอียดการใช้อาคาร_65'!C43 -> อาคารโรงจอดรถ | D43: ='4.1.1 รายละเอียดการใช้อาคาร_65'!D43 -> 2540 | E43: ='4.1.1 รายละเอียดการใช้อาคาร_65'!E43 -> 1 | F43: ='4.1.1 รายละเอียดการใช้อาคาร_65'!F43 -> 1 | G43: ='4.1.1 รายละเอียดการใช้อาคาร_65'!G43 -> 250 | H43: ='4.1.1 รายละเอียดการใช้อาคาร_65'!H43 -> 0 | I43: ='4.1.1 รายละเอียดการใช้อาคาร_65'!I43 -> 390 | ... L43: ='4.1.1 รายละเอียดการใช้อาคาร_65'!L43 -> 390
B44: ='4.1.1 รายละเอียดการใช้อาคาร_65'!B44 -> 34 | C44: ='4.1.1 รายละเอียดการใช้อาคาร_65'!C44 -> อาคารสำนักงานระบบบำบัดน้ำเสียรวม (รวมอาคารห้องน้ำ) | D44: ='4.1.1 รายละเอียดการใช้อาคาร_65'!D44 -> 2547 | E44: ='4.1.1 รายละเอียดการใช้อาคาร_65'!E44 -> 1 | F44: ='4.1.1 รายละเอียดการใช้อาคาร_65'!F44 -> 5 | G44: ='4.1.1 รายละเอียดการใช้อาคาร_65'!G44 -> 250 | H44: ='4.1.1 รายละเอียดการใช้อาคาร_65'!H44 -> 102.2 | I44: ='4.1.1 รายละเอียดการใช้อาคาร_65'!I44 -> 80.8 | ... L44: ='4.1.1 รายละเอียดการใช้อาคาร_65'!L44 -> 183
B45: ='4.1.1 รายละเอียดการใช้อาคาร_65'!B45 -> สระว่ายน้ำ
B46: ='4.1.1 รายละเอียดการใช้อาคาร_65'!B46 -> 35 | C46: ='4.1.1 รายละเอียดการใช้อาคาร_65'!C46 -> อาคารสระว่ายน้ำ | D46: ='4.1.1 รายละเอียดการใช้อาคาร_65'!D46 -> 2553 | E46: ='4.1.1 รายละเอียดการใช้อาคาร_65'!E46 -> 2 | F46: ='4.1.1 รายละเอียดการใช้อาคาร_65'!F46 -> 5 | G46: ='4.1.1 รายละเอียดการใช้อาคาร_65'!G46 -> 250 | H46: ='4.1.1 รายละเอียดการใช้อาคาร_65'!H46 -> 60 | I46: ='4.1.1 รายละเอียดการใช้อาคาร_65'!I46 -> 4120.6 | ... L46: ='4.1.1 รายละเอียดการใช้อาคาร_65'!L46 -> 4180.6
B47: ='4.1.1 รายละเอียดการใช้อาคาร_65'!B47 -> โรงอาหาร
B48: ='4.1.1 รายละเอียดการใช้อาคาร_65'!B48 -> 36 | C48: ='4.1.1 รายละเอียดการใช้อาคาร_65'!C48 -> อาคารโรงอาหารเทิดกสิกร | D48: ='4.1.1 รายละเอียดการใช้อาคาร_65'!D48 -> 2536 | E48: ='4.1.1 รายละเอียดการใช้อาคาร_65'!E48 -> 2 | F48: ='4.1.1 รายละเอียดการใช้อาคาร_65'!F48 -> 5 | G48: ='4.1.1 รายละเอียดการใช้อาคาร_65'!G48 -> 250 | H48: ='4.1.1 รายละเอียดการใช้อาคาร_65'!H48 -> 600 | I48: ='4.1.1 รายละเอียดการใช้อาคาร_65'!I48 -> 3725 | ... L48: ='4.1.1 รายละเอียดการใช้อาคาร_65'!L48 -> 4325
B49: ='4.1.1 รายละเอียดการใช้อาคาร_65'!B49 -> หอพักนักศึกษา
B50: ='4.1.1 รายละเอียดการใช้อาคาร_65'!B50 -> 37 | C50: ='4.1.1 รายละเอียดการใช้อาคาร_65'!C50 -> อาคารหอพักนักศึกษานานาชาติ | D50: ='4.1.1 รายละเอียดการใช้อาคาร_65'!D50 -> 2551 | E50: ='4.1.1 รายละเอียดการใช้อาคาร_65'!E50 -> 2 | F50: ='4.1.1 รายละเอียดการใช้อาคาร_65'!F50 -> 5 | G50: ='4.1.1 รายละเอียดการใช้อาคาร_65'!G50 -> 250 | H50: ='4.1.1 รายละเอียดการใช้อาคาร_65'!H50 -> 0 | I50: ='4.1.1 รายละเอียดการใช้อาคาร_65'!I50 -> 1048.4 | ... L50: ='4.1.1 รายละเอียดการใช้อาคาร_65'!L50 -> 1048.4
B51: ='4.1.1 รายละเอียดการใช้อาคาร_65'!B51 -> 38 | C51: ='4.1.1 รายละเอียดการใช้อาคาร_65'!C51 -> อาคารหอพักนักศึกษาชาย 2 | D51: ='4.1.1 รายละเอียดการใช้อาคาร_65'!D51 -> 2511 | E51: ='4.1.1 รายละเอียดการใช้อาคาร_65'!E51 -> 5 | F51: ='4.1.1 รายละเอียดการใช้อาคาร_65'!F51 -> 5 | G51: ='4.1.1 รายละเอียดการใช้อาคาร_65'!G51 -> 250 | H51: ='4.1.1 รายละเอียดการใช้อาคาร_65'!H51 -> 28 | I51: ='4.1.1 รายละเอียดการใช้อาคาร_65'!I51 -> 5940 | ... L51: ='4.1.1 รายละเอียดการใช้อาคาร_65'!L51 -> 5968
B52: ='4.1.1 รายละเอียดการใช้อาคาร_65'!B52 -> 39 | C52: ='4.1.1 รายละเอียดการใช้อาคาร_65'!C52 -> อาคารหอพักนักศึกษาชาย 3 (รวมอาคารห้องน้ำ) | D52: ='4.1.1 รายละเอียดการใช้อาคาร_65'!D52 -> 2511 | E52: ='4.1.1 รายละเอียดการใช้อาคาร_65'!E52 -> 2 | F52: ='4.1.1 รายละเอียดการใช้อาคาร_65'!F52 -> 5 | G52: ='4.1.1 รายละเอียดการใช้อาคาร_65'!G52 -> 250 | H52: ='4.1.1 รายละเอียดการใช้อาคาร_65'!H52 -> 0 | I52: ='4.1.1 รายละเอียดการใช้อาคาร_65'!I52 -> 1200 | ... L52: ='4.1.1 รายละเอียดการใช้อาคาร_65'!L52 -> 1200
B53: ='4.1.1 รายละเอียดการใช้อาคาร_65'!B53 -> 40 | C53: ='4.1.1 รายละเอียดการใช้อาคาร_65'!C53 -> อาคารหอพักนักศึกษาชาย 4 (รวมอาคารโรงจอดรถ ข้างหอ) | D53: ='4.1.1 รายละเอียดการใช้อาคาร_65'!D53 -> 2536 | E53: ='4.1.1 รายละเอียดการใช้อาคาร_65'!E53 -> 5 | F53: ='4.1.1 รายละเอียดการใช้อาคาร_65'!F53 -> 5 | G53: ='4.1.1 รายละเอียดการใช้อาคาร_65'!G53 -> 250 | H53: ='4.1.1 รายละเอียดการใช้อาคาร_65'!H53 -> 28 | I53: ='4.1.1 รายละเอียดการใช้อาคาร_65'!I53 -> 3826 | ... L53: ='4.1.1 รายละเอียดการใช้อาคาร_65'!L53 -> 3854
B54: ='4.1.1 รายละเอียดการใช้อาคาร_65'!B54 -> 41 | C54: ='4.1.1 รายละเอียดการใช้อาคาร_65'!C54 -> อาคารหอพักนักศึกษาชาย 5 (รวมอาคารห้องน้ำ) | D54: ='4.1.1 รายละเอียดการใช้อาคาร_65'!D54 -> 2536 | E54: ='4.1.1 รายละเอียดการใช้อาคาร_65'!E54 -> 2 | F54: ='4.1.1 รายละเอียดการใช้อาคาร_65'!F54 -> 5 | G54: ='4.1.1 รายละเอียดการใช้อาคาร_65'!G54 -> 250 | H54: ='4.1.1 รายละเอียดการใช้อาคาร_65'!H54 -> 0 | I54: ='4.1.1 รายละเอียดการใช้อาคาร_65'!I54 -> 1160 | ... L54: ='4.1.1 รายละเอียดการใช้อาคาร_65'!L54 -> 1160
B55: ='4.1.1 รายละเอียดการใช้อาคาร_65'!B55 -> 42 | C55: ='4.1.1 รายละเอียดการใช้อาคาร_65'!C55 -> อาคารหอพักนักศึกษาหญิง 6 (รวมอาคารโรงจอดรถ ข้างหอ) | D55: ='4.1.1 รายละเอียดการใช้อาคาร_65'!D55 -> 2536 | E55: ='4.1.1 รายละเอียดการใช้อาคาร_65'!E55 -> 5 | F55: ='4.1.1 รายละเอียดการใช้อาคาร_65'!F55 -> 5 | G55: ='4.1.1 รายละเอียดการใช้อาคาร_65'!G55 -> 250 | H55: ='4.1.1 รายละเอียดการใช้อาคาร_65'!H55 -> 28 | I55: ='4.1.1 รายละเอียดการใช้อาคาร_65'!I55 -> 3826 | ... L55: ='4.1.1 รายละเอียดการใช้อาคาร_65'!L55 -> 3854
B56: ='4.1.1 รายละเอียดการใช้อาคาร_65'!B56 -> 43 | C56: ='4.1.1 รายละเอียดการใช้อาคาร_65'!C56 -> อาคารหอพักนักศึกษาหญิง 7 | D56: ='4.1.1 รายละเอียดการใช้อาคาร_65'!D56 -> 2536 | E56: ='4.1.1 รายละเอียดการใช้อาคาร_65'!E56 -> 5 | F56: ='4.1.1 รายละเอียดการใช้อาคาร_65'!F56 -> 5 | G56: ='4.1.1 รายละเอียดการใช้อาคาร_65'!G56 -> 250 | H56: ='4.1.1 รายละเอียดการใช้อาคาร_65'!H56 -> 28 | I56: ='4.1.1 รายละเอียดการใช้อาคาร_65'!I56 -> 3826 | ... L56: ='4.1.1 รายละเอียดการใช้อาคาร_65'!L56 -> 3854
B57: ='4.1.1 รายละเอียดการใช้อาคาร_65'!B57 -> 44 | C57: ='4.1.1 รายละเอียดการใช้อาคาร_65'!C57 -> อาคารหอพักนักศึกษาหญิง 8 | D57: ='4.1.1 รายละเอียดการใช้อาคาร_65'!D57 -> 2539 | E57: ='4.1.1 รายละเอียดการใช้อาคาร_65'!E57 -> 5 | F57: ='4.1.1 รายละเอียดการใช้อาคาร_65'!F57 -> 5 | G57: ='4.1.1 รายละเอียดการใช้อาคาร_65'!G57 -> 250 | H57: ='4.1.1 รายละเอียดการใช้อาคาร_65'!H57 -> 140 | I57: ='4.1.1 รายละเอียดการใช้อาคาร_65'!I57 -> 6511 | ... L57: ='4.1.1 รายละเอียดการใช้อาคาร_65'!L57 -> 6651
B58: ='4.1.1 รายละเอียดการใช้อาคาร_65'!B58 -> 45 | C58: ='4.1.1 รายละเอียดการใช้อาคาร_65'!C58 -> อาคารหอพักนักศึกษาหญิง 9 | D58: ='4.1.1 รายละเอียดการใช้อาคาร_65'!D58 -> 2540 | E58: ='4.1.1 รายละเอียดการใช้อาคาร_65'!E58 -> 5 | F58: ='4.1.1 รายละเอียดการใช้อาคาร_65'!F58 -> 5 | G58: ='4.1.1 รายละเอียดการใช้อาคาร_65'!G58 -> 250 | H58: ='4.1.1 รายละเอียดการใช้อาคาร_65'!H58 -> 208 | I58: ='4.1.1 รายละเอียดการใช้อาคาร_65'!I58 -> 6443 | ... L58: ='4.1.1 รายละเอียดการใช้อาคาร_65'!L58 -> 6651
B59: ='4.1.1 รายละเอียดการใช้อาคาร_65'!B59 -> 46 | C59: ='4.1.1 รายละเอียดการใช้อาคาร_65'!C59 -> อาคารหอพักนักศึกษาหญิง 10 | D59: ='4.1.1 รายละเอียดการใช้อาคาร_65'!D59 -> 2554 | E59: ='4.1.1 รายละเอียดการใช้อาคาร_65'!E59 -> 7 | F59: ='4.1.1 รายละเอียดการใช้อาคาร_65'!F59 -> 5 | G59: ='4.1.1 รายละเอียดการใช้อาคาร_65'!G59 -> 250 | H59: ='4.1.1 รายละเอียดการใช้อาคาร_65'!H59 -> 210 | I59: ='4.1.1 รายละเอียดการใช้อาคาร_65'!I59 -> 6965 | ... L59: ='4.1.1 รายละเอียดการใช้อาคาร_65'!L59 -> 7175
B60: ='4.1.1 รายละเอียดการใช้อาคาร_65'!B60 -> 47 | C60: ='4.1.1 รายละเอียดการใช้อาคาร_65'!C60 -> อาคารหอพักนักศึกษาหญิง 11 | D60: ='4.1.1 รายละเอียดการใช้อาคาร_65'!D60 -> 2560 | E60: ='4.1.1 รายละเอียดการใช้อาคาร_65'!E60 -> 7 | F60: ='4.1.1 รายละเอียดการใช้อาคาร_65'!F60 -> 5 | G60: ='4.1.1 รายละเอียดการใช้อาคาร_65'!G60 -> 250 | H60: ='4.1.1 รายละเอียดการใช้อาคาร_65'!H60 -> 378 | I60: ='4.1.1 รายละเอียดการใช้อาคาร_65'!I60 -> 14122 | ... L60: ='4.1.1 รายละเอียดการใช้อาคาร_65'!L60 -> 14500
B61: ='4.1.1 รายละเอียดการใช้อาคาร_65'!B61 -> คณะพัฒนาการท่องเที่ยว
B62: ='4.1.1 รายละเอียดการใช้อาคาร_65'!B62 -> 48 | C62: ='4.1.1 รายละเอียดการใช้อาคาร_65'!C62 -> อาคารเรียนรวมสุวรรณวาจกกสิกิจ | D62: ='4.1.1 รายละเอียดการใช้อาคาร_65'!D62 -> 2520 | E62: ='4.1.1 รายละเอียดการใช้อาคาร_65'!E62 -> 2 | F62: ='4.1.1 รายละเอียดการใช้อาคาร_65'!F62 -> 8 | G62: ='4.1.1 รายละเอียดการใช้อาคาร_65'!G62 -> 250 | H62: ='4.1.1 รายละเอียดการใช้อาคาร_65'!H62 -> 1296 | I62: ='4.1.1 รายละเอียดการใช้อาคาร_65'!I62 -> 915.44 | ... L62: ='4.1.1 รายละเอียดการใช้อาคาร_65'!L62 -> 2211.44
B63: ='4.1.1 รายละเอียดการใช้อาคาร_65'!B63 -> 49 | C63: ='4.1.1 รายละเอียดการใช้อาคาร_65'!C63 -> อาคารพัฒนาวิสัยทัศน์ | D63: ='4.1.1 รายละเอียดการใช้อาคาร_65'!D63 -> 2551 | E63: ='4.1.1 รายละเอียดการใช้อาคาร_65'!E63 -> 2 | F63: ='4.1.1 รายละเอียดการใช้อาคาร_65'!F63 -> 5 | G63: ='4.1.1 รายละเอียดการใช้อาคาร_65'!G63 -> 250 | H63: ='4.1.1 รายละเอียดการใช้อาคาร_65'!H63 -> 1792 | I63: ='4.1.1 รายละเอียดการใช้อาคาร_65'!I63 -> 1671.8 | ... L63: ='4.1.1 รายละเอียดการใช้อาคาร_65'!L63 -> 3463.8
B64: ='4.1.1 รายละเอียดการใช้อาคาร_65'!B64 -> คณะศิลป์ศาสตร์
B65: ='4.1.1 รายละเอียดการใช้อาคาร_65'!B65 -> 50 | C65: ='4.1.1 รายละเอียดการใช้อาคาร_65'!C65 -> อาคารประเสริฐ ณ.นคร | D65: ='4.1.1 รายละเอียดการใช้อาคาร_65'!D65 -> 2537 | E65: ='4.1.1 รายละเอียดการใช้อาคาร_65'!E65 -> 6 | F65: ='4.1.1 รายละเอียดการใช้อาคาร_65'!F65 -> 8 | G65: ='4.1.1 รายละเอียดการใช้อาคาร_65'!G65 -> 250 | H65: ='4.1.1 รายละเอียดการใช้อาคาร_65'!H65 -> 3593.78 | I65: ='4.1.1 รายละเอียดการใช้อาคาร_65'!I65 -> 4045.63 | ... L65: ='4.1.1 รายละเอียดการใช้อาคาร_65'!L65 -> 7639.41
B66: ='4.1.1 รายละเอียดการใช้อาคาร_65'!B66 -> สำนักหอสมุด
B67: ='4.1.1 รายละเอียดการใช้อาคาร_65'!B67 -> 51 | C67: ='4.1.1 รายละเอียดการใช้อาคาร_65'!C67 -> อาคารวิภาต บุญศรี วังซ้าย | D67: ='4.1.1 รายละเอียดการใช้อาคาร_65'!D67 -> 2524 | E67: ='4.1.1 รายละเอียดการใช้อาคาร_65'!E67 -> 3 | F67: ='4.1.1 รายละเอียดการใช้อาคาร_65'!F67 -> 8 | G67: ='4.1.1 รายละเอียดการใช้อาคาร_65'!G67 -> 250 | H67: ='4.1.1 รายละเอียดการใช้อาคาร_65'!H67 -> 8429.23 | I67: ='4.1.1 รายละเอียดการใช้อาคาร_65'!I67 -> 1948.32 | ... L67: ='4.1.1 รายละเอียดการใช้อาคาร_65'!L67 -> 10377.55
B68: ='4.1.1 รายละเอียดการใช้อาคาร_65'!B68 -> คณะบริหารธุรกิจ
B69: ='4.1.1 รายละเอียดการใช้อาคาร_65'!B69 -> 52 | C69: ='4.1.1 รายละเอียดการใช้อาคาร_65'!C69 -> อาคารพิทยาลงกรณ์ | D69: ='4.1.1 รายละเอียดการใช้อาคาร_65'!D69 -> 2521 | E69: ='4.1.1 รายละเอียดการใช้อาคาร_65'!E69 -> 3 | F69: ='4.1.1 รายละเอียดการใช้อาคาร_65'!F69 -> 8 | G69: ='4.1.1 รายละเอียดการใช้อาคาร_65'!G69 -> 250 | H69: ='4.1.1 รายละเอียดการใช้อาคาร_65'!H69 -> 1707.5 | I69: ='4.1.1 รายละเอียดการใช้อาคาร_65'!I69 -> 1269.47 | ... L69: ='4.1.1 รายละเอียดการใช้อาคาร_65'!L69 -> 2976.97
B70: ='4.1.1 รายละเอียดการใช้อาคาร_65'!B70 -> 53 | C70: ='4.1.1 รายละเอียดการใช้อาคาร_65'!C70 -> อาคาร 25 ปี คณะบริหารธุรกิจ | D70: ='4.1.1 รายละเอียดการใช้อาคาร_65'!D70 -> 2539 | E70: ='4.1.1 รายละเอียดการใช้อาคาร_65'!E70 -> 6 | F70: ='4.1.1 รายละเอียดการใช้อาคาร_65'!F70 -> 8 | G70: ='4.1.1 รายละเอียดการใช้อาคาร_65'!G70 -> 250 | H70: ='4.1.1 รายละเอียดการใช้อาคาร_65'!H70 -> 2276 | I70: ='4.1.1 รายละเอียดการใช้อาคาร_65'!I70 -> 1766 | ... L70: ='4.1.1 รายละเอียดการใช้อาคาร_65'!L70 -> 4042
B71: ='4.1.1 รายละเอียดการใช้อาคาร_65'!B71 -> วิทยาลัยบริหารศาสตร์
B72: ='4.1.1 รายละเอียดการใช้อาคาร_65'!B72 -> 54 | C72: ='4.1.1 รายละเอียดการใช้อาคาร_65'!C72 -> อาคารเทพ พงษ์พานิช | D72: ='4.1.1 รายละเอียดการใช้อาคาร_65'!D72 -> 2553 | E72: ='4.1.1 รายละเอียดการใช้อาคาร_65'!E72 -> 3 | F72: ='4.1.1 รายละเอียดการใช้อาคาร_65'!F72 -> 8 | G72: ='4.1.1 รายละเอียดการใช้อาคาร_65'!G72 -> 250 | H72: ='4.1.1 รายละเอียดการใช้อาคาร_65'!H72 -> 2727.73 | I72: ='4.1.1 รายละเอียดการใช้อาคาร_65'!I72 -> 6795.27 | ... L72: ='4.1.1 รายละเอียดการใช้อาคาร_65'!L72 -> 9523
B73: ='4.1.1 รายละเอียดการใช้อาคาร_65'!B73 -> ศูนย์กล้วยไม้
B74: ='4.1.1 รายละเอียดการใช้อาคาร_65'!B74 -> 55 | C74: ='4.1.1 รายละเอียดการใช้อาคาร_65'!C74 -> อาคารเฉลิมพระเกียรติสมเด็จพระศรีนครินทราบรมราชนี | D74: ='4.1.1 รายละเอียดการใช้อาคาร_65'!D74 -> 2538 | E74: ='4.1.1 รายละเอียดการใช้อาคาร_65'!E74 -> 4 | F74: ='4.1.1 รายละเอียดการใช้อาคาร_65'!F74 -> 8 | G74: ='4.1.1 รายละเอียดการใช้อาคาร_65'!G74 -> 250 | H74: ='4.1.1 รายละเอียดการใช้อาคาร_65'!H74 -> 4332.2 | I74: ='4.1.1 รายละเอียดการใช้อาคาร_65'!I74 -> 2521.36 | ... L74: ='4.1.1 รายละเอียดการใช้อาคาร_65'!L74 -> 6853.56
B75: ='4.1.1 รายละเอียดการใช้อาคาร_65'!B75 -> คณะวิทยาศาสตร์
B76: ='4.1.1 รายละเอียดการใช้อาคาร_65'!B76 -> 56 | C76: ='4.1.1 รายละเอียดการใช้อาคาร_65'!C76 -> อาคารแม่โจ้ 60 ปี | D76: ='4.1.1 รายละเอียดการใช้อาคาร_65'!D76 -> 2538 | E76: ='4.1.1 รายละเอียดการใช้อาคาร_65'!E76 -> 6 | F76: ='4.1.1 รายละเอียดการใช้อาคาร_65'!F76 -> 8 | G76: ='4.1.1 รายละเอียดการใช้อาคาร_65'!G76 -> 250 | H76: ='4.1.1 รายละเอียดการใช้อาคาร_65'!H76 -> 8723.13 | I76: ='4.1.1 รายละเอียดการใช้อาคาร_65'!I76 -> 13135.12 | ... L76: ='4.1.1 รายละเอียดการใช้อาคาร_65'!L76 -> 25409.25
B77: ='4.1.1 รายละเอียดการใช้อาคาร_65'!B77 -> 57 | C77: ='4.1.1 รายละเอียดการใช้อาคาร_65'!C77 -> อาคารเสาวรัจนิตยวรรธนะ | D77: ='4.1.1 รายละเอียดการใช้อาคาร_65'!D77 -> 2537 | E77: ='4.1.1 รายละเอียดการใช้อาคาร_65'!E77 -> 2 | F77: ='4.1.1 รายละเอียดการใช้อาคาร_65'!F77 -> 8 | G77: ='4.1.1 รายละเอียดการใช้อาคาร_65'!G77 -> 250 | H77: ='4.1.1 รายละเอียดการใช้อาคาร_65'!H77 -> 1059.87 | I77: ='4.1.1 รายละเอียดการใช้อาคาร_65'!I77 -> 2634.35 | ... L77: ='4.1.1 รายละเอียดการใช้อาคาร_65'!L77 -> 3694.22
B78: ='4.1.1 รายละเอียดการใช้อาคาร_65'!B78 -> 58 | C78: ='4.1.1 รายละเอียดการใช้อาคาร_65'!C78 -> อาคารจุฬาภรณ์ | D78: ='4.1.1 รายละเอียดการใช้อาคาร_65'!D78 -> 2552 | E78: ='4.1.1 รายละเอียดการใช้อาคาร_65'!E78 -> 5 | F78: ='4.1.1 รายละเอียดการใช้อาคาร_65'!F78 -> 8 | G78: ='4.1.1 รายละเอียดการใช้อาคาร_65'!G78 -> 250 | H78: ='4.1.1 รายละเอียดการใช้อาคาร_65'!H78 -> 3705.38 | I78: ='4.1.1 รายละเอียดการใช้อาคาร_65'!I78 -> 5440.62 | ... L78: ='4.1.1 รายละเอียดการใช้อาคาร_65'!L78 -> 9146
B79: ='4.1.1 รายละเอียดการใช้อาคาร_65'!B79 -> คณะเศรษฐศาสตร์
B80: ='4.1.1 รายละเอียดการใช้อาคาร_65'!B80 -> 59 | C80: ='4.1.1 รายละเอียดการใช้อาคาร_65'!C80 -> อาคารยรรยง สิทธิชัย | D80: ='4.1.1 รายละเอียดการใช้อาคาร_65'!D80 -> 2552 | E80: ='4.1.1 รายละเอียดการใช้อาคาร_65'!E80 -> 4 | F80: ='4.1.1 รายละเอียดการใช้อาคาร_65'!F80 -> 8 | G80: ='4.1.1 รายละเอียดการใช้อาคาร_65'!G80 -> 250 | H80: ='4.1.1 รายละเอียดการใช้อาคาร_65'!H80 -> 2975.82 | I80: ='4.1.1 รายละเอียดการใช้อาคาร_65'!I80 -> 1904.18 | ... L80: ='4.1.1 รายละเอียดการใช้อาคาร_65'!L80 -> 4880
B81: ='4.1.1 รายละเอียดการใช้อาคาร_65'!B81 -> คณะเทคโนโลยีสารสนเทศและการสื่อสาร
B82: ='4.1.1 รายละเอียดการใช้อาคาร_65'!B82 -> 60 | C82: ='4.1.1 รายละเอียดการใช้อาคาร_65'!C82 -> อาคาร 75 ปี แม่โจ้ | D82: ='4.1.1 รายละเอียดการใช้อาคาร_65'!D82 -> 2553 | E82: ='4.1.1 รายละเอียดการใช้อาคาร_65'!E82 -> 3 | F82: ='4.1.1 รายละเอียดการใช้อาคาร_65'!F82 -> 8 | G82: ='4.1.1 รายละเอียดการใช้อาคาร_65'!G82 -> 250 | H82: ='4.1.1 รายละเอียดการใช้อาคาร_65'!H82 -> 815.9 | I82: ='4.1.1 รายละเอียดการใช้อาคาร_65'!I82 -> 4746.6 | ... L82: ='4.1.1 รายละเอียดการใช้อาคาร_65'!L82 -> 5562.5
B83: ='4.1.1 รายละเอียดการใช้อาคาร_65'!B83 -> คณะสถาปัตยกรรมศาสตร์และการออกแบบสิ่งแวดล้อม
B84: ='4.1.1 รายละเอียดการใช้อาคาร_65'!B84 -> 61 | C84: ='4.1.1 รายละเอียดการใช้อาคาร_65'!C84 -> อาคารคณะสถาปัตยกรรมศาสตร์และการออกแบบสิ่งแวดล้อม | D84: ='4.1.1 รายละเอียดการใช้อาคาร_65'!D84 -> 2534 | E84: ='4.1.1 รายละเอียดการใช้อาคาร_65'!E84 -> 4 | F84: ='4.1.1 รายละเอียดการใช้อาคาร_65'!F84 -> 8 | G84: ='4.1.1 รายละเอียดการใช้อาคาร_65'!G84 -> 250 | H84: ='4.1.1 รายละเอียดการใช้อาคาร_65'!H84 -> 1094.9 | I84: ='4.1.1 รายละเอียดการใช้อาคาร_65'!I84 -> 4374.75 | ... L84: ='4.1.1 รายละเอียดการใช้อาคาร_65'!L84 -> 5469.65
B85: ='4.1.1 รายละเอียดการใช้อาคาร_65'!B85 -> 62 | C85: ='4.1.1 รายละเอียดการใช้อาคาร_65'!C85 -> อาคารคณะสถาปัตยกรรมศาสตร์และการออกแบบสิ่งแวดล้อม (ใหม่) | D85: ='4.1.1 รายละเอียดการใช้อาคาร_65'!D85 -> 2558 | E85: ='4.1.1 รายละเอียดการใช้อาคาร_65'!E85 -> 4 | F85: ='4.1.1 รายละเอียดการใช้อาคาร_65'!F85 -> 8 | G85: ='4.1.1 รายละเอียดการใช้อาคาร_65'!G85 -> 250 | H85: ='4.1.1 รายละเอียดการใช้อาคาร_65'!H85 -> 2172 | I85: ='4.1.1 รายละเอียดการใช้อาคาร_65'!I85 -> 2850.5 | ... L85: ='4.1.1 รายละเอียดการใช้อาคาร_65'!L85 -> 5022.5
B86: ='4.1.1 รายละเอียดการใช้อาคาร_65'!B86 -> คณะผลิตกรรมการเกษตร
B87: ='4.1.1 รายละเอียดการใช้อาคาร_65'!B87 -> 63 | C87: ='4.1.1 รายละเอียดการใช้อาคาร_65'!C87 -> อาคารรัตนโกสินทร์ 200 ปี | D87: ='4.1.1 รายละเอียดการใช้อาคาร_65'!D87 -> 2525 | E87: ='4.1.1 รายละเอียดการใช้อาคาร_65'!E87 -> 2 | F87: ='4.1.1 รายละเอียดการใช้อาคาร_65'!F87 -> 8 | G87: ='4.1.1 รายละเอียดการใช้อาคาร_65'!G87 -> 250 | H87: ='4.1.1 รายละเอียดการใช้อาคาร_65'!H87 -> 744.91 | I87: ='4.1.1 รายละเอียดการใช้อาคาร_65'!I87 -> 806.24 | ... L87: ='4.1.1 รายละเอียดการใช้อาคาร_65'!L87 -> 1551.15
B88: ='4.1.1 รายละเอียดการใช้อาคาร_65'!B88 -> 64 | C88: ='4.1.1 รายละเอียดการใช้อาคาร_65'!C88 -> อาคารเรียนและปฏิบัติการรวมทางปฐพีวิทยาและฝึกอบรมทางดินและปุ๋ยชั้นสูง | D88: ='4.1.1 รายละเอียดการใช้อาคาร_65'!D88 -> 2540 | E88: ='4.1.1 รายละเอียดการใช้อาคาร_65'!E88 -> 4 | F88: ='4.1.1 รายละเอียดการใช้อาคาร_65'!F88 -> 8 | G88: ='4.1.1 รายละเอียดการใช้อาคาร_65'!G88 -> 250 | H88: ='4.1.1 รายละเอียดการใช้อาคาร_65'!H88 -> 1407.64 | I88: ='4.1.1 รายละเอียดการใช้อาคาร_65'!I88 -> 3438.61 | ... L88: ='4.1.1 รายละเอียดการใช้อาคาร_65'!L88 -> 4846.25
B89: ='4.1.1 รายละเอียดการใช้อาคาร_65'!B89 -> 65 | C89: ='4.1.1 รายละเอียดการใช้อาคาร_65'!C89 -> อาคารปฏิบัติการไม้ผล | D89: ='4.1.1 รายละเอียดการใช้อาคาร_65'!D89 -> 2528 | E89: ='4.1.1 รายละเอียดการใช้อาคาร_65'!E89 -> 1 | F89: ='4.1.1 รายละเอียดการใช้อาคาร_65'!F89 -> 5 | G89: ='4.1.1 รายละเอียดการใช้อาคาร_65'!G89 -> 250 | H89: ='4.1.1 รายละเอียดการใช้อาคาร_65'!H89 -> 313.28 | I89: ='4.1.1 รายละเอียดการใช้อาคาร_65'!I89 -> 166.72 | ... L89: ='4.1.1 รายละเอียดการใช้อาคาร_65'!L89 -> 480
B90: ='4.1.1 รายละเอียดการใช้อาคาร_65'!B90 -> 66 | C90: ='4.1.1 รายละเอียดการใช้อาคาร_65'!C90 -> โรงเรือนเพาะชำไม้ผล 1 | D90: ='4.1.1 รายละเอียดการใช้อาคาร_65'!D90 -> 2528 | E90: ='4.1.1 รายละเอียดการใช้อาคาร_65'!E90 -> 1 | F90: ='4.1.1 รายละเอียดการใช้อาคาร_65'!F90 -> 5 | G90: ='4.1.1 รายละเอียดการใช้อาคาร_65'!G90 -> 250 | H90: ='4.1.1 รายละเอียดการใช้อาคาร_65'!H90 -> 38.93 | I90: ='4.1.1 รายละเอียดการใช้อาคาร_65'!I90 -> 80.07 | ... L90: ='4.1.1 รายละเอียดการใช้อาคาร_65'!L90 -> 119
B91: ='4.1.1 รายละเอียดการใช้อาคาร_65'!B91 -> 67 | C91: ='4.1.1 รายละเอียดการใช้อาคาร_65'!C91 -> โรงเรือนเพาะชำไม้ผล 2 | D91: ='4.1.1 รายละเอียดการใช้อาคาร_65'!D91 -> 2528 | E91: ='4.1.1 รายละเอียดการใช้อาคาร_65'!E91 -> 1 | F91: ='4.1.1 รายละเอียดการใช้อาคาร_65'!F91 -> 5 | G91: ='4.1.1 รายละเอียดการใช้อาคาร_65'!G91 -> 250 | H91: ='4.1.1 รายละเอียดการใช้อาคาร_65'!H91 -> 102.57 | I91: ='4.1.1 รายละเอียดการใช้อาคาร_65'!I91 -> 317.43 | ... L91: ='4.1.1 รายละเอียดการใช้อาคาร_65'!L91 -> 420
B92: ='4.1.1 รายละเอียดการใช้อาคาร_65'!B92 -> 68 | C92: ='4.1.1 รายละเอียดการใช้อาคาร_65'!C92 -> อาคารเก็บพัสดุไม้ผล | D92: ='4.1.1 รายละเอียดการใช้อาคาร_65'!D92 -> 2528 | E92: ='4.1.1 รายละเอียดการใช้อาคาร_65'!E92 -> 1 | F92: ='4.1.1 รายละเอียดการใช้อาคาร_65'!F92 -> 1 | G92: ='4.1.1 รายละเอียดการใช้อาคาร_65'!G92 -> 250 | H92: ='4.1.1 รายละเอียดการใช้อาคาร_65'!H92 -> 0 | I92: ='4.1.1 รายละเอียดการใช้อาคาร_65'!I92 -> 105 | ... L92: ='4.1.1 รายละเอียดการใช้อาคาร_65'!L92 -> 105
B93: ='4.1.1 รายละเอียดการใช้อาคาร_65'!B93 -> 69 | C93: ='4.1.1 รายละเอียดการใช้อาคาร_65'!C93 -> อาคารสำนักงานพืชไร่(พักอาจารย์) | D93: ='4.1.1 รายละเอียดการใช้อาคาร_65'!D93 -> 2525 | E93: ='4.1.1 รายละเอียดการใช้อาคาร_65'!E93 -> 1 | F93: ='4.1.1 รายละเอียดการใช้อาคาร_65'!F93 -> 5 | G93: ='4.1.1 รายละเอียดการใช้อาคาร_65'!G93 -> 250 | H93: ='4.1.1 รายละเอียดการใช้อาคาร_65'!H93 -> 57.407 | I93: ='4.1.1 รายละเอียดการใช้อาคาร_65'!I93 -> 104.593 | ... L93: ='4.1.1 รายละเอียดการใช้อาคาร_65'!L93 -> 162
B94: ='4.1.1 รายละเอียดการใช้อาคาร_65'!B94 -> 70 | C94: ='4.1.1 รายละเอียดการใช้อาคาร_65'!C94 -> อาคารศูนย์ประสานงานโครงการธัญพืชไร่ | D94: ='4.1.1 รายละเอียดการใช้อาคาร_65'!D94 -> 2543 | E94: ='4.1.1 รายละเอียดการใช้อาคาร_65'!E94 -> 1 | F94: ='4.1.1 รายละเอียดการใช้อาคาร_65'!F94 -> 5 | G94: ='4.1.1 รายละเอียดการใช้อาคาร_65'!G94 -> 250 | H94: ='4.1.1 รายละเอียดการใช้อาคาร_65'!H94 -> 74.2 | I94: ='4.1.1 รายละเอียดการใช้อาคาร_65'!I94 -> 34.8 | ... L94: ='4.1.1 รายละเอียดการใช้อาคาร_65'!L94 -> 109
B95: ='4.1.1 รายละเอียดการใช้อาคาร_65'!B95 -> 71 | C95: ='4.1.1 รายละเอียดการใช้อาคาร_65'!C95 -> อาคารเพาะเลี้ยงเนื้อเยื่อ ฝ่ายพัฒนาเกษตรที่สูง | D95: ='4.1.1 รายละเอียดการใช้อาคาร_65'!D95 -> 2525 | E95: ='4.1.1 รายละเอียดการใช้อาคาร_65'!E95 -> 1 | F95: ='4.1.1 รายละเอียดการใช้อาคาร_65'!F95 -> 8 | G95: ='4.1.1 รายละเอียดการใช้อาคาร_65'!G95 -> 250 | H95: ='4.1.1 รายละเอียดการใช้อาคาร_65'!H95 -> 103.39 | I95: ='4.1.1 รายละเอียดการใช้อาคาร_65'!I95 -> 31.61 | ... L95: ='4.1.1 รายละเอียดการใช้อาคาร_65'!L95 -> 135
B96: ='4.1.1 รายละเอียดการใช้อาคาร_65'!B96 -> 72 | C96: ='4.1.1 รายละเอียดการใช้อาคาร_65'!C96 -> อาคารเพิ่มพูล | D96: ='4.1.1 รายละเอียดการใช้อาคาร_65'!D96 -> 2548 | E96: ='4.1.1 รายละเอียดการใช้อาคาร_65'!E96 -> 4 | F96: ='4.1.1 รายละเอียดการใช้อาคาร_65'!F96 -> 8 | G96: ='4.1.1 รายละเอียดการใช้อาคาร_65'!G96 -> 250 | H96: ='4.1.1 รายละเอียดการใช้อาคาร_65'!H96 -> 3063.14 | I96: ='4.1.1 รายละเอียดการใช้อาคาร_65'!I96 -> 7659.86 | ... L96: ='4.1.1 รายละเอียดการใช้อาคาร_65'!L96 -> 10723
B97: ='4.1.1 รายละเอียดการใช้อาคาร_65'!B97 -> 73 | C97: ='4.1.1 รายละเอียดการใช้อาคาร_65'!C97 -> อาคารปฏิบัติการและคัดเมล็ดพันธุ์พืชไร่ | D97: ='4.1.1 รายละเอียดการใช้อาคาร_65'!D97 -> 2524 | E97: ='4.1.1 รายละเอียดการใช้อาคาร_65'!E97 -> 1 | F97: ='4.1.1 รายละเอียดการใช้อาคาร_65'!F97 -> 5 | G97: ='4.1.1 รายละเอียดการใช้อาคาร_65'!G97 -> 250 | H97: ='4.1.1 รายละเอียดการใช้อาคาร_65'!H97 -> 285.85 | I97: ='4.1.1 รายละเอียดการใช้อาคาร_65'!I97 -> 158.15 | ... L97: ='4.1.1 รายละเอียดการใช้อาคาร_65'!L97 -> 444
B98: ='4.1.1 รายละเอียดการใช้อาคาร_65'!B98 -> 74 | C98: ='4.1.1 รายละเอียดการใช้อาคาร_65'!C98 -> อาคารอบเมล็ดพันธุ์พืช (ไซโล) | D98: ='4.1.1 รายละเอียดการใช้อาคาร_65'!D98 -> 2535 | E98: ='4.1.1 รายละเอียดการใช้อาคาร_65'!E98 -> 1 | F98: ='4.1.1 รายละเอียดการใช้อาคาร_65'!F98 -> 1 | G98: ='4.1.1 รายละเอียดการใช้อาคาร_65'!G98 -> 250 | H98: ='4.1.1 รายละเอียดการใช้อาคาร_65'!H98 -> 0 | I98: ='4.1.1 รายละเอียดการใช้อาคาร_65'!I98 -> 128 | ... L98: ='4.1.1 รายละเอียดการใช้อาคาร_65'!L98 -> 128
... B116: ='4.1.1 รายละเอียดการใช้อาคาร_65'!B116 -> 92 | C116: ='4.1.1 รายละเอียดการใช้อาคาร_65'!C116 -> อาคารปฏิบัติการโรคพืช | D116: ='4.1.1 รายละเอียดการใช้อาคาร_65'!D116 -> 2545 | E116: ='4.1.1 รายละเอียดการใช้อาคาร_65'!E116 -> 1 | F116: ='4.1.1 รายละเอียดการใช้อาคาร_65'!F116 -> 1 | G116: ='4.1.1 รายละเอียดการใช้อาคาร_65'!G116 -> 250 | H116: ='4.1.1 รายละเอียดการใช้อาคาร_65'!H116 -> 76.95 | I116: ='4.1.1 รายละเอียดการใช้อาคาร_65'!I116 -> 275.05 | ... L116: ='4.1.1 รายละเอียดการใช้อาคาร_65'!L116 -> 352
B117: ='4.1.1 รายละเอียดการใช้อาคาร_65'!B117 -> สำนักวิจัยและส่งเสริมการเกษตร
B118: ='4.1.1 รายละเอียดการใช้อาคาร_65'!B118 -> 93 | C118: ='4.1.1 รายละเอียดการใช้อาคาร_65'!C118 -> อาคารธรรมศักดิ์มนตรี | D118: ='4.1.1 รายละเอียดการใช้อาคาร_65'!D118 -> 2526 | E118: ='4.1.1 รายละเอียดการใช้อาคาร_65'!E118 -> 3 | F118: ='4.1.1 รายละเอียดการใช้อาคาร_65'!F118 -> 8 | G118: ='4.1.1 รายละเอียดการใช้อาคาร_65'!G118 -> 250 | H118: ='4.1.1 รายละเอียดการใช้อาคาร_65'!H118 -> 871.3 | I118: ='4.1.1 รายละเอียดการใช้อาคาร_65'!I118 -> 930.2 | ... L118: ='4.1.1 รายละเอียดการใช้อาคาร_65'!L118 -> 1801.5
B119: ='4.1.1 รายละเอียดการใช้อาคาร_65'!B119 -> 94 | C119: ='4.1.1 รายละเอียดการใช้อาคาร_65'!C119 -> อาคารหอพักธรรมศักดิ์มนตรี | D119: ='4.1.1 รายละเอียดการใช้อาคาร_65'!D119 -> 2526 | E119: ='4.1.1 รายละเอียดการใช้อาคาร_65'!E119 -> 3 | F119: ='4.1.1 รายละเอียดการใช้อาคาร_65'!F119 -> 1 | G119: ='4.1.1 รายละเอียดการใช้อาคาร_65'!G119 -> 250 | H119: ='4.1.1 รายละเอียดการใช้อาคาร_65'!H119 -> 168 | I119: ='4.1.1 รายละเอียดการใช้อาคาร_65'!I119 -> 1280 | ... L119: ='4.1.1 รายละเอียดการใช้อาคาร_65'!L119 -> 1448
B120: ='4.1.1 รายละเอียดการใช้อาคาร_65'!B120 -> 95 | C120: ='4.1.1 รายละเอียดการใช้อาคาร_65'!C120 -> อาคารโรงอาหารสำนักวิจัยฯ | D120: ='4.1.1 รายละเอียดการใช้อาคาร_65'!D120 -> 2526 | E120: ='4.1.1 รายละเอียดการใช้อาคาร_65'!E120 -> 1 | F120: ='4.1.1 รายละเอียดการใช้อาคาร_65'!F120 -> 1 | G120: ='4.1.1 รายละเอียดการใช้อาคาร_65'!G120 -> 250 | H120: ='4.1.1 รายละเอียดการใช้อาคาร_65'!H120 -> 0 | I120: ='4.1.1 รายละเอียดการใช้อาคาร_65'!I120 -> 248 | ... L120: ='4.1.1 รายละเอียดการใช้อาคาร_65'!L120 -> 248
B121: ='4.1.1 รายละเอียดการใช้อาคาร_65'!B121 -> 96 | C121: ='4.1.1 รายละเอียดการใช้อาคาร_65'!C121 -> อาคารมงคลชัยสิทธิ์ | D121: ='4.1.1 รายละเอียดการใช้อาคาร_65'!D121 -> 2537 | E121: ='4.1.1 รายละเอียดการใช้อาคาร_65'!E121 -> 2 | F121: ='4.1.1 รายละเอียดการใช้อาคาร_65'!F121 -> 5 | G121: ='4.1.1 รายละเอียดการใช้อาคาร_65'!G121 -> 250 | H121: ='4.1.1 รายละเอียดการใช้อาคาร_65'!H121 -> 365.8 | I121: ='4.1.1 รายละเอียดการใช้อาคาร_65'!I121 -> 655.2 | ... L121: ='4.1.1 รายละเอียดการใช้อาคาร_65'!L121 -> 1021
B122: ='4.1.1 รายละเอียดการใช้อาคาร_65'!B122 -> ศูนย์วิจัยพลังงาน
B123: ='4.1.1 รายละเอียดการใช้อาคาร_65'!B123 -> 97 | C123: ='4.1.1 รายละเอียดการใช้อาคาร_65'!C123 -> อาคารศูนย์วิจัยพลังงาน 1 | D123: ='4.1.1 รายละเอียดการใช้อาคาร_65'!D123 -> 2547 | E123: ='4.1.1 รายละเอียดการใช้อาคาร_65'!E123 -> 1 | F123: ='4.1.1 รายละเอียดการใช้อาคาร_65'!F123 -> 8 | G123: ='4.1.1 รายละเอียดการใช้อาคาร_65'!G123 -> 250 | H123: ='4.1.1 รายละเอียดการใช้อาคาร_65'!H123 -> 170 | I123: ='4.1.1 รายละเอียดการใช้อาคาร_65'!I123 -> 72 | ... L123: ='4.1.1 รายละเอียดการใช้อาคาร_65'!L123 -> 242
B124: ='4.1.1 รายละเอียดการใช้อาคาร_65'!B124 -> 98 | C124: ='4.1.1 รายละเอียดการใช้อาคาร_65'!C124 -> อาคารศูนย์วิจัยพลังงาน 2 | D124: ='4.1.1 รายละเอียดการใช้อาคาร_65'!D124 -> 2547 | E124: ='4.1.1 รายละเอียดการใช้อาคาร_65'!E124 -> 1 | F124: ='4.1.1 รายละเอียดการใช้อาคาร_65'!F124 -> 5 | G124: ='4.1.1 รายละเอียดการใช้อาคาร_65'!G124 -> 250 | H124: ='4.1.1 รายละเอียดการใช้อาคาร_65'!H124 -> 108 | I124: ='4.1.1 รายละเอียดการใช้อาคาร_65'!I124 -> 11 | ... L124: ='4.1.1 รายละเอียดการใช้อาคาร_65'!L124 -> 119
B125: ='4.1.1 รายละเอียดการใช้อาคาร_65'!B125 -> ศูนย์อาคารที่พัก
B126: ='4.1.1 รายละเอียดการใช้อาคาร_65'!B126 -> 99 | C126: ='4.1.1 รายละเอียดการใช้อาคาร_65'!C126 -> อาคารศูนย์การศึกษาและอบรมนานาชาติ | D126: ='4.1.1 รายละเอียดการใช้อาคาร_65'!D126 -> 2540 | E126: ='4.1.1 รายละเอียดการใช้อาคาร_65'!E126 -> 4 | F126: ='4.1.1 รายละเอียดการใช้อาคาร_65'!F126 -> 5 | G126: ='4.1.1 รายละเอียดการใช้อาคาร_65'!G126 -> 250 | H126: ='4.1.1 รายละเอียดการใช้อาคาร_65'!H126 -> 3589.85 | I126: ='4.1.1 รายละเอียดการใช้อาคาร_65'!I126 -> 3538.66 | ... L126: ='4.1.1 รายละเอียดการใช้อาคาร_65'!L126 -> 7128.51
...

Sheet 6.3.1.2พื้นที่ใช้สอยรายเดือน_66
B1: 6.3.1.2) การใช้ประโยชน์พื้นที่ใช้สอยที่ใช้งานจริงในแต่ละเดือน
B3: ตารางที่ 6.8 รายละเอียดการใช้ประโยชน์พื้นที่ใช้สอยที่ใช้งานจริงในแต่ละเดือน ในรอบปี 2566
B5: เดือน | C5: สำหรับอาคารทุกประเภท | F5: สำหรับอาคารประเภท | G5: สำหรับอาคารประเภท
C6: การใช้ประโยชน์พื้นที่ใช้สอยที่ใช้งานจริง | F6: โรงแรม | G6: โรงพยาบาล
C7: พื้นที่ปรับอากาศ | D7: พื้นที่ไม่ปรับอากาศ | E7: รวม | F7: จำนวนห้องพักที่จำหน่ายได้ | G7: จำนวนคนไข้นอก | H7: จำนวนคนไข้ใน
C8: (ตารางเมตร) | D8: (ตารางเมตร) | E8: (ตารางเมตร) | F8: (ห้อง-วัน) | G8: (คน) | H8: (เตียง-วัน)
B9: ม.ค. | C9: ='4.1.1 รายละเอียดการใช้อาคาร_65'!H$145 -> 97550.512 | D9: ='4.1.1 รายละเอียดการใช้อาคาร_65'!I$145 -> 253487.97 | E9: ='4.1.1 รายละเอียดการใช้อาคาร_65'!J$145 -> 351038.48
B10: ก.พ. | C10: =C9 -> 97550.512 | D10: =D9 -> 253487.97 | E10: =E9 -> 351038.48
B11: มี.ค. | C11: =C10 -> 97550.512 | D11: =D10 -> 253487.97 | E11: =E10 -> 351038.48
B12: เม.ย. | C12: =C11 -> 97550.512 | D12: =D11 -> 253487.97 | E12: =E11 -> 351038.48
B13: พ.ค. | C13: =C12 -> 97550.512 | D13: =D12 -> 253487.97 | E13: =E12 -> 351038.48
B14: มิ.ย. | C14: =C13 -> 97550.512 | D14: =D13 -> 253487.97 | E14: =E13 -> 351038.48
B15: ก.ค. | C15: =C14 -> 97550.512 | D15: =D14 -> 253487.97 | E15: =E14 -> 351038.48
B16: ส.ค. | C16: =C15 -> 97550.512 | D16: =D15 -> 253487.97 | E16: =E15 -> 351038.48
B17: ก.ย. | C17: =C16 -> 97550.512 | D17: =D16 -> 253487.97 | E17: =E16 -> 351038.48
B18: ต.ค. | C18: =C17 -> 97550.512 | D18: =D17 -> 253487.97 | E18: =E17 -> 351038.48
B19: พ.ย. | C19: =C18 -> 97550.512 | D19: =D18 -> 253487.97 | E19: =E18 -> 351038.48
B20: ธ.ค. | C20: =C19 -> 97550.512 | D20: =D19 -> 253487.97 | E20: =E19 -> 351038.48
B21: รวม

Sheet 6.3.1.3ข้อมูลหม้อแปลง (2)
A1: 6.3.1.3) ข้อมูลระบบไฟฟ้า
B2: ข้อมูลหม้อแปลงไฟฟ้าปี 2566
A3: ลำดับที่ | B3: หมายเลข | C3: หมายเลข | D3: ประเภท | E3: อัตรา | F3: หม้อแปลงไฟฟ้า | L3: อาคารที่ใช้งาน
B4: ผู้ใช้ไฟฟ้า | C4: เครื่องวัดไฟฟ้า | D4: ผู้ใช้ไฟฟ้า | E4: การใช้ไฟฟ้า | F4: ขนาด (kVA) | I4: จำนวน (ชุด) | M4: รวม
F5: ขนาด | G5: 1600 | H5: kVA | I5: จำนวน | J5: 1 | K5: ตัว | L5: 1.อาคารประเสริฐ ณ.นคร | M5: =G5*J5 -> 1600
F6: ขนาด | G6: 1500 | H6: kVA | I6: จำนวน | J6: 2 | K6: ตัว | L6: 1.อาคารสมเด็จพระเทพรัตนราชสุดา | M6: =G6*J6 -> 3000
L7: 2.อาคารเรียนรวมสาขาวิศวกรรมศาสตร์ | M7: =G7*J7 -> 0
F8: ขนาด | G8: 1250 | H8: kVA | I8: จำนวน | J8: 6 | K8: ตัว | L8: 1.อาคารอำนวย ยศสุข | M8: =G8*J8 -> 7500
L9: 2-3.อาคารแม่โจ้ 60 ปี(2) | M9: =G9*J9 -> 0
L10: 4.อาคารจุฬาภรณ์(2) | M10: =G10*J10 -> 0
L11: 5.อาคาร 75 ปี แม่โจ้ | M11: =G11*J11 -> 0
L12: 6.อาคาร 75 ปี แม่โจ้
F13: ขนาด | G13: 1000 | H13: kVA | I13: จำนวน | J13: 1 | K13: ตัว | L13: 1.อาคารสมเด็จพระศรีนครินทราบรมราชนี | M13: =G13*J13 -> 1000
F14: ขนาด | G14: 800 | H14: kVA | I14: จำนวน | J14: 6 | K14: ตัว | L14: 1.อาคารศูนย์การศึกษาและอบรมนานาชาติ | M14: =G14*J14 -> 4800
L15: 2.อาคารวิภาต บุญศรี วังซ้าย | M15: =G15*J15 -> 0
L16: 3.อาคารหอพักนักศึกษาหญิง 11 | M16: =G16*J16 -> 0
L17: 4-5.อาคารศูนย์กีฬากาญจนาภิเษกรัชกาลที่ 9 โซน A , B (2) | M17: =G17*J17 -> 0
L18: 6.อาคารโรงงานนำร่อง
A19: 1 | B19: 9806 - 020017405371 | C19: 27669524 | D19: 4.2.2 | E19: ปกติ | F19: ขนาด | G19: 750 | H19: kVA | I19: จำนวน | J19: 1 | K19: ตัว | L19: 1.อาคารสมิตานนท์ | M19: =G19*J19 -> 750
E20: TOD | F20: ขนาด | G20: 630 | H20: kVA | I20: จำนวน | J20: 9 | K20: ตัว | L20: 1.อาคารเทพ พงษ์พานิช | M20: =G20*J20 -> 5670
E21: TOU | L21: 2.อาคารวิภาต บุญศรี วังซ้าย | M21: =G21*J21 -> 0
L22: 3.อาคารเรียนรวมแม่โจ้ 70 ปี | M22: =G22*J22 -> 0
L23: 4.อาคารสำนักงานอธิการบดี | M23: =G23*J23 -> 0
L24: 5.อาคารหอพักนักศึกษาหญิง 10 | M24: =G24*J24 -> 0
L25: 6.อาคารคณะสถาปัตยกรรมศาสตร์และการออกแบบสิ่งแวดล้อม (ใหม่) | M25: =G25*J25 -> 0
L26: 7.อาคารเพิ่มพูน
L27: 8.อาคารยรรยง สิทธิชัย | M27: =G27*J27 -> 0
F28: ขนาด | G28: 500 | H28: kVA | I28: จำนวน | J28: 4 | K28: ตัว | L28: 1.อาคาร 25 ปี คณะบริหารธุรกิจ | M28: =G28*J28 -> 2000
L29: 2.อาคารเรียนรวม 80 ปี | M29: =G29*J29 -> 0
L30: 3.อาคารเทคโนโลยีการประมง | M30: =G30*J30 -> 0
L31: 4.อาคารปฏิบัติการเทคโนโลยีการประมง
F32: ขนาด | G32: 400 | H32: kVA | I32: จำนวน | J32: 2 | K32: ตัว | L32: 1.อาคารธรรมศักดิ์มนตรี | M32: =G32*J32 -> 800
L33: 2.อาคารพัฒนาวิสัยทัศน์ | M33: =G33*J33 -> 0
F37: ขนาด | G37: 315 | H37: kVA | I37: จำนวน | J37: 5 | K37: ตัว | L37: 1.อาคารปฏิบัติการวิศวกรรมทั่วไป | M37: =G37*J37 -> 1575
L38: 2.อาคารพิทยาลงกรณ์ | M38: =G38*J38 -> 0
L39: 3.อาคารหอพักนักศึกษาหญิง 8 | M39: =G39*J39 -> 0
L40: 4.อาคารหอพักนักศึกษาหญิง 9
L41: 5.อาคารปฏิบัติการดินและปุ๋ย
F42: ขนาด | G42: 250 | H42: kVA | I42: จำนวน | J42: 13 | K42: ตัว | L42: 1.อาคารเสาวรัจนิตยวรรธนะ | M42: =G42*J42 -> 3250
L43: 2.อาคารเรือนกระจก | M43: =G43*J43 -> 0
M44: =G44*J44 -> 0
L45: 3.อาคารเทพศาสตร์สถิตย์ | M45: =G45*J45 -> 0
L46: 4.อาคารอิงคศรีกสิการ | M46: =G46*J46 -> 0
L47: 5.คาบอยมาร์เก็ต | M47: =G47*J47 -> 0
L48: 6.อาคารโรงอาหารเทิดกสิกร
L49: 7.กาดแลง
L50: 8.โรงกรอกประปา 2
L51: 9.อาคารสมาคมศิษย์เก่า
L52: 10.สนามกีฬาอินทนิล (อัฒจัททร์มีหลังคา)
L53: 11.อาคารรัตนโกสินทร์ 200 ปี
L54: 12.อาคารคัดบรรจุผลิตผลเกษตร
L55: 13.ระบบประปา
F56: ขนาด | G56: 160 | H56: kVA | I56: จำนวน | J56: 9 | K56: ตัว | L56: 1.อาคารเนื้อเยื่อ | M56: =G56*J56 -> 1440
L57: 2.เทคโนโลยีด้านการผลิตไม้ดอกไม้ประดับ
L58: 3.ศูนย์ IT | M58: =G58*J58 -> 0
L59: 4.ลานจัตุรัส | M59: =G59*J59 -> 0
L60: 5.อาคารแฟลตชัยพฤกษ์ | M60: =G60*J60 -> 0
L61: 6.อาคารสระว่ายน้ำอุบลรัตน์ | M61: =G61*J61 -> 0
L62: 7.อาคารคณะสถาปัตยกรรมศาสตร์และการออกแบบสิ่งแวดล้อม (เก่า) | M62: =G62*J62 -> 0
L63: 8.อาคารปฏิบัติการไม้ผล | M63: =G63*J63 -> 0
L64: 9.ระบบบำบัดน้ำเสีย | M64: =G64*J64 -> 0
F65: ขนาด | G65: 100 | H65: kVA | I65: จำนวน | J65: 1 | K65: ตัว | L65: 1.อาคารช่วงเกษตรศิลป์ | M65: =G65*J65 -> 100
A67: รวม | G67: =M67 -> 33485 | J67: kVA | M67: =SUM(M5:M66) -> 33485

Sheet 6.3.3ปริมาณการใช้ไฟฟ้า_66 
B1: 6.3.2) ข้อมูลปริมาณการใช้ไฟฟ้าในรอบปี 2566
A2: ตารางที่ 6.9 ข้อมูลการใช้ไฟฟ้าในรอบปี 2566
B3: อัตราการใช้ไฟฟ้า | C3: 4.1.2 | E3: หมายเลขผู้ใช้ไฟฟ้า | F3: ='4.1.2ข้อมูลหม้อแปลง'!B19 -> 9806 - 020017405371 | I3: หมายเลขเครื่องวัดไฟฟ้า | J3: ='4.1.2ข้อมูลหม้อแปลง'!C19 -> 27669524
B5: พลังไฟฟ้าสูงสุด | F5: พลังงานไฟฟ้า | H5: กิโลวาร์ | I5: ค่าไฟฟ้ารวม (บาท) | K5: Power Factor
A6: เดือน | B6: P | C6: PP/OP1 | D6: OP/OP2 | E6: ค่าใช้จ่าย | F6: ปริมาณ | G6: ค่าใช้จ่าย | J6: ค่าตัวประกอบภาระ | L6: ค่าไฟฟ้าเฉลี่ย
B7: (กิโลวัตต์) | C7: (กิโลวัตต์) | D7: (กิโลวัตต์) | E7: (บาท) | F7: (กิโลวัตต์-ชั่วโมง) | G7: (บาท) | J7: (เปอร์เซ็นต์) | L7: (บาท/กิโลวัตต์-ชั่วโมง) | M7: วัน/เดือน
A8: ม.ค. | B8: =' ข้อมูลการใช้ไฟฟ้า '!B34 -> 1586.92 | C8: =' ข้อมูลการใช้ไฟฟ้า '!C34 -> 1229.86 | D8: =' ข้อมูลการใช้ไฟฟ้า '!D34 -> 912.48 | E8: =' ข้อมูลการใช้ไฟฟ้า '!E34 -> 117654.25 | F8: =' ข้อมูลการใช้ไฟฟ้า '!F34 -> 630006 | G8: =I8-E8 -> 3294665 | H8: =B8/0.8 -> 1983.65 | I8: =' ข้อมูลการใช้ไฟฟ้า '!G34 -> 3412319.2 | J8: =+F8*100/(MAX(B8:D8)*24*M8) -> 53.36011 | K8: =MAX(B8:D8)/(SQRT((MAX(B8:D8)^2+(H8)^2))) -> 0.62469505 | L8: =+I8/F8 -> 5.4163282 | M8: 31
A9: ก.พ. | B9: =' ข้อมูลการใช้ไฟฟ้า '!B35 -> 2579.43 | C9: =' ข้อมูลการใช้ไฟฟ้า '!C35 -> 1507.98 | D9: =' ข้อมูลการใช้ไฟฟ้า '!D35 -> 1150.82 | E9: =' ข้อมูลการใช้ไฟฟ้า '!E35 -> 191238.94 | F9: =' ข้อมูลการใช้ไฟฟ้า '!F35 -> 682954 | G9: =I9-E9 -> 3615358.2 | H9: =B9/0.8 -> 3224.2875 | I9: =' ข้อมูลการใช้ไฟฟ้า '!G35 -> 3806597.1 | J9: =+F9*100/(MAX(B9:D9)*24*M9) -> 39.400201 | K9: =MAX(B9:D9)/(SQRT((MAX(B9:D9)^2+(H9)^2))) -> 0.62469505 | L9: =+I9/F9 -> 5.5737241 | M9: 28
A10: มี.ค. | B10: =' ข้อมูลการใช้ไฟฟ้า '!B36 -> 2540.83 | C10: =' ข้อมูลการใช้ไฟฟ้า '!C36 -> 1548.32 | D10: =' ข้อมูลการใช้ไฟฟ้า '!D36 -> 1151.31 | E10: =' ข้อมูลการใช้ไฟฟ้า '!E36 -> 188377.14 | F10: =' ข้อมูลการใช้ไฟฟ้า '!F36 -> 772571 | G10: =I10-E10 -> 4106591.2 | H10: =B10/0.8 -> 3176.0375 | I10: =' ข้อมูลการใช้ไฟฟ้า '!G36 -> 4294968.3 | J10: =+F10*100/(MAX(B10:D10)*24*M10) -> 40.868609 | K10: =MAX(B10:D10)/(SQRT((MAX(B10:D10)^2+(H10)^2))) -> 0.62469505 | L10: =+I10/F10 -> 5.5593186 | M10: 31
A11: เม.ย. | B11: =' ข้อมูลการใช้ไฟฟ้า '!B37 -> 3174.88 | C11: =' ข้อมูลการใช้ไฟฟ้า '!C37 -> 2262.1 | D11: =' ข้อมูลการใช้ไฟฟ้า '!D37 -> 1150.89 | E11: =' ข้อมูลการใช้ไฟฟ้า '!E37 -> 235385.6 | F11: =' ข้อมูลการใช้ไฟฟ้า '!F37 -> 663549 | G11: =I11-E11 -> 3489468.6 | H11: =B11/0.8 -> 3968.6 | I11: =' ข้อมูลการใช้ไฟฟ้า '!G37 -> 3724854.2 | J11: =+F11*100/(MAX(B11:D11)*24*M11) -> 29.027738 | K11: =MAX(B11:D11)/(SQRT((MAX(B11:D11)^2+(H11)^2))) -> 0.62469505 | L11: =+I11/F11 -> 5.613533 | M11: 30
A12: พ.ค. | B12: =' ข้อมูลการใช้ไฟฟ้า '!B38 -> 3058.32 | C12: =' ข้อมูลการใช้ไฟฟ้า '!C38 -> 2065.36 | D12: =' ข้อมูลการใช้ไฟฟ้า '!D38 -> 2422.83 | E12: =' ข้อมูลการใช้ไฟฟ้า '!E38 -> 226743.84 | F12: =' ข้อมูลการใช้ไฟฟ้า '!F38 -> 764182.99 | G12: =I12-E12 -> 3542344.5 | H12: =B12/0.8 -> 3822.9 | I12: =' ข้อมูลการใช้ไฟฟ้า '!G38 -> 3769088.4 | J12: =+F12*100/(MAX(B12:D12)*24*M12) -> 33.584703 | K12: =MAX(B12:D12)/(SQRT((MAX(B12:D12)^2+(H12)^2))) -> 0.62469505 | L12: =+I12/F12 -> 4.9321804 | M12: 31
A13: มิ.ย. | B13: =' ข้อมูลการใช้ไฟฟ้า '!B39 -> 3217.71 | C13: =' ข้อมูลการใช้ไฟฟ้า '!C39 -> 2145.14 | D13: =' ข้อมูลการใช้ไฟฟ้า '!D39 -> 1112.3 | E13: =' ข้อมูลการใช้ไฟฟ้า '!E39 -> 238561.02 | F13: =' ข้อมูลการใช้ไฟฟ้า '!F39 -> 781785 | G13: =I13-E13 -> 3683320.8 | H13: =B13/0.8 -> 4022.1375 | I13: =' ข้อมูลการใช้ไฟฟ้า '!G39 -> 3921881.8 | J13: =+F13*100/(MAX(B13:D13)*24*M13) -> 33.744884 | K13: =MAX(B13:D13)/(SQRT((MAX(B13:D13)^2+(H13)^2))) -> 0.62469505 | L13: =+I13/F13 -> 5.0165734 | M13: 30
A14: ก.ค. | B14: =' ข้อมูลการใช้ไฟฟ้า '!B40 -> 4614.85 | C14: =' ข้อมูลการใช้ไฟฟ้า '!C40 -> 3222.44 | D14: =' ข้อมูลการใช้ไฟฟ้า '!D40 -> 2148.29 | E14: =' ข้อมูลการใช้ไฟฟ้า '!E40 -> 342144.98 | F14: =' ข้อมูลการใช้ไฟฟ้า '!F40 -> 1123874 | G14: =I14-E14 -> 5235184.2 | H14: =B14/0.8 -> 5768.5625 | I14: =' ข้อมูลการใช้ไฟฟ้า '!G40 -> 5577329.2 | J14: =+F14*100/(MAX(B14:D14)*24*M14) -> 32.733097 | K14: =MAX(B14:D14)/(SQRT((MAX(B14:D14)^2+(H14)^2))) -> 0.62469505 | L14: =+I14/F14 -> 4.9625929 | M14: 31
A15: ส.ค. | B15: =' ข้อมูลการใช้ไฟฟ้า '!B41 -> 3897.67 | C15: =' ข้อมูลการใช้ไฟฟ้า '!C41 -> 2704.5 | D15: =' ข้อมูลการใช้ไฟฟ้า '!D41 -> 1789.75 | E15: =' ข้อมูลการใช้ไฟฟ้า '!E41 -> 288973.25 | F15: =' ข้อมูลการใช้ไฟฟ้า '!F41 -> 1063109 | G15: =I15-E15 -> 4947639.2 | H15: =B15/0.8 -> 4872.0875 | I15: =' ข้อมูลการใช้ไฟฟ้า '!G41 -> 5236612.5 | J15: =+F15*100/(MAX(B15:D15)*24*M15) -> 36.660619 | K15: =MAX(B15:D15)/(SQRT((MAX(B15:D15)^2+(H15)^2))) -> 0.62469505 | L15: =+I15/F15 -> 4.9257531 | M15: 31
A16: ก.ย. | B16: =' ข้อมูลการใช้ไฟฟ้า '!B42 -> 3818 | C16: =' ข้อมูลการใช้ไฟฟ้า '!C42 -> 2505.56 | D16: =' ข้อมูลการใช้ไฟฟ้า '!D42 -> 1630.61 | E16: =' ข้อมูลการใช้ไฟฟ้า '!E42 -> 283066.52 | F16: =' ข้อมูลการใช้ไฟฟ้า '!F42 -> 1060689 | G16: =I16-E16 -> 4154355.4 | H16: =B16/0.8 -> 4772.5 | I16: =' ข้อมูลการใช้ไฟฟ้า '!G42 -> 4437421.9 | J16: =+F16*100/(MAX(B16:D16)*24*M16) -> 38.585101 | K16: =MAX(B16:D16)/(SQRT((MAX(B16:D16)^2+(H16)^2))) -> 0.62469505 | L16: =+I16/F16 -> 4.1835278 | M16: 30
A17: ต.ค. | B17: =' ข้อมูลการใช้ไฟฟ้า '!B43 -> 3457.58 | C17: =' ข้อมูลการใช้ไฟฟ้า '!C43 -> 2265.31 | D17: =' ข้อมูลการใช้ไฟฟ้า '!D43 -> 1430.72 | E17: =' ข้อมูลการใช้ไฟฟ้า '!E43 -> 256344.98 | F17: =' ข้อมูลการใช้ไฟฟ้า '!F43 -> 990378 | G17: =I17-E17 -> 3815424.4 | H17: =B17/0.8 -> 4321.975 | I17: =' ข้อมูลการใช้ไฟฟ้า '!G43 -> 4071769.3 | J17: =+F17*100/(MAX(B17:D17)*24*M17) -> 38.499564 | K17: =MAX(B17:D17)/(SQRT((MAX(B17:D17)^2+(H17)^2))) -> 0.62469505 | L17: =+I17/F17 -> 4.1113285 | M17: 31
A18: พ.ย. | B18: =' ข้อมูลการใช้ไฟฟ้า '!B44 -> 2541.93 | C18: =' ข้อมูลการใช้ไฟฟ้า '!C44 -> 1866.73 | D18: =' ข้อมูลการใช้ไฟฟ้า '!D44 -> 1191.53 | E18: =' ข้อมูลการใช้ไฟฟ้า '!E44 -> 188458.69 | F18: =' ข้อมูลการใช้ไฟฟ้า '!F44 -> 754238 | G18: =I18-E18 -> 2938881.2 | H18: =B18/0.8 -> 3177.4125 | I18: =' ข้อมูลการใช้ไฟฟ้า '!G44 -> 3127339.9 | J18: =+F18*100/(MAX(B18:D18)*24*M18) -> 41.210922 | K18: =MAX(B18:D18)/(SQRT((MAX(B18:D18)^2+(H18)^2))) -> 0.62469505 | L18: =+I18/F18 -> 4.1463568 | M18: 30
A19: ธ.ค. | B19: =' ข้อมูลการใช้ไฟฟ้า '!B45 -> 2897.59 | C19: =' ข้อมูลการใช้ไฟฟ้า '!C45 -> 1825.88 | D19: =' ข้อมูลการใช้ไฟฟ้า '!D45 -> 1587.72 | E19: =' ข้อมูลการใช้ไฟฟ้า '!E45 -> 214827.32 | F19: =' ข้อมูลการใช้ไฟฟ้า '!F45 -> 825219 | G19: =I19-E19 -> 3122537.7 | H19: =B19/0.8 -> 3621.9875 | I19: =' ข้อมูลการใช้ไฟฟ้า '!G45 -> 3337365 | J19: =+F19*100/(MAX(B19:D19)*24*M19) -> 38.278891 | K19: =MAX(B19:D19)/(SQRT((MAX(B19:D19)^2+(H19)^2))) -> 0.62469505 | L19: =+I19/F19 -> 4.0442174 | M19: 31
A20: รวม | E20: =SUM(E8:E19) -> 2771776.5 | F20: =SUM(F8:F19) -> 10112555 | G20: =SUM(G8:G19) -> 45945770 | H20: =SUM(H8:H19) -> 46732.137 | I20: =SUM(I8:I19) -> 48717547
A21: เฉลี่ย | E21: =AVERAGE(E8:E19) -> 230981.38 | F21: =AVERAGE(F8:F19) -> 842712.92 | G21: =AVERAGE(G8:G19) -> 3828814.2 | H21: =AVERAGE(H8:H19) -> 3894.3448 | I21: =AVERAGE(I8:I19) -> 4059795.6 | J21: =AVERAGE(J8:J19) -> 37.996203 | K21: =AVERAGE(K8:K19) -> 0.62469505 | L21: =I20/F20 -> 4.817531
A22: หมายเหตุ: | B22: กรณีอัตรา ปกติ ให้กรอกค่าพลังงานไฟฟ้าสูงสุด (On Peak) ในช่อง P | I22: หมายเหตุ : ระบบไฟฟ้าเป็น Substation 115kV
B23: กรณีอัตรา TOD: P หมายถึง On Peak / PP หมายถึง Partial Peak / OP หมายถึง Off Peak
B24: กรณีอัตรา TOU: P หมายถึง Peak / OP1 หมายถึง Off Peak1 / OP2 หมายถึง Off Peak2
B25: กรณีอาคารมีเครื่องวัดไฟฟ้ามากกว่า 1 เครื่อง ให้เพิ่มจำนวนตารางแสดงข้อมูลการใช้ไฟฟ้าตามจำนวนของเครื่องวัดไฟฟ้า
B26: ค่าตัวประกอบภาระ (เปอร์เซ็นต์) = ปริมาณพลังงานไฟฟ้า (กิโลวัตต์-ชั่วโมง)
C27: ค่าพลังไฟฟ้าสูงสุด (กิโลวัตต์) x 24 (ชม./วัน) X จำนวนวันในแต่ละเดือน (วัน)
B28: Power Factor (PF) = ค่าพลังไฟฟ้าสูงสุด (กิโลวัตต์)
D29: ( kW2 ) + (KVAR2 )

Sheet 6.3.3การใช้เชื้อเพลิง_66
A1: 6.3.3) ข้อมูลการใช้เชื้อเพลิงและพลังงานหมุนเวียนในรอบปี 2566
A2: ตารางที่ 6.10 ข้อมูลการใช้เชื้อเพลิงและพลังงานหมุนเวียนในรอบปี 2566
A3: ชนิด | B3: หน่วย/ | C3: ปริมาณการใช้ | P3: ค่าความร้อนเฉลี่ย | Q3: ปริมาณพลังงานรวม | R3: ต้นทุน | S3: ต้นทุน | V3: ปริมาณการใช้
A4: พลังงานที่ใช้ | B4: มูลค่า | C4: ม.ค. | D4: ก.พ. | E4: มี.ค. | F4: เม.ย. | G4: พ.ค. | H4: มิ.ย. | I4: ก.ค. | J4: ส.ค. | K4: ก.ย. | L4: ต.ค. | M4: พ.ย. | N4: ธ.ค. | O4: รวม | P4: (เมกะจูล/หน่วย) | Q4: (เมกะจูล) | R4: (บาท/หน่วย) | S4: (บาท/MJ) | V4: ม.ค. | W4: ก.พ. | X4: มี.ค. | Y4: เม.ย. | Z4: พ.ค. | AA4: มิ.ย. | AB4: ก.ค. | AC4: ส.ค. | AD4: ก.ย. | AE4: ต.ค. | AF4: พ.ย. | AG4: ธ.ค. | AH4: รวม
A5: น้ำมันเตา | B5: ลิตร | O5: =SUM(C5:N5) -> 0 | P5: 39.77 | Q5: =O5*P5 -> 0 | R5: =O6/O5 -> #DIV/0! | S5: =O6/Q5 -> #DIV/0! | U5: ปี2562 | V5: =(C5*$P$5)+(C7*$P$7)+($C$9*$P$9)+(C11*$P$11)+(C13*$P$13)+(C15*$P$15) -> 0 | W5: =(D5*$P$5)+(D7*$P$7)+($D$9*$P$9)+(D11*$P$11)+(D13*$P$13)+(D15*$P$15) -> 0 | X5: =(E5*$P$5)+(E7*$P$7)+($E$9*$P$9)+(E11*$P$11)+(E13*$P$13)+(E15*$P$15) -> 0 | Y5: =(F5*$P$5)+(F7*$P$7)+($F$9*$P$9)+(F11*$P$11)+(F13*$P$13)+(F15*$P$15) -> 0 | Z5: =(G5*$P$5)+(G7*$P$7)+($G$9*$P$9)+(G11*$P$11)+(G13*$P$13)+(G15*$P$15) -> 0 | AA5: =(H5*$P$5)+(H7*$P$7)+($H$9*$P$9)+(H11*$P$11)+(H13*$P$13)+(H15*$P$15) -> 0 | AB5: =(I5*$P$5)+(I7*$P$7)+($I$9*$P$9)+(I11*$P$11)+(I13*$P$13)+(I15*$P$15) -> 0 | AC5: =(J5*$P$5)+(J7*$P$7)+($J$9*$P$9)+(J11*$P$11)+(J13*$P$13)+(J15*$P$15) -> 0 | AD5: =(K5*$P$5)+(K7*$P$7)+($K$9*$P$9)+(K11*$P$11)+(K13*$P$13)+(K15*$P$15) -> 0 | AE5: =(L5*$P$5)+(L7*$P$7)+($L$9*$P$9)+(L11*$P$11)+(L13*$P$13)+(L15*$P$15) -> 0 | AF5: =(M5*$P$5)+(M7*$P$7)+($M$9*$P$9)+(M11*$P$11)+(M13*$P$13)+(M15*$P$15) -> 0 | AG5: =(N5*$P$5)+(N7*$P$7)+($N$9*$P$9)+(N11*$P$11)+(N13*$P$13)+(N15*$P$15) -> 0 | AH5: =SUM(V5:AG5) -> 0
A6: (ชนิด.........) | B6: บาท | O6: =SUM(C6:N6) -> 0
A7: น้ำมันดีเซล | B7: ลิตร | O7: =SUM(C7:N7) -> 0 | P7: 36.42 | Q7: =O7*P7 -> 0 | R7: =O8/O7 -> #DIV/0! | S7: =O8/Q7 -> #DIV/0!
B8: บาท | O8: =SUM(C8:N8) -> 0
A9: ก๊าซปิโตรเลียมเหลว | B9: กิโลกรัม | O9: =SUM(C9:N9) -> 0 | P9: 50.23 | Q9: =O9*P9 -> 0 | R9: =O10/O9 -> #DIV/0! | S9: =O10/Q9 -> #DIV/0!
B10: บาท | O10: =SUM(C10:N10) -> 0
A11: ก๊าซธรรมชาติ | B11: ล้านบีทียู | O11: =SUM(C11:N11) -> 0 | P11: 1055 | Q11: =O11*P11 -> 0 | R11: =O12/O11 -> #DIV/0! | S11: =O12/Q11 -> #DIV/0!
B12: บาท | O12: =SUM(C12:N12) -> 0
A13: ถ่านหิน | B13: ตัน | O13: =SUM(C13:N13) -> 0 | P13: 26370 | Q13: =O13*P13 -> 0 | R13: =O14/O13 -> #DIV/0! | S13: =O14/Q13 -> #DIV/0!
A14: (ชนิด.....) | B14: บาท | O14: =SUM(C14:N14) -> 0
A15: ไอน้ำ | B15: ตัน | O15: =SUM(C15:N15) -> 0 | Q15: =O15*P15 -> 0 | R15: =O16/O15 -> #DIV/0! | S15: =O16/Q15 -> #DIV/0!
A16: (.....บาร์/.......๐C) | B16: บาท | O16: =SUM(C16:N16) -> 0
A17: อื่นๆ (ระบุ) | B17: หน่วย (ระบุ) | O17: =SUM(C17:N17) -> 0 | Q17: =O17*P17 -> 0 | R17: =O18/O17 -> #DIV/0! | S17: =O18/Q17 -> #DIV/0! | U17: 0
B18: บาท | O18: =SUM(C18:N18) -> 0
A19: รวมการใช้พลังงานความร้อนจากเชื้อเพลิง | Q19: =Q5+Q7+Q9 -> 0
A20: พลังงานหมุนเวียน | B20: หน่วย (ลบ. ม.) | O20: =SUM(C20:N20) -> 0 | Q20: =O20*P20 -> 0 | R20: =O21/O20 -> #DIV/0! | S20: =O21/Q20 -> #DIV/0!
B21: บาท | O21: =SUM(C21:N21) -> 0
A22: รวมการใช้พลังงานหมุนเวียน | Q22: 0
A23: รวมปริมาณพลังงานความร้อนทั้งหมด | Q23: =Q22+Q19 -> 0
A24: หมายเหตุ : | B24: ในกรณีไม่มีค่าความร้อนสูงจากผู้จำหน่าย ให้อ้างอิงค่าความร้อนเฉลี่ยตามที่กรมพัฒนาพลังงานทดแทนและอนุรักษ์พลังงานกำหนด
A25: No. | B25: Fuel | D25: Heating Value
A26: 01 | B26: น้ำมันเตา | D26: = 39.77 เมกะจูล/ลิตร
A27: 02 | B27: น้ำมันเตา 600 (A) | D27: = 38.18 เมกะจูล/ลิตร
A28: 03 | B28: น้ำมันเตา1500 (C) | D28: = 41.28 เมกะจูล/ลิตร
A29: 04 | B29: น้ำมันเตา 2000 (D) | D29: = ….. เมกะจูล/ลิตร
A30: 05 | B30: น้ำมันดีเซล | D30: = 36.42 เมกะจูล/ลิตร
A31: 06 | B31: น้ำมันเบนซิน | D31: = 31.48 เมกะจูล/ลิตร
A32: 07 | B32: น้ำมันก๊าด | D32: = 34.53 เมกะจูล/ลิตร
A33: 08 | B33: ก๊าซปิโตรเลียมเหลว | D33: = 26.62 เมกะจูล/ลิตร
A34: 09 | B34: ( LPG ) | D34: = 50.23 เมกะจูล/กิโลกรัม
A35: 10 | B35: ก๊าซธรรมชาติ | D35: = 1,055 เมกะจูล/ล้านบีทียู
A36: 11 | B36: ถ่านหินนำเข้า | D36: = 26,370 เมกะจูล/ตัน
... A49: 24 | B49: ซังข้าวโพด | D49: = 1,6220 เมกะจูล/ตัน
A50: หมายเหตุ | B50: ค่า Heating Value และหน่วยของเชื้อเพลิงที่ใช้จะต้องเป็นไปตามที่ พพ. กำหนดใน บพร.1 ตามตัวอย่างด้านบน และหากมีเชื้อเพลิงนอกเหนือจากนี้ที่ปรึกษาฯ จะต้องแจ้งจุฬาฯ ให้รับทราบ และเพิ่มเติมในฐานข้อมูลต่อไป ในส่วนเชื้อเพลิงน้ำมันเตา ต้องระบุชนิดให้ชัดเจนตามการใช

Sheet กราฟพลังงาน65_66
B1: กราฟแสดงการเปรียบเทียบข้อมูลการใช้พลังงาน
B16: รูปที่ 6-5 กราฟแสดงข้อมูลเปรียบเทียบการใช้พลังงานไฟฟ้า (kWh) รายเดือน ปี 2565 และปี 2566
B32: รูปที่ 6-6 กราฟแสดงข้อมูลเปรียบเทียบการใช้พลังงานความร้อนจากเชื้อเพลิงรายเดือน ปี 2565 และปี 2566

Sheet 6.3.4เชื้อเพลิงผลิตไฟฟ้า_66
A1: 6.3.4) ข้อมูลปริมาณการใช้เชื้อเพลิงในการผลิตไฟฟ้าในรอบปี 2566
C2: ผลิตกระแสไฟฟ้าอย่างเดียว | G2: ผลิตไฟฟ้าสำรองหรือกรณีฉุกเฉิน
A4: ตารางที่ 6.11 ข้อมูลการใช้เชื้อเพลิงในการผลิตไฟฟ้าในรอบปี 2566
A6: เดือน | B6: กำลังผลิตติดตั้ง (กิโลวัตต์) | C6: ปริมาณการใช้เชื้อเพลิงหลัก | F6: ชั่วโมง การเดินเครื่อง (ชั่วโมง) | G6: ปริมาณพลังงานไฟฟ้าที่ผลิตได้ (กิโลวัตต์ - ชั่วโมง) | I6: หมายเหตุ
C9: ชนิด | D9: ปริมาณ | E9: หน่วย
A10: ม.ค.
A11: ก.พ.
A12: มี.ค.
A13: เม.ย.
A14: พ.ค.
A15: มิ.ย.
A16: ก.ค.
A17: ส.ค.
A18: ก.ย.
A19: ต.ค.
A20: พ.ย.
A21: ธ.ค.
A22: รวม

Sheet กราฟพลังงานผลิตไฟฟ้า
B2: การใช้พลังงานเชื้อเพลิงผลิตไฟฟ้า
N5: ปี 2565 | O5: ปี 2566
M6: ม.ค. | N6: ='[8]เชื้อเพลิงเพื่อผลิตไฟฟ้า 60'!D10*36.42 -> 0 | O6: ='[8]6.3.4) เชื้อเพลิงผลิตไฟฟ้า 61'!D10*36.42 -> 0
M7: ก.พ. | N7: ='[8]เชื้อเพลิงเพื่อผลิตไฟฟ้า 60'!D11*36.42 -> 0 | O7: ='[8]6.3.4) เชื้อเพลิงผลิตไฟฟ้า 61'!D11*36.42 -> 0
M8: มี.ค. | N8: ='[8]เชื้อเพลิงเพื่อผลิตไฟฟ้า 60'!D12*36.42 -> 0 | O8: ='[8]6.3.4) เชื้อเพลิงผลิตไฟฟ้า 61'!D12*36.42 -> 0
M9: เม.ย. | N9: ='[8]เชื้อเพลิงเพื่อผลิตไฟฟ้า 60'!D13*36.42 -> 0 | O9: ='[8]6.3.4) เชื้อเพลิงผลิตไฟฟ้า 61'!D13*36.42 -> 0
M10: พ.ค. | N10: ='[8]เชื้อเพลิงเพื่อผลิตไฟฟ้า 60'!D14*36.42 -> 0 | O10: ='[8]6.3.4) เชื้อเพลิงผลิตไฟฟ้า 61'!D14*36.42 -> 0
M11: มิ.ย. | N11: ='[8]เชื้อเพลิงเพื่อผลิตไฟฟ้า 60'!D15*36.42 -> 0 | O11: ='[8]6.3.4) เชื้อเพลิงผลิตไฟฟ้า 61'!D15*36.42 -> 0
M12: ก.ค. | N12: ='[8]เชื้อเพลิงเพื่อผลิตไฟฟ้า 60'!D16*36.42 -> 0 | O12: ='[8]6.3.4) เชื้อเพลิงผลิตไฟฟ้า 61'!D16*36.42 -> 0
M13: ส.ค. | N13: ='[8]เชื้อเพลิงเพื่อผลิตไฟฟ้า 60'!D17*36.42 -> 0 | O13: ='[8]6.3.4) เชื้อเพลิงผลิตไฟฟ้า 61'!D17*36.42 -> 0
B14: รูปที่ 6-7 กราฟแสดงข้อมูลเปรียบเทียบการใช้พลังงานเชื้อเพลิงผลิตไฟฟ้ารายเดือน ปี 2565 และ 2566 | M14: ก.ย. | N14: ='[8]เชื้อเพลิงเพื่อผลิตไฟฟ้า 60'!D18*36.42 -> 0 | O14: ='[8]6.3.4) เชื้อเพลิงผลิตไฟฟ้า 61'!D18*36.42 -> 0
M15: ต.ค. | N15: ='[8]เชื้อเพลิงเพื่อผลิตไฟฟ้า 60'!D19*36.42 -> 0 | O15: ='[8]6.3.4) เชื้อเพลิงผลิตไฟฟ้า 61'!D19*36.42 -> 0
M16: พ.ย. | N16: ='[8]เชื้อเพลิงเพื่อผลิตไฟฟ้า 60'!D20*36.42 -> 0 | O16: ='[8]6.3.4) เชื้อเพลิงผลิตไฟฟ้า 61'!D20*36.42 -> 0
M17: ธ.ค. | N17: ='[8]เชื้อเพลิงเพื่อผลิตไฟฟ้า 60'!D21*36.42 -> 0 | O17: ='[8]6.3.4) เชื้อเพลิงผลิตไฟฟ้า 61'!D21*36.42 -> 0

Sheet 6.3.5สัดส่วนการใช้ไฟฟ้า_66
A1: 6.3.5) ข้อมูลสัดส่วนการใช้พลังงานไฟฟ้าในรอบปี 2566
A3: ตารางที่ 6.12 สัดส่วนการใช้พลังงานไฟฟ้าแยกตามระบบปี 2566
A5: ระบบ | B5: การใช้พลังงานไฟฟ้า | D5: วิธีการ
B6: กิโลวัตต์-ชั่วโมง/ปี | C6: ร้อยละ | D6: ประเมิน | E6: ตรวจวัด
A7: ปรับอากาศแบบรวมศูนย์ | B7: =สัดส่วนการใช้พลังงานไฟฟ้า!B18 -> 485053.33 | C7: =สัดส่วนการใช้พลังงานไฟฟ้า!C18 -> 4.7965458 | G7: =B7 -> 485053.33
A8: ปรับอากาศแบบแยกส่วน | B8: =สัดส่วนการใช้พลังงานไฟฟ้า!B19 -> 5478295.9 | C8: =สัดส่วนการใช้พลังงานไฟฟ้า!C19 -> 54.173213 | G8: =B8 -> 5478295.9
A9: แสงสว่าง | B9: =สัดส่วนการใช้พลังงานไฟฟ้า!B20 -> 2428935 | C9: =สัดส่วนการใช้พลังงานไฟฟ้า!C20 -> 24.019004 | G9: =B9 -> 2428935
A10: อื่นๆ | B10: =สัดส่วนการใช้พลังงานไฟฟ้า!B21 -> 1720270.7 | C10: =สัดส่วนการใช้พลังงานไฟฟ้า!C21 -> 17.011237 | G10: =B10 -> 1720270.7
A11: รวม | B11: =สัดส่วนการใช้พลังงานไฟฟ้า!B22 -> 10112555 | C11: =สัดส่วนการใช้พลังงานไฟฟ้า!C11 -> 100 | G11: =SUM(G7:G10) -> 10112555

Sheet 6.3.6สัดส่วนเชื้อเพลิง_66
A1: 6.3.6) ข้อมูลสัดส่วนการใช้พลังงานความร้อนในรอบปี 2566
A3: ตารางที่ 6.13 สัดส่วนการใช้พลังงานเชื้อเพลิงแยกตามระบบปี 2566
A5: ระบบ | B5: อุปกรณ์ | C5: การใช้พลังงานเชื้อเพลิง | F5: วิธีการ
C6: ชนิดเชื้อเพลิง | D6: เมกะจูล/ปี | E6: ร้อยละ | F6: ประเมิน | G6: ตรวจวัด | N6: ปี 2553
A7: หม้อไอน้ำ | M7: ไฟฟ้า | N7: ='[8]สัดส่วนไฟฟ้า 60'!B11*3.6 -> 0 | T7: ปี 2563
A8: หม้อต้มน้ำมันร้อน | M8: ความร้อน | N8: =D13 -> 0 | S8: ไฟฟ้า | T8: ='4.1.2การใช้ไฟฟ้า_65'!F20*3.6 -> 31238996
S9: ความร้อน | T9: =D13 -> 0
N10: ปี 2554
M11: ไฟฟ้า | N11: ='[8]สัดส่วนไฟฟ้า 60'!#REF!*3.6 -> #REF! | T11: ปี 2562
M12: ความร้อน | N12: =#REF! -> #REF! | S12: ไฟฟ้า | T12: ='[8]6.3.2) ไฟฟ้าปี 61'!F20*3.6 -> 0
A13: รวม | D13: ='[8]เชื้อเพลิง 60'!Q24 -> 0 | E13: =SUM(E7:E12) -> 0 | S13: ความร้อน | T13: ='[8]6.3.6) สัดส่วนเชื้อเพลิง 61'!D13 -> 0

Sheet สัดส่วนการใช้ไฟฟ้า  1
A7: ให้ใส่กราฟวงกลม (Pie Chart)
A8: แสดงสัดส่วนการใช้พลังงานไฟฟ้าและความร้อน
A13: สัดส่วนการใช้พลังงาน ปี 2565
A26: สัดส่วนการใช้พลังงาน ปี 2566
A27: รูปที่ 6-8 กราฟแสดงข้อมูลเปรียบเทียบสัดส่วนการใช้พลังงาน ปี 2565 และ 2566

Sheet สัดส่วนการใช้ไฟฟ้า 2 
A1: สัดส่วนการใช้พลังงานไฟฟ้า
A14: รูปที่ 6-9 กราฟแสดงข้อมูลเปรียบเทียบสัดส่วนการใช้พลังงานไฟฟ้า (kWh) ปี 2565 และ 2566
A16: สัดส่วนการใช้พลังงานความร้อน
A28: รูปที่ 6-10 กราฟแสดงข้อมูลเปรียบเทียบสัดส่วนการใช้พลังงานความร้อน ปี 2565 และ 2566

Sheet SEC (ทุกกรณี)
A1: 6.3.7) เปรียบเทียบค่าการใช้พลังงานจำเพาะ (SEC)
B2: 6.3.7.1 ค่าการใช้พลังงานจำเพาะของพื้นที่ใช้สอย (ทุกกรณี)
A4: ตารางที่ 6.14 ปริมาณการใช้พลังงานต่อหน่วยพื้นที่ใช้สอยที่ใช้งานจริงในรอบปี 2565 และปี 2566
A6: เดือน | B6: พื้นที่ใช้สอยที่ใช้งานจริง (ตารางเมตร) | C6: ปริมาณพลังงานที่ใช้ | F6: ค่าการใช้พลังงานจำเพาะ (SEC) | J6: เดือน | K6: พื้นที่ใช้สอยที่ใช้งานจริง (ตารางเมตร) | L6: ปริมาณพลังงานที่ใช้ | O6: ค่าการใช้พลังงานจำเพาะ (SEC)
C7: ไฟฟ้า | E7: ความร้อน | F7: (เมกะจูล/ตารางเมตร) | L7: ไฟฟ้า | N7: ความร้อน | O7: (เมกะจูล/ตารางเมตร)
C8: (กิโลวัตต์-ชั่วโมง) | E8: (เมกะจูล) | L8: (กิโลวัตต์-ชั่วโมง) | N8: (เมกะจูล) | U8: 2565 | V8: 2566
A9: 23743 | B9: ='4.2.1 SEC(พื้นที่)_65'!B9 -> 351038.48 | C9: =' ข้อมูลการใช้ไฟฟ้า '!F8 -> 506977 | F9: =C9*3.6/B9 -> 5.1991941 | J9: 24108 | K9: =B9 -> 351038.48 | L9: =' ข้อมูลการใช้ไฟฟ้า '!F34 -> 630006 | O9: =L9*3.6/K9 -> 6.4608917 | T9: ม.ค. | U9: =F9 -> 5.1991941 | V9: =O9 -> 6.4608917
A10: 23774 | B10: ='4.2.1 SEC(พื้นที่)_65'!B10 -> 351038.48 | C10: =' ข้อมูลการใช้ไฟฟ้า '!F9 -> 505221 | F10: =C10*3.6/B10 -> 5.1811858 | J10: 24139 | K10: =B10 -> 351038.48 | L10: =' ข้อมูลการใช้ไฟฟ้า '!F35 -> 682954 | O10: =L10*3.6/K10 -> 7.0038886 | T10: ก.พ. | U10: =F10 -> 5.1811858 | V10: =O10 -> 7.0038886
A11: 23802 | B11: ='4.2.1 SEC(พื้นที่)_65'!B11 -> 351038.48 | C11: =' ข้อมูลการใช้ไฟฟ้า '!F10 -> 724337 | F11: =C11*3.6/B11 -> 7.4282831 | J11: 24167 | K11: =B11 -> 351038.48 | L11: =' ข้อมูลการใช้ไฟฟ้า '!F36 -> 772571 | O11: =L11*3.6/K11 -> 7.9229365 | T11: มี.ค. | U11: =F11 -> 7.4282831 | V11: =O11 -> 7.9229365
A12: 23833 | B12: ='4.2.1 SEC(พื้นที่)_65'!B12 -> 351038.48 | C12: =' ข้อมูลการใช้ไฟฟ้า '!F11 -> 560683 | F12: =C12*3.6/B12 -> 5.7499645 | J12: 24198 | K12: =B12 -> 351038.48 | L12: =' ข้อมูลการใช้ไฟฟ้า '!F37 -> 663549 | O12: =L12*3.6/K12 -> 6.8048848 | T12: เม.ย. | U12: =F12 -> 5.7499645 | V12: =O12 -> 6.8048848
A13: 23863 | B13: ='4.2.1 SEC(พื้นที่)_65'!B13 -> 351038.48 | C13: =' ข้อมูลการใช้ไฟฟ้า '!F12 -> 595324 | F13: =C13*3.6/B13 -> 6.1052179 | J13: 24228 | K13: =B13 -> 351038.48 | L13: =' ข้อมูลการใช้ไฟฟ้า '!F38 -> 764182.99 | O13: =L13*3.6/K13 -> 7.8369151 | T13: พ.ค. | U13: =F13 -> 6.1052179 | V13: =O13 -> 7.8369151
A14: 23894 | B14: ='4.2.1 SEC(พื้นที่)_65'!B14 -> 351038.48 | C14: =' ข้อมูลการใช้ไฟฟ้า '!F13 -> 671018 | F14: =C14*3.6/B14 -> 6.8814815 | J14: 24259 | K14: =B14 -> 351038.48 | L14: =' ข้อมูลการใช้ไฟฟ้า '!F39 -> 781785 | O14: =L14*3.6/K14 -> 8.0174287 | T14: มิ.ย. | U14: =F14 -> 6.8814815 | V14: =O14 -> 8.0174287
A15: 23924 | B15: ='4.2.1 SEC(พื้นที่)_65'!B15 -> 351038.48 | C15: =' ข้อมูลการใช้ไฟฟ้า '!F14 -> 886939 | F15: =C15*3.6/B15 -> 9.0958131 | J15: 24289 | K15: =B15 -> 351038.48 | L15: =' ข้อมูลการใช้ไฟฟ้า '!F40 -> 1123874 | O15: =L15*3.6/K15 -> 11.525649 | T15: ก.ค. | U15: =F15 -> 9.0958131 | V15: =O15 -> 11.525649
A16: 23955 | B16: ='4.2.1 SEC(พื้นที่)_65'!B16 -> 351038.48 | C16: =' ข้อมูลการใช้ไฟฟ้า '!F15 -> 1004768 | F16: =C16*3.6/B16 -> 10.304183 | J16: 24320 | K16: =B16 -> 351038.48 | L16: =' ข้อมูลการใช้ไฟฟ้า '!F41 -> 1063109 | O16: =L16*3.6/K16 -> 10.902487 | T16: ส.ค. | U16: =F16 -> 10.304183 | V16: =O16 -> 10.902487
A17: 23986 | B17: ='4.2.1 SEC(พื้นที่)_65'!B17 -> 351038.48 | C17: =' ข้อมูลการใช้ไฟฟ้า '!F16 -> 946590 | F17: =C17*3.6/B17 -> 9.7075511 | J17: 24351 | K17: =B17 -> 351038.48 | L17: =' ข้อมูลการใช้ไฟฟ้า '!F42 -> 1060689 | O17: =L17*3.6/K17 -> 10.877669 | T17: ก.ย. | U17: =F17 -> 9.7075511 | V17: =O17 -> 10.877669
A18: 24016 | B18: ='4.2.1 SEC(พื้นที่)_65'!B18 -> 351038.48 | C18: =' ข้อมูลการใช้ไฟฟ้า '!F17 -> 846453 | F18: =C18*3.6/B18 -> 8.6806176 | J18: 24381 | K18: =B18 -> 351038.48 | L18: =' ข้อมูลการใช้ไฟฟ้า '!F43 -> 990378 | O18: =L18*3.6/K18 -> 10.15661 | T18: ต.ค. | U18: =F18 -> 8.6806176 | V18: =O18 -> 10.15661
A19: 24047 | B19: ='4.2.1 SEC(พื้นที่)_65'!B19 -> 351038.48 | C19: =' ข้อมูลการใช้ไฟฟ้า '!F18 -> 711963.99 | F19: =C19*3.6/B19 -> 7.3013943 | J19: 24412 | K19: =B19 -> 351038.48 | L19: =' ข้อมูลการใช้ไฟฟ้า '!F44 -> 754238 | O19: =L19*3.6/K19 -> 7.7349264 | T19: พ.ย. | U19: =F19 -> 7.3013943 | V19: =O19 -> 7.7349264
